BEGIN:VCALENDAR
VERSION:2.0
PRODID:-//Minneapolis Park &amp; Recreation Board - ECPv6.15.20//NONSGML v1.0//EN
CALSCALE:GREGORIAN
METHOD:PUBLISH
X-ORIGINAL-URL:https://www.minneapolisparks.org
X-WR-CALDESC:Events for Minneapolis Park &amp; Recreation Board
REFRESH-INTERVAL;VALUE=DURATION:PT1H
X-Robots-Tag:noindex
X-PUBLISHED-TTL:PT1H
BEGIN:VTIMEZONE
TZID:America/Chicago
BEGIN:DAYLIGHT
TZOFFSETFROM:-0600
TZOFFSETTO:-0500
TZNAME:CDT
DTSTART:20170312T080000
END:DAYLIGHT
BEGIN:STANDARD
TZOFFSETFROM:-0500
TZOFFSETTO:-0600
TZNAME:CST
DTSTART:20171105T070000
END:STANDARD
BEGIN:DAYLIGHT
TZOFFSETFROM:-0600
TZOFFSETTO:-0500
TZNAME:CDT
DTSTART:20180311T080000
END:DAYLIGHT
BEGIN:STANDARD
TZOFFSETFROM:-0500
TZOFFSETTO:-0600
TZNAME:CST
DTSTART:20181104T070000
END:STANDARD
BEGIN:DAYLIGHT
TZOFFSETFROM:-0600
TZOFFSETTO:-0500
TZNAME:CDT
DTSTART:20190310T080000
END:DAYLIGHT
BEGIN:STANDARD
TZOFFSETFROM:-0500
TZOFFSETTO:-0600
TZNAME:CST
DTSTART:20191103T070000
END:STANDARD
BEGIN:DAYLIGHT
TZOFFSETFROM:-0600
TZOFFSETTO:-0500
TZNAME:CDT
DTSTART:20200308T080000
END:DAYLIGHT
BEGIN:STANDARD
TZOFFSETFROM:-0500
TZOFFSETTO:-0600
TZNAME:CST
DTSTART:20201101T070000
END:STANDARD
BEGIN:DAYLIGHT
TZOFFSETFROM:-0600
TZOFFSETTO:-0500
TZNAME:CDT
DTSTART:20210314T080000
END:DAYLIGHT
BEGIN:STANDARD
TZOFFSETFROM:-0500
TZOFFSETTO:-0600
TZNAME:CST
DTSTART:20211107T070000
END:STANDARD
BEGIN:DAYLIGHT
TZOFFSETFROM:-0600
TZOFFSETTO:-0500
TZNAME:CDT
DTSTART:20220313T080000
END:DAYLIGHT
BEGIN:STANDARD
TZOFFSETFROM:-0500
TZOFFSETTO:-0600
TZNAME:CST
DTSTART:20221106T070000
END:STANDARD
BEGIN:DAYLIGHT
TZOFFSETFROM:-0600
TZOFFSETTO:-0500
TZNAME:CDT
DTSTART:20230312T080000
END:DAYLIGHT
BEGIN:STANDARD
TZOFFSETFROM:-0500
TZOFFSETTO:-0600
TZNAME:CST
DTSTART:20231105T070000
END:STANDARD
BEGIN:DAYLIGHT
TZOFFSETFROM:-0600
TZOFFSETTO:-0500
TZNAME:CDT
DTSTART:20240310T080000
END:DAYLIGHT
BEGIN:STANDARD
TZOFFSETFROM:-0500
TZOFFSETTO:-0600
TZNAME:CST
DTSTART:20241103T070000
END:STANDARD
END:VTIMEZONE
BEGIN:VEVENT
DTSTART;TZID=America/Chicago:20230810T180000
DTEND;TZID=America/Chicago:20230810T193000
DTSTAMP:20260419T123144
CREATED:20230809T203112Z
LAST-MODIFIED:20230809T203334Z
UID:67954-1691690400-1691695800@www.minneapolisparks.org
SUMMARY:Live on the Drive
DESCRIPTION:Music from 6:00 – 7:30 p.m. (Stay for the movie at dusk) \n Music by: Leon\, Taco\, and the Brooklyn Park Lions Drum Corp \n Location: Victory Memorial Pkwy\, & 34th Ave. N. \n 
URL:https://www.minneapolisparks.org/event-calendar/live-on-the-drive-11/
LOCATION:Victory Memorial Drive 34th-36th Ave\, Victory Memorial Drive\, Minneapolis\, MN\, United States
CATEGORIES:Events- All,Events- MPRB,Music & Movies in the Parks,Music in the Parks
GEO:45.0311986;-93.3193329
X-APPLE-STRUCTURED-LOCATION;VALUE=URI;X-ADDRESS=Victory Memorial Drive 34th-36th Ave Victory Memorial Drive Minneapolis MN United States;X-APPLE-RADIUS=500;X-TITLE=Victory Memorial Drive:geo:-93.3193329,45.0311986
END:VEVENT
BEGIN:VEVENT
DTSTART;TZID=America/Chicago:20210812T180000
DTEND;TZID=America/Chicago:20210812T180000
DTSTAMP:20260419T123144
CREATED:20210610T182101Z
LAST-MODIFIED:20210621T222524Z
UID:49631-1628791200-1628791200@www.minneapolisparks.org
SUMMARY:Live on the Drive
DESCRIPTION:
URL:https://www.minneapolisparks.org/event-calendar/live-on-the-drive-8/
LOCATION:Victory Memorial Drive 34th-36th Ave\, Victory Memorial Drive\, Minneapolis\, MN\, United States
CATEGORIES:Events- All,Events- MPRB,Events- Non-MPRB,Music & Movies in the Parks
GEO:45.0311986;-93.3193329
X-APPLE-STRUCTURED-LOCATION;VALUE=URI;X-ADDRESS=Victory Memorial Drive 34th-36th Ave Victory Memorial Drive Minneapolis MN United States;X-APPLE-RADIUS=500;X-TITLE=Victory Memorial Drive:geo:-93.3193329,45.0311986
END:VEVENT
BEGIN:VEVENT
DTSTART;TZID=America/Chicago:20210708T180000
DTEND;TZID=America/Chicago:20210708T180000
DTSTAMP:20260419T123144
CREATED:20210610T181100Z
LAST-MODIFIED:20210610T181100Z
UID:49606-1625767200-1625767200@www.minneapolisparks.org
SUMMARY:Live on the Drive
DESCRIPTION:
URL:https://www.minneapolisparks.org/event-calendar/live-on-the-drive-7/
LOCATION:Victory Memorial Drive 34th-36th Ave\, Victory Memorial Drive\, Minneapolis\, MN\, United States
CATEGORIES:Events- Non-MPRB
GEO:45.0311986;-93.3193329
X-APPLE-STRUCTURED-LOCATION;VALUE=URI;X-ADDRESS=Victory Memorial Drive 34th-36th Ave Victory Memorial Drive Minneapolis MN United States;X-APPLE-RADIUS=500;X-TITLE=Victory Memorial Drive:geo:-93.3193329,45.0311986
END:VEVENT
BEGIN:VEVENT
DTSTART;TZID=America/Chicago:20180809T180000
DTEND;TZID=America/Chicago:20180809T180000
DTSTAMP:20260419T123144
CREATED:20191216T183048Z
LAST-MODIFIED:20191216T183048Z
UID:39226-1533837600-1533837600@www.minneapolisparks.org
SUMMARY:Live on the Drive
DESCRIPTION:
URL:https://www.minneapolisparks.org/event-calendar/live-on-the-drive-6/
LOCATION:Victory Memorial Drive 34th-36th Ave\, Victory Memorial Drive\, Minneapolis\, MN\, United States
CATEGORIES:Events- Non-MPRB
GEO:45.0311986;-93.3193329
X-APPLE-STRUCTURED-LOCATION;VALUE=URI;X-ADDRESS=Victory Memorial Drive 34th-36th Ave Victory Memorial Drive Minneapolis MN United States;X-APPLE-RADIUS=500;X-TITLE=Victory Memorial Drive:geo:-93.3193329,45.0311986
END:VEVENT
BEGIN:VEVENT
DTSTART;TZID=America/Chicago:20180712T180000
DTEND;TZID=America/Chicago:20180712T180000
DTSTAMP:20260419T123144
CREATED:20191216T182953Z
LAST-MODIFIED:20191216T182953Z
UID:39066-1531418400-1531418400@www.minneapolisparks.org
SUMMARY:Live on the Drive
DESCRIPTION:
URL:https://www.minneapolisparks.org/event-calendar/live-on-the-drive-5/
LOCATION:Victory Memorial Drive 34th-36th Ave\, Victory Memorial Drive\, Minneapolis\, MN\, United States
CATEGORIES:Events- Non-MPRB
GEO:45.0311986;-93.3193329
X-APPLE-STRUCTURED-LOCATION;VALUE=URI;X-ADDRESS=Victory Memorial Drive 34th-36th Ave Victory Memorial Drive Minneapolis MN United States;X-APPLE-RADIUS=500;X-TITLE=Victory Memorial Drive:geo:-93.3193329,45.0311986
END:VEVENT
END:VCALENDAR