BEGIN:VCALENDAR
VERSION:2.0
PRODID:-//Minneapolis Park &amp; Recreation Board - ECPv6.15.20//NONSGML v1.0//EN
CALSCALE:GREGORIAN
METHOD:PUBLISH
X-WR-CALNAME:Minneapolis Park &amp; Recreation Board
X-ORIGINAL-URL:https://www.minneapolisparks.org
X-WR-CALDESC:Events for Minneapolis Park &amp; Recreation Board
REFRESH-INTERVAL;VALUE=DURATION:PT1H
X-Robots-Tag:noindex
X-PUBLISHED-TTL:PT1H
BEGIN:VTIMEZONE
TZID:America/Chicago
BEGIN:DAYLIGHT
TZOFFSETFROM:-0600
TZOFFSETTO:-0500
TZNAME:CDT
DTSTART:20200308T080000
END:DAYLIGHT
BEGIN:STANDARD
TZOFFSETFROM:-0500
TZOFFSETTO:-0600
TZNAME:CST
DTSTART:20201101T070000
END:STANDARD
BEGIN:DAYLIGHT
TZOFFSETFROM:-0600
TZOFFSETTO:-0500
TZNAME:CDT
DTSTART:20210314T080000
END:DAYLIGHT
BEGIN:STANDARD
TZOFFSETFROM:-0500
TZOFFSETTO:-0600
TZNAME:CST
DTSTART:20211107T070000
END:STANDARD
BEGIN:DAYLIGHT
TZOFFSETFROM:-0600
TZOFFSETTO:-0500
TZNAME:CDT
DTSTART:20220313T080000
END:DAYLIGHT
BEGIN:STANDARD
TZOFFSETFROM:-0500
TZOFFSETTO:-0600
TZNAME:CST
DTSTART:20221106T070000
END:STANDARD
BEGIN:DAYLIGHT
TZOFFSETFROM:-0600
TZOFFSETTO:-0500
TZNAME:CDT
DTSTART:20230312T080000
END:DAYLIGHT
BEGIN:STANDARD
TZOFFSETFROM:-0500
TZOFFSETTO:-0600
TZNAME:CST
DTSTART:20231105T070000
END:STANDARD
END:VTIMEZONE
BEGIN:VEVENT
DTSTART;TZID=America/Chicago:20220812T190000
DTEND;TZID=America/Chicago:20220812T203000
DTSTAMP:20260422T120803
CREATED:20220421T185627Z
LAST-MODIFIED:20220421T185627Z
UID:57279-1660330800-1660336200@www.minneapolisparks.org
SUMMARY:July Fighter
DESCRIPTION:A positive message through music
URL:https://www.minneapolisparks.org/event-calendar/july-fighter/
LOCATION:Minnehaha Park\, Minneapolis\, MN\, United States
CATEGORIES:Music & Movies in the Parks,Music in the Parks
GEO:44.9161006;-93.2109865
END:VEVENT
BEGIN:VEVENT
DTSTART;TZID=America/Chicago:20220811T190000
DTEND;TZID=America/Chicago:20220811T203000
DTSTAMP:20260422T120803
CREATED:20220421T185604Z
LAST-MODIFIED:20220421T185604Z
UID:57278-1660244400-1660249800@www.minneapolisparks.org
SUMMARY:The Desire Store
DESCRIPTION:Lyrically driven\, sax\, violin\, 3-part harmony
URL:https://www.minneapolisparks.org/event-calendar/the-desire-store/
LOCATION:Minnehaha Park\, Minneapolis\, MN\, United States
CATEGORIES:Music & Movies in the Parks,Music in the Parks
GEO:44.9161006;-93.2109865
END:VEVENT
BEGIN:VEVENT
DTSTART;TZID=America/Chicago:20220805T190000
DTEND;TZID=America/Chicago:20220805T203000
DTSTAMP:20260422T120803
CREATED:20220421T185548Z
LAST-MODIFIED:20220622T195051Z
UID:57277-1659726000-1659731400@www.minneapolisparks.org
SUMMARY:The Pan-handlers Steel Drum Band
DESCRIPTION:Instrumental covers on steel pan
URL:https://www.minneapolisparks.org/event-calendar/the-pan-handlers-steel-drum-band-3/
LOCATION:Minnehaha Park\, Minneapolis\, MN\, United States
CATEGORIES:Music & Movies in the Parks,Music in the Parks
GEO:44.9161006;-93.2109865
END:VEVENT
BEGIN:VEVENT
DTSTART;TZID=America/Chicago:20220804T190000
DTEND;TZID=America/Chicago:20220804T203000
DTSTAMP:20260422T120803
CREATED:20220421T185532Z
LAST-MODIFIED:20220421T185532Z
UID:57276-1659639600-1659645000@www.minneapolisparks.org
SUMMARY:Lojo Russo
DESCRIPTION:Raw vibrant enticing musical energy
URL:https://www.minneapolisparks.org/event-calendar/lojo-russo/
LOCATION:Minnehaha Park\, Minneapolis\, MN\, United States
CATEGORIES:Music & Movies in the Parks,Music in the Parks
GEO:44.9161006;-93.2109865
END:VEVENT
BEGIN:VEVENT
DTSTART;TZID=America/Chicago:20220729T190000
DTEND;TZID=America/Chicago:20220729T203000
DTSTAMP:20260422T120803
CREATED:20220421T185430Z
LAST-MODIFIED:20220421T185430Z
UID:57275-1659121200-1659126600@www.minneapolisparks.org
SUMMARY:John Penny Band
DESCRIPTION:World-jazz singer songwriter
URL:https://www.minneapolisparks.org/event-calendar/john-penny-band/
LOCATION:Minnehaha Park\, Minneapolis\, MN\, United States
CATEGORIES:Music & Movies in the Parks,Music in the Parks
GEO:44.9161006;-93.2109865
END:VEVENT
BEGIN:VEVENT
DTSTART;TZID=America/Chicago:20220728T190000
DTEND;TZID=America/Chicago:20220728T203000
DTSTAMP:20260422T120803
CREATED:20220701T203006Z
LAST-MODIFIED:20220701T203006Z
UID:59411-1659034800-1659040200@www.minneapolisparks.org
SUMMARY:Twin Cities Mobile Jazz Project
DESCRIPTION:
URL:https://www.minneapolisparks.org/event-calendar/twin-cities-mobile-jazz-project-12/
LOCATION:Minnehaha Park\, Minneapolis\, MN\, United States
CATEGORIES:Music & Movies in the Parks,Music in the Parks
GEO:44.9161006;-93.2109865
END:VEVENT
BEGIN:VEVENT
DTSTART;TZID=America/Chicago:20220728T190000
DTEND;TZID=America/Chicago:20220728T203000
DTSTAMP:20260422T120803
CREATED:20220421T185342Z
LAST-MODIFIED:20220421T185342Z
UID:57274-1659034800-1659040200@www.minneapolisparks.org
SUMMARY:Twin Cities Mobile Jazz
DESCRIPTION:Music\, unity\, and creative education
URL:https://www.minneapolisparks.org/event-calendar/twin-cities-mobile-jazz-2/
LOCATION:Minnehaha Park\, Minneapolis\, MN\, United States
CATEGORIES:Music & Movies in the Parks,Music in the Parks
GEO:44.9161006;-93.2109865
END:VEVENT
BEGIN:VEVENT
DTSTART;TZID=America/Chicago:20220722T190000
DTEND;TZID=America/Chicago:20220722T203000
DTSTAMP:20260422T120803
CREATED:20220421T185315Z
LAST-MODIFIED:20220421T185315Z
UID:57273-1658516400-1658521800@www.minneapolisparks.org
SUMMARY:drumHeart and the Women's Drum Center
DESCRIPTION:Women’s Drum Center: World Percussion
URL:https://www.minneapolisparks.org/event-calendar/drumheart-and-the-womens-drum-center/
LOCATION:Minnehaha Park\, Minneapolis\, MN\, United States
CATEGORIES:Music & Movies in the Parks,Music in the Parks
GEO:44.9161006;-93.2109865
END:VEVENT
BEGIN:VEVENT
DTSTART;TZID=America/Chicago:20220721T190000
DTEND;TZID=America/Chicago:20220721T203000
DTSTAMP:20260422T120803
CREATED:20220421T185259Z
LAST-MODIFIED:20220421T185259Z
UID:57272-1658430000-1658435400@www.minneapolisparks.org
SUMMARY:Pavel Jany Trio
DESCRIPTION:Jazz with international flavor
URL:https://www.minneapolisparks.org/event-calendar/pavel-jany-trio/
LOCATION:Minnehaha Park\, Minneapolis\, MN\, United States
CATEGORIES:Music & Movies in the Parks,Music in the Parks
GEO:44.9161006;-93.2109865
END:VEVENT
BEGIN:VEVENT
DTSTART;TZID=America/Chicago:20220715T190000
DTEND;TZID=America/Chicago:20220715T203000
DTSTAMP:20260422T120803
CREATED:20220421T185242Z
LAST-MODIFIED:20220421T185242Z
UID:57271-1657911600-1657917000@www.minneapolisparks.org
SUMMARY:Trevor McSpadden & Mary Cutrufello
DESCRIPTION:Roots Rock & Country Crooning
URL:https://www.minneapolisparks.org/event-calendar/trevor-mcspadden-mary-cutrufello/
LOCATION:Minnehaha Park\, Minneapolis\, MN\, United States
CATEGORIES:Music & Movies in the Parks,Music in the Parks
GEO:44.9161006;-93.2109865
END:VEVENT
BEGIN:VEVENT
DTSTART;TZID=America/Chicago:20220714T190000
DTEND;TZID=America/Chicago:20220714T203000
DTSTAMP:20260422T120803
CREATED:20220421T185229Z
LAST-MODIFIED:20220421T185229Z
UID:57270-1657825200-1657830600@www.minneapolisparks.org
SUMMARY:Mumblin' Drew's Oldfangled Orchestrators
DESCRIPTION:Old Time String Band Jazz
URL:https://www.minneapolisparks.org/event-calendar/mumblin-drews-oldfangled-orchestrators/
LOCATION:Minnehaha Park\, Minneapolis\, MN\, United States
CATEGORIES:Music & Movies in the Parks,Music in the Parks
GEO:44.9161006;-93.2109865
END:VEVENT
BEGIN:VEVENT
DTSTART;TZID=America/Chicago:20220708T190000
DTEND;TZID=America/Chicago:20220708T203000
DTSTAMP:20260422T120803
CREATED:20220421T185206Z
LAST-MODIFIED:20220506T184129Z
UID:57269-1657306800-1657312200@www.minneapolisparks.org
SUMMARY:Andy Ulseth and Special Guest Laura Hugo
DESCRIPTION:Celebratory folk rock from Minneapolis
URL:https://www.minneapolisparks.org/event-calendar/andy-ulseth/
LOCATION:Minnehaha Park\, Minneapolis\, MN\, United States
CATEGORIES:Music & Movies in the Parks,Music in the Parks
GEO:44.9161006;-93.2109865
END:VEVENT
BEGIN:VEVENT
DTSTART;TZID=America/Chicago:20220707T190000
DTEND;TZID=America/Chicago:20220707T203000
DTSTAMP:20260422T120803
CREATED:20220421T185148Z
LAST-MODIFIED:20220421T185148Z
UID:57268-1657220400-1657225800@www.minneapolisparks.org
SUMMARY:The Way Back Yard Boys
DESCRIPTION:Three part harmony fiddle music
URL:https://www.minneapolisparks.org/event-calendar/the-way-back-yard-boys/
LOCATION:Minnehaha Park\, Minneapolis\, MN\, United States
CATEGORIES:Music & Movies in the Parks,Music in the Parks
GEO:44.9161006;-93.2109865
END:VEVENT
BEGIN:VEVENT
DTSTART;TZID=America/Chicago:20220701T190000
DTEND;TZID=America/Chicago:20220701T203000
DTSTAMP:20260422T120803
CREATED:20220421T185128Z
LAST-MODIFIED:20220421T185128Z
UID:57267-1656702000-1656707400@www.minneapolisparks.org
SUMMARY:The Violet Nines
DESCRIPTION:Vibrant local groove pop outfit
URL:https://www.minneapolisparks.org/event-calendar/the-violet-nines/
LOCATION:Minnehaha Park\, Minneapolis\, MN\, United States
CATEGORIES:Music & Movies in the Parks,Music in the Parks
GEO:44.9161006;-93.2109865
END:VEVENT
BEGIN:VEVENT
DTSTART;TZID=America/Chicago:20220630T190000
DTEND;TZID=America/Chicago:20220630T203000
DTSTAMP:20260422T120803
CREATED:20220421T185039Z
LAST-MODIFIED:20220421T185039Z
UID:57266-1656615600-1656621000@www.minneapolisparks.org
SUMMARY:The Fabulous Jackalopes
DESCRIPTION:Rockabilly\, R&B and more
URL:https://www.minneapolisparks.org/event-calendar/the-fabulous-jackalopes/
LOCATION:Minnehaha Park\, Minneapolis\, MN\, United States
CATEGORIES:Music & Movies in the Parks,Music in the Parks
GEO:44.9161006;-93.2109865
END:VEVENT
BEGIN:VEVENT
DTSTART;TZID=America/Chicago:20220626T100000
DTEND;TZID=America/Chicago:20220626T100000
DTSTAMP:20260422T120803
CREATED:20220621T162527Z
LAST-MODIFIED:20220621T162527Z
UID:58862-1656237600-1656237600@www.minneapolisparks.org
SUMMARY:Scandinavian Summer Festival
DESCRIPTION:
URL:https://www.minneapolisparks.org/event-calendar/scandinavian-summer-festival/
LOCATION:Minnehaha Park\, Minneapolis\, MN\, United States
CATEGORIES:Events- All,Events- Non-MPRB
GEO:44.9161006;-93.2109865
END:VEVENT
BEGIN:VEVENT
DTSTART;TZID=America/Chicago:20220624T190000
DTEND;TZID=America/Chicago:20220624T203000
DTSTAMP:20260422T120803
CREATED:20220421T185030Z
LAST-MODIFIED:20220421T185030Z
UID:57265-1656097200-1656102600@www.minneapolisparks.org
SUMMARY:Hearing Horns
DESCRIPTION:Indie rock with a twist
URL:https://www.minneapolisparks.org/event-calendar/hearing-horns/
LOCATION:Minnehaha Park\, Minneapolis\, MN\, United States
CATEGORIES:Music & Movies in the Parks,Music in the Parks
GEO:44.9161006;-93.2109865
END:VEVENT
BEGIN:VEVENT
DTSTART;TZID=America/Chicago:20220623T190000
DTEND;TZID=America/Chicago:20220623T203000
DTSTAMP:20260422T120803
CREATED:20220421T185020Z
LAST-MODIFIED:20220421T185020Z
UID:57264-1656010800-1656016200@www.minneapolisparks.org
SUMMARY:Brian Just Band
DESCRIPTION:Sunshine pop orchestrations with Harmony
URL:https://www.minneapolisparks.org/event-calendar/brian-just-band/
LOCATION:Minnehaha Park\, Minneapolis\, MN\, United States
CATEGORIES:Music & Movies in the Parks,Music in the Parks
GEO:44.9161006;-93.2109865
END:VEVENT
BEGIN:VEVENT
DTSTART;TZID=America/Chicago:20220617T190000
DTEND;TZID=America/Chicago:20220617T203000
DTSTAMP:20260422T120803
CREATED:20220421T185014Z
LAST-MODIFIED:20220421T185014Z
UID:57263-1655492400-1655497800@www.minneapolisparks.org
SUMMARY:Cabin Fever
DESCRIPTION:80’s & 90’s acoustic pop/rock
URL:https://www.minneapolisparks.org/event-calendar/cabin-fever/
LOCATION:Minnehaha Park\, Minneapolis\, MN\, United States
CATEGORIES:Music & Movies in the Parks,Music in the Parks
GEO:44.9161006;-93.2109865
END:VEVENT
BEGIN:VEVENT
DTSTART;TZID=America/Chicago:20220616T190000
DTEND;TZID=America/Chicago:20220616T203000
DTSTAMP:20260422T120803
CREATED:20220421T185007Z
LAST-MODIFIED:20220421T185007Z
UID:57262-1655406000-1655411400@www.minneapolisparks.org
SUMMARY:The Wrong Omar
DESCRIPTION:Songs\, stories and rock-n-roll aphorisms
URL:https://www.minneapolisparks.org/event-calendar/the-wrong-omar/
LOCATION:Minnehaha Park\, Minneapolis\, MN\, United States
CATEGORIES:Music & Movies in the Parks,Music in the Parks
GEO:44.9161006;-93.2109865
END:VEVENT
BEGIN:VEVENT
DTSTART;TZID=America/Chicago:20220610T190000
DTEND;TZID=America/Chicago:20220610T203000
DTSTAMP:20260422T120803
CREATED:20220421T185001Z
LAST-MODIFIED:20220421T185001Z
UID:57261-1654887600-1654893000@www.minneapolisparks.org
SUMMARY:The Fox & Beggar Theater Presents: "The Lonesome Spectacular!"
DESCRIPTION:A new Circus-ish Show About a Lot of Things
URL:https://www.minneapolisparks.org/event-calendar/the-fox-beggar-theater-presents-the-lonesome-spectacular/
LOCATION:Minnehaha Park\, Minneapolis\, MN\, United States
CATEGORIES:Music & Movies in the Parks,Music in the Parks
GEO:44.9161006;-93.2109865
END:VEVENT
BEGIN:VEVENT
DTSTART;TZID=America/Chicago:20220609T190000
DTEND;TZID=America/Chicago:20220609T203000
DTSTAMP:20260422T120803
CREATED:20220421T184955Z
LAST-MODIFIED:20220421T184955Z
UID:57260-1654801200-1654806600@www.minneapolisparks.org
SUMMARY:Jake Nelson
DESCRIPTION:Fun\, Variety\, Up Beat\, Originals\, Covers
URL:https://www.minneapolisparks.org/event-calendar/jake-nelson/
LOCATION:Minnehaha Park\, Minneapolis\, MN\, United States
CATEGORIES:Music & Movies in the Parks,Music in the Parks
GEO:44.9161006;-93.2109865
END:VEVENT
BEGIN:VEVENT
DTSTART;TZID=America/Chicago:20220607T211500
DTEND;TZID=America/Chicago:20220607T211500
DTSTAMP:20260422T120803
CREATED:20220523T172914Z
LAST-MODIFIED:20220602T205414Z
UID:58022-1654636500-1654636500@www.minneapolisparks.org
SUMMARY:Asian Movie Night
DESCRIPTION:Movie starts at dusk
URL:https://www.minneapolisparks.org/event-calendar/asian-movie-night/
LOCATION:Minnehaha Park\, Minneapolis\, MN\, United States
CATEGORIES:Movies in the Parks,Music & Movies in the Parks
GEO:44.9161006;-93.2109865
END:VEVENT
BEGIN:VEVENT
DTSTART;TZID=America/Chicago:20220603T190000
DTEND;TZID=America/Chicago:20220603T203000
DTSTAMP:20260422T120803
CREATED:20220421T184940Z
LAST-MODIFIED:20220428T215715Z
UID:57258-1654282800-1654288200@www.minneapolisparks.org
SUMMARY:South High Community Band
DESCRIPTION:Family-Friendly Fun Band Music
URL:https://www.minneapolisparks.org/event-calendar/south-high-community-band-3/
LOCATION:Minnehaha Park\, Minneapolis\, MN\, United States
CATEGORIES:Music & Movies in the Parks,Music in the Parks
GEO:44.9161006;-93.2109865
END:VEVENT
BEGIN:VEVENT
DTSTART;TZID=America/Chicago:20220602T190000
DTEND;TZID=America/Chicago:20220602T203000
DTSTAMP:20260422T120803
CREATED:20220421T184948Z
LAST-MODIFIED:20220428T215736Z
UID:57259-1654196400-1654201800@www.minneapolisparks.org
SUMMARY:Homeward Bound
DESCRIPTION:Upper midwestern roots music ensemble
URL:https://www.minneapolisparks.org/event-calendar/homeward-bound-2/
LOCATION:Minnehaha Park\, Minneapolis\, MN\, United States
CATEGORIES:Music & Movies in the Parks,Music in the Parks
GEO:44.9161006;-93.2109865
END:VEVENT
BEGIN:VEVENT
DTSTART;TZID=America/Chicago:20220521T081500
DTEND;TZID=America/Chicago:20220521T081500
DTSTAMP:20260422T120803
CREATED:20220325T171530Z
LAST-MODIFIED:20220325T171530Z
UID:56500-1653120900-1653120900@www.minneapolisparks.org
SUMMARY:Women Run the Cities
DESCRIPTION:
URL:https://www.minneapolisparks.org/event-calendar/women-run-the-cities-6/
LOCATION:Minnehaha Park\, Minneapolis\, MN\, United States
CATEGORIES:Events- All,Events- Non-MPRB
GEO:44.9161006;-93.2109865
END:VEVENT
BEGIN:VEVENT
DTSTART;TZID=America/Chicago:20220515T100000
DTEND;TZID=America/Chicago:20220515T100000
DTSTAMP:20260422T120803
CREATED:20220325T170451Z
LAST-MODIFIED:20220325T170451Z
UID:56480-1652608800-1652608800@www.minneapolisparks.org
SUMMARY:Walk to End HIV
DESCRIPTION:
URL:https://www.minneapolisparks.org/event-calendar/walk-to-end-hiv/
LOCATION:Minnehaha Park\, Minneapolis\, MN\, United States
CATEGORIES:Events- All,Events- Non-MPRB
GEO:44.9161006;-93.2109865
END:VEVENT
BEGIN:VEVENT
DTSTART;TZID=America/Chicago:20220501T093000
DTEND;TZID=America/Chicago:20220501T093000
DTSTAMP:20260422T120803
CREATED:20220325T165228Z
LAST-MODIFIED:20220325T165228Z
UID:56468-1651397400-1651397400@www.minneapolisparks.org
SUMMARY:Walk MS: Twin Cities
DESCRIPTION:
URL:https://www.minneapolisparks.org/event-calendar/walk-ms-twin-cities/
LOCATION:Minnehaha Park\, Minneapolis\, MN\, United States
CATEGORIES:Events- All,Events- Non-MPRB
GEO:44.9161006;-93.2109865
END:VEVENT
BEGIN:VEVENT
DTSTART;TZID=America/Chicago:20210911T110000
DTEND;TZID=America/Chicago:20210911T110000
DTSTAMP:20260422T120803
CREATED:20210729T151258Z
LAST-MODIFIED:20210729T151258Z
UID:50702-1631358000-1631358000@www.minneapolisparks.org
SUMMARY:Pagan Pride Festival
DESCRIPTION:
URL:https://www.minneapolisparks.org/event-calendar/pagan-pride-festival/
LOCATION:Minnehaha Park\, Minneapolis\, MN\, United States
CATEGORIES:Events- All,Events- Non-MPRB
GEO:44.9161006;-93.2109865
END:VEVENT
BEGIN:VEVENT
DTSTART;TZID=America/Chicago:20210906T110000
DTEND;TZID=America/Chicago:20210906T110000
DTSTAMP:20260422T120803
CREATED:20210729T150928Z
LAST-MODIFIED:20210729T150928Z
UID:50694-1630926000-1630926000@www.minneapolisparks.org
SUMMARY:Laughing Water Bluegrass Festival
DESCRIPTION:
URL:https://www.minneapolisparks.org/event-calendar/laughing-water-bluegrass-festival/
LOCATION:Minnehaha Park\, Minneapolis\, MN\, United States
CATEGORIES:Events- All,Events- Non-MPRB
GEO:44.9161006;-93.2109865
END:VEVENT
END:VCALENDAR