BEGIN:VCALENDAR
VERSION:2.0
PRODID:-//Minneapolis Park &amp; Recreation Board - ECPv6.15.20//NONSGML v1.0//EN
CALSCALE:GREGORIAN
METHOD:PUBLISH
X-ORIGINAL-URL:https://www.minneapolisparks.org
X-WR-CALDESC:Events for Minneapolis Park &amp; Recreation Board
REFRESH-INTERVAL;VALUE=DURATION:PT1H
X-Robots-Tag:noindex
X-PUBLISHED-TTL:PT1H
BEGIN:VTIMEZONE
TZID:America/Chicago
BEGIN:DAYLIGHT
TZOFFSETFROM:-0600
TZOFFSETTO:-0500
TZNAME:CDT
DTSTART:20210314T080000
END:DAYLIGHT
BEGIN:STANDARD
TZOFFSETFROM:-0500
TZOFFSETTO:-0600
TZNAME:CST
DTSTART:20211107T070000
END:STANDARD
BEGIN:DAYLIGHT
TZOFFSETFROM:-0600
TZOFFSETTO:-0500
TZNAME:CDT
DTSTART:20220313T080000
END:DAYLIGHT
BEGIN:STANDARD
TZOFFSETFROM:-0500
TZOFFSETTO:-0600
TZNAME:CST
DTSTART:20221106T070000
END:STANDARD
BEGIN:DAYLIGHT
TZOFFSETFROM:-0600
TZOFFSETTO:-0500
TZNAME:CDT
DTSTART:20230312T080000
END:DAYLIGHT
BEGIN:STANDARD
TZOFFSETFROM:-0500
TZOFFSETTO:-0600
TZNAME:CST
DTSTART:20231105T070000
END:STANDARD
BEGIN:DAYLIGHT
TZOFFSETFROM:-0600
TZOFFSETTO:-0500
TZNAME:CDT
DTSTART:20240310T080000
END:DAYLIGHT
BEGIN:STANDARD
TZOFFSETFROM:-0500
TZOFFSETTO:-0600
TZNAME:CST
DTSTART:20241103T070000
END:STANDARD
BEGIN:DAYLIGHT
TZOFFSETFROM:-0600
TZOFFSETTO:-0500
TZNAME:CDT
DTSTART:20250309T080000
END:DAYLIGHT
BEGIN:STANDARD
TZOFFSETFROM:-0500
TZOFFSETTO:-0600
TZNAME:CST
DTSTART:20251102T070000
END:STANDARD
BEGIN:DAYLIGHT
TZOFFSETFROM:-0600
TZOFFSETTO:-0500
TZNAME:CDT
DTSTART:20260308T080000
END:DAYLIGHT
BEGIN:STANDARD
TZOFFSETFROM:-0500
TZOFFSETTO:-0600
TZNAME:CST
DTSTART:20261101T070000
END:STANDARD
END:VTIMEZONE
BEGIN:VEVENT
DTSTART;TZID=America/Chicago:20251011T100000
DTEND;TZID=America/Chicago:20251011T100000
DTSTAMP:20260422T101903
CREATED:20250925T181254Z
LAST-MODIFIED:20250925T181254Z
UID:85526-1760176800-1760176800@www.minneapolisparks.org
SUMMARY:4th Annual Haven 5K
DESCRIPTION:
URL:https://www.minneapolisparks.org/event-calendar/4th-annual-haven-5k/
LOCATION:Minnehaha Park\, Minneapolis\, MN\, United States
CATEGORIES:Events- All,Events- Non-MPRB
GEO:44.9161006;-93.2109865
END:VEVENT
BEGIN:VEVENT
DTSTART;TZID=America/Chicago:20250927T110000
DTEND;TZID=America/Chicago:20250927T110000
DTSTAMP:20260422T101903
CREATED:20250604T180644Z
LAST-MODIFIED:20250604T180644Z
UID:83158-1758970800-1758970800@www.minneapolisparks.org
SUMMARY:NAMI Walks
DESCRIPTION:
URL:https://www.minneapolisparks.org/event-calendar/nami-walks-2/
LOCATION:Minnehaha Park\, Minneapolis\, MN\, United States
CATEGORIES:Events- All,Events- Non-MPRB
GEO:44.9161006;-93.2109865
END:VEVENT
BEGIN:VEVENT
DTSTART;TZID=America/Chicago:20250914T080000
DTEND;TZID=America/Chicago:20250914T080000
DTSTAMP:20260422T101903
CREATED:20250604T175321Z
LAST-MODIFIED:20250604T175321Z
UID:83141-1757836800-1757836800@www.minneapolisparks.org
SUMMARY:Twin Cities Bike Tour
DESCRIPTION:
URL:https://www.minneapolisparks.org/event-calendar/twin-cities-bike-tour-2/
LOCATION:Minnehaha Park\, Minneapolis\, MN\, United States
CATEGORIES:Events- All,Events- Non-MPRB
GEO:44.9161006;-93.2109865
END:VEVENT
BEGIN:VEVENT
DTSTART;TZID=America/Chicago:20250816T120000
DTEND;TZID=America/Chicago:20250816T170000
DTSTAMP:20260422T101903
CREATED:20250709T193108Z
LAST-MODIFIED:20250816T152907Z
UID:83869-1755345600-1755363600@www.minneapolisparks.org
SUMMARY:Canceled: Minneapolis International Festival
DESCRIPTION:UPDATE: The Minneapolis International Festival is canceled. Unfortunately\, there’s too much standing water in the park from all the rain overnight. Let’s hope for better luck next year! \nThe Minneapolis International Festival celebrates the different cultures in the City of Minneapolis and surrounding communities with music\, dance\, art\, cultural learning booths\, exhibits demonstrations AND MORE. Learn about all the many amazing cultures that make Minneapolis such a wonderful place to live at this free event.
URL:https://www.minneapolisparks.org/event-calendar/minneapolis-international-festival-4/
LOCATION:Minnehaha Park\, Minneapolis\, MN\, United States
CATEGORIES:Events- All,Events- MPRB
GEO:44.9161006;-93.2109865
END:VEVENT
BEGIN:VEVENT
DTSTART;TZID=America/Chicago:20250720T100000
DTEND;TZID=America/Chicago:20250720T100000
DTSTAMP:20260422T101903
CREATED:20250604T151840Z
LAST-MODIFIED:20250604T151840Z
UID:83314-1753005600-1753005600@www.minneapolisparks.org
SUMMARY:Minnehaha Art Fair
DESCRIPTION:
URL:https://www.minneapolisparks.org/event-calendar/minnehaha-art-fair-6/2025-07-20/
LOCATION:Minnehaha Park\, Minneapolis\, MN\, United States
CATEGORIES:Events- All,Events- Non-MPRB
GEO:44.9161006;-93.2109865
END:VEVENT
BEGIN:VEVENT
DTSTART;TZID=America/Chicago:20250719T100000
DTEND;TZID=America/Chicago:20250719T100000
DTSTAMP:20260422T101903
CREATED:20250604T151840Z
LAST-MODIFIED:20250604T151840Z
UID:83313-1752919200-1752919200@www.minneapolisparks.org
SUMMARY:Minnehaha Art Fair
DESCRIPTION:
URL:https://www.minneapolisparks.org/event-calendar/minnehaha-art-fair-6/2025-07-19/
LOCATION:Minnehaha Park\, Minneapolis\, MN\, United States
CATEGORIES:Events- All,Events- Non-MPRB
GEO:44.9161006;-93.2109865
END:VEVENT
BEGIN:VEVENT
DTSTART;TZID=America/Chicago:20250718T170000
DTEND;TZID=America/Chicago:20250718T170000
DTSTAMP:20260422T101903
CREATED:20250604T151840Z
LAST-MODIFIED:20250609T204737Z
UID:83042-1752858000-1752858000@www.minneapolisparks.org
SUMMARY:Minnehaha Art Fair
DESCRIPTION:
URL:https://www.minneapolisparks.org/event-calendar/minnehaha-art-fair-6/2025-07-18/
LOCATION:Minnehaha Park\, Minneapolis\, MN\, United States
CATEGORIES:Events- All,Events- Non-MPRB
GEO:44.9161006;-93.2109865
END:VEVENT
BEGIN:VEVENT
DTSTART;TZID=America/Chicago:20250622T160000
DTEND;TZID=America/Chicago:20250622T160000
DTSTAMP:20260422T101903
CREATED:20250604T150449Z
LAST-MODIFIED:20250604T150449Z
UID:83019-1750608000-1750608000@www.minneapolisparks.org
SUMMARY:Beaumont Concert/Performance
DESCRIPTION:
URL:https://www.minneapolisparks.org/event-calendar/beaumont-concert-performance/
LOCATION:Minnehaha Park\, Minneapolis\, MN\, United States
CATEGORIES:Events- All,Events- Non-MPRB
GEO:44.9161006;-93.2109865
END:VEVENT
BEGIN:VEVENT
DTSTART;TZID=America/Chicago:20250517T090000
DTEND;TZID=America/Chicago:20250517T090000
DTSTAMP:20260422T101903
CREATED:20250403T154503Z
LAST-MODIFIED:20250403T154503Z
UID:81467-1747472400-1747472400@www.minneapolisparks.org
SUMMARY:Women Run the Cities
DESCRIPTION:
URL:https://www.minneapolisparks.org/event-calendar/women-run-the-cities-9/
LOCATION:Minnehaha Park\, Minneapolis\, MN\, United States
CATEGORIES:Events- All,Events- Non-MPRB
GEO:44.9161006;-93.2109865
END:VEVENT
BEGIN:VEVENT
DTSTART;TZID=America/Chicago:20250504T100000
DTEND;TZID=America/Chicago:20250504T100000
DTSTAMP:20260422T101903
CREATED:20250403T150443Z
LAST-MODIFIED:20250403T150443Z
UID:81447-1746352800-1746352800@www.minneapolisparks.org
SUMMARY:Walk MS
DESCRIPTION:
URL:https://www.minneapolisparks.org/event-calendar/walk-ms-2/
LOCATION:Minnehaha Park\, Minneapolis\, MN\, United States
CATEGORIES:Events- All,Events- Non-MPRB
GEO:44.9161006;-93.2109865
END:VEVENT
BEGIN:VEVENT
DTSTART;TZID=America/Chicago:20250426T080000
DTEND;TZID=America/Chicago:20250426T080000
DTSTAMP:20260422T101903
CREATED:20250403T145339Z
LAST-MODIFIED:20250403T145407Z
UID:81434-1745654400-1745654400@www.minneapolisparks.org
SUMMARY:Get In Gear
DESCRIPTION:
URL:https://www.minneapolisparks.org/event-calendar/get-in-gear-3/
LOCATION:Minnehaha Park\, Minneapolis\, MN\, United States
CATEGORIES:Events- All,Events- Non-MPRB
GEO:44.9161006;-93.2109865
END:VEVENT
BEGIN:VEVENT
DTSTART;TZID=America/Chicago:20241123T093000
DTEND;TZID=America/Chicago:20241123T113000
DTSTAMP:20260422T101903
CREATED:20241118T191331Z
LAST-MODIFIED:20241118T191331Z
UID:78386-1732354200-1732361400@www.minneapolisparks.org
SUMMARY:Project Background Open House - Minnehaha Dog Park Perimeter Fencing
DESCRIPTION:An Open House event is scheduled on Saturday\, Nov. 23\, 2024\, 9:30-11:30 am for people to learn more about fencing planned at Minnehaha Dog Park. Depending on interest and staff availability\, there may be opportunities for staff to lead tours of the dog park perimeter and explain where the barrier will go. \nMeeting Location: Shelter/Kiosk next to Minnehaha Dog Park parking lot at East 54th Street and South Minnehaha Drive.  \n 
URL:https://www.minneapolisparks.org/event-calendar/project-background-open-house-minnehaha-dog-park-perimeter-fencing/
LOCATION:Minnehaha Park\, Minneapolis\, MN\, United States
CATEGORIES:Public Meetings
GEO:44.9161006;-93.2109865
END:VEVENT
BEGIN:VEVENT
DTSTART;TZID=America/Chicago:20241006T070000
DTEND;TZID=America/Chicago:20241006T070000
DTSTAMP:20260422T101903
CREATED:20240716T212306Z
LAST-MODIFIED:20240719T165157Z
UID:75672-1728198000-1728198000@www.minneapolisparks.org
SUMMARY:Medtronic Twin Cities Marathon
DESCRIPTION:
URL:https://www.minneapolisparks.org/event-calendar/medtronic-twin-cities-marathon-2/
LOCATION:The Commons\, 425 Portland Ave South\, Minneapolis\, MN\, 55488\, United States
CATEGORIES:Events- All,Events- Non-MPRB
GEO:44.9766971;-93.2628904
X-APPLE-STRUCTURED-LOCATION;VALUE=URI;X-ADDRESS=The Commons 425 Portland Ave South Minneapolis MN 55488 United States;X-APPLE-RADIUS=500;X-TITLE=425 Portland Ave South:geo:-93.2628904,44.9766971
END:VEVENT
BEGIN:VEVENT
DTSTART;TZID=America/Chicago:20240928T100000
DTEND;TZID=America/Chicago:20240928T100000
DTSTAMP:20260422T101903
CREATED:20240716T210734Z
LAST-MODIFIED:20240719T164751Z
UID:75656-1727517600-1727517600@www.minneapolisparks.org
SUMMARY:NAMIWalks
DESCRIPTION:
URL:https://www.minneapolisparks.org/event-calendar/namiwalks-2/
LOCATION:Minnehaha Park\, Minneapolis\, MN\, United States
CATEGORIES:Events- All,Events- Non-MPRB
GEO:44.9161006;-93.2109865
END:VEVENT
BEGIN:VEVENT
DTSTART;TZID=America/Chicago:20240907T100000
DTEND;TZID=America/Chicago:20240907T100000
DTSTAMP:20260422T101903
CREATED:20240716T203119Z
LAST-MODIFIED:20240719T164648Z
UID:75619-1725703200-1725703200@www.minneapolisparks.org
SUMMARY:TC Pagan Pride Festival
DESCRIPTION:
URL:https://www.minneapolisparks.org/event-calendar/tc-pagan-pride-festival/
LOCATION:Minnehaha Park\, Minneapolis\, MN\, United States
CATEGORIES:Events- All,Events- Non-MPRB
GEO:44.9161006;-93.2109865
END:VEVENT
BEGIN:VEVENT
DTSTART;TZID=America/Chicago:20230923T100000
DTEND;TZID=America/Chicago:20230923T100000
DTSTAMP:20260422T101903
CREATED:20230803T201926Z
LAST-MODIFIED:20230803T201926Z
UID:67651-1695463200-1695463200@www.minneapolisparks.org
SUMMARY:NAMI Walks
DESCRIPTION:
URL:https://www.minneapolisparks.org/event-calendar/nami-walks/
LOCATION:Minnehaha Park\, Minneapolis\, MN\, United States
CATEGORIES:Events- All,Events- Non-MPRB
GEO:44.9161006;-93.2109865
END:VEVENT
BEGIN:VEVENT
DTSTART;TZID=America/Chicago:20230909T100000
DTEND;TZID=America/Chicago:20230909T100000
DTSTAMP:20260422T101903
CREATED:20230803T200408Z
LAST-MODIFIED:20230803T200408Z
UID:67622-1694253600-1694253600@www.minneapolisparks.org
SUMMARY:TC Pagan Pride Fall Festival
DESCRIPTION:
URL:https://www.minneapolisparks.org/event-calendar/tc-pagan-pride-fall-festival/
LOCATION:Minnehaha Park\, Minneapolis\, MN\, United States
CATEGORIES:Events- All,Events- Non-MPRB
GEO:44.9161006;-93.2109865
END:VEVENT
BEGIN:VEVENT
DTSTART;TZID=America/Chicago:20230805T080000
DTEND;TZID=America/Chicago:20230805T080000
DTSTAMP:20260422T101903
CREATED:20230605T191443Z
LAST-MODIFIED:20230605T191443Z
UID:66318-1691222400-1691222400@www.minneapolisparks.org
SUMMARY:Walk for Wishes
DESCRIPTION:
URL:https://www.minneapolisparks.org/event-calendar/walk-for-wishes-5/
LOCATION:Minnehaha Park\, Minneapolis\, MN\, United States
CATEGORIES:Events- All,Events- Non-MPRB
GEO:44.9161006;-93.2109865
END:VEVENT
BEGIN:VEVENT
DTSTART;TZID=America/Chicago:20230715T100000
DTEND;TZID=America/Chicago:20230715T100000
DTSTAMP:20260422T101903
CREATED:20230531T181626Z
LAST-MODIFIED:20230531T181626Z
UID:66207-1689415200-1689415200@www.minneapolisparks.org
SUMMARY:Minnehaha Art Fair
DESCRIPTION:
URL:https://www.minneapolisparks.org/event-calendar/minnehaha-art-fair-2/2023-07-15/
LOCATION:Minnehaha Park\, Minneapolis\, MN\, United States
CATEGORIES:Events- All,Events- Non-MPRB
GEO:44.9161006;-93.2109865
END:VEVENT
BEGIN:VEVENT
DTSTART;TZID=America/Chicago:20230714T170000
DTEND;TZID=America/Chicago:20230714T170000
DTSTAMP:20260422T101903
CREATED:20230531T181508Z
LAST-MODIFIED:20230531T181508Z
UID:66205-1689354000-1689354000@www.minneapolisparks.org
SUMMARY:Minnehaha Art Fair
DESCRIPTION:
URL:https://www.minneapolisparks.org/event-calendar/minnehaha-art-fair/
LOCATION:Minnehaha Park\, Minneapolis\, MN\, United States
CATEGORIES:Events- All,Events- Non-MPRB
GEO:44.9161006;-93.2109865
END:VEVENT
BEGIN:VEVENT
DTSTART;TZID=America/Chicago:20230520T080000
DTEND;TZID=America/Chicago:20230520T080000
DTSTAMP:20260422T101903
CREATED:20230404T173023Z
LAST-MODIFIED:20230404T173023Z
UID:64441-1684569600-1684569600@www.minneapolisparks.org
SUMMARY:Women Run The Cities
DESCRIPTION:
URL:https://www.minneapolisparks.org/event-calendar/women-run-the-cities-7/
LOCATION:Minnehaha Park\, Minneapolis\, MN\, United States
CATEGORIES:Events- All,Events- Non-MPRB
GEO:44.9161006;-93.2109865
END:VEVENT
BEGIN:VEVENT
DTSTART;TZID=America/Chicago:20230507T093000
DTEND;TZID=America/Chicago:20230507T093000
DTSTAMP:20260422T101903
CREATED:20230404T172801Z
LAST-MODIFIED:20230404T172801Z
UID:64433-1683451800-1683451800@www.minneapolisparks.org
SUMMARY:Walk MS: Twin Cities
DESCRIPTION:
URL:https://www.minneapolisparks.org/event-calendar/walk-ms-twin-cities-2/
LOCATION:Minnehaha Park\, Minneapolis\, MN\, United States
CATEGORIES:Events- All,Events- Non-MPRB
GEO:44.9161006;-93.2109865
END:VEVENT
BEGIN:VEVENT
DTSTART;TZID=America/Chicago:20230429T090000
DTEND;TZID=America/Chicago:20230429T090000
DTSTAMP:20260422T101903
CREATED:20230125T164703Z
LAST-MODIFIED:20230125T164703Z
UID:63012-1682758800-1682758800@www.minneapolisparks.org
SUMMARY:Get In Gear
DESCRIPTION:
URL:https://www.minneapolisparks.org/event-calendar/get-in-gear/
LOCATION:Minnehaha Park\, Minneapolis\, MN\, United States
CATEGORIES:Events- All,Events- Non-MPRB
GEO:44.9161006;-93.2109865
END:VEVENT
BEGIN:VEVENT
DTSTART;TZID=America/Chicago:20220924T110000
DTEND;TZID=America/Chicago:20220924T110000
DTSTAMP:20260422T101903
CREATED:20220622T183129Z
LAST-MODIFIED:20220622T183129Z
UID:59003-1664017200-1664017200@www.minneapolisparks.org
SUMMARY:NAMIWalks Minnesota
DESCRIPTION:On your feet\, participants! Join us as we step into NAMIWalks Your Way 2022\, which promises to be our most meaningful event ever. It’s a new day for mental health and we will embrace it together on September 24 at Minnehaha Park.  \nYou won’t want to miss it — a vibrant gathering where inspiration can shine on all of us. \nWe’ll cheer each other on while raising our voices to be heard\, united in our commitment to raise awareness of our cause\, funds to drive NAMI’s free\, top-rated programs\, and build community in every sense of the word. \nNAMIWalks Your Way will be here before you know it\, so register today! Let’s open up doors for everyone from every walk of life to have access to the mental health resources and community they deserve.
URL:https://www.minneapolisparks.org/event-calendar/namiwalks-minnesota/
LOCATION:Minnehaha Park\, Minneapolis\, MN\, United States
CATEGORIES:Events- All,Events- Non-MPRB
GEO:44.9161006;-93.2109865
END:VEVENT
BEGIN:VEVENT
DTSTART;TZID=America/Chicago:20220902T190000
DTEND;TZID=America/Chicago:20220902T203000
DTSTAMP:20260422T101903
CREATED:20220421T184806Z
LAST-MODIFIED:20220421T184806Z
UID:57286-1662145200-1662150600@www.minneapolisparks.org
SUMMARY:Kung Fu Hippies
DESCRIPTION:Feel-good hippie rock
URL:https://www.minneapolisparks.org/event-calendar/kung-fu-hippies-3/
LOCATION:Minnehaha Park\, Minneapolis\, MN\, United States
CATEGORIES:Music & Movies in the Parks,Music in the Parks
GEO:44.9161006;-93.2109865
END:VEVENT
BEGIN:VEVENT
DTSTART;TZID=America/Chicago:20220901T190000
DTEND;TZID=America/Chicago:20220901T203000
DTSTAMP:20260422T101903
CREATED:20220421T184831Z
LAST-MODIFIED:20220421T184831Z
UID:57285-1662058800-1662064200@www.minneapolisparks.org
SUMMARY:Hypoxic Punks
DESCRIPTION:Folk rock with environmental emphasis
URL:https://www.minneapolisparks.org/event-calendar/hypoxic-punks/
LOCATION:Minnehaha Park\, Minneapolis\, MN\, United States
CATEGORIES:Music & Movies in the Parks,Music in the Parks
GEO:44.9161006;-93.2109865
END:VEVENT
BEGIN:VEVENT
DTSTART;TZID=America/Chicago:20220826T190000
DTEND;TZID=America/Chicago:20220826T203000
DTSTAMP:20260422T101903
CREATED:20220421T184900Z
LAST-MODIFIED:20220421T184900Z
UID:57284-1661540400-1661545800@www.minneapolisparks.org
SUMMARY:Maria and the Coins
DESCRIPTION:Singer-songwriter driven Pop-Rock
URL:https://www.minneapolisparks.org/event-calendar/maria-and-the-coins-3/
LOCATION:Minnehaha Park\, Minneapolis\, MN\, United States
CATEGORIES:Music & Movies in the Parks,Music in the Parks
GEO:44.9161006;-93.2109865
END:VEVENT
BEGIN:VEVENT
DTSTART;TZID=America/Chicago:20220825T190000
DTEND;TZID=America/Chicago:20220825T203000
DTSTAMP:20260422T101903
CREATED:20220421T185731Z
LAST-MODIFIED:20220421T185731Z
UID:57282-1661454000-1661459400@www.minneapolisparks.org
SUMMARY:B & The Sting
DESCRIPTION:Roots rock\, reggae and LOVE!
URL:https://www.minneapolisparks.org/event-calendar/b-the-sting-3/
LOCATION:Minnehaha Park\, Minneapolis\, MN\, United States
CATEGORIES:Music & Movies in the Parks,Music in the Parks
GEO:44.9161006;-93.2109865
END:VEVENT
BEGIN:VEVENT
DTSTART;TZID=America/Chicago:20220819T190000
DTEND;TZID=America/Chicago:20220819T203000
DTSTAMP:20260422T101903
CREATED:20220421T185707Z
LAST-MODIFIED:20220421T185707Z
UID:57281-1660935600-1660941000@www.minneapolisparks.org
SUMMARY:Edie Rae & The Blaze Kings
DESCRIPTION:Indie country pop original tunes
URL:https://www.minneapolisparks.org/event-calendar/edie-rae-the-blaze-kings/
LOCATION:Minnehaha Park\, Minneapolis\, MN\, United States
CATEGORIES:Music & Movies in the Parks,Music in the Parks
GEO:44.9161006;-93.2109865
END:VEVENT
BEGIN:VEVENT
DTSTART;TZID=America/Chicago:20220818T190000
DTEND;TZID=America/Chicago:20220818T203000
DTSTAMP:20260422T101903
CREATED:20220421T185651Z
LAST-MODIFIED:20220421T185651Z
UID:57280-1660849200-1660854600@www.minneapolisparks.org
SUMMARY:Six Still Standing
DESCRIPTION:5 decades of spirited rock
URL:https://www.minneapolisparks.org/event-calendar/six-still-standing-3/
LOCATION:Minnehaha Park\, Minneapolis\, MN\, United States
CATEGORIES:Music & Movies in the Parks,Music in the Parks
GEO:44.9161006;-93.2109865
END:VEVENT
END:VCALENDAR