BEGIN:VCALENDAR
VERSION:2.0
PRODID:-//Minneapolis Park &amp; Recreation Board - ECPv6.15.20//NONSGML v1.0//EN
CALSCALE:GREGORIAN
METHOD:PUBLISH
X-ORIGINAL-URL:https://www.minneapolisparks.org
X-WR-CALDESC:Events for Minneapolis Park &amp; Recreation Board
REFRESH-INTERVAL;VALUE=DURATION:PT1H
X-Robots-Tag:noindex
X-PUBLISHED-TTL:PT1H
BEGIN:VTIMEZONE
TZID:America/Chicago
BEGIN:DAYLIGHT
TZOFFSETFROM:-0600
TZOFFSETTO:-0500
TZNAME:CDT
DTSTART:20230312T080000
END:DAYLIGHT
BEGIN:STANDARD
TZOFFSETFROM:-0500
TZOFFSETTO:-0600
TZNAME:CST
DTSTART:20231105T070000
END:STANDARD
BEGIN:DAYLIGHT
TZOFFSETFROM:-0600
TZOFFSETTO:-0500
TZNAME:CDT
DTSTART:20240310T080000
END:DAYLIGHT
BEGIN:STANDARD
TZOFFSETFROM:-0500
TZOFFSETTO:-0600
TZNAME:CST
DTSTART:20241103T070000
END:STANDARD
BEGIN:DAYLIGHT
TZOFFSETFROM:-0600
TZOFFSETTO:-0500
TZNAME:CDT
DTSTART:20250309T080000
END:DAYLIGHT
BEGIN:STANDARD
TZOFFSETFROM:-0500
TZOFFSETTO:-0600
TZNAME:CST
DTSTART:20251102T070000
END:STANDARD
END:VTIMEZONE
BEGIN:VEVENT
DTSTART;TZID=America/Chicago:20240724T170000
DTEND;TZID=America/Chicago:20240724T190000
DTSTAMP:20260422T083942
CREATED:20240710T185719Z
LAST-MODIFIED:20240710T185719Z
UID:75385-1721840400-1721847600@www.minneapolisparks.org
SUMMARY:Concepts for Minnehaha Falls Access Improvements
DESCRIPTION:View improvement concepts and share your knowledge and opinions of the history\, current condition\, and future of the site. Tell us why the space is important to you and community\, how you currently use the space\, and how you would like to use the space in the future.
URL:https://www.minneapolisparks.org/event-calendar/concepts-for-minnehaha-falls-access-improvements/
LOCATION:Minneapolis American Indian Center\, 1530 E Franklin Ave\, Minneapolis\, MN\, 55404\, United States
CATEGORIES:Public Meetings
GEO:44.963372;-93.2521365
X-APPLE-STRUCTURED-LOCATION;VALUE=URI;X-ADDRESS=Minneapolis American Indian Center 1530 E Franklin Ave Minneapolis MN 55404 United States;X-APPLE-RADIUS=500;X-TITLE=1530 E Franklin Ave:geo:-93.2521365,44.963372
END:VEVENT
END:VCALENDAR