BEGIN:VCALENDAR
VERSION:2.0
PRODID:-//Minneapolis Park &amp; Recreation Board - ECPv6.15.20//NONSGML v1.0//EN
CALSCALE:GREGORIAN
METHOD:PUBLISH
X-ORIGINAL-URL:https://www.minneapolisparks.org
X-WR-CALDESC:Events for Minneapolis Park &amp; Recreation Board
REFRESH-INTERVAL;VALUE=DURATION:PT1H
X-Robots-Tag:noindex
X-PUBLISHED-TTL:PT1H
BEGIN:VTIMEZONE
TZID:America/Chicago
BEGIN:DAYLIGHT
TZOFFSETFROM:-0600
TZOFFSETTO:-0500
TZNAME:CDT
DTSTART:20180311T080000
END:DAYLIGHT
BEGIN:STANDARD
TZOFFSETFROM:-0500
TZOFFSETTO:-0600
TZNAME:CST
DTSTART:20181104T070000
END:STANDARD
BEGIN:DAYLIGHT
TZOFFSETFROM:-0600
TZOFFSETTO:-0500
TZNAME:CDT
DTSTART:20190310T080000
END:DAYLIGHT
BEGIN:STANDARD
TZOFFSETFROM:-0500
TZOFFSETTO:-0600
TZNAME:CST
DTSTART:20191103T070000
END:STANDARD
BEGIN:DAYLIGHT
TZOFFSETFROM:-0600
TZOFFSETTO:-0500
TZNAME:CDT
DTSTART:20200308T080000
END:DAYLIGHT
BEGIN:STANDARD
TZOFFSETFROM:-0500
TZOFFSETTO:-0600
TZNAME:CST
DTSTART:20201101T070000
END:STANDARD
BEGIN:DAYLIGHT
TZOFFSETFROM:-0600
TZOFFSETTO:-0500
TZNAME:CDT
DTSTART:20210314T080000
END:DAYLIGHT
BEGIN:STANDARD
TZOFFSETFROM:-0500
TZOFFSETTO:-0600
TZNAME:CST
DTSTART:20211107T070000
END:STANDARD
BEGIN:DAYLIGHT
TZOFFSETFROM:-0600
TZOFFSETTO:-0500
TZNAME:CDT
DTSTART:20220313T080000
END:DAYLIGHT
BEGIN:STANDARD
TZOFFSETFROM:-0500
TZOFFSETTO:-0600
TZNAME:CST
DTSTART:20221106T070000
END:STANDARD
BEGIN:DAYLIGHT
TZOFFSETFROM:-0600
TZOFFSETTO:-0500
TZNAME:CDT
DTSTART:20230312T080000
END:DAYLIGHT
BEGIN:STANDARD
TZOFFSETFROM:-0500
TZOFFSETTO:-0600
TZNAME:CST
DTSTART:20231105T070000
END:STANDARD
BEGIN:DAYLIGHT
TZOFFSETFROM:-0600
TZOFFSETTO:-0500
TZNAME:CDT
DTSTART:20240310T080000
END:DAYLIGHT
BEGIN:STANDARD
TZOFFSETFROM:-0500
TZOFFSETTO:-0600
TZNAME:CST
DTSTART:20241103T070000
END:STANDARD
BEGIN:DAYLIGHT
TZOFFSETFROM:-0600
TZOFFSETTO:-0500
TZNAME:CDT
DTSTART:20250309T080000
END:DAYLIGHT
BEGIN:STANDARD
TZOFFSETFROM:-0500
TZOFFSETTO:-0600
TZNAME:CST
DTSTART:20251102T070000
END:STANDARD
END:VTIMEZONE
BEGIN:VEVENT
DTSTART;TZID=America/Chicago:20240115T130000
DTEND;TZID=America/Chicago:20240115T140000
DTSTAMP:20260421T211613
CREATED:20240103T221033Z
LAST-MODIFIED:20240103T221033Z
UID:70657-1705323600-1705327200@www.minneapolisparks.org
SUMMARY:MLK Day Cooking Class with Ms. Pat
DESCRIPTION:Food is a universal language\, and the act of preparing it—be it cooking or baking—is an art form that many wish to master. Yet\, entering the kitchen isn’t always as intuitive as one might expect. While it’s a space brimming with potential\, it’s also a domain where skill\, knowledge\, and passion intersect. Join Ms. Pat as she teaches and develops one of her famous recipes from scratch. \nClass is currently full. Waiting List registration is open.
URL:https://www.minneapolisparks.org/event-calendar/mlk-day-cooking-class-with-ms-pat/
LOCATION:Luxton\, 112 Williams Ave SE\, Minneapolis\, MN\, 55414\, United States
CATEGORIES:Events- All,Events- MPRB
GEO:44.9675207;-93.2213116
X-APPLE-STRUCTURED-LOCATION;VALUE=URI;X-ADDRESS=Luxton 112 Williams Ave SE Minneapolis MN 55414 United States;X-APPLE-RADIUS=500;X-TITLE=112 Williams Ave SE:geo:-93.2213116,44.9675207
END:VEVENT
BEGIN:VEVENT
DTSTART;TZID=America/Chicago:20190808T204500
DTEND;TZID=America/Chicago:20190808T204500
DTSTAMP:20260421T211613
CREATED:20191216T183614Z
LAST-MODIFIED:20191216T183614Z
UID:40207-1565297100-1565297100@www.minneapolisparks.org
SUMMARY:Aquaman
DESCRIPTION:Movie starts 15 minutes after sunset
URL:https://www.minneapolisparks.org/event-calendar/aquaman-2/
LOCATION:Luxton\, 112 Williams Ave SE\, Minneapolis\, MN\, 55414\, United States
CATEGORIES:Movies in the Parks
GEO:44.9675207;-93.2213116
X-APPLE-STRUCTURED-LOCATION;VALUE=URI;X-ADDRESS=Luxton 112 Williams Ave SE Minneapolis MN 55414 United States;X-APPLE-RADIUS=500;X-TITLE=112 Williams Ave SE:geo:-93.2213116,44.9675207
END:VEVENT
END:VCALENDAR