BEGIN:VCALENDAR
VERSION:2.0
PRODID:-//Minneapolis Park &amp; Recreation Board - ECPv6.15.20//NONSGML v1.0//EN
CALSCALE:GREGORIAN
METHOD:PUBLISH
X-ORIGINAL-URL:https://www.minneapolisparks.org
X-WR-CALDESC:Events for Minneapolis Park &amp; Recreation Board
REFRESH-INTERVAL;VALUE=DURATION:PT1H
X-Robots-Tag:noindex
X-PUBLISHED-TTL:PT1H
BEGIN:VTIMEZONE
TZID:America/Chicago
BEGIN:DAYLIGHT
TZOFFSETFROM:-0600
TZOFFSETTO:-0500
TZNAME:CDT
DTSTART:20150308T080000
END:DAYLIGHT
BEGIN:STANDARD
TZOFFSETFROM:-0500
TZOFFSETTO:-0600
TZNAME:CST
DTSTART:20151101T070000
END:STANDARD
BEGIN:DAYLIGHT
TZOFFSETFROM:-0600
TZOFFSETTO:-0500
TZNAME:CDT
DTSTART:20160313T080000
END:DAYLIGHT
BEGIN:STANDARD
TZOFFSETFROM:-0500
TZOFFSETTO:-0600
TZNAME:CST
DTSTART:20161106T070000
END:STANDARD
BEGIN:DAYLIGHT
TZOFFSETFROM:-0600
TZOFFSETTO:-0500
TZNAME:CDT
DTSTART:20170312T080000
END:DAYLIGHT
BEGIN:STANDARD
TZOFFSETFROM:-0500
TZOFFSETTO:-0600
TZNAME:CST
DTSTART:20171105T070000
END:STANDARD
BEGIN:DAYLIGHT
TZOFFSETFROM:-0600
TZOFFSETTO:-0500
TZNAME:CDT
DTSTART:20180311T080000
END:DAYLIGHT
BEGIN:STANDARD
TZOFFSETFROM:-0500
TZOFFSETTO:-0600
TZNAME:CST
DTSTART:20181104T070000
END:STANDARD
BEGIN:DAYLIGHT
TZOFFSETFROM:-0600
TZOFFSETTO:-0500
TZNAME:CDT
DTSTART:20190310T080000
END:DAYLIGHT
BEGIN:STANDARD
TZOFFSETFROM:-0500
TZOFFSETTO:-0600
TZNAME:CST
DTSTART:20191103T070000
END:STANDARD
BEGIN:DAYLIGHT
TZOFFSETFROM:-0600
TZOFFSETTO:-0500
TZNAME:CDT
DTSTART:20200308T080000
END:DAYLIGHT
BEGIN:STANDARD
TZOFFSETFROM:-0500
TZOFFSETTO:-0600
TZNAME:CST
DTSTART:20201101T070000
END:STANDARD
BEGIN:DAYLIGHT
TZOFFSETFROM:-0600
TZOFFSETTO:-0500
TZNAME:CDT
DTSTART:20210314T080000
END:DAYLIGHT
BEGIN:STANDARD
TZOFFSETFROM:-0500
TZOFFSETTO:-0600
TZNAME:CST
DTSTART:20211107T070000
END:STANDARD
BEGIN:DAYLIGHT
TZOFFSETFROM:-0600
TZOFFSETTO:-0500
TZNAME:CDT
DTSTART:20220313T080000
END:DAYLIGHT
BEGIN:STANDARD
TZOFFSETFROM:-0500
TZOFFSETTO:-0600
TZNAME:CST
DTSTART:20221106T070000
END:STANDARD
BEGIN:DAYLIGHT
TZOFFSETFROM:-0600
TZOFFSETTO:-0500
TZNAME:CDT
DTSTART:20230312T080000
END:DAYLIGHT
BEGIN:STANDARD
TZOFFSETFROM:-0500
TZOFFSETTO:-0600
TZNAME:CST
DTSTART:20231105T070000
END:STANDARD
BEGIN:DAYLIGHT
TZOFFSETFROM:-0600
TZOFFSETTO:-0500
TZNAME:CDT
DTSTART:20240310T080000
END:DAYLIGHT
BEGIN:STANDARD
TZOFFSETFROM:-0500
TZOFFSETTO:-0600
TZNAME:CST
DTSTART:20241103T070000
END:STANDARD
BEGIN:DAYLIGHT
TZOFFSETFROM:-0600
TZOFFSETTO:-0500
TZNAME:CDT
DTSTART:20250309T080000
END:DAYLIGHT
BEGIN:STANDARD
TZOFFSETFROM:-0500
TZOFFSETTO:-0600
TZNAME:CST
DTSTART:20251102T070000
END:STANDARD
BEGIN:DAYLIGHT
TZOFFSETFROM:-0600
TZOFFSETTO:-0500
TZNAME:CDT
DTSTART:20260308T080000
END:DAYLIGHT
BEGIN:STANDARD
TZOFFSETFROM:-0500
TZOFFSETTO:-0600
TZNAME:CST
DTSTART:20261101T070000
END:STANDARD
END:VTIMEZONE
BEGIN:VEVENT
DTSTART;TZID=America/Chicago:20250813T180000
DTEND;TZID=America/Chicago:20250813T193000
DTSTAMP:20260421T190752
CREATED:20250709T193804Z
LAST-MODIFIED:20250709T193804Z
UID:83875-1755108000-1755113400@www.minneapolisparks.org
SUMMARY:Loring Park Ice Cream Social
DESCRIPTION:Join us at Loring Park Community Center for free ice cream and some lawn games.
URL:https://www.minneapolisparks.org/event-calendar/loring-park-ice-cream-social/
LOCATION:Loring Community Arts Center\, Minneapolis\, MN\, United States
CATEGORIES:Events- All,Events- MPRB
GEO:44.9689767;-93.2818269
END:VEVENT
BEGIN:VEVENT
DTSTART;TZID=America/Chicago:20250503T100000
DTEND;TZID=America/Chicago:20250503T100000
DTSTAMP:20260421T190752
CREATED:20250425T194132Z
LAST-MODIFIED:20250425T194132Z
UID:81867-1746266400-1746266400@www.minneapolisparks.org
SUMMARY:Garden Season Kick-Off Party
DESCRIPTION:Join us for the kickoff to the garden season. There will be a guest speaker\, opportunity to sign-up to volunteer in the garden\, door prizes\, food and more! \nHosted by The Friends of Loring Park.
URL:https://www.minneapolisparks.org/event-calendar/garden-season-kick-off-party/
LOCATION:Loring Community Arts Center\, Minneapolis\, MN\, United States
CATEGORIES:Events- All,Events- MPRB
GEO:44.9689767;-93.2818269
END:VEVENT
BEGIN:VEVENT
DTSTART;TZID=America/Chicago:20250311T190000
DTEND;TZID=America/Chicago:20250311T203000
DTSTAMP:20260421T190752
CREATED:20250211T220509Z
LAST-MODIFIED:20250211T220509Z
UID:80261-1741719600-1741725000@www.minneapolisparks.org
SUMMARY:Community Sing-A-Long
DESCRIPTION:Join your friends and neighbors for this wonderful Community Sing-A-Long event. Even if you don’t sing\, you’re guaranteed to have a delightful evening. Songs are chosen ahead of time\, with music and refreshments provided. Featuring Dan Chouinard on the piano. Celebrate the season by joining friends and neighbors for a night of fun singing or listening to the music! Lyrics are projected onto a screen.
URL:https://www.minneapolisparks.org/event-calendar/community-sing-a-long-4/
LOCATION:Loring Community Arts Center\, Minneapolis\, MN\, United States
CATEGORIES:Events- All,Events- MPRB
GEO:44.9689767;-93.2818269
END:VEVENT
BEGIN:VEVENT
DTSTART;TZID=America/Chicago:20250307T173000
DTEND;TZID=America/Chicago:20250307T183000
DTSTAMP:20260421T190752
CREATED:20250211T221414Z
LAST-MODIFIED:20250211T221414Z
UID:80269-1741368600-1741372200@www.minneapolisparks.org
SUMMARY:Loring Park Winter Chill Fest
DESCRIPTION:Embrace the snow and cold\, dress for the weather and have snow much fun enjoying some outdoor winter fun activities including snowshoeing\, sledding\, a story walk\, and bonfire with marshmallows and hot chocolate at the Loring Park Winter Chill Fest. \nSnowshoes and sleds will be available for use and is a free event for all ages. (6+ inches of snow required)
URL:https://www.minneapolisparks.org/event-calendar/loring-park-winter-chill-fest-2/
LOCATION:Loring Community Arts Center\, Minneapolis\, MN\, United States
CATEGORIES:Events- All,Events- MPRB
GEO:44.9689767;-93.2818269
END:VEVENT
BEGIN:VEVENT
DTSTART;TZID=America/Chicago:20250228T180000
DTEND;TZID=America/Chicago:20250228T193000
DTSTAMP:20260421T190752
CREATED:20250117T210840Z
LAST-MODIFIED:20250117T212910Z
UID:79771-1740765600-1740771000@www.minneapolisparks.org
SUMMARY:Black History Month: Open Book & Open Mic Celebration
DESCRIPTION:Join us at the Community Center for a special Black History Month celebration\, where stories and voices come alive. \nBlack History Month: Open Book & Open Mic Celebration features an open book session\, allowing participants to share and discuss powerful works by Black authors. \nThe open mic portion invites community members to express themselves through poetry\, music\, and spoken word\, celebrating the rich history and culture of the Black community. \nAll are welcome to come\, listen\, and contribute to this evening of inspiration and unity. Refreshments will be provided.
URL:https://www.minneapolisparks.org/event-calendar/black-history-month-open-book-open-mic-celebration/
LOCATION:Loring Community Arts Center\, Minneapolis\, MN\, United States
CATEGORIES:Events- All,Events- MPRB
GEO:44.9689767;-93.2818269
END:VEVENT
BEGIN:VEVENT
DTSTART;TZID=America/Chicago:20250221T180000
DTEND;TZID=America/Chicago:20250221T200000
DTSTAMP:20260421T190752
CREATED:20250117T210646Z
LAST-MODIFIED:20250117T212912Z
UID:79769-1740160800-1740168000@www.minneapolisparks.org
SUMMARY:Groovin’ Through History: A Black History Month DJ Dance
DESCRIPTION:Get ready to bust some moves and groove to the beat at our Black History Month DJ Dance Event! \nThis vibrant celebration at the community center will feature a lineup of amazing DJs spinning everything from classic hits to contemporary jams that pay homage to Black musical legends. Dance the night away while enjoying delicious bites\, engaging activities\, and a lively atmosphere that honors Black heritage. Join us for an unforgettable night where history\, culture\, and music come together in a spectacular rhythm of unity and joy! Refreshments will be provided.
URL:https://www.minneapolisparks.org/event-calendar/groovin-through-history-a-black-history-month-dj-dance/
LOCATION:Loring Community Arts Center\, Minneapolis\, MN\, United States
CATEGORIES:Events- All,Events- MPRB
GEO:44.9689767;-93.2818269
END:VEVENT
BEGIN:VEVENT
DTSTART;TZID=America/Chicago:20250213T180000
DTEND;TZID=America/Chicago:20250213T200000
DTSTAMP:20260421T190752
CREATED:20250117T210351Z
LAST-MODIFIED:20250117T212915Z
UID:79767-1739469600-1739476800@www.minneapolisparks.org
SUMMARY:Black History Month Movie Night
DESCRIPTION:Join us at the community center for a special Black History Month screening of “Hidden Figures.” This inspiring film tells the untold story of three African American women who played pivotal roles at NASA during the space race. \nCelebrate their achievements and the impact they’ve had on history. \nAfter the movie\, stay for a discussion to reflect on the themes and significance of the film. Refreshments will be provided.
URL:https://www.minneapolisparks.org/event-calendar/black-history-month-movie-night-17/
LOCATION:Loring Community Arts Center\, Minneapolis\, MN\, United States
CATEGORIES:Events- All,Events- MPRB
GEO:44.9689767;-93.2818269
END:VEVENT
BEGIN:VEVENT
DTSTART;TZID=America/Chicago:20250211T190000
DTEND;TZID=America/Chicago:20250211T203000
DTSTAMP:20260421T190752
CREATED:20250117T200538Z
LAST-MODIFIED:20250117T214015Z
UID:79740-1739300400-1739305800@www.minneapolisparks.org
SUMMARY:Community Sing-A-Long
DESCRIPTION:Join your friends and neighbors for this wonderful Community Sing-A-Long event. Even if you don’t sing\, you’re guaranteed to have a delightful evening. Songs are chosen ahead of time\, with music and refreshments provided. Featuring Dan Chouinard on the piano. Celebrate Spring by joining friends and neighbors for a night of fun singing or listening to the music! Lyrics are projected onto a screen.
URL:https://www.minneapolisparks.org/event-calendar/community-sing-a-long-3/
LOCATION:Loring Community Arts Center\, Minneapolis\, MN\, United States
CATEGORIES:Events- All,Events- MPRB
GEO:44.9689767;-93.2818269
END:VEVENT
BEGIN:VEVENT
DTSTART;TZID=America/Chicago:20250207T180000
DTEND;TZID=America/Chicago:20250207T200000
DTSTAMP:20260421T190752
CREATED:20250117T211207Z
LAST-MODIFIED:20250117T212907Z
UID:79774-1738951200-1738958400@www.minneapolisparks.org
SUMMARY:Black History Month: Speakeasy
DESCRIPTION:Join us for a unique Black History Month celebration with a Speak Easy theme\, where history and culture blend in a night of soulful expression. \nStep back into the 1920s\, a time of jazz\, art\, and activism\, as we honor the resilience and creativity of the Black community. \nThis non-alcoholic event will feature live performance all within an intimate\, vintage-inspired setting. \nExperience the richness of Black history through powerful voices and unforgettable moments. Pre-register to get the secret knock to enter. Refreshments will be provided.
URL:https://www.minneapolisparks.org/event-calendar/black-history-month-speakeasy/
LOCATION:Loring Community Arts Center\, Minneapolis\, MN\, United States
CATEGORIES:Events- All,Events- MPRB
GEO:44.9689767;-93.2818269
END:VEVENT
BEGIN:VEVENT
DTSTART;TZID=America/Chicago:20250131T180000
DTEND;TZID=America/Chicago:20250131T193000
DTSTAMP:20260421T190752
CREATED:20241223T213830Z
LAST-MODIFIED:20241223T213830Z
UID:79356-1738346400-1738351800@www.minneapolisparks.org
SUMMARY:Cozy Up at Hot Chocolate & Bonfire Bash
DESCRIPTION:Warm up with a cozy evening for Hot Chocolate Day at Loring Park Community Center! Gather around the bonfire\, sip on rich hot chocolate\, and enjoy a delicious treat. \nIt’s the perfect way to unwind\, connect with friends\, and savor the flavors of the season.
URL:https://www.minneapolisparks.org/event-calendar/cozy-up-at-hot-chocolate-bonfire-bash/
LOCATION:Loring Community Arts Center\, Minneapolis\, MN\, United States
CATEGORIES:Events- All,Events- MPRB
GEO:44.9689767;-93.2818269
END:VEVENT
BEGIN:VEVENT
DTSTART;TZID=America/Chicago:20250128T100000
DTEND;TZID=America/Chicago:20250128T110000
DTSTAMP:20260421T190752
CREATED:20250117T192735Z
LAST-MODIFIED:20250117T192735Z
UID:79732-1738058400-1738062000@www.minneapolisparks.org
SUMMARY:Senior Breakfast - January
DESCRIPTION:Start your day with breakfast while enjoying great company! For just $10\, savor a meal and connect with fellow seniors in a relaxed setting. Be sure to join our email list to get updates about upcoming programs sent directly to your inbox! Enroll now!
URL:https://www.minneapolisparks.org/event-calendar/senior-breakfast-january/
LOCATION:Loring Community Arts Center\, Minneapolis\, MN\, United States
CATEGORIES:Events- All,Events- MPRB
GEO:44.9689767;-93.2818269
END:VEVENT
BEGIN:VEVENT
DTSTART;TZID=America/Chicago:20250121T100000
DTEND;TZID=America/Chicago:20250121T110000
DTSTAMP:20260421T190752
CREATED:20250117T192542Z
LAST-MODIFIED:20250117T192922Z
UID:79728-1737453600-1737457200@www.minneapolisparks.org
SUMMARY:Senior Coffee Talk-Discuss Ben Smith TED Talk
DESCRIPTION:Join us for a thought-provoking session featuring Benjamin Smith’s TED Talk\, Why Our Connection to Community Matters. Ben explores how shifting from individualism to togetherness can transform lives\, improve health\, and strengthen communities. Drawing on his expertise in social services\, he shares actionable insights on building trust\, fostering meaningful connections\, and creating a safety net that benefits everyone. A group discussion will follow to reflect on how these ideas can inspire change in our neighborhoods. Enroll Now!
URL:https://www.minneapolisparks.org/event-calendar/senior-coffee-talk-discuss-ben-smith-ted-talk/
LOCATION:Loring Community Arts Center\, Minneapolis\, MN\, United States
CATEGORIES:Events- All,Events- MPRB
GEO:44.9689767;-93.2818269
END:VEVENT
BEGIN:VEVENT
DTSTART;TZID=America/Chicago:20250114T190000
DTEND;TZID=America/Chicago:20250114T203000
DTSTAMP:20260421T190752
CREATED:20241220T220351Z
LAST-MODIFIED:20241220T220351Z
UID:79272-1736881200-1736886600@www.minneapolisparks.org
SUMMARY:Community Sing-A-Long
DESCRIPTION:Join your friends and neighbors for this wonderful Community Sing-A-Long event. Even if you don’t sing\, you’re guaranteed to have a delightful evening. Songs are chosen ahead of time\, with music and refreshments provided. Featuring Dan Chouinard on the piano. Celebrate Spring by joining friends and neighbors for a night of fun singing or listening to the music! Lyrics are projected onto a screen.
URL:https://www.minneapolisparks.org/event-calendar/community-sing-a-long-2/
LOCATION:Loring Community Arts Center\, Minneapolis\, MN\, United States
CATEGORIES:Events- All,Events- MPRB
GEO:44.9689767;-93.2818269
END:VEVENT
BEGIN:VEVENT
DTSTART;TZID=America/Chicago:20241227T130000
DTEND;TZID=America/Chicago:20241227T150000
DTSTAMP:20260421T190752
CREATED:20241122T202629Z
LAST-MODIFIED:20241122T202643Z
UID:78855-1735304400-1735311600@www.minneapolisparks.org
SUMMARY:School Release Day: Movie and a Snack
DESCRIPTION:Treat yourself to a relaxing and entertaining School Release Day with our Movie and a Snack event! Perfect for students of all ages\, this activity promises a fun-filled afternoon with friends. \nEnjoy a popular\, family-friendly movie on the big screen in a comfortable setting while you savor a variety of tasty snacks\, including popcorn\, candy\, and drinks. Bring your favorite lawn chair or blankets to relax and unwind with friends in a cozy\, welcoming environment. \nGrab your friends\, find a comfy seat\, and get ready for an afternoon of cinematic fun and tasty treats. Spaces are limited\, so sign up today!
URL:https://www.minneapolisparks.org/event-calendar/school-release-day-movie-and-a-snack/
LOCATION:Loring Community Arts Center\, Minneapolis\, MN\, United States
CATEGORIES:Events- All,Events- MPRB
GEO:44.9689767;-93.2818269
END:VEVENT
BEGIN:VEVENT
DTSTART;TZID=America/Chicago:20241223T140000
DTEND;TZID=America/Chicago:20241223T153000
DTSTAMP:20260421T190752
CREATED:20241121T180019Z
LAST-MODIFIED:20241121T180019Z
UID:78587-1734962400-1734967800@www.minneapolisparks.org
SUMMARY:School Release Day: Holiday Ornament Making
DESCRIPTION:Join us for a festive and fun-filled School Release Day activity: Holiday Ornament Making! This event is perfect for students who love to craft and get into the holiday spirit. \nOur friendly staff will provide easy-to-follow instructions and tips to help you craft beautiful ornaments.\nYou’ll get to bring your handmade ornaments home to decorate your tree or give as special gifts. \nSpaces are limited\, so be sure to register early! We can’t wait to see your creativity shine this holiday season.
URL:https://www.minneapolisparks.org/event-calendar/school-release-day-holiday-ornament-making/
LOCATION:Loring Community Arts Center\, Minneapolis\, MN\, United States
CATEGORIES:Events- All,Events- MPRB
GEO:44.9689767;-93.2818269
END:VEVENT
BEGIN:VEVENT
DTSTART;TZID=America/Chicago:20241219T190000
DTEND;TZID=America/Chicago:20241219T203000
DTSTAMP:20260421T190752
CREATED:20241121T194302Z
LAST-MODIFIED:20241121T194322Z
UID:78625-1734634800-1734640200@www.minneapolisparks.org
SUMMARY:Community Sing-A-Long
DESCRIPTION:Join us for an enchanting evening of melodies and memories at our Sing-Along Night featuring the exceptionally talented pianist\, Dan Chouinard! Get ready to let your voices soar as we gather around the piano for a heartwarming musical journey. Whether you’re a seasoned vocalist or simply love to hum along\, this event promises something special for everyone. \nBring your friends\, family\, and a song in your heart as we come together to celebrate the joy of music. This isn’t just a concert; it’s an interactive experience where every voice adds to the magic! So\, mark your calendars\, dust off those vocal cords\, and join us for a night of harmonious bliss with Dan Chouinard at the piano. Let’s make memories through music that will last a lifetime! Lyrics are projected onto a screen.
URL:https://www.minneapolisparks.org/event-calendar/community-sing-a-long/
LOCATION:Loring Community Arts Center\, Minneapolis\, MN\, United States
CATEGORIES:Events- All,Events- MPRB
GEO:44.9689767;-93.2818269
END:VEVENT
BEGIN:VEVENT
DTSTART;TZID=America/Chicago:20241213T140000
DTEND;TZID=America/Chicago:20241213T153000
DTSTAMP:20260421T190752
CREATED:20241121T175759Z
LAST-MODIFIED:20241121T175759Z
UID:78585-1734098400-1734103800@www.minneapolisparks.org
SUMMARY:School Release Day: Holiday Cookie Decorating
DESCRIPTION:Get ready for a delightful and delicious afternoon at our upcoming School Release Day activity: Holiday Cookie Decorating Fun! This event is perfect for students of all ages who love to get creative and enjoy tasty treats. \nEach participant will receive a set of cookies\, ready to be transformed into edible masterpieces. Choose from a rainbow of colorful icings to design your cookies. Whether you prefer classic holiday colors or something more unique\, we’ve got you covered! From sprinkles and chocolate chips to edible glitter and candy decorations\, you’ll have a wide array of toppings to make your cookies truly one-of-a-kind. \nDon’t miss out on this sweet opportunity to showcase your creativity and enjoy some tasty treats.
URL:https://www.minneapolisparks.org/event-calendar/school-release-day-holiday-cookie-decorating/
LOCATION:Loring Community Arts Center\, Minneapolis\, MN\, United States
CATEGORIES:Events- All,Events- MPRB
GEO:44.9689767;-93.2818269
END:VEVENT
BEGIN:VEVENT
DTSTART;TZID=America/Chicago:20241211T180000
DTEND;TZID=America/Chicago:20241211T200000
DTSTAMP:20260421T190752
CREATED:20241121T175212Z
LAST-MODIFIED:20241121T175301Z
UID:78580-1733940000-1733947200@www.minneapolisparks.org
SUMMARY:Gingerbread House Wonderland
DESCRIPTION:Get into the holiday spirit with a delightful\, all-ages Gingerbread House Wonderland! Celebrate the season with holiday bonding and gingerbread fun by joining us to create your own house. \nWith plenty of frosting and a colorful variety of candy\, you’ll have everything you need to craft a unique holiday masterpiece. Just bring your imagination\, a love of all things sweet\, and plenty of holiday cheer – we’ll supply the rest!
URL:https://www.minneapolisparks.org/event-calendar/gingerbread-house-wonderland/
LOCATION:Loring Community Arts Center\, Minneapolis\, MN\, United States
CATEGORIES:Events- All,Events- MPRB
GEO:44.9689767;-93.2818269
END:VEVENT
BEGIN:VEVENT
DTSTART;TZID=America/Chicago:20240216T173000
DTEND;TZID=America/Chicago:20240216T183000
DTSTAMP:20260421T190752
CREATED:20240206T180303Z
LAST-MODIFIED:20240206T180303Z
UID:71573-1708104600-1708108200@www.minneapolisparks.org
SUMMARY:Loring Park Winter Chill Fest
DESCRIPTION:Embrace the snow and cold\, dress for the weather and have snow much fun enjoying some outdoor winter fun activities including snowshoeing\, sledding\, a story walk\, and bonfire with marshmallows and hot chocolate. Snowshoes and sleds will be available for use and is a free event for all ages.
URL:https://www.minneapolisparks.org/event-calendar/loring-park-winter-chill-fest/
LOCATION:Loring Community Arts Center\, Minneapolis\, MN\, United States
CATEGORIES:Events- All,Events- MPRB
GEO:44.9689767;-93.2818269
END:VEVENT
BEGIN:VEVENT
DTSTART;TZID=America/Chicago:20200214T153000
DTEND;TZID=America/Chicago:20200214T170000
DTSTAMP:20260421T190752
CREATED:20191216T183817Z
LAST-MODIFIED:20191216T183817Z
UID:40554-1581694200-1581699600@www.minneapolisparks.org
SUMMARY:Valentine's Day Party
DESCRIPTION:Spend Valentine’s Day with us at Loring Park! 3:30pm-5:00pm: bingo\, games\, crafts and music.
URL:https://www.minneapolisparks.org/event-calendar/valentines-day-party-4/
LOCATION:Loring Community Arts Center\, Minneapolis\, MN\, United States
CATEGORIES:Events- MPRB
GEO:44.9689767;-93.2818269
END:VEVENT
BEGIN:VEVENT
DTSTART;TZID=America/Chicago:20191214T110000
DTEND;TZID=America/Chicago:20191214T130000
DTSTAMP:20260421T190752
CREATED:20191216T183749Z
LAST-MODIFIED:20191216T183749Z
UID:40479-1576321200-1576328400@www.minneapolisparks.org
SUMMARY:Holiday Centerpiece Workshop
DESCRIPTION:Learn how to design a fabulous centerpiece for your holiday table that will WOW all of your guests! Designs will include holiday greens\, berries\, pine cones\, branches\, etc. Bring a box to carry home your creation. \nPrice: $35.00 (Resident)Check Fees Below (Non-resident)Activity Fee – Non-Resident: $52.00 If Non-resident for Standard \nRegister OnlineGet Directions
URL:https://www.minneapolisparks.org/event-calendar/holiday-centerpiece-workshop-3/
LOCATION:Loring Community Arts Center\, Minneapolis\, MN\, United States
CATEGORIES:Events- MPRB
GEO:44.9689767;-93.2818269
END:VEVENT
BEGIN:VEVENT
DTSTART;TZID=America/Chicago:20191031T180000
DTEND;TZID=America/Chicago:20191031T200000
DTSTAMP:20260421T190752
CREATED:20191216T183727Z
LAST-MODIFIED:20191216T183727Z
UID:40416-1572544800-1572552000@www.minneapolisparks.org
SUMMARY:Halloween Bonfire
DESCRIPTION:Stop by Loring Park Halloween night for some ghoulish fun! Join us for an outdoor fire with hot cocoa and s’mores. It might be scary\, it might be full of fright but you’ll never know if you’re a no-show Halloween Night! \nGet Directions
URL:https://www.minneapolisparks.org/event-calendar/halloween-bonfire-3/
LOCATION:Loring Community Arts Center\, Minneapolis\, MN\, United States
CATEGORIES:Events- MPRB
GEO:44.9689767;-93.2818269
END:VEVENT
BEGIN:VEVENT
DTSTART;TZID=America/Chicago:20181215T110000
DTEND;TZID=America/Chicago:20181215T130000
DTSTAMP:20260421T190752
CREATED:20191216T183231Z
LAST-MODIFIED:20191216T183231Z
UID:39553-1544871600-1544878800@www.minneapolisparks.org
SUMMARY:Holiday Centerpiece Workshop
DESCRIPTION:Learn how to design a fabulous centerpiece for your holiday table that will WOW all of your guests! Designs will include holiday greens\, berries\, pine cones\, branches\, etc. Bring a box to carry home your creation. \nRegister OnlineGet Directions
URL:https://www.minneapolisparks.org/event-calendar/holiday-centerpiece-workshop-2/
LOCATION:Loring Community Arts Center\, Minneapolis\, MN\, United States
CATEGORIES:Events- MPRB
GEO:44.9689767;-93.2818269
END:VEVENT
BEGIN:VEVENT
DTSTART;TZID=America/Chicago:20180830T180000
DTEND;TZID=America/Chicago:20180830T200000
DTSTAMP:20260421T190752
CREATED:20191216T183119Z
LAST-MODIFIED:20191216T183119Z
UID:39328-1535652000-1535659200@www.minneapolisparks.org
SUMMARY:LGBTQ Community Listening Session for Superintendent Search
DESCRIPTION:Join the discussion as the search for the next Minneapolis Parks Superintendent is underway! Eight additional listening sessions throughout August are designed to hear from specific community groups. Children’s activities\, light food and refreshments will be provided. The nationwide search kicked off in July with a series of public listening sessions. Applications for Superintendent are accepted through August 31. Get details at www.MPRBSuperSearch.com 
URL:https://www.minneapolisparks.org/event-calendar/lgbtq-community-listening-session-for-superintendent-search/
LOCATION:Loring Community Arts Center\, Minneapolis\, MN\, United States
GEO:44.9689767;-93.2818269
END:VEVENT
BEGIN:VEVENT
DTSTART;TZID=America/Chicago:20180214T160000
DTEND;TZID=America/Chicago:20180214T200000
DTSTAMP:20260421T190752
CREATED:20191216T182801Z
LAST-MODIFIED:20191216T182801Z
UID:38675-1518624000-1518638400@www.minneapolisparks.org
SUMMARY:Valentine's Day Party
DESCRIPTION:Spend Valentine’s Day with us at Loring Park! 4:00-5:30pm: bingo\, games\, crafts and music. 6:00-8:00pm: Movie. Light snacks will be served. \nGet Directions
URL:https://www.minneapolisparks.org/event-calendar/valentines-day-party-2/
LOCATION:Loring Community Arts Center\, Minneapolis\, MN\, United States
GEO:44.9689767;-93.2818269
END:VEVENT
BEGIN:VEVENT
DTSTART;TZID=America/Chicago:20171209T110000
DTEND;TZID=America/Chicago:20171209T130000
DTSTAMP:20260421T190752
CREATED:20191216T182731Z
LAST-MODIFIED:20191216T182731Z
UID:38571-1512817200-1512824400@www.minneapolisparks.org
SUMMARY:Holiday Centerpiece Workshop
DESCRIPTION:Learn how to design a fabulous centerpiece for your holiday table that will WOW all of your guests! Designs will include holiday greens\, berries\, pine cones\, branches\, etc. Bring a box to carry home your creation. \nRegistration fee covers instruction\, supplies\, and light snacks. Please bring a box to carry home your creation. Space is limited so register today. \nCost: $35 \nRegister Online \nGet Directions
URL:https://www.minneapolisparks.org/event-calendar/holiday-centerpiece-workshop/
LOCATION:Loring Community Arts Center\, Minneapolis\, MN\, United States
CATEGORIES:Events- MPRB
GEO:44.9689767;-93.2818269
END:VEVENT
BEGIN:VEVENT
DTSTART;TZID=America/Chicago:20170921T180000
DTEND;TZID=America/Chicago:20170921T200000
DTSTAMP:20260421T190752
CREATED:20191216T182653Z
LAST-MODIFIED:20191216T182653Z
UID:38433-1506016800-1506024000@www.minneapolisparks.org
SUMMARY:Loring Art Opening Reception
DESCRIPTION:Martin Harris and Abbey Kleinert have spent the summer at Loring Park as the park’s Artist in Residence. On September 21st the park will be hosting an Opening Reception of their work. \nGet Directions
URL:https://www.minneapolisparks.org/event-calendar/loring-art-opening-reception-2/
LOCATION:Loring Community Arts Center\, Minneapolis\, MN\, United States
CATEGORIES:Events- MPRB
GEO:44.9689767;-93.2818269
END:VEVENT
BEGIN:VEVENT
DTSTART;TZID=America/Chicago:20170214T153000
DTEND;TZID=America/Chicago:20170214T200000
DTSTAMP:20260421T190752
CREATED:20191216T182311Z
LAST-MODIFIED:20191216T182311Z
UID:37814-1487086200-1487102400@www.minneapolisparks.org
SUMMARY:Valentine's Day Party
DESCRIPTION:Spend Valentine’s Day with us at Loring Park! 3:30-5:30 pm: Bingo\, games\, crafts and music. 6-8 pm: Movie “Casablanca. Light snacks will be served. \nGet Directions
URL:https://www.minneapolisparks.org/event-calendar/valentines-day-party/
LOCATION:Loring Community Arts Center\, Minneapolis\, MN\, United States
CATEGORIES:Events- MPRB
GEO:44.9689767;-93.2818269
END:VEVENT
BEGIN:VEVENT
DTSTART;TZID=America/Chicago:20160929T180000
DTEND;TZID=America/Chicago:20160929T200000
DTSTAMP:20260421T190752
CREATED:20191216T182228Z
LAST-MODIFIED:20191216T182228Z
UID:37661-1475172000-1475179200@www.minneapolisparks.org
SUMMARY:Loring Art Opening Reception
DESCRIPTION:James Boyd Brent has spent the summer at Loring Park as the park’s first Artist in Residence. On September 29th the park will be hosting an Opening Reception of his work. The exhibition includes a series of drawings\, watercolor paintings\, and etchings that celebrate the people and animals of Loring Park. \nRegister Online \nGet Directions
URL:https://www.minneapolisparks.org/event-calendar/loring-art-opening-reception/
LOCATION:Loring Community Arts Center\, Minneapolis\, MN\, United States
CATEGORIES:Events- MPRB
GEO:44.9689767;-93.2818269
END:VEVENT
END:VCALENDAR