BEGIN:VCALENDAR
VERSION:2.0
PRODID:-//Minneapolis Park &amp; Recreation Board - ECPv6.15.20//NONSGML v1.0//EN
CALSCALE:GREGORIAN
METHOD:PUBLISH
X-ORIGINAL-URL:https://www.minneapolisparks.org
X-WR-CALDESC:Events for Minneapolis Park &amp; Recreation Board
REFRESH-INTERVAL;VALUE=DURATION:PT1H
X-Robots-Tag:noindex
X-PUBLISHED-TTL:PT1H
BEGIN:VTIMEZONE
TZID:America/Chicago
BEGIN:DAYLIGHT
TZOFFSETFROM:-0600
TZOFFSETTO:-0500
TZNAME:CDT
DTSTART:20150308T080000
END:DAYLIGHT
BEGIN:STANDARD
TZOFFSETFROM:-0500
TZOFFSETTO:-0600
TZNAME:CST
DTSTART:20151101T070000
END:STANDARD
BEGIN:DAYLIGHT
TZOFFSETFROM:-0600
TZOFFSETTO:-0500
TZNAME:CDT
DTSTART:20160313T080000
END:DAYLIGHT
BEGIN:STANDARD
TZOFFSETFROM:-0500
TZOFFSETTO:-0600
TZNAME:CST
DTSTART:20161106T070000
END:STANDARD
BEGIN:DAYLIGHT
TZOFFSETFROM:-0600
TZOFFSETTO:-0500
TZNAME:CDT
DTSTART:20170312T080000
END:DAYLIGHT
BEGIN:STANDARD
TZOFFSETFROM:-0500
TZOFFSETTO:-0600
TZNAME:CST
DTSTART:20171105T070000
END:STANDARD
BEGIN:DAYLIGHT
TZOFFSETFROM:-0600
TZOFFSETTO:-0500
TZNAME:CDT
DTSTART:20180311T080000
END:DAYLIGHT
BEGIN:STANDARD
TZOFFSETFROM:-0500
TZOFFSETTO:-0600
TZNAME:CST
DTSTART:20181104T070000
END:STANDARD
END:VTIMEZONE
BEGIN:VEVENT
DTSTART;TZID=America/Chicago:20171118T180000
DTEND;TZID=America/Chicago:20171118T200000
DTSTAMP:20260420T113241
CREATED:20191216T182721Z
LAST-MODIFIED:20191216T182721Z
UID:38535-1511028000-1511035200@www.minneapolisparks.org
SUMMARY:Jammin' at Logan-Monthly Dances
DESCRIPTION:Get your groove on at our NEW program for adults with developmental disabilities. Once a month\, join your friends for a night of dancing and socializing to the best classic and new dance jams. A light snack and beverage will be provided. Drop in fee of $5 at the door. \nGet Directions
URL:https://www.minneapolisparks.org/event-calendar/jammin-at-logan-monthly-dances-3/
LOCATION:Logan Park\, 690 13th Ave NE\, Minneapolis\, MN\, 55413\, United States
CATEGORIES:Events- MPRB
GEO:45.0006735;-93.2568797
X-APPLE-STRUCTURED-LOCATION;VALUE=URI;X-ADDRESS=Logan Park 690 13th Ave NE Minneapolis MN 55413 United States;X-APPLE-RADIUS=500;X-TITLE=690 13th Ave NE:geo:-93.2568797,45.0006735
END:VEVENT
BEGIN:VEVENT
DTSTART;TZID=America/Chicago:20171027T100000
DTEND;TZID=America/Chicago:20171027T120000
DTSTAMP:20260420T113241
CREATED:20191216T182708Z
LAST-MODIFIED:20191216T182708Z
UID:38482-1509098400-1509105600@www.minneapolisparks.org
SUMMARY:Halloween Party
DESCRIPTION:Logan will be hosting a Halloween Party just for the little ones. Dress in your favorite costume and be ready to party! Activities will include a entertainment\, face painting\, art project\, healthy snack and treat bags. This party is for children under the age of 6. Please pre-register. \nRegister Online \nGet Directions
URL:https://www.minneapolisparks.org/event-calendar/halloween-party-6/
LOCATION:Logan Park\, 690 13th Ave NE\, Minneapolis\, MN\, 55413\, United States
GEO:45.0006735;-93.2568797
X-APPLE-STRUCTURED-LOCATION;VALUE=URI;X-ADDRESS=Logan Park 690 13th Ave NE Minneapolis MN 55413 United States;X-APPLE-RADIUS=500;X-TITLE=690 13th Ave NE:geo:-93.2568797,45.0006735
END:VEVENT
BEGIN:VEVENT
DTSTART;TZID=America/Chicago:20171021T180000
DTEND;TZID=America/Chicago:20171021T200000
DTSTAMP:20260420T113241
CREATED:20191216T182706Z
LAST-MODIFIED:20191216T182706Z
UID:38478-1508608800-1508616000@www.minneapolisparks.org
SUMMARY:Jammin' at Logan-Monthly Dances
DESCRIPTION:Get your groove on at our NEW program for adults with developmental disabilities. Once a month\, join your friends for a night of dancing and socializing to the best classic and new dance jams. A light snack and beverage will be provided. Drop in fee of $5 at the door. \nGet Directions
URL:https://www.minneapolisparks.org/event-calendar/jammin-at-logan-monthly-dances-2/
LOCATION:Logan Park\, 690 13th Ave NE\, Minneapolis\, MN\, 55413\, United States
GEO:45.0006735;-93.2568797
X-APPLE-STRUCTURED-LOCATION;VALUE=URI;X-ADDRESS=Logan Park 690 13th Ave NE Minneapolis MN 55413 United States;X-APPLE-RADIUS=500;X-TITLE=690 13th Ave NE:geo:-93.2568797,45.0006735
END:VEVENT
BEGIN:VEVENT
DTSTART;TZID=America/Chicago:20170916T180000
DTEND;TZID=America/Chicago:20170916T200000
DTSTAMP:20260420T113241
CREATED:20191216T182652Z
LAST-MODIFIED:20191216T182652Z
UID:38429-1505584800-1505592000@www.minneapolisparks.org
SUMMARY:Jammin' at Logan-Monthly Dances
DESCRIPTION:Get your groove on at our NEW program for adults with developmental disabilities. Once a month\, join your friends for a night of dancing and socializing to the best classic and new dance jams. A light snack and beverage will be provided. Drop in fee of $5 at the door. \nGet Directions
URL:https://www.minneapolisparks.org/event-calendar/jammin-at-logan-monthly-dances/
LOCATION:Logan Park\, 690 13th Ave NE\, Minneapolis\, MN\, 55413\, United States
CATEGORIES:Events- MPRB
GEO:45.0006735;-93.2568797
X-APPLE-STRUCTURED-LOCATION;VALUE=URI;X-ADDRESS=Logan Park 690 13th Ave NE Minneapolis MN 55413 United States;X-APPLE-RADIUS=500;X-TITLE=690 13th Ave NE:geo:-93.2568797,45.0006735
END:VEVENT
BEGIN:VEVENT
DTSTART;TZID=America/Chicago:20170731T210000
DTEND;TZID=America/Chicago:20170731T210000
DTSTAMP:20260420T113241
CREATED:20191216T182543Z
LAST-MODIFIED:20191216T182543Z
UID:38226-1501534800-1501534800@www.minneapolisparks.org
SUMMARY:Space Jam
DESCRIPTION:Rating: PG \nMovies start 15 minutes after sunset. Bring a lawn chair or blanket and come early to grab a good spot. \nThe Movies in the Parks series runs from early through late August.  The mobile program takes place Monday through Saturday evenings and travels to more than 30 parks throughout the summer\, which includes a partnership with the Twin Cities Black Film Festival.  \nIMDb \n\n\nGet Directions
URL:https://www.minneapolisparks.org/event-calendar/space-jam-2/
LOCATION:Logan Park\, 690 13th Ave NE\, Minneapolis\, MN\, 55413\, United States
CATEGORIES:Music & Movies in the Parks
GEO:45.0006735;-93.2568797
X-APPLE-STRUCTURED-LOCATION;VALUE=URI;X-ADDRESS=Logan Park 690 13th Ave NE Minneapolis MN 55413 United States;X-APPLE-RADIUS=500;X-TITLE=690 13th Ave NE:geo:-93.2568797,45.0006735
END:VEVENT
BEGIN:VEVENT
DTSTART;TZID=America/Chicago:20170414T100000
DTEND;TZID=America/Chicago:20170414T120000
DTSTAMP:20260420T113241
CREATED:20191216T182324Z
LAST-MODIFIED:20191216T182324Z
UID:37851-1492164000-1492171200@www.minneapolisparks.org
SUMMARY:Tiny Tot Spring Party
DESCRIPTION:We will be celebrating spring at Logan Park on Friday\, April 14th! There will be open gym\, face painting\, art projects treats\, a treat bag and of course a visit from the Easter Bunny. This program is for children ages 1-6. This is a free event\, but please pre-register. \nRegister Online \nGet Directions
URL:https://www.minneapolisparks.org/event-calendar/tiny-tot-spring-party/
LOCATION:Logan Park\, 690 13th Ave NE\, Minneapolis\, MN\, 55413\, United States
CATEGORIES:Events- MPRB
GEO:45.0006735;-93.2568797
X-APPLE-STRUCTURED-LOCATION;VALUE=URI;X-ADDRESS=Logan Park 690 13th Ave NE Minneapolis MN 55413 United States;X-APPLE-RADIUS=500;X-TITLE=690 13th Ave NE:geo:-93.2568797,45.0006735
END:VEVENT
BEGIN:VEVENT
DTSTART;TZID=America/Chicago:20170116T150000
DTEND;TZID=America/Chicago:20170116T170000
DTSTAMP:20260420T113241
CREATED:20191216T182255Z
LAST-MODIFIED:20191216T182255Z
UID:37765-1484578800-1484586000@www.minneapolisparks.org
SUMMARY:MLK Day Skate
DESCRIPTION:Join us as we celebrate another great year of ice at Logan. Bring your skates or borrow a pair from Logan. Enjoy hot chocolate or hot apple cider. We will also have snowshoes available to try out with an instructor. \nPlease bring skates from home. There will be a limited number to use at the Park. \nGet Directions
URL:https://www.minneapolisparks.org/event-calendar/mlk-day-skate/
LOCATION:Logan Park\, 690 13th Ave NE\, Minneapolis\, MN\, 55413\, United States
CATEGORIES:Events- MPRB
GEO:45.0006735;-93.2568797
X-APPLE-STRUCTURED-LOCATION;VALUE=URI;X-ADDRESS=Logan Park 690 13th Ave NE Minneapolis MN 55413 United States;X-APPLE-RADIUS=500;X-TITLE=690 13th Ave NE:geo:-93.2568797,45.0006735
END:VEVENT
BEGIN:VEVENT
DTSTART;TZID=America/Chicago:20161028T100000
DTEND;TZID=America/Chicago:20161028T120000
DTSTAMP:20260420T113241
CREATED:20191216T182233Z
LAST-MODIFIED:20191216T182233Z
UID:37680-1477648800-1477656000@www.minneapolisparks.org
SUMMARY:Halloween Party
DESCRIPTION:Logan will be hosting a Halloween Party just for the little ones. Dress in your favorite costume and be ready to party! Activities will include entertainment\, face painting\, art project\, bounce house\, healthy snack and treat bags. This party is for children under the age of 6. Please pre-register. \n\nRegister Online \nGet Directions
URL:https://www.minneapolisparks.org/event-calendar/halloween-party/
LOCATION:Logan Park\, 690 13th Ave NE\, Minneapolis\, MN\, 55413\, United States
CATEGORIES:Events- MPRB
GEO:45.0006735;-93.2568797
X-APPLE-STRUCTURED-LOCATION;VALUE=URI;X-ADDRESS=Logan Park 690 13th Ave NE Minneapolis MN 55413 United States;X-APPLE-RADIUS=500;X-TITLE=690 13th Ave NE:geo:-93.2568797,45.0006735
END:VEVENT
END:VCALENDAR