BEGIN:VCALENDAR
VERSION:2.0
PRODID:-//Minneapolis Park &amp; Recreation Board - ECPv6.15.20//NONSGML v1.0//EN
CALSCALE:GREGORIAN
METHOD:PUBLISH
X-ORIGINAL-URL:https://www.minneapolisparks.org
X-WR-CALDESC:Events for Minneapolis Park &amp; Recreation Board
REFRESH-INTERVAL;VALUE=DURATION:PT1H
X-Robots-Tag:noindex
X-PUBLISHED-TTL:PT1H
BEGIN:VTIMEZONE
TZID:America/Chicago
BEGIN:DAYLIGHT
TZOFFSETFROM:-0600
TZOFFSETTO:-0500
TZNAME:CDT
DTSTART:20160313T080000
END:DAYLIGHT
BEGIN:STANDARD
TZOFFSETFROM:-0500
TZOFFSETTO:-0600
TZNAME:CST
DTSTART:20161106T070000
END:STANDARD
BEGIN:DAYLIGHT
TZOFFSETFROM:-0600
TZOFFSETTO:-0500
TZNAME:CDT
DTSTART:20170312T080000
END:DAYLIGHT
BEGIN:STANDARD
TZOFFSETFROM:-0500
TZOFFSETTO:-0600
TZNAME:CST
DTSTART:20171105T070000
END:STANDARD
BEGIN:DAYLIGHT
TZOFFSETFROM:-0600
TZOFFSETTO:-0500
TZNAME:CDT
DTSTART:20180311T080000
END:DAYLIGHT
BEGIN:STANDARD
TZOFFSETFROM:-0500
TZOFFSETTO:-0600
TZNAME:CST
DTSTART:20181104T070000
END:STANDARD
BEGIN:DAYLIGHT
TZOFFSETFROM:-0600
TZOFFSETTO:-0500
TZNAME:CDT
DTSTART:20190310T080000
END:DAYLIGHT
BEGIN:STANDARD
TZOFFSETFROM:-0500
TZOFFSETTO:-0600
TZNAME:CST
DTSTART:20191103T070000
END:STANDARD
BEGIN:DAYLIGHT
TZOFFSETFROM:-0600
TZOFFSETTO:-0500
TZNAME:CDT
DTSTART:20200308T080000
END:DAYLIGHT
BEGIN:STANDARD
TZOFFSETFROM:-0500
TZOFFSETTO:-0600
TZNAME:CST
DTSTART:20201101T070000
END:STANDARD
BEGIN:DAYLIGHT
TZOFFSETFROM:-0600
TZOFFSETTO:-0500
TZNAME:CDT
DTSTART:20210314T080000
END:DAYLIGHT
BEGIN:STANDARD
TZOFFSETFROM:-0500
TZOFFSETTO:-0600
TZNAME:CST
DTSTART:20211107T070000
END:STANDARD
BEGIN:DAYLIGHT
TZOFFSETFROM:-0600
TZOFFSETTO:-0500
TZNAME:CDT
DTSTART:20220313T080000
END:DAYLIGHT
BEGIN:STANDARD
TZOFFSETFROM:-0500
TZOFFSETTO:-0600
TZNAME:CST
DTSTART:20221106T070000
END:STANDARD
BEGIN:DAYLIGHT
TZOFFSETFROM:-0600
TZOFFSETTO:-0500
TZNAME:CDT
DTSTART:20230312T080000
END:DAYLIGHT
BEGIN:STANDARD
TZOFFSETFROM:-0500
TZOFFSETTO:-0600
TZNAME:CST
DTSTART:20231105T070000
END:STANDARD
BEGIN:DAYLIGHT
TZOFFSETFROM:-0600
TZOFFSETTO:-0500
TZNAME:CDT
DTSTART:20240310T080000
END:DAYLIGHT
BEGIN:STANDARD
TZOFFSETFROM:-0500
TZOFFSETTO:-0600
TZNAME:CST
DTSTART:20241103T070000
END:STANDARD
BEGIN:DAYLIGHT
TZOFFSETFROM:-0600
TZOFFSETTO:-0500
TZNAME:CDT
DTSTART:20250309T080000
END:DAYLIGHT
BEGIN:STANDARD
TZOFFSETFROM:-0500
TZOFFSETTO:-0600
TZNAME:CST
DTSTART:20251102T070000
END:STANDARD
BEGIN:DAYLIGHT
TZOFFSETFROM:-0600
TZOFFSETTO:-0500
TZNAME:CDT
DTSTART:20260308T080000
END:DAYLIGHT
BEGIN:STANDARD
TZOFFSETFROM:-0500
TZOFFSETTO:-0600
TZNAME:CST
DTSTART:20261101T070000
END:STANDARD
BEGIN:DAYLIGHT
TZOFFSETFROM:-0600
TZOFFSETTO:-0500
TZNAME:CDT
DTSTART:20270314T080000
END:DAYLIGHT
BEGIN:STANDARD
TZOFFSETFROM:-0500
TZOFFSETTO:-0600
TZNAME:CST
DTSTART:20271107T070000
END:STANDARD
END:VTIMEZONE
BEGIN:VEVENT
DTSTART;TZID=America/Chicago:20260403T130000
DTEND;TZID=America/Chicago:20260403T143000
DTSTAMP:20260421T224534
CREATED:20260331T150456Z
LAST-MODIFIED:20260331T150456Z
UID:89397-1775221200-1775226600@www.minneapolisparks.org
SUMMARY:Bike Ride and Mini Clinic Lead by BikeMN
DESCRIPTION:Come join your neighbors and friends for a fun group bike ride around our beautiful lakes and park trails! Skilled bikers from BikeMN will be there to lead everyone and share some quick tips on bike maintenance (the ABCs) and helmet safety. We’ll be riding mostly on park and city bike trails\, with just a few brief stops on public streets if needed. Hope to see you there! \nEnroll Now!
URL:https://www.minneapolisparks.org/event-calendar/bike-ride-and-mini-clinic-lead-by-bikemn-2/
LOCATION:Lake Hiawatha Park\, 2701 E 44th St\, Minneapolis\, MN\, 55406\, United States
CATEGORIES:Events- All,Events- MPRB
GEO:44.9231192;-93.2337349
X-APPLE-STRUCTURED-LOCATION;VALUE=URI;X-ADDRESS=Lake Hiawatha Park 2701 E 44th St Minneapolis MN 55406 United States;X-APPLE-RADIUS=500;X-TITLE=2701 E 44th St:geo:-93.2337349,44.9231192
END:VEVENT
BEGIN:VEVENT
DTSTART;TZID=America/Chicago:20260207T120000
DTEND;TZID=America/Chicago:20260207T150000
DTSTAMP:20260421T224534
CREATED:20260126T162201Z
LAST-MODIFIED:20260126T162201Z
UID:87823-1770465600-1770476400@www.minneapolisparks.org
SUMMARY:Winter Warmer
DESCRIPTION:Come out and enjoy the Lake Hiawatha Winter Warmer. The whole family can participate in winter activities (skating\, bonfire\, outdoor games\, etc.). If you get cold\, head inside for warm drinks\, hot dogs and sweet treats. Also inside the Rec Center will be bingo and a craft project set up for kids. SENA (Standish-Ericsson Neighborhood Association) board members will be on hand for a meet and greet\, so please stop by to say hello!
URL:https://www.minneapolisparks.org/event-calendar/winter-warmer-3/
LOCATION:Lake Hiawatha Park\, 2701 E 44th St\, Minneapolis\, MN\, 55406\, United States
CATEGORIES:Events- All,Events- MPRB
GEO:44.9231192;-93.2337349
X-APPLE-STRUCTURED-LOCATION;VALUE=URI;X-ADDRESS=Lake Hiawatha Park 2701 E 44th St Minneapolis MN 55406 United States;X-APPLE-RADIUS=500;X-TITLE=2701 E 44th St:geo:-93.2337349,44.9231192
END:VEVENT
BEGIN:VEVENT
DTSTART;TZID=America/Chicago:20250829T195500
DTEND;TZID=America/Chicago:20250829T195500
DTSTAMP:20260421T224534
CREATED:20250519T210555Z
LAST-MODIFIED:20250519T210555Z
UID:82806-1756497300-1756497300@www.minneapolisparks.org
SUMMARY:Ferris Bueller's Day Off
DESCRIPTION:PG-13
URL:https://www.minneapolisparks.org/event-calendar/ferris-buellers-day-off-6/
LOCATION:Lake Hiawatha Park\, 2701 E 44th St\, Minneapolis\, MN\, 55406\, United States
CATEGORIES:Movies in the Parks,Music & Movies in the Parks
GEO:44.9231192;-93.2337349
X-APPLE-STRUCTURED-LOCATION;VALUE=URI;X-ADDRESS=Lake Hiawatha Park 2701 E 44th St Minneapolis MN 55406 United States;X-APPLE-RADIUS=500;X-TITLE=2701 E 44th St:geo:-93.2337349,44.9231192
END:VEVENT
BEGIN:VEVENT
DTSTART;TZID=America/Chicago:20250808T170000
DTEND;TZID=America/Chicago:20250808T200000
DTSTAMP:20260421T224534
CREATED:20250709T200241Z
LAST-MODIFIED:20250709T200241Z
UID:83889-1754672400-1754683200@www.minneapolisparks.org
SUMMARY:Lake Hiawatha Neighborhood Festival
DESCRIPTION:Welcome to the annual Lake Hiawatha Neighborhood Festival\, a fun-filled event celebrating our vibrant community! We have put together an exciting program for all ages featuring a variety of activities\, food\, and entertainment that will make this a day to remember. The event is free to attend\, but there will be fees for some activities and food. Friday\, August 8th\, 5:00 PM -8:00 PM
URL:https://www.minneapolisparks.org/event-calendar/lake-hiawatha-neighborhood-festival-6/
LOCATION:Lake Hiawatha Park\, 2701 E 44th St\, Minneapolis\, MN\, 55406\, United States
CATEGORIES:Events- All,Events- MPRB
GEO:44.9231192;-93.2337349
X-APPLE-STRUCTURED-LOCATION;VALUE=URI;X-ADDRESS=Lake Hiawatha Park 2701 E 44th St Minneapolis MN 55406 United States;X-APPLE-RADIUS=500;X-TITLE=2701 E 44th St:geo:-93.2337349,44.9231192
END:VEVENT
BEGIN:VEVENT
DTSTART;TZID=America/Chicago:20250208T120000
DTEND;TZID=America/Chicago:20250208T150000
DTSTAMP:20260421T224534
CREATED:20250117T204129Z
LAST-MODIFIED:20250117T213841Z
UID:79754-1739016000-1739026800@www.minneapolisparks.org
SUMMARY:Winter Warmer
DESCRIPTION:Come out and enjoy the Lake Hiawatha Winter Warmer. The whole family can participate in winter activities (skating\, bonfire\, outdoor games\, etc.). If you get cold\, head inside for warm drinks\, hot dogs and sweet treats. Also inside the Rec Center will be bingo and a craft project set up for kids. SENA (Standish-Ericsson Neighborhood Association) board members will be on hand for a meet and greet\, so please stop by to say hello!
URL:https://www.minneapolisparks.org/event-calendar/winter-warmer-2/
LOCATION:Lake Hiawatha Park\, 2701 E 44th St\, Minneapolis\, MN\, 55406\, United States
CATEGORIES:Events- All,Events- MPRB
GEO:44.9231192;-93.2337349
X-APPLE-STRUCTURED-LOCATION;VALUE=URI;X-ADDRESS=Lake Hiawatha Park 2701 E 44th St Minneapolis MN 55406 United States;X-APPLE-RADIUS=500;X-TITLE=2701 E 44th St:geo:-93.2337349,44.9231192
END:VEVENT
BEGIN:VEVENT
DTSTART;TZID=America/Chicago:20240816T170000
DTEND;TZID=America/Chicago:20240816T200000
DTSTAMP:20260421T224534
CREATED:20240807T193959Z
LAST-MODIFIED:20240807T193959Z
UID:76221-1723827600-1723838400@www.minneapolisparks.org
SUMMARY:Lake Hiawatha Neighborhood Festival
DESCRIPTION:Welcome to the annual Lake Hiawatha Neighborhood Festival\, a fun-filled event celebrating our vibrant community! We have put together an exciting program for all ages featuring a variety of activities\, food\, and entertainment that will make this a day to remember. The event is free to attend\, but there will be fees for some activities and food. Friday\, August 16th\, 5:00 PM to 8:00 PM
URL:https://www.minneapolisparks.org/event-calendar/lake-hiawatha-neighborhood-festival-5/
LOCATION:Lake Hiawatha Park\, 2701 E 44th St\, Minneapolis\, MN\, 55406\, United States
CATEGORIES:Events- All,Events- MPRB
GEO:44.9231192;-93.2337349
X-APPLE-STRUCTURED-LOCATION;VALUE=URI;X-ADDRESS=Lake Hiawatha Park 2701 E 44th St Minneapolis MN 55406 United States;X-APPLE-RADIUS=500;X-TITLE=2701 E 44th St:geo:-93.2337349,44.9231192
END:VEVENT
BEGIN:VEVENT
DTSTART;TZID=America/Chicago:20240723T205000
DTEND;TZID=America/Chicago:20240723T205000
DTSTAMP:20260421T224534
CREATED:20240719T183626Z
LAST-MODIFIED:20240719T183626Z
UID:75887-1721767800-1721767800@www.minneapolisparks.org
SUMMARY:Under the Boardwalk
DESCRIPTION:PG – English audio with Spanish subtitles.
URL:https://www.minneapolisparks.org/event-calendar/under-the-boardwalk-2/
LOCATION:Lake Hiawatha Park\, 2701 E 44th St\, Minneapolis\, MN\, 55406\, United States
CATEGORIES:Movies in the Parks,Music & Movies in the Parks
GEO:44.9231192;-93.2337349
X-APPLE-STRUCTURED-LOCATION;VALUE=URI;X-ADDRESS=Lake Hiawatha Park 2701 E 44th St Minneapolis MN 55406 United States;X-APPLE-RADIUS=500;X-TITLE=2701 E 44th St:geo:-93.2337349,44.9231192
END:VEVENT
BEGIN:VEVENT
DTSTART;TZID=America/Chicago:20231028T120000
DTEND;TZID=America/Chicago:20231028T133000
DTSTAMP:20260421T224534
CREATED:20230809T185304Z
LAST-MODIFIED:20230809T185304Z
UID:67921-1698494400-1698499800@www.minneapolisparks.org
SUMMARY:Jack-O'-Lantern Jubilee
DESCRIPTION:A special party just for little BOO’S and GHOUL’S! You can work on spells while making a spooktacular craft. Mix up some messy madness and make a snack. Shake your bones to a ghostly tune and more. Bring your favorite adult monster for our no tricks just treats Jack-o’-lantern Jubilee.
URL:https://www.minneapolisparks.org/event-calendar/jack-o-lantern-jubilee-2/
LOCATION:Lake Hiawatha Park\, 2701 E 44th St\, Minneapolis\, MN\, 55406\, United States
CATEGORIES:Events- All,Events- MPRB
GEO:44.9231192;-93.2337349
X-APPLE-STRUCTURED-LOCATION;VALUE=URI;X-ADDRESS=Lake Hiawatha Park 2701 E 44th St Minneapolis MN 55406 United States;X-APPLE-RADIUS=500;X-TITLE=2701 E 44th St:geo:-93.2337349,44.9231192
END:VEVENT
BEGIN:VEVENT
DTSTART;TZID=America/Chicago:20231028T100000
DTEND;TZID=America/Chicago:20231028T113000
DTSTAMP:20260421T224534
CREATED:20230809T184759Z
LAST-MODIFIED:20230809T184759Z
UID:67912-1698487200-1698492600@www.minneapolisparks.org
SUMMARY:Jack-O'-Lantern Jubilee
DESCRIPTION:A special party just for little BOO’S and GHOUL’S! You can work on spells while making a spooktacular craft. Mix up some messy madness and make a snack. Shake your bones to a ghostly tune and more. Bring your favorite adult monster for our no tricks just treats Jack-o’-lantern Jubilee.
URL:https://www.minneapolisparks.org/event-calendar/jack-o-lantern-jubilee/
LOCATION:Lake Hiawatha Park\, 2701 E 44th St\, Minneapolis\, MN\, 55406\, United States
CATEGORIES:Events- All,Events- MPRB
GEO:44.9231192;-93.2337349
X-APPLE-STRUCTURED-LOCATION;VALUE=URI;X-ADDRESS=Lake Hiawatha Park 2701 E 44th St Minneapolis MN 55406 United States;X-APPLE-RADIUS=500;X-TITLE=2701 E 44th St:geo:-93.2337349,44.9231192
END:VEVENT
BEGIN:VEVENT
DTSTART;TZID=America/Chicago:20230901T200000
DTEND;TZID=America/Chicago:20230901T200000
DTSTAMP:20260421T224534
CREATED:20230517T185019Z
LAST-MODIFIED:20230901T201552Z
UID:65882-1693598400-1693598400@www.minneapolisparks.org
SUMMARY:DC League of Super-Pets
DESCRIPTION:PG
URL:https://www.minneapolisparks.org/event-calendar/dc-league-of-super-pets-3/
LOCATION:Lake Hiawatha Park\, 2701 E 44th St\, Minneapolis\, MN\, 55406\, United States
CATEGORIES:Movies in the Parks,Music & Movies in the Parks
GEO:44.9231192;-93.2337349
X-APPLE-STRUCTURED-LOCATION;VALUE=URI;X-ADDRESS=Lake Hiawatha Park 2701 E 44th St Minneapolis MN 55406 United States;X-APPLE-RADIUS=500;X-TITLE=2701 E 44th St:geo:-93.2337349,44.9231192
END:VEVENT
BEGIN:VEVENT
DTSTART;TZID=America/Chicago:20230818T170000
DTEND;TZID=America/Chicago:20230818T200000
DTSTAMP:20260421T224534
CREATED:20230809T160230Z
LAST-MODIFIED:20230809T160230Z
UID:67860-1692378000-1692388800@www.minneapolisparks.org
SUMMARY:Lake Hiawatha Neighborhood Festival
DESCRIPTION:Welcome to the annual Lake Hiawatha Neighborhood Festival\, a fun-filled event celebrating our vibrant community! We have put together an exciting program for all ages featuring a variety of activities\, food\, and entertainment that will make this a day to remember. The event is free to attend\, but there will be fees for some activities and food
URL:https://www.minneapolisparks.org/event-calendar/lake-hiawatha-neighborhood-festival-4/
LOCATION:Lake Hiawatha Park\, 2701 E 44th St\, Minneapolis\, MN\, 55406\, United States
CATEGORIES:Events- All,Events- MPRB
GEO:44.9231192;-93.2337349
X-APPLE-STRUCTURED-LOCATION;VALUE=URI;X-ADDRESS=Lake Hiawatha Park 2701 E 44th St Minneapolis MN 55406 United States;X-APPLE-RADIUS=500;X-TITLE=2701 E 44th St:geo:-93.2337349,44.9231192
END:VEVENT
BEGIN:VEVENT
DTSTART;TZID=America/Chicago:20221112T093000
DTEND;TZID=America/Chicago:20221112T160000
DTSTAMP:20260421T224534
CREATED:20221012T154254Z
LAST-MODIFIED:20221012T154254Z
UID:60869-1668245400-1668268800@www.minneapolisparks.org
SUMMARY:Lake Hiawatha Art Fair
DESCRIPTION:Local Indie Crafters and Artists. Handmade Gifts. Art. Jewelry. Ceramics. Paper Goods. Woodworking. Textiles. Glass. Sweets and Treats. Soaps and more! FREE kid’s activities. Interested in being a vendor? Contact Ahmed at 612-370-4788 today!
URL:https://www.minneapolisparks.org/event-calendar/lake-hiawatha-art-fair/
LOCATION:Lake Hiawatha Park\, 2701 E 44th St\, Minneapolis\, MN\, 55406\, United States
CATEGORIES:Events- All,Events- MPRB
GEO:44.9231192;-93.2337349
X-APPLE-STRUCTURED-LOCATION;VALUE=URI;X-ADDRESS=Lake Hiawatha Park 2701 E 44th St Minneapolis MN 55406 United States;X-APPLE-RADIUS=500;X-TITLE=2701 E 44th St:geo:-93.2337349,44.9231192
END:VEVENT
BEGIN:VEVENT
DTSTART;TZID=America/Chicago:20220729T210000
DTEND;TZID=America/Chicago:20220729T210000
DTSTAMP:20260421T224534
CREATED:20220331T181617Z
LAST-MODIFIED:20220602T210728Z
UID:56685-1659128400-1659128400@www.minneapolisparks.org
SUMMARY:Sing 2
DESCRIPTION:Enjoy an evening in the park while watching an outdoor movie. This year we will be showing Sing 2. Be sure to bring your lawn chairs and blanket. Movie begins at dusk.
URL:https://www.minneapolisparks.org/event-calendar/movie-in-the-park-6/
LOCATION:Lake Hiawatha Park\, 2701 E 44th St\, Minneapolis\, MN\, 55406\, United States
CATEGORIES:Events- All,Events- MPRB,Movies in the Parks,Music & Movies in the Parks
GEO:44.9231192;-93.2337349
X-APPLE-STRUCTURED-LOCATION;VALUE=URI;X-ADDRESS=Lake Hiawatha Park 2701 E 44th St Minneapolis MN 55406 United States;X-APPLE-RADIUS=500;X-TITLE=2701 E 44th St:geo:-93.2337349,44.9231192
END:VEVENT
BEGIN:VEVENT
DTSTART;TZID=America/Chicago:20190807T170000
DTEND;TZID=America/Chicago:20190807T200000
DTSTAMP:20260421T224534
CREATED:20191216T183610Z
LAST-MODIFIED:20191216T183610Z
UID:40193-1565197200-1565208000@www.minneapolisparks.org
SUMMARY:Lake Hiawatha Neighborhood Festival
DESCRIPTION:Join us at this annual event! The event is free to attend but there are fees for some activities and for food. There will be a talent show with prizes\, carnival games\, food\, and more!
URL:https://www.minneapolisparks.org/event-calendar/lake-hiawatha-neighborhood-festival-3/
LOCATION:Lake Hiawatha Park\, 2701 E 44th St\, Minneapolis\, MN\, 55406\, United States
CATEGORIES:Events- MPRB
GEO:44.9231192;-93.2337349
X-APPLE-STRUCTURED-LOCATION;VALUE=URI;X-ADDRESS=Lake Hiawatha Park 2701 E 44th St Minneapolis MN 55406 United States;X-APPLE-RADIUS=500;X-TITLE=2701 E 44th St:geo:-93.2337349,44.9231192
END:VEVENT
BEGIN:VEVENT
DTSTART;TZID=America/Chicago:20190209T120000
DTEND;TZID=America/Chicago:20190209T150000
DTSTAMP:20260421T224534
CREATED:20191216T183257Z
LAST-MODIFIED:20191216T183257Z
UID:39636-1549713600-1549724400@www.minneapolisparks.org
SUMMARY:Heartwarmer
DESCRIPTION:Come enjoy the 8th annual Hiawatha Heart Warmer. The whole family can participate in winter activities (skating\, bonfire\, horse-drawn hayride\, snow sculptures\, etc.). When you get cold\, it’s time to go inside for hot drinks\, music\, and displays by local businesses. Children can make crafts or dance to a kids’ DJ. Our own local winter carnival celebrates the beautiful Lake Hiawatha area and promotes neighborhood businesses. \nGet Directions
URL:https://www.minneapolisparks.org/event-calendar/heartwarmer-3/
LOCATION:Lake Hiawatha Park\, 2701 E 44th St\, Minneapolis\, MN\, 55406\, United States
CATEGORIES:Events- MPRB
GEO:44.9231192;-93.2337349
X-APPLE-STRUCTURED-LOCATION;VALUE=URI;X-ADDRESS=Lake Hiawatha Park 2701 E 44th St Minneapolis MN 55406 United States;X-APPLE-RADIUS=500;X-TITLE=2701 E 44th St:geo:-93.2337349,44.9231192
END:VEVENT
BEGIN:VEVENT
DTSTART;TZID=America/Chicago:20180908T160000
DTEND;TZID=America/Chicago:20180908T160000
DTSTAMP:20260421T224534
CREATED:20191216T183128Z
LAST-MODIFIED:20191216T183128Z
UID:39363-1536422400-1536422400@www.minneapolisparks.org
SUMMARY:This Is Ours Event
DESCRIPTION:
URL:https://www.minneapolisparks.org/event-calendar/this-is-ours-event/
LOCATION:Lake Hiawatha Park\, 2701 E 44th St\, Minneapolis\, MN\, 55406\, United States
CATEGORIES:Events- Non-MPRB
GEO:44.9231192;-93.2337349
X-APPLE-STRUCTURED-LOCATION;VALUE=URI;X-ADDRESS=Lake Hiawatha Park 2701 E 44th St Minneapolis MN 55406 United States;X-APPLE-RADIUS=500;X-TITLE=2701 E 44th St:geo:-93.2337349,44.9231192
END:VEVENT
BEGIN:VEVENT
DTSTART;TZID=America/Chicago:20180801T170000
DTEND;TZID=America/Chicago:20180801T200000
DTSTAMP:20260421T224534
CREATED:20191216T183035Z
LAST-MODIFIED:20191216T183035Z
UID:39184-1533142800-1533153600@www.minneapolisparks.org
SUMMARY:Lake Hiawatha Neighborhood Festival
DESCRIPTION:Join us at this annual event! The event is free to attend but there are fees for some activities and for food. There will be a talent show with prizes\, carnival games\, food\, and more! \nGet Directions
URL:https://www.minneapolisparks.org/event-calendar/lake-hiawatha-neighborhood-festival-2/
LOCATION:Lake Hiawatha Park\, 2701 E 44th St\, Minneapolis\, MN\, 55406\, United States
CATEGORIES:Events- MPRB
GEO:44.9231192;-93.2337349
X-APPLE-STRUCTURED-LOCATION;VALUE=URI;X-ADDRESS=Lake Hiawatha Park 2701 E 44th St Minneapolis MN 55406 United States;X-APPLE-RADIUS=500;X-TITLE=2701 E 44th St:geo:-93.2337349,44.9231192
END:VEVENT
BEGIN:VEVENT
DTSTART;TZID=America/Chicago:20180210T120000
DTEND;TZID=America/Chicago:20180210T150000
DTSTAMP:20260421T224534
CREATED:20191216T182758Z
LAST-MODIFIED:20191216T182758Z
UID:38664-1518264000-1518274800@www.minneapolisparks.org
SUMMARY:Heartwarmer
DESCRIPTION:Come enjoy the 8th annual Hiawatha Heart Warmer. The whole family can participate in winter activities (skating\, bonfire\, horse-drawn hayride\, snow sculptures\, etc.). When you get cold\, it’s time to go inside for hot drinks\, music\, and displays by local businesses. Children can make crafts or dance to a kids’ DJ. Our own local winter carnival celebrates the beautiful Lake Hiawatha area and promotes neighborhood businesses. \nGet Directions
URL:https://www.minneapolisparks.org/event-calendar/heartwarmer-2/
LOCATION:Lake Hiawatha Park\, 2701 E 44th St\, Minneapolis\, MN\, 55406\, United States
GEO:44.9231192;-93.2337349
X-APPLE-STRUCTURED-LOCATION;VALUE=URI;X-ADDRESS=Lake Hiawatha Park 2701 E 44th St Minneapolis MN 55406 United States;X-APPLE-RADIUS=500;X-TITLE=2701 E 44th St:geo:-93.2337349,44.9231192
END:VEVENT
BEGIN:VEVENT
DTSTART;TZID=America/Chicago:20170802T170000
DTEND;TZID=America/Chicago:20170802T200000
DTSTAMP:20260421T224534
CREATED:20191216T182545Z
LAST-MODIFIED:20191216T182545Z
UID:38232-1501693200-1501704000@www.minneapolisparks.org
SUMMARY:Lake Hiawatha Neighborhood Festival
DESCRIPTION:Join us at this annual event! The event is free to attend but there are fees for some activities and for food. There will be a talent show with prizes\, carnival games\, food\, and more! \n\n\nGet Directions
URL:https://www.minneapolisparks.org/event-calendar/lake-hiawatha-neighborhood-festival/
LOCATION:Lake Hiawatha Park\, 2701 E 44th St\, Minneapolis\, MN\, 55406\, United States
GEO:44.9231192;-93.2337349
X-APPLE-STRUCTURED-LOCATION;VALUE=URI;X-ADDRESS=Lake Hiawatha Park 2701 E 44th St Minneapolis MN 55406 United States;X-APPLE-RADIUS=500;X-TITLE=2701 E 44th St:geo:-93.2337349,44.9231192
END:VEVENT
BEGIN:VEVENT
DTSTART;TZID=America/Chicago:20170428T160000
DTEND;TZID=America/Chicago:20170428T200000
DTSTAMP:20260421T224534
CREATED:20191216T182333Z
LAST-MODIFIED:20191216T182333Z
UID:37875-1493395200-1493409600@www.minneapolisparks.org
SUMMARY:Arbor Day
DESCRIPTION:Another community festival is planned for 2017 Arbor Day in Minneapolis. Details are still being finalized\, but it will be based on the wonderful event at Logan Park last year. There will be food trucks\, a beer garden\, live music\, community outreach and education\, numerous family-friendly tree-themed activities and more than 250 new trees planted throughout Lake Hiawatha Park. \nLearn More
URL:https://www.minneapolisparks.org/event-calendar/arbor-day/
LOCATION:Lake Hiawatha Park\, 2701 E 44th St\, Minneapolis\, MN\, 55406\, United States
CATEGORIES:Events- MPRB
GEO:44.9231192;-93.2337349
X-APPLE-STRUCTURED-LOCATION;VALUE=URI;X-ADDRESS=Lake Hiawatha Park 2701 E 44th St Minneapolis MN 55406 United States;X-APPLE-RADIUS=500;X-TITLE=2701 E 44th St:geo:-93.2337349,44.9231192
END:VEVENT
BEGIN:VEVENT
DTSTART;TZID=America/Chicago:20170211T120000
DTEND;TZID=America/Chicago:20170211T150000
DTSTAMP:20260421T224534
CREATED:20191216T182310Z
LAST-MODIFIED:20191216T182310Z
UID:37810-1486814400-1486825200@www.minneapolisparks.org
SUMMARY:Heartwarmer
DESCRIPTION:Come enjoy the 8th annual Hiawatha Heart Warmer. The whole family can participate in winter activities (skating\, bonfire\, horse-drawn hayride\, snow sculptures\, etc.). When you get cold\, it’s time to go inside for hot drinks\, music\, and displays by local businesses. Children can make crafts or dance to a kids’ DJ. Our own local winter carnival celebrates the beautiful Lake Hiawatha area and promotes neighborhood businesses. \nGet Directions
URL:https://www.minneapolisparks.org/event-calendar/heartwarmer/
LOCATION:Lake Hiawatha Park\, 2701 E 44th St\, Minneapolis\, MN\, 55406\, United States
CATEGORIES:Events- MPRB
GEO:44.9231192;-93.2337349
X-APPLE-STRUCTURED-LOCATION;VALUE=URI;X-ADDRESS=Lake Hiawatha Park 2701 E 44th St Minneapolis MN 55406 United States;X-APPLE-RADIUS=500;X-TITLE=2701 E 44th St:geo:-93.2337349,44.9231192
END:VEVENT
END:VCALENDAR