BEGIN:VCALENDAR
VERSION:2.0
PRODID:-//Minneapolis Park &amp; Recreation Board - ECPv6.15.20//NONSGML v1.0//EN
CALSCALE:GREGORIAN
METHOD:PUBLISH
X-ORIGINAL-URL:https://www.minneapolisparks.org
X-WR-CALDESC:Events for Minneapolis Park &amp; Recreation Board
REFRESH-INTERVAL;VALUE=DURATION:PT1H
X-Robots-Tag:noindex
X-PUBLISHED-TTL:PT1H
BEGIN:VTIMEZONE
TZID:America/Chicago
BEGIN:DAYLIGHT
TZOFFSETFROM:-0600
TZOFFSETTO:-0500
TZNAME:CDT
DTSTART:20150308T080000
END:DAYLIGHT
BEGIN:STANDARD
TZOFFSETFROM:-0500
TZOFFSETTO:-0600
TZNAME:CST
DTSTART:20151101T070000
END:STANDARD
BEGIN:DAYLIGHT
TZOFFSETFROM:-0600
TZOFFSETTO:-0500
TZNAME:CDT
DTSTART:20160313T080000
END:DAYLIGHT
BEGIN:STANDARD
TZOFFSETFROM:-0500
TZOFFSETTO:-0600
TZNAME:CST
DTSTART:20161106T070000
END:STANDARD
BEGIN:DAYLIGHT
TZOFFSETFROM:-0600
TZOFFSETTO:-0500
TZNAME:CDT
DTSTART:20170312T080000
END:DAYLIGHT
BEGIN:STANDARD
TZOFFSETFROM:-0500
TZOFFSETTO:-0600
TZNAME:CST
DTSTART:20171105T070000
END:STANDARD
BEGIN:DAYLIGHT
TZOFFSETFROM:-0600
TZOFFSETTO:-0500
TZNAME:CDT
DTSTART:20180311T080000
END:DAYLIGHT
BEGIN:STANDARD
TZOFFSETFROM:-0500
TZOFFSETTO:-0600
TZNAME:CST
DTSTART:20181104T070000
END:STANDARD
BEGIN:DAYLIGHT
TZOFFSETFROM:-0600
TZOFFSETTO:-0500
TZNAME:CDT
DTSTART:20190310T080000
END:DAYLIGHT
BEGIN:STANDARD
TZOFFSETFROM:-0500
TZOFFSETTO:-0600
TZNAME:CST
DTSTART:20191103T070000
END:STANDARD
END:VTIMEZONE
BEGIN:VEVENT
DTSTART;TZID=America/Chicago:20180520T083000
DTEND;TZID=America/Chicago:20180520T083000
DTSTAMP:20260420T150019
CREATED:20191216T182841Z
LAST-MODIFIED:20191216T182841Z
UID:38815-1526805000-1526805000@www.minneapolisparks.org
SUMMARY:MS Bike Ride
DESCRIPTION:Event hosted by outside group.
URL:https://www.minneapolisparks.org/event-calendar/ms-bike-ride-2/
LOCATION:Grand Rounds Scenic Byway System\, Grand Rounds Scenic Byway System\, Minneapolis\, MN\, United States
CATEGORIES:Events- Non-MPRB
GEO:44.972472;-93.3218622
X-APPLE-STRUCTURED-LOCATION;VALUE=URI;X-ADDRESS=Grand Rounds Scenic Byway System Grand Rounds Scenic Byway System Minneapolis MN United States;X-APPLE-RADIUS=500;X-TITLE=Grand Rounds Scenic Byway System:geo:-93.3218622,44.972472
END:VEVENT
BEGIN:VEVENT
DTSTART;TZID=America/Chicago:20171001T070000
DTEND;TZID=America/Chicago:20171001T070000
DTSTAMP:20260420T150019
CREATED:20191216T182658Z
LAST-MODIFIED:20191216T182658Z
UID:38451-1506841200-1506841200@www.minneapolisparks.org
SUMMARY:Medtronic Twin Cities Marathon & 10 Mile
DESCRIPTION:10 mile at 7 am\, wheelchair race at 7:55 am\, marathon at 8 am \nEvent sponsored by outside group.
URL:https://www.minneapolisparks.org/event-calendar/medtronic-twin-cities-marathon-10-mile-2/
LOCATION:Grand Rounds Scenic Byway System\, Grand Rounds Scenic Byway System\, Minneapolis\, MN\, United States
CATEGORIES:Events- Non-MPRB
GEO:44.972472;-93.3218622
X-APPLE-STRUCTURED-LOCATION;VALUE=URI;X-ADDRESS=Grand Rounds Scenic Byway System Grand Rounds Scenic Byway System Minneapolis MN United States;X-APPLE-RADIUS=500;X-TITLE=Grand Rounds Scenic Byway System:geo:-93.3218622,44.972472
END:VEVENT
BEGIN:VEVENT
DTSTART;TZID=America/Chicago:20170910T090000
DTEND;TZID=America/Chicago:20170910T090000
DTSTAMP:20260420T150019
CREATED:20191216T182647Z
LAST-MODIFIED:20191216T182647Z
UID:38414-1505034000-1505034000@www.minneapolisparks.org
SUMMARY:Tour De Tush
DESCRIPTION:Event sponsored by outside group.
URL:https://www.minneapolisparks.org/event-calendar/tour-de-tush/
LOCATION:Grand Rounds Scenic Byway System\, Grand Rounds Scenic Byway System\, Minneapolis\, MN\, United States
GEO:44.972472;-93.3218622
X-APPLE-STRUCTURED-LOCATION;VALUE=URI;X-ADDRESS=Grand Rounds Scenic Byway System Grand Rounds Scenic Byway System Minneapolis MN United States;X-APPLE-RADIUS=500;X-TITLE=Grand Rounds Scenic Byway System:geo:-93.3218622,44.972472
END:VEVENT
BEGIN:VEVENT
DTSTART;TZID=America/Chicago:20161009T070000
DTEND;TZID=America/Chicago:20161009T070000
DTSTAMP:20260420T150019
CREATED:20191216T182230Z
LAST-MODIFIED:20191216T182230Z
UID:37671-1475996400-1475996400@www.minneapolisparks.org
SUMMARY:Medtronic Twin Cities Marathon & 10 Mile
DESCRIPTION:Event hosted by outside group. \nCourse Map
URL:https://www.minneapolisparks.org/event-calendar/medtronic-twin-cities-marathon-10-mile/
LOCATION:Grand Rounds Scenic Byway System\, Grand Rounds Scenic Byway System\, Minneapolis\, MN\, United States
CATEGORIES:Events- Non-MPRB
GEO:44.972472;-93.3218622
X-APPLE-STRUCTURED-LOCATION;VALUE=URI;X-ADDRESS=Grand Rounds Scenic Byway System Grand Rounds Scenic Byway System Minneapolis MN United States;X-APPLE-RADIUS=500;X-TITLE=Grand Rounds Scenic Byway System:geo:-93.3218622,44.972472
END:VEVENT
END:VCALENDAR