BEGIN:VCALENDAR
VERSION:2.0
PRODID:-//Minneapolis Park &amp; Recreation Board - ECPv6.15.20//NONSGML v1.0//EN
CALSCALE:GREGORIAN
METHOD:PUBLISH
X-ORIGINAL-URL:https://www.minneapolisparks.org
X-WR-CALDESC:Events for Minneapolis Park &amp; Recreation Board
REFRESH-INTERVAL;VALUE=DURATION:PT1H
X-Robots-Tag:noindex
X-PUBLISHED-TTL:PT1H
BEGIN:VTIMEZONE
TZID:America/Chicago
BEGIN:DAYLIGHT
TZOFFSETFROM:-0600
TZOFFSETTO:-0500
TZNAME:CDT
DTSTART:20170312T080000
END:DAYLIGHT
BEGIN:STANDARD
TZOFFSETFROM:-0500
TZOFFSETTO:-0600
TZNAME:CST
DTSTART:20171105T070000
END:STANDARD
BEGIN:DAYLIGHT
TZOFFSETFROM:-0600
TZOFFSETTO:-0500
TZNAME:CDT
DTSTART:20180311T080000
END:DAYLIGHT
BEGIN:STANDARD
TZOFFSETFROM:-0500
TZOFFSETTO:-0600
TZNAME:CST
DTSTART:20181104T070000
END:STANDARD
BEGIN:DAYLIGHT
TZOFFSETFROM:-0600
TZOFFSETTO:-0500
TZNAME:CDT
DTSTART:20190310T080000
END:DAYLIGHT
BEGIN:STANDARD
TZOFFSETFROM:-0500
TZOFFSETTO:-0600
TZNAME:CST
DTSTART:20191103T070000
END:STANDARD
BEGIN:DAYLIGHT
TZOFFSETFROM:-0600
TZOFFSETTO:-0500
TZNAME:CDT
DTSTART:20200308T080000
END:DAYLIGHT
BEGIN:STANDARD
TZOFFSETFROM:-0500
TZOFFSETTO:-0600
TZNAME:CST
DTSTART:20201101T070000
END:STANDARD
BEGIN:DAYLIGHT
TZOFFSETFROM:-0600
TZOFFSETTO:-0500
TZNAME:CDT
DTSTART:20210314T080000
END:DAYLIGHT
BEGIN:STANDARD
TZOFFSETFROM:-0500
TZOFFSETTO:-0600
TZNAME:CST
DTSTART:20211107T070000
END:STANDARD
BEGIN:DAYLIGHT
TZOFFSETFROM:-0600
TZOFFSETTO:-0500
TZNAME:CDT
DTSTART:20220313T080000
END:DAYLIGHT
BEGIN:STANDARD
TZOFFSETFROM:-0500
TZOFFSETTO:-0600
TZNAME:CST
DTSTART:20221106T070000
END:STANDARD
BEGIN:DAYLIGHT
TZOFFSETFROM:-0600
TZOFFSETTO:-0500
TZNAME:CDT
DTSTART:20230312T080000
END:DAYLIGHT
BEGIN:STANDARD
TZOFFSETFROM:-0500
TZOFFSETTO:-0600
TZNAME:CST
DTSTART:20231105T070000
END:STANDARD
BEGIN:DAYLIGHT
TZOFFSETFROM:-0600
TZOFFSETTO:-0500
TZNAME:CDT
DTSTART:20240310T080000
END:DAYLIGHT
BEGIN:STANDARD
TZOFFSETFROM:-0500
TZOFFSETTO:-0600
TZNAME:CST
DTSTART:20241103T070000
END:STANDARD
BEGIN:DAYLIGHT
TZOFFSETFROM:-0600
TZOFFSETTO:-0500
TZNAME:CDT
DTSTART:20250309T080000
END:DAYLIGHT
BEGIN:STANDARD
TZOFFSETFROM:-0500
TZOFFSETTO:-0600
TZNAME:CST
DTSTART:20251102T070000
END:STANDARD
BEGIN:DAYLIGHT
TZOFFSETFROM:-0600
TZOFFSETTO:-0500
TZNAME:CDT
DTSTART:20260308T080000
END:DAYLIGHT
BEGIN:STANDARD
TZOFFSETFROM:-0500
TZOFFSETTO:-0600
TZNAME:CST
DTSTART:20261101T070000
END:STANDARD
END:VTIMEZONE
BEGIN:VEVENT
DTSTART;TZID=America/Chicago:20250419T090000
DTEND;TZID=America/Chicago:20250419T103000
DTSTAMP:20260422T040118
CREATED:20250306T222627Z
LAST-MODIFIED:20250306T223622Z
UID:80715-1745053200-1745058600@www.minneapolisparks.org
SUMMARY:Fuller Park Egg Hunt
DESCRIPTION:Fuller Park will host the Bunny Party for kids ages 6 and under. Bring the whole family for this fun event. Enjoy an Egg Hunt\, Arts and Crafts\, continental breakfast and much more. \nThe actual Egg Hunt at Fuller Park will begin at 9:30am sharp. Pre-Registration is required to receive a treat bag.
URL:https://www.minneapolisparks.org/event-calendar/fuller-park-egg-hunt-2/
LOCATION:Fuller Recreation Center\, 4802 Grand Ave S\, Minneapolis\, MN\, 55419\, United States
CATEGORIES:Events- All,Events- MPRB
GEO:44.915755;-93.28479
X-APPLE-STRUCTURED-LOCATION;VALUE=URI;X-ADDRESS=Fuller Recreation Center 4802 Grand Ave S Minneapolis MN 55419 United States;X-APPLE-RADIUS=500;X-TITLE=4802 Grand Ave S:geo:-93.28479,44.915755
END:VEVENT
BEGIN:VEVENT
DTSTART;TZID=America/Chicago:20241226T120000
DTEND;TZID=America/Chicago:20241226T160000
DTSTAMP:20260422T040118
CREATED:20241121T215806Z
LAST-MODIFIED:20241121T215806Z
UID:78775-1735214400-1735228800@www.minneapolisparks.org
SUMMARY:Winter Break School Release Day-Open Gym
DESCRIPTION:Enjoy our multi-purpose room and play activities including basketball\, soccer\, dodgeball\, volleyball\, and more during Open Gym.
URL:https://www.minneapolisparks.org/event-calendar/winter-break-school-release-day-open-gym/2024-12-26/
LOCATION:Fuller Recreation Center\, 4802 Grand Ave S\, Minneapolis\, MN\, 55419\, United States
CATEGORIES:Events- All,Events- MPRB
GEO:44.915755;-93.28479
X-APPLE-STRUCTURED-LOCATION;VALUE=URI;X-ADDRESS=Fuller Recreation Center 4802 Grand Ave S Minneapolis MN 55419 United States;X-APPLE-RADIUS=500;X-TITLE=4802 Grand Ave S:geo:-93.28479,44.915755
END:VEVENT
BEGIN:VEVENT
DTSTART;TZID=America/Chicago:20241224T120000
DTEND;TZID=America/Chicago:20241224T160000
DTSTAMP:20260422T040118
CREATED:20241121T215806Z
LAST-MODIFIED:20241121T215806Z
UID:78774-1735041600-1735056000@www.minneapolisparks.org
SUMMARY:Winter Break School Release Day-Open Gym
DESCRIPTION:Enjoy our multi-purpose room and play activities including basketball\, soccer\, dodgeball\, volleyball\, and more during Open Gym.
URL:https://www.minneapolisparks.org/event-calendar/winter-break-school-release-day-open-gym/2024-12-24/
LOCATION:Fuller Recreation Center\, 4802 Grand Ave S\, Minneapolis\, MN\, 55419\, United States
CATEGORIES:Events- All,Events- MPRB
GEO:44.915755;-93.28479
X-APPLE-STRUCTURED-LOCATION;VALUE=URI;X-ADDRESS=Fuller Recreation Center 4802 Grand Ave S Minneapolis MN 55419 United States;X-APPLE-RADIUS=500;X-TITLE=4802 Grand Ave S:geo:-93.28479,44.915755
END:VEVENT
BEGIN:VEVENT
DTSTART;TZID=America/Chicago:20241217T180000
DTEND;TZID=America/Chicago:20241217T200000
DTSTAMP:20260422T040118
CREATED:20241121T215530Z
LAST-MODIFIED:20241121T215530Z
UID:78772-1734458400-1734465600@www.minneapolisparks.org
SUMMARY:Winter Break School Release Day *Esport gaming*
DESCRIPTION:Join us for some tournament fun on this school release day. We will have games for Playstation 5 such as Madden\, NBA 2k\, FIFA and Rocket League. Snacks and beverages will also be available! Register today!
URL:https://www.minneapolisparks.org/event-calendar/winter-break-school-release-day-esport-gaming/
LOCATION:Fuller Recreation Center\, 4802 Grand Ave S\, Minneapolis\, MN\, 55419\, United States
CATEGORIES:Events- All,Events- MPRB
GEO:44.915755;-93.28479
X-APPLE-STRUCTURED-LOCATION;VALUE=URI;X-ADDRESS=Fuller Recreation Center 4802 Grand Ave S Minneapolis MN 55419 United States;X-APPLE-RADIUS=500;X-TITLE=4802 Grand Ave S:geo:-93.28479,44.915755
END:VEVENT
BEGIN:VEVENT
DTSTART;TZID=America/Chicago:20241216T120000
DTEND;TZID=America/Chicago:20241216T160000
DTSTAMP:20260422T040118
CREATED:20241121T215326Z
LAST-MODIFIED:20241121T215326Z
UID:78769-1734350400-1734364800@www.minneapolisparks.org
SUMMARY:Winter Break School Release Day *Board Game*
DESCRIPTION:School out\, stop by at the center for couple of fun card games with kids in the neighborhood and friends. Board game such as connect Four\, chess and checker. Register today!
URL:https://www.minneapolisparks.org/event-calendar/winter-break-school-release-day-board-game/
LOCATION:Fuller Recreation Center\, 4802 Grand Ave S\, Minneapolis\, MN\, 55419\, United States
CATEGORIES:Events- All,Events- MPRB
GEO:44.915755;-93.28479
X-APPLE-STRUCTURED-LOCATION;VALUE=URI;X-ADDRESS=Fuller Recreation Center 4802 Grand Ave S Minneapolis MN 55419 United States;X-APPLE-RADIUS=500;X-TITLE=4802 Grand Ave S:geo:-93.28479,44.915755
END:VEVENT
BEGIN:VEVENT
DTSTART;TZID=America/Chicago:20241214T100000
DTEND;TZID=America/Chicago:20241214T120000
DTSTAMP:20260422T040118
CREATED:20241121T162347Z
LAST-MODIFIED:20241121T162347Z
UID:78527-1734170400-1734177600@www.minneapolisparks.org
SUMMARY:Gingerbread House Decorating
DESCRIPTION:Decorate your own gingerbread house made with frosting and a variety of candies. Bring your creativity\, sweet tooth and holiday cheer for this annual family tradition. Pre-registration is required!
URL:https://www.minneapolisparks.org/event-calendar/gingerbread-house-decorating-3/
LOCATION:Fuller Recreation Center\, 4802 Grand Ave S\, Minneapolis\, MN\, 55419\, United States
CATEGORIES:Events- All,Events- MPRB
GEO:44.915755;-93.28479
X-APPLE-STRUCTURED-LOCATION;VALUE=URI;X-ADDRESS=Fuller Recreation Center 4802 Grand Ave S Minneapolis MN 55419 United States;X-APPLE-RADIUS=500;X-TITLE=4802 Grand Ave S:geo:-93.28479,44.915755
END:VEVENT
BEGIN:VEVENT
DTSTART;TZID=America/Chicago:20241031T173000
DTEND;TZID=America/Chicago:20241031T200000
DTSTAMP:20260422T040118
CREATED:20240918T194216Z
LAST-MODIFIED:20240918T194216Z
UID:77196-1730395800-1730404800@www.minneapolisparks.org
SUMMARY:Fuller Halloween Fun Night
DESCRIPTION:Halloween treat for everyone!! Come join Fuller Parks\, your neighbors and friends as we celebrate the scariest night of the year. Ghouls\, goblins\, or whatever your costume may be\, all are welcome. Intended to be a fun extended stop on your trick or treat rounds with games and candy inside.
URL:https://www.minneapolisparks.org/event-calendar/fuller-halloween-fun-night/
LOCATION:Fuller Recreation Center\, 4802 Grand Ave S\, Minneapolis\, MN\, 55419\, United States
CATEGORIES:Events- All,Events- MPRB
GEO:44.915755;-93.28479
X-APPLE-STRUCTURED-LOCATION;VALUE=URI;X-ADDRESS=Fuller Recreation Center 4802 Grand Ave S Minneapolis MN 55419 United States;X-APPLE-RADIUS=500;X-TITLE=4802 Grand Ave S:geo:-93.28479,44.915755
END:VEVENT
BEGIN:VEVENT
DTSTART;TZID=America/Chicago:20241018T120000
DTEND;TZID=America/Chicago:20241018T160000
DTSTAMP:20260422T040118
CREATED:20240919T175153Z
LAST-MODIFIED:20240919T191745Z
UID:77315-1729252800-1729267200@www.minneapolisparks.org
SUMMARY:School Release Day MEA Board Game
DESCRIPTION:School’s out\, stop by at the center for couple of fun card games with kids in the neighborhood and friends. Board game such as connect Four\, chess and checker. Enroll now (free).
URL:https://www.minneapolisparks.org/event-calendar/school-release-day-mea-board-game/2024-10-18/
LOCATION:Fuller Recreation Center\, 4802 Grand Ave S\, Minneapolis\, MN\, 55419\, United States
CATEGORIES:Events- All,Events- MPRB
GEO:44.915755;-93.28479
X-APPLE-STRUCTURED-LOCATION;VALUE=URI;X-ADDRESS=Fuller Recreation Center 4802 Grand Ave S Minneapolis MN 55419 United States;X-APPLE-RADIUS=500;X-TITLE=4802 Grand Ave S:geo:-93.28479,44.915755
END:VEVENT
BEGIN:VEVENT
DTSTART;TZID=America/Chicago:20241017T120000
DTEND;TZID=America/Chicago:20241017T160000
DTSTAMP:20260422T040118
CREATED:20240919T175153Z
LAST-MODIFIED:20240919T191744Z
UID:77314-1729166400-1729180800@www.minneapolisparks.org
SUMMARY:School Release Day MEA Board Game
DESCRIPTION:School’s out\, stop by at the center for couple of fun card games with kids in the neighborhood and friends. Board game such as connect Four\, chess and checker. Enroll now (free).
URL:https://www.minneapolisparks.org/event-calendar/school-release-day-mea-board-game/2024-10-17/
LOCATION:Fuller Recreation Center\, 4802 Grand Ave S\, Minneapolis\, MN\, 55419\, United States
CATEGORIES:Events- All,Events- MPRB
GEO:44.915755;-93.28479
X-APPLE-STRUCTURED-LOCATION;VALUE=URI;X-ADDRESS=Fuller Recreation Center 4802 Grand Ave S Minneapolis MN 55419 United States;X-APPLE-RADIUS=500;X-TITLE=4802 Grand Ave S:geo:-93.28479,44.915755
END:VEVENT
BEGIN:VEVENT
DTSTART;TZID=America/Chicago:20240403T130000
DTEND;TZID=America/Chicago:20240403T150000
DTSTAMP:20260422T040118
CREATED:20240326T192849Z
LAST-MODIFIED:20240326T192849Z
UID:72647-1712149200-1712156400@www.minneapolisparks.org
SUMMARY:Spring Break: Gym Games
DESCRIPTION:
URL:https://www.minneapolisparks.org/event-calendar/spring-break-gym-games-2/
LOCATION:Fuller Recreation Center\, 4802 Grand Ave S\, Minneapolis\, MN\, 55419\, United States
CATEGORIES:Events- All,Events- MPRB
GEO:44.915755;-93.28479
X-APPLE-STRUCTURED-LOCATION;VALUE=URI;X-ADDRESS=Fuller Recreation Center 4802 Grand Ave S Minneapolis MN 55419 United States;X-APPLE-RADIUS=500;X-TITLE=4802 Grand Ave S:geo:-93.28479,44.915755
END:VEVENT
BEGIN:VEVENT
DTSTART;TZID=America/Chicago:20240401T150000
DTEND;TZID=America/Chicago:20240401T170000
DTSTAMP:20260422T040118
CREATED:20240326T192322Z
LAST-MODIFIED:20240402T143019Z
UID:72637-1711983600-1711990800@www.minneapolisparks.org
SUMMARY:Spring Break: Fun & Games
DESCRIPTION:Registration Link
URL:https://www.minneapolisparks.org/event-calendar/spring-break-fun-games/2024-04-01/
LOCATION:Fuller Recreation Center\, 4802 Grand Ave S\, Minneapolis\, MN\, 55419\, United States
CATEGORIES:Events- All,Events- MPRB
GEO:44.915755;-93.28479
X-APPLE-STRUCTURED-LOCATION;VALUE=URI;X-ADDRESS=Fuller Recreation Center 4802 Grand Ave S Minneapolis MN 55419 United States;X-APPLE-RADIUS=500;X-TITLE=4802 Grand Ave S:geo:-93.28479,44.915755
END:VEVENT
BEGIN:VEVENT
DTSTART;TZID=America/Chicago:20240401T130000
DTEND;TZID=America/Chicago:20240401T150000
DTSTAMP:20260422T040118
CREATED:20240326T192647Z
LAST-MODIFIED:20240402T143204Z
UID:72645-1711976400-1711983600@www.minneapolisparks.org
SUMMARY:Spring Break: Gym Games
DESCRIPTION:Registration Link
URL:https://www.minneapolisparks.org/event-calendar/spring-break-gym-games/
LOCATION:Fuller Recreation Center\, 4802 Grand Ave S\, Minneapolis\, MN\, 55419\, United States
CATEGORIES:Events- All,Events- MPRB
GEO:44.915755;-93.28479
X-APPLE-STRUCTURED-LOCATION;VALUE=URI;X-ADDRESS=Fuller Recreation Center 4802 Grand Ave S Minneapolis MN 55419 United States;X-APPLE-RADIUS=500;X-TITLE=4802 Grand Ave S:geo:-93.28479,44.915755
END:VEVENT
BEGIN:VEVENT
DTSTART;TZID=America/Chicago:20240224T170000
DTEND;TZID=America/Chicago:20240224T210000
DTSTAMP:20260422T040118
CREATED:20240206T180650Z
LAST-MODIFIED:20240206T180650Z
UID:71577-1708794000-1708808400@www.minneapolisparks.org
SUMMARY:Tangletown Winterfest
DESCRIPTION:Join your community outside for this exciting event. There will be sledding\, snow painting\, and a fire twirling show at 6:30pm. Bonfires will keep us warm as we enjoy each other’s company.
URL:https://www.minneapolisparks.org/event-calendar/tangletown-winterfest-3/
LOCATION:Fuller Recreation Center\, 4802 Grand Ave S\, Minneapolis\, MN\, 55419\, United States
CATEGORIES:Events- All,Events- MPRB
GEO:44.915755;-93.28479
X-APPLE-STRUCTURED-LOCATION;VALUE=URI;X-ADDRESS=Fuller Recreation Center 4802 Grand Ave S Minneapolis MN 55419 United States;X-APPLE-RADIUS=500;X-TITLE=4802 Grand Ave S:geo:-93.28479,44.915755
END:VEVENT
BEGIN:VEVENT
DTSTART;TZID=America/Chicago:20200222T170000
DTEND;TZID=America/Chicago:20200222T200000
DTSTAMP:20260422T040118
CREATED:20200102T210450Z
LAST-MODIFIED:20200106T170002Z
UID:40743-1582390800-1582401600@www.minneapolisparks.org
SUMMARY:Tangletown Winter Fest
DESCRIPTION:Tangletown Neighborhood Association is partnering with Fuller Park for the return of Winterfest 2020! You won’t want to miss the park lined with hundreds of luminaries! We will be having fun sledding\, making s’mores by the fire\, and warming up with fun activities inside as well. This event is for all ages\, individuals\, and families. Food is available at this event for purchase. \n\nRegister Online
URL:https://www.minneapolisparks.org/event-calendar/tangletown-winter-fest-2/
LOCATION:Fuller Recreation Center\, 4802 Grand Ave S\, Minneapolis\, MN\, 55419\, United States
CATEGORIES:Events- MPRB
GEO:44.915755;-93.28479
X-APPLE-STRUCTURED-LOCATION;VALUE=URI;X-ADDRESS=Fuller Recreation Center 4802 Grand Ave S Minneapolis MN 55419 United States;X-APPLE-RADIUS=500;X-TITLE=4802 Grand Ave S:geo:-93.28479,44.915755
END:VEVENT
BEGIN:VEVENT
DTSTART;TZID=America/Chicago:20191207T130000
DTEND;TZID=America/Chicago:20191207T150000
DTSTAMP:20260422T040118
CREATED:20191216T183743Z
LAST-MODIFIED:20191216T183743Z
UID:40465-1575723600-1575730800@www.minneapolisparks.org
SUMMARY:Fuller Annual Gingerbread Adventures
DESCRIPTION:We will be decorating and designing gingerbread creations. This event is for all ages\, individuals\, and families. \nGet Directions
URL:https://www.minneapolisparks.org/event-calendar/fuller-annual-gingerbread-adventures/
LOCATION:Fuller Recreation Center\, 4802 Grand Ave S\, Minneapolis\, MN\, 55419\, United States
CATEGORIES:Events- MPRB
GEO:44.915755;-93.28479
X-APPLE-STRUCTURED-LOCATION;VALUE=URI;X-ADDRESS=Fuller Recreation Center 4802 Grand Ave S Minneapolis MN 55419 United States;X-APPLE-RADIUS=500;X-TITLE=4802 Grand Ave S:geo:-93.28479,44.915755
END:VEVENT
BEGIN:VEVENT
DTSTART;TZID=America/Chicago:20191101T190000
DTEND;TZID=America/Chicago:20191101T203000
DTSTAMP:20260422T040118
CREATED:20191216T183730Z
LAST-MODIFIED:20191216T183730Z
UID:40426-1572634800-1572640200@www.minneapolisparks.org
SUMMARY:Fuller Halloween: Movie Night
DESCRIPTION:All ages are welcome to join us for the viewing of the 1991 Halloween Classic\, The Addams Family. Space is limited to 75 individuals. Viewers are welcome to bring a blanket\, chair\, or mat to view the movie. Popcorn included! Pre-registration is encouraged to guarantee your spot. \nRegister OnlineGet Directions
URL:https://www.minneapolisparks.org/event-calendar/fuller-halloween-movie-night/
LOCATION:Fuller Recreation Center\, 4802 Grand Ave S\, Minneapolis\, MN\, 55419\, United States
CATEGORIES:Events- MPRB
GEO:44.915755;-93.28479
X-APPLE-STRUCTURED-LOCATION;VALUE=URI;X-ADDRESS=Fuller Recreation Center 4802 Grand Ave S Minneapolis MN 55419 United States;X-APPLE-RADIUS=500;X-TITLE=4802 Grand Ave S:geo:-93.28479,44.915755
END:VEVENT
BEGIN:VEVENT
DTSTART;TZID=America/Chicago:20191031T173000
DTEND;TZID=America/Chicago:20191031T193000
DTSTAMP:20260422T040118
CREATED:20191216T183725Z
LAST-MODIFIED:20191216T183725Z
UID:40413-1572543000-1572550200@www.minneapolisparks.org
SUMMARY:Fuller Halloween
DESCRIPTION:Join us for Halloween games\, treats\, and hot cider. All ages will want to see the transformation of Fuller Recreation Center into a fun and spooky park. Activities are designed to take about 15-20 minutes and will fit perfectly into your trick or treat journey. Join us later in your evening for part 2 of our evening to watch Hocus Pocus. All ages are welcome. \nGet Directions
URL:https://www.minneapolisparks.org/event-calendar/fuller-halloween-3/
LOCATION:Fuller Recreation Center\, 4802 Grand Ave S\, Minneapolis\, MN\, 55419\, United States
CATEGORIES:Events- MPRB
GEO:44.915755;-93.28479
X-APPLE-STRUCTURED-LOCATION;VALUE=URI;X-ADDRESS=Fuller Recreation Center 4802 Grand Ave S Minneapolis MN 55419 United States;X-APPLE-RADIUS=500;X-TITLE=4802 Grand Ave S:geo:-93.28479,44.915755
END:VEVENT
BEGIN:VEVENT
DTSTART;TZID=America/Chicago:20190914T130000
DTEND;TZID=America/Chicago:20190914T150000
DTSTAMP:20260422T040118
CREATED:20191216T183700Z
LAST-MODIFIED:20191216T183700Z
UID:40339-1568466000-1568473200@www.minneapolisparks.org
SUMMARY:Fuller Fall Fun
DESCRIPTION:We will be enjoying the beautiful weather with all of our outside games and activities including pickleball\, badminton\, corn hole\, and more. This event is for all ages\, individuals\, and families. \nGet Directions
URL:https://www.minneapolisparks.org/event-calendar/fuller-fall-fun/
LOCATION:Fuller Recreation Center\, 4802 Grand Ave S\, Minneapolis\, MN\, 55419\, United States
CATEGORIES:Events- MPRB
GEO:44.915755;-93.28479
X-APPLE-STRUCTURED-LOCATION;VALUE=URI;X-ADDRESS=Fuller Recreation Center 4802 Grand Ave S Minneapolis MN 55419 United States;X-APPLE-RADIUS=500;X-TITLE=4802 Grand Ave S:geo:-93.28479,44.915755
END:VEVENT
BEGIN:VEVENT
DTSTART;TZID=America/Chicago:20190625T180000
DTEND;TZID=America/Chicago:20190625T200000
DTSTAMP:20260422T040118
CREATED:20191216T183448Z
LAST-MODIFIED:20191216T183448Z
UID:39962-1561485600-1561492800@www.minneapolisparks.org
SUMMARY:SW Service Area Master Plan CAC Meeting #10
DESCRIPTION:During this meeting\, Community Advisory Committee (CAC) members will review and discuss preferred park concept designs and provide recommendations to the project team for Board review. All CAC meetings are open to the public and include light refreshments and passive children’s activities. For more info\, please visit www.minneapolisparks.org/sw \nGet Directions
URL:https://www.minneapolisparks.org/event-calendar/sw-service-area-master-plan-cac-meeting-10/
LOCATION:Fuller Recreation Center\, 4802 Grand Ave S\, Minneapolis\, MN\, 55419\, United States
CATEGORIES:Public Meetings
GEO:44.915755;-93.28479
X-APPLE-STRUCTURED-LOCATION;VALUE=URI;X-ADDRESS=Fuller Recreation Center 4802 Grand Ave S Minneapolis MN 55419 United States;X-APPLE-RADIUS=500;X-TITLE=4802 Grand Ave S:geo:-93.28479,44.915755
END:VEVENT
BEGIN:VEVENT
DTSTART;TZID=America/Chicago:20190625T170000
DTEND;TZID=America/Chicago:20190625T180000
DTSTAMP:20260422T040118
CREATED:20191216T183448Z
LAST-MODIFIED:20191216T183448Z
UID:39961-1561482000-1561485600@www.minneapolisparks.org
SUMMARY:Lynnhurst Area Subcommittee Meeting #2
DESCRIPTION:During this meeting\, a few members from both the Minnehaha Parkway Regional Trail Master Plan and SW Service Area Master Plan Community Advisory Committees (CAC) will review and discuss the preferred park concept design for Lynnhurst Park and the surrounding area. The goal of this subcommittee is to provide design guidance to staff and bring recommendations back to the full CACs for each project. Additional information can be found on each project page: www.minneapolisparks.org/minnehahacreek  or www.minneapolisparks.org/sw   \nGet Directions
URL:https://www.minneapolisparks.org/event-calendar/lynnhurst-area-subcommittee-meeting-2/
LOCATION:Fuller Recreation Center\, 4802 Grand Ave S\, Minneapolis\, MN\, 55419\, United States
CATEGORIES:Public Meetings
GEO:44.915755;-93.28479
X-APPLE-STRUCTURED-LOCATION;VALUE=URI;X-ADDRESS=Fuller Recreation Center 4802 Grand Ave S Minneapolis MN 55419 United States;X-APPLE-RADIUS=500;X-TITLE=4802 Grand Ave S:geo:-93.28479,44.915755
END:VEVENT
BEGIN:VEVENT
DTSTART;TZID=America/Chicago:20190605T173000
DTEND;TZID=America/Chicago:20190605T193000
DTSTAMP:20260422T040118
CREATED:20191216T183401Z
LAST-MODIFIED:20191216T183401Z
UID:39830-1559755800-1559763000@www.minneapolisparks.org
SUMMARY:Ice Cream Social
DESCRIPTION:This tradition offers fun activities for all ages and lots of delicious ice cream donated by The Malt Shop. Get the scoop on what is happening in your community this summer. In the event of inclement weather\, this event will be held inside Fuller Recreation Center. \nGet Directions
URL:https://www.minneapolisparks.org/event-calendar/ice-cream-social-26/
LOCATION:Fuller Recreation Center\, 4802 Grand Ave S\, Minneapolis\, MN\, 55419\, United States
CATEGORIES:Events- MPRB
GEO:44.915755;-93.28479
X-APPLE-STRUCTURED-LOCATION;VALUE=URI;X-ADDRESS=Fuller Recreation Center 4802 Grand Ave S Minneapolis MN 55419 United States;X-APPLE-RADIUS=500;X-TITLE=4802 Grand Ave S:geo:-93.28479,44.915755
END:VEVENT
BEGIN:VEVENT
DTSTART;TZID=America/Chicago:20190518T140000
DTEND;TZID=America/Chicago:20190518T160000
DTSTAMP:20260422T040118
CREATED:20191216T183342Z
LAST-MODIFIED:20191216T183342Z
UID:39775-1558188000-1558195200@www.minneapolisparks.org
SUMMARY:Community Craze; Fun in the Sun
DESCRIPTION:We will be enjoying the beautiful weather with a variety of activities. Check out our pickleball\, or play a pick up game of volleyball with your friends and neighbors. This event is for all ages\, individuals\, and families. \nGet Directions
URL:https://www.minneapolisparks.org/event-calendar/community-craze-fun-in-the-sun/
LOCATION:Fuller Recreation Center\, 4802 Grand Ave S\, Minneapolis\, MN\, 55419\, United States
CATEGORIES:Events- MPRB
GEO:44.915755;-93.28479
X-APPLE-STRUCTURED-LOCATION;VALUE=URI;X-ADDRESS=Fuller Recreation Center 4802 Grand Ave S Minneapolis MN 55419 United States;X-APPLE-RADIUS=500;X-TITLE=4802 Grand Ave S:geo:-93.28479,44.915755
END:VEVENT
BEGIN:VEVENT
DTSTART;TZID=America/Chicago:20190420T140000
DTEND;TZID=America/Chicago:20190420T160000
DTSTAMP:20260422T040118
CREATED:20191216T183328Z
LAST-MODIFIED:20191216T183328Z
UID:39732-1555768800-1555776000@www.minneapolisparks.org
SUMMARY:Community Craze; Gardening at Fuller
DESCRIPTION:Dig in and have fun gardening at Fuller Park. We will be working together to prepare the Fuller gardens for the 2019 season. Participants are encouraged to bring their own gardening tools and attire. Limited tools and gloves will be available. \nGet Directions \nRegister Online
URL:https://www.minneapolisparks.org/event-calendar/community-craze-gardening-at-fuller/
LOCATION:Fuller Recreation Center\, 4802 Grand Ave S\, Minneapolis\, MN\, 55419\, United States
CATEGORIES:Events- MPRB
GEO:44.915755;-93.28479
X-APPLE-STRUCTURED-LOCATION;VALUE=URI;X-ADDRESS=Fuller Recreation Center 4802 Grand Ave S Minneapolis MN 55419 United States;X-APPLE-RADIUS=500;X-TITLE=4802 Grand Ave S:geo:-93.28479,44.915755
END:VEVENT
BEGIN:VEVENT
DTSTART;TZID=America/Chicago:20190316T140000
DTEND;TZID=America/Chicago:20190316T160000
DTSTAMP:20260422T040118
CREATED:20191216T183310Z
LAST-MODIFIED:20191216T183310Z
UID:39679-1552744800-1552752000@www.minneapolisparks.org
SUMMARY:Community Craze; Scavenger Hunt
DESCRIPTION:Test your orienteering skills with a fun filled scavenger hunt\, centered around Fuller Park. This event is for all ages\, individuals\, and families. \nGet Directions
URL:https://www.minneapolisparks.org/event-calendar/community-craze-scavenger-hunt/
LOCATION:Fuller Recreation Center\, 4802 Grand Ave S\, Minneapolis\, MN\, 55419\, United States
CATEGORIES:Events- MPRB
GEO:44.915755;-93.28479
X-APPLE-STRUCTURED-LOCATION;VALUE=URI;X-ADDRESS=Fuller Recreation Center 4802 Grand Ave S Minneapolis MN 55419 United States;X-APPLE-RADIUS=500;X-TITLE=4802 Grand Ave S:geo:-93.28479,44.915755
END:VEVENT
BEGIN:VEVENT
DTSTART;TZID=America/Chicago:20190216T170000
DTEND;TZID=America/Chicago:20190216T200000
DTSTAMP:20260422T040118
CREATED:20191216T183304Z
LAST-MODIFIED:20191216T183304Z
UID:39655-1550336400-1550347200@www.minneapolisparks.org
SUMMARY:Tangletown Winter Fest
DESCRIPTION:Tangletown Neigborhood Association is partnering with Fuller Park for this brand new event! We will be having fun sledding\, making s’mores and warming up with fun activities inside as well. This event is for all ages\, individuals\, and families. \nGet Directions
URL:https://www.minneapolisparks.org/event-calendar/tangletown-winter-fest/
LOCATION:Fuller Recreation Center\, 4802 Grand Ave S\, Minneapolis\, MN\, 55419\, United States
CATEGORIES:Events- MPRB
GEO:44.915755;-93.28479
X-APPLE-STRUCTURED-LOCATION;VALUE=URI;X-ADDRESS=Fuller Recreation Center 4802 Grand Ave S Minneapolis MN 55419 United States;X-APPLE-RADIUS=500;X-TITLE=4802 Grand Ave S:geo:-93.28479,44.915755
END:VEVENT
BEGIN:VEVENT
DTSTART;TZID=America/Chicago:20181025T183000
DTEND;TZID=America/Chicago:20181025T200000
DTSTAMP:20260422T040118
CREATED:20191216T183155Z
LAST-MODIFIED:20191216T183155Z
UID:39443-1540492200-1540497600@www.minneapolisparks.org
SUMMARY:SW Service Area Master Plan - Community Workshop for the Southeast Group
DESCRIPTION:Another opportunity to participate in the SW Service Area Master Plan project! This workshop will be focusing on the parks within the Kenny\, Tangletown\, and Windom neighborhoods. We will be holding six community workshops\, each focusing on a different grouping of neighborhood parks throughout southwest. For more info on the project\, please visit www.minneapolisparks.org/sw \nGet Directions
URL:https://www.minneapolisparks.org/event-calendar/sw-service-area-master-plan-community-workshop-for-the-southeast-group/
LOCATION:Fuller Recreation Center\, 4802 Grand Ave S\, Minneapolis\, MN\, 55419\, United States
CATEGORIES:Public Meetings
GEO:44.915755;-93.28479
X-APPLE-STRUCTURED-LOCATION;VALUE=URI;X-ADDRESS=Fuller Recreation Center 4802 Grand Ave S Minneapolis MN 55419 United States;X-APPLE-RADIUS=500;X-TITLE=4802 Grand Ave S:geo:-93.28479,44.915755
END:VEVENT
END:VCALENDAR