BEGIN:VCALENDAR
VERSION:2.0
PRODID:-//Minneapolis Park &amp; Recreation Board - ECPv6.15.20//NONSGML v1.0//EN
CALSCALE:GREGORIAN
METHOD:PUBLISH
X-ORIGINAL-URL:https://www.minneapolisparks.org
X-WR-CALDESC:Events for Minneapolis Park &amp; Recreation Board
REFRESH-INTERVAL;VALUE=DURATION:PT1H
X-Robots-Tag:noindex
X-PUBLISHED-TTL:PT1H
BEGIN:VTIMEZONE
TZID:America/Chicago
BEGIN:DAYLIGHT
TZOFFSETFROM:-0600
TZOFFSETTO:-0500
TZNAME:CDT
DTSTART:20220313T080000
END:DAYLIGHT
BEGIN:STANDARD
TZOFFSETFROM:-0500
TZOFFSETTO:-0600
TZNAME:CST
DTSTART:20221106T070000
END:STANDARD
BEGIN:DAYLIGHT
TZOFFSETFROM:-0600
TZOFFSETTO:-0500
TZNAME:CDT
DTSTART:20230312T080000
END:DAYLIGHT
BEGIN:STANDARD
TZOFFSETFROM:-0500
TZOFFSETTO:-0600
TZNAME:CST
DTSTART:20231105T070000
END:STANDARD
BEGIN:DAYLIGHT
TZOFFSETFROM:-0600
TZOFFSETTO:-0500
TZNAME:CDT
DTSTART:20240310T080000
END:DAYLIGHT
BEGIN:STANDARD
TZOFFSETFROM:-0500
TZOFFSETTO:-0600
TZNAME:CST
DTSTART:20241103T070000
END:STANDARD
BEGIN:DAYLIGHT
TZOFFSETFROM:-0600
TZOFFSETTO:-0500
TZNAME:CDT
DTSTART:20250309T080000
END:DAYLIGHT
BEGIN:STANDARD
TZOFFSETFROM:-0500
TZOFFSETTO:-0600
TZNAME:CST
DTSTART:20251102T070000
END:STANDARD
BEGIN:DAYLIGHT
TZOFFSETFROM:-0600
TZOFFSETTO:-0500
TZNAME:CDT
DTSTART:20260308T080000
END:DAYLIGHT
BEGIN:STANDARD
TZOFFSETFROM:-0500
TZOFFSETTO:-0600
TZNAME:CST
DTSTART:20261101T070000
END:STANDARD
END:VTIMEZONE
BEGIN:VEVENT
DTSTART;TZID=America/Chicago:20251005T070000
DTEND;TZID=America/Chicago:20251005T070000
DTSTAMP:20260422T165608
CREATED:20250925T181030Z
LAST-MODIFIED:20250925T181030Z
UID:85522-1759647600-1759647600@www.minneapolisparks.org
SUMMARY:Twin Cities Marathon
DESCRIPTION:
URL:https://www.minneapolisparks.org/event-calendar/twin-cities-marathon/
LOCATION:All Parkways\, Minneapolis\, MN\, 55401\, United States
CATEGORIES:Events- All,Events- Non-MPRB
END:VEVENT
BEGIN:VEVENT
DTSTART;TZID=America/Chicago:20231001T070000
DTEND;TZID=America/Chicago:20231001T070000
DTSTAMP:20260422T165608
CREATED:20230803T202340Z
LAST-MODIFIED:20230803T202340Z
UID:67660-1696143600-1696143600@www.minneapolisparks.org
SUMMARY:Medtronic TC Marathon & 10 Mile
DESCRIPTION:
URL:https://www.minneapolisparks.org/event-calendar/medtronic-tc-marathon-10-mile/
LOCATION:All Parkways\, Minneapolis\, MN\, 55401\, United States
CATEGORIES:Events- All,Events- Non-MPRB
END:VEVENT
END:VCALENDAR