BEGIN:VCALENDAR
VERSION:2.0
PRODID:-//Minneapolis Park &amp; Recreation Board - ECPv6.15.20//NONSGML v1.0//EN
CALSCALE:GREGORIAN
METHOD:PUBLISH
X-ORIGINAL-URL:https://www.minneapolisparks.org
X-WR-CALDESC:Events for Minneapolis Park &amp; Recreation Board
REFRESH-INTERVAL;VALUE=DURATION:PT1H
X-Robots-Tag:noindex
X-PUBLISHED-TTL:PT1H
BEGIN:VTIMEZONE
TZID:America/Chicago
BEGIN:DAYLIGHT
TZOFFSETFROM:-0600
TZOFFSETTO:-0500
TZNAME:CDT
DTSTART:20230312T080000
END:DAYLIGHT
BEGIN:STANDARD
TZOFFSETFROM:-0500
TZOFFSETTO:-0600
TZNAME:CST
DTSTART:20231105T070000
END:STANDARD
BEGIN:DAYLIGHT
TZOFFSETFROM:-0600
TZOFFSETTO:-0500
TZNAME:CDT
DTSTART:20240310T080000
END:DAYLIGHT
BEGIN:STANDARD
TZOFFSETFROM:-0500
TZOFFSETTO:-0600
TZNAME:CST
DTSTART:20241103T070000
END:STANDARD
BEGIN:DAYLIGHT
TZOFFSETFROM:-0600
TZOFFSETTO:-0500
TZNAME:CDT
DTSTART:20250309T080000
END:DAYLIGHT
BEGIN:STANDARD
TZOFFSETFROM:-0500
TZOFFSETTO:-0600
TZNAME:CST
DTSTART:20251102T070000
END:STANDARD
END:VTIMEZONE
BEGIN:VEVENT
DTSTART;TZID=America/Chicago:20241207T120000
DTEND;TZID=America/Chicago:20241207T163000
DTSTAMP:20260421T224533
CREATED:20241121T194028Z
LAST-MODIFIED:20241121T194028Z
UID:78623-1733572800-1733589000@www.minneapolisparks.org
SUMMARY:Winter Pottery Sale
DESCRIPTION:Shop the winter pottery sale for cute and unique pieces to give as gifts for the holiday season!
URL:https://www.minneapolisparks.org/event-calendar/winter-pottery-sale/
LOCATION:Powderhorn Recreation Center\, Minneapolis\, MN\, United States
CATEGORIES:Events- All,Events- MPRB
GEO:44.9413282;-93.2547875
END:VEVENT
BEGIN:VEVENT
DTSTART;TZID=America/Chicago:20241219T180000
DTEND;TZID=America/Chicago:20241219T200000
DTSTAMP:20260421T224533
CREATED:20241121T193551Z
LAST-MODIFIED:20241121T193551Z
UID:78618-1734631200-1734638400@www.minneapolisparks.org
SUMMARY:Winter Solstice Celebration
DESCRIPTION:Come and join us for this Winter Solstice Celebration at Stewart Park\, in observance of the quiet and dark of winter\, the solstice. Crafts\, activities\, stories\, refreshments and time to enjoy and respect this season with friends.
URL:https://www.minneapolisparks.org/event-calendar/winter-solstice-celebration-8/
LOCATION:Stewart Recreation Center\, 2700 S 12th Ave\, Minneapolis\, MN\, United States
CATEGORIES:Events- All,Events- MPRB
GEO:44.9536734;-93.2578167
X-APPLE-STRUCTURED-LOCATION;VALUE=URI;X-ADDRESS=Stewart Recreation Center 2700 S 12th Ave Minneapolis MN United States;X-APPLE-RADIUS=500;X-TITLE=2700 S 12th Ave:geo:-93.2578167,44.9536734
END:VEVENT
BEGIN:VEVENT
DTSTART;TZID=America/Chicago:20241219T190000
DTEND;TZID=America/Chicago:20241219T203000
DTSTAMP:20260421T224533
CREATED:20241121T194302Z
LAST-MODIFIED:20241121T194322Z
UID:78625-1734634800-1734640200@www.minneapolisparks.org
SUMMARY:Community Sing-A-Long
DESCRIPTION:Join us for an enchanting evening of melodies and memories at our Sing-Along Night featuring the exceptionally talented pianist\, Dan Chouinard! Get ready to let your voices soar as we gather around the piano for a heartwarming musical journey. Whether you’re a seasoned vocalist or simply love to hum along\, this event promises something special for everyone. \nBring your friends\, family\, and a song in your heart as we come together to celebrate the joy of music. This isn’t just a concert; it’s an interactive experience where every voice adds to the magic! So\, mark your calendars\, dust off those vocal cords\, and join us for a night of harmonious bliss with Dan Chouinard at the piano. Let’s make memories through music that will last a lifetime! Lyrics are projected onto a screen.
URL:https://www.minneapolisparks.org/event-calendar/community-sing-a-long/
LOCATION:Loring Community Arts Center\, Minneapolis\, MN\, United States
CATEGORIES:Events- All,Events- MPRB
GEO:44.9689767;-93.2818269
END:VEVENT
BEGIN:VEVENT
DTSTART;TZID=America/Chicago:20241221T130000
DTEND;TZID=America/Chicago:20241221T160000
DTSTAMP:20260421T224533
CREATED:20241121T192931Z
LAST-MODIFIED:20241121T193004Z
UID:78612-1734786000-1734796800@www.minneapolisparks.org
SUMMARY:Winter Whirl
DESCRIPTION:Join us for an afternoon of winter fun\, fire pits\, hot cocoa\, activities in the gym\, and much more at Winter Whirl!
URL:https://www.minneapolisparks.org/event-calendar/winter-whirl/
LOCATION:Phelps Field Park\, 701 E 39th St\, Minneapolis\, MN\, 55407\, United States
CATEGORIES:Events- All,Events- MPRB
GEO:44.9320116;-93.2633132
X-APPLE-STRUCTURED-LOCATION;VALUE=URI;X-ADDRESS=Phelps Field Park 701 E 39th St Minneapolis MN 55407 United States;X-APPLE-RADIUS=500;X-TITLE=701 E 39th St:geo:-93.2633132,44.9320116
END:VEVENT
BEGIN:VEVENT
DTSTART;TZID=America/Chicago:20241221T180000
DTEND;TZID=America/Chicago:20241221T210000
DTSTAMP:20260421T224533
CREATED:20241121T193329Z
LAST-MODIFIED:20241121T193329Z
UID:78615-1734804000-1734814800@www.minneapolisparks.org
SUMMARY:Winter Solstice Celebration
DESCRIPTION:Rejoice the coming of longer days with an evening of celestial fun. Join us at the Winter Solstice Celebration. Take a nature walk along a glowing luminary trail\, then make your own luminary to bring home. Play winter themed games and enjoy the warmth of a bonfire.
URL:https://www.minneapolisparks.org/event-calendar/winter-solstice-celebration-7/
LOCATION:Carl W. Kroening Nature Center\, 4900 Mississippi Court\, Minneapolis\, MN\, 55430\, United States
CATEGORIES:Events- All,Events- MPRB
GEO:45.0480936;-93.2831006
X-APPLE-STRUCTURED-LOCATION;VALUE=URI;X-ADDRESS=Carl W. Kroening Nature Center 4900 Mississippi Court Minneapolis MN 55430 United States;X-APPLE-RADIUS=500;X-TITLE=4900 Mississippi Court:geo:-93.2831006,45.0480936
END:VEVENT
BEGIN:VEVENT
DTSTART;TZID=America/Chicago:20241230T160000
DTEND;TZID=America/Chicago:20241230T180000
DTSTAMP:20260421T224533
CREATED:20241121T193823Z
LAST-MODIFIED:20241121T193823Z
UID:78621-1735574400-1735581600@www.minneapolisparks.org
SUMMARY:New Years Eve Family Skate Party
DESCRIPTION:New Years Eve Party!! Come join Upper Northeast Parks\, your neighbors and friends as we celebrate the last night of the year. Popcorn\, Lemonade & Fire Pit with Smores Station. Music\, Loaner skates and sleds will be available. Registration is not required.
URL:https://www.minneapolisparks.org/event-calendar/new-years-eve-family-skate-party-2/
LOCATION:Windom Northeast Recreation Center\, 2251 NE Hayes St\, Minneapolis\, MN\, 55418\, United States
CATEGORIES:Events- All,Events- MPRB
GEO:45.0112229;-93.2342613
X-APPLE-STRUCTURED-LOCATION;VALUE=URI;X-ADDRESS=Windom Northeast Recreation Center 2251 NE Hayes St Minneapolis MN 55418 United States;X-APPLE-RADIUS=500;X-TITLE=2251 NE Hayes St:geo:-93.2342613,45.0112229
END:VEVENT
END:VCALENDAR