BEGIN:VCALENDAR
VERSION:2.0
PRODID:-//Minneapolis Park &amp; Recreation Board - ECPv6.15.20//NONSGML v1.0//EN
CALSCALE:GREGORIAN
METHOD:PUBLISH
X-WR-CALNAME:Minneapolis Park &amp; Recreation Board
X-ORIGINAL-URL:https://www.minneapolisparks.org
X-WR-CALDESC:Events for Minneapolis Park &amp; Recreation Board
REFRESH-INTERVAL;VALUE=DURATION:PT1H
X-Robots-Tag:noindex
X-PUBLISHED-TTL:PT1H
BEGIN:VTIMEZONE
TZID:America/Chicago
BEGIN:DAYLIGHT
TZOFFSETFROM:-0600
TZOFFSETTO:-0500
TZNAME:CDT
DTSTART:20230312T080000
END:DAYLIGHT
BEGIN:STANDARD
TZOFFSETFROM:-0500
TZOFFSETTO:-0600
TZNAME:CST
DTSTART:20231105T070000
END:STANDARD
BEGIN:DAYLIGHT
TZOFFSETFROM:-0600
TZOFFSETTO:-0500
TZNAME:CDT
DTSTART:20240310T080000
END:DAYLIGHT
BEGIN:STANDARD
TZOFFSETFROM:-0500
TZOFFSETTO:-0600
TZNAME:CST
DTSTART:20241103T070000
END:STANDARD
BEGIN:DAYLIGHT
TZOFFSETFROM:-0600
TZOFFSETTO:-0500
TZNAME:CDT
DTSTART:20250309T080000
END:DAYLIGHT
BEGIN:STANDARD
TZOFFSETFROM:-0500
TZOFFSETTO:-0600
TZNAME:CST
DTSTART:20251102T070000
END:STANDARD
END:VTIMEZONE
BEGIN:VEVENT
DTSTART;TZID=America/Chicago:20241224T090000
DTEND;TZID=America/Chicago:20241224T123000
DTSTAMP:20260421T192203
CREATED:20241122T204005Z
LAST-MODIFIED:20241122T204005Z
UID:78879-1735030800-1735043400@www.minneapolisparks.org
SUMMARY:PreK Winter Break Camp: 1st Week!
DESCRIPTION:Bring your PreK child to Painter Park and they will create homemade gifts to give for the holiday season in this Winter Break art camp! Register today! \nThis camp is a collaboration with ARTrageous Adventures a local children’s art studio and gallery.
URL:https://www.minneapolisparks.org/event-calendar/prek-winter-break-camp-1st-week/2024-12-24/
CATEGORIES:Events- All,Events- MPRB
END:VEVENT
BEGIN:VEVENT
DTSTART;TZID=America/Chicago:20241223T090000
DTEND;TZID=America/Chicago:20241223T123000
DTSTAMP:20260421T192203
CREATED:20241122T204005Z
LAST-MODIFIED:20241122T204447Z
UID:78874-1734944400-1734957000@www.minneapolisparks.org
SUMMARY:PreK Winter Break Camp: 1st Week!
DESCRIPTION:Bring your PreK child to Painter Park and they will create homemade gifts to give for the holiday season in this Winter Break art camp! Register today! \nThis camp is a collaboration with ARTrageous Adventures a local children’s art studio and gallery.
URL:https://www.minneapolisparks.org/event-calendar/prek-winter-break-camp-1st-week/2024-12-23/
CATEGORIES:Events- All,Events- MPRB
END:VEVENT
END:VCALENDAR