BEGIN:VCALENDAR
VERSION:2.0
PRODID:-//Minneapolis Park &amp; Recreation Board - ECPv6.15.20//NONSGML v1.0//EN
CALSCALE:GREGORIAN
METHOD:PUBLISH
X-WR-CALNAME:Minneapolis Park &amp; Recreation Board
X-ORIGINAL-URL:https://www.minneapolisparks.org
X-WR-CALDESC:Events for Minneapolis Park &amp; Recreation Board
REFRESH-INTERVAL;VALUE=DURATION:PT1H
X-Robots-Tag:noindex
X-PUBLISHED-TTL:PT1H
BEGIN:VTIMEZONE
TZID:America/Chicago
BEGIN:DAYLIGHT
TZOFFSETFROM:-0600
TZOFFSETTO:-0500
TZNAME:CDT
DTSTART:20240310T080000
END:DAYLIGHT
BEGIN:STANDARD
TZOFFSETFROM:-0500
TZOFFSETTO:-0600
TZNAME:CST
DTSTART:20241103T070000
END:STANDARD
BEGIN:DAYLIGHT
TZOFFSETFROM:-0600
TZOFFSETTO:-0500
TZNAME:CDT
DTSTART:20250309T080000
END:DAYLIGHT
BEGIN:STANDARD
TZOFFSETFROM:-0500
TZOFFSETTO:-0600
TZNAME:CST
DTSTART:20251102T070000
END:STANDARD
BEGIN:DAYLIGHT
TZOFFSETFROM:-0600
TZOFFSETTO:-0500
TZNAME:CDT
DTSTART:20260308T080000
END:DAYLIGHT
BEGIN:STANDARD
TZOFFSETFROM:-0500
TZOFFSETTO:-0600
TZNAME:CST
DTSTART:20261101T070000
END:STANDARD
END:VTIMEZONE
BEGIN:VEVENT
DTSTART;TZID=America/Chicago:20251214T100000
DTEND;TZID=America/Chicago:20251214T160000
DTSTAMP:20260421T175127
CREATED:20250724T201701Z
LAST-MODIFIED:20251028T184224Z
UID:84354-1765706400-1765728000@www.minneapolisparks.org
SUMMARY:Nicollet Island Winter Market
DESCRIPTION:Join Us for the Nicollet Island Winter Market! \nDon’t miss the Nicollet Island Winter Market on Saturday and Sunday\, December 13 and 14\, from 10 am to 4 pm! It’s the perfect destination for your last-minute holiday shopping\, featuring a fantastic selection of gifts and festive fun. \nExplore a unique array of offerings\, from upcycled lamps and fair trade clothing to handcrafted jewelry and stunning local arts\, pottery\, and fresh flowers. Discover special gifts that tell a story and make your holiday season unforgettable. \nEnjoy festive holiday libations and live music that will keep you in the spirit of the season as you shop. Whether you’re searching for a one-of-a-kind present or just want to soak in the holiday cheer\, the Nicollet Island Winter Market has something for everyone! \nBring your family and friends and experience the magic of the holiday season with us!
URL:https://www.minneapolisparks.org/event-calendar/nicollet-island-winter-market-2/2025-12-14/
LOCATION:Nicollet Island Pavilion\, 40 Power St\, Minneapolis\, MN\, 55401\, United States
CATEGORIES:Events- All,Events- MPRB
GEO:44.9847316;-93.2600873
X-APPLE-STRUCTURED-LOCATION;VALUE=URI;X-ADDRESS=Nicollet Island Pavilion 40 Power St Minneapolis MN 55401 United States;X-APPLE-RADIUS=500;X-TITLE=40 Power St:geo:-93.2600873,44.9847316
END:VEVENT
BEGIN:VEVENT
DTSTART;TZID=America/Chicago:20251213T100000
DTEND;TZID=America/Chicago:20251213T160000
DTSTAMP:20260421T175127
CREATED:20250724T201701Z
LAST-MODIFIED:20251028T184223Z
UID:84352-1765620000-1765641600@www.minneapolisparks.org
SUMMARY:Nicollet Island Winter Market
DESCRIPTION:Join Us for the Nicollet Island Winter Market! \nDon’t miss the Nicollet Island Winter Market on Saturday and Sunday\, December 13 and 14\, from 10 am to 4 pm! It’s the perfect destination for your last-minute holiday shopping\, featuring a fantastic selection of gifts and festive fun. \nExplore a unique array of offerings\, from upcycled lamps and fair trade clothing to handcrafted jewelry and stunning local arts\, pottery\, and fresh flowers. Discover special gifts that tell a story and make your holiday season unforgettable. \nEnjoy festive holiday libations and live music that will keep you in the spirit of the season as you shop. Whether you’re searching for a one-of-a-kind present or just want to soak in the holiday cheer\, the Nicollet Island Winter Market has something for everyone! \nBring your family and friends and experience the magic of the holiday season with us!
URL:https://www.minneapolisparks.org/event-calendar/nicollet-island-winter-market-2/2025-12-13/
LOCATION:Nicollet Island Pavilion\, 40 Power St\, Minneapolis\, MN\, 55401\, United States
CATEGORIES:Events- All,Events- MPRB
GEO:44.9847316;-93.2600873
X-APPLE-STRUCTURED-LOCATION;VALUE=URI;X-ADDRESS=Nicollet Island Pavilion 40 Power St Minneapolis MN 55401 United States;X-APPLE-RADIUS=500;X-TITLE=40 Power St:geo:-93.2600873,44.9847316
END:VEVENT
END:VCALENDAR