BEGIN:VCALENDAR
VERSION:2.0
PRODID:-//Minneapolis Park &amp; Recreation Board - ECPv6.15.20//NONSGML v1.0//EN
CALSCALE:GREGORIAN
METHOD:PUBLISH
X-ORIGINAL-URL:https://www.minneapolisparks.org
X-WR-CALDESC:Events for Minneapolis Park &amp; Recreation Board
REFRESH-INTERVAL;VALUE=DURATION:PT1H
X-Robots-Tag:noindex
X-PUBLISHED-TTL:PT1H
BEGIN:VTIMEZONE
TZID:America/Chicago
BEGIN:DAYLIGHT
TZOFFSETFROM:-0600
TZOFFSETTO:-0500
TZNAME:CDT
DTSTART:20230312T080000
END:DAYLIGHT
BEGIN:STANDARD
TZOFFSETFROM:-0500
TZOFFSETTO:-0600
TZNAME:CST
DTSTART:20231105T070000
END:STANDARD
BEGIN:DAYLIGHT
TZOFFSETFROM:-0600
TZOFFSETTO:-0500
TZNAME:CDT
DTSTART:20240310T080000
END:DAYLIGHT
BEGIN:STANDARD
TZOFFSETFROM:-0500
TZOFFSETTO:-0600
TZNAME:CST
DTSTART:20241103T070000
END:STANDARD
BEGIN:DAYLIGHT
TZOFFSETFROM:-0600
TZOFFSETTO:-0500
TZNAME:CDT
DTSTART:20250309T080000
END:DAYLIGHT
BEGIN:STANDARD
TZOFFSETFROM:-0500
TZOFFSETTO:-0600
TZNAME:CST
DTSTART:20251102T070000
END:STANDARD
END:VTIMEZONE
BEGIN:VEVENT
DTSTART;TZID=America/Chicago:20240401T123000
DTEND;TZID=America/Chicago:20240401T163000
DTSTAMP:20260422T034814
CREATED:20240402T153455Z
LAST-MODIFIED:20240402T153455Z
UID:72797-1711974600-1711989000@www.minneapolisparks.org
SUMMARY:Neighborhood Day Camps: School Release - Theater
DESCRIPTION:Registration Link
URL:https://www.minneapolisparks.org/event-calendar/neighborhood-day-camps-school-release-theater/2024-04-01/
LOCATION:Painter Recreation Center\, 620 W 34th St\, Minneapolis\, MN\, 55408\, United States
CATEGORIES:Events- All,Events- MPRB
GEO:44.9416634;-93.2876806
X-APPLE-STRUCTURED-LOCATION;VALUE=URI;X-ADDRESS=Painter Recreation Center 620 W 34th St Minneapolis MN 55408 United States;X-APPLE-RADIUS=500;X-TITLE=620 W 34th St:geo:-93.2876806,44.9416634
END:VEVENT
END:VCALENDAR