BEGIN:VCALENDAR
VERSION:2.0
PRODID:-//Minneapolis Park &amp; Recreation Board - ECPv6.15.20//NONSGML v1.0//EN
CALSCALE:GREGORIAN
METHOD:PUBLISH
X-WR-CALNAME:Minneapolis Park &amp; Recreation Board
X-ORIGINAL-URL:https://www.minneapolisparks.org
X-WR-CALDESC:Events for Minneapolis Park &amp; Recreation Board
REFRESH-INTERVAL;VALUE=DURATION:PT1H
X-Robots-Tag:noindex
X-PUBLISHED-TTL:PT1H
BEGIN:VTIMEZONE
TZID:America/Chicago
BEGIN:DAYLIGHT
TZOFFSETFROM:-0600
TZOFFSETTO:-0500
TZNAME:CDT
DTSTART:20180311T080000
END:DAYLIGHT
BEGIN:STANDARD
TZOFFSETFROM:-0500
TZOFFSETTO:-0600
TZNAME:CST
DTSTART:20181104T070000
END:STANDARD
BEGIN:DAYLIGHT
TZOFFSETFROM:-0600
TZOFFSETTO:-0500
TZNAME:CDT
DTSTART:20190310T080000
END:DAYLIGHT
BEGIN:STANDARD
TZOFFSETFROM:-0500
TZOFFSETTO:-0600
TZNAME:CST
DTSTART:20191103T070000
END:STANDARD
BEGIN:DAYLIGHT
TZOFFSETFROM:-0600
TZOFFSETTO:-0500
TZNAME:CDT
DTSTART:20200308T080000
END:DAYLIGHT
BEGIN:STANDARD
TZOFFSETFROM:-0500
TZOFFSETTO:-0600
TZNAME:CST
DTSTART:20201101T070000
END:STANDARD
END:VTIMEZONE
BEGIN:VEVENT
DTSTART;TZID=America/Chicago:20190622T090000
DTEND;TZID=America/Chicago:20190622T090000
DTSTAMP:20260422T140942
CREATED:20191216T183440Z
LAST-MODIFIED:20191216T183440Z
UID:39944-1561194000-1561194000@www.minneapolisparks.org
SUMMARY:Adventures in Cardboard
DESCRIPTION:
URL:https://www.minneapolisparks.org/event-calendar/adventures-in-cardboard-23/
LOCATION:Theo Wirth Pavilion\, 3275 Glenwood Ave\, Minneapolis\, MN\, 55405\, United States
CATEGORIES:Events- Non-MPRB
GEO:44.9797382;-93.3231161
X-APPLE-STRUCTURED-LOCATION;VALUE=URI;X-ADDRESS=Theo Wirth Pavilion 3275 Glenwood Ave Minneapolis MN 55405 United States;X-APPLE-RADIUS=500;X-TITLE=3275 Glenwood Ave:geo:-93.3231161,44.9797382
END:VEVENT
BEGIN:VEVENT
DTSTART;TZID=America/Chicago:20190622T090000
DTEND;TZID=America/Chicago:20190622T120000
DTSTAMP:20260422T140942
CREATED:20191216T183440Z
LAST-MODIFIED:20191216T183440Z
UID:39943-1561194000-1561204800@www.minneapolisparks.org
SUMMARY:Preferred Concept Site Visits
DESCRIPTION:Visit key sites with the most complexity\, preferred concepts in hand\, in order to better understand the designs. We will meet at the sites on the hour\, with Lynnhurst at 9:00\, Nicollet Bridge at 10:00\, and Parkway/Portland at 11:00. \nA series of on-site conversations about aspects of the Minnehaha Parkway Regional Trail Master Plan. Meeting on site is a good way to look at the proposals with a literal view of real world conditions. These brief visits are meant to answer questions and clarify the design proposals. \nMore InformationGet Directions
URL:https://www.minneapolisparks.org/event-calendar/preferred-concept-site-visits/
LOCATION:Lynnhurst Recreation Center; Minnehaha Parkway under the Nicollet Avenue Bridge; Minnehaha Parkway and Portland Avenue (\, 1345 W Minnehaha Parkway\, Minneapolis\, MN\, 55419\, United States
CATEGORIES:Public Meetings
GEO:44.9118382;-93.2986289
X-APPLE-STRUCTURED-LOCATION;VALUE=URI;X-ADDRESS=Lynnhurst Recreation Center; Minnehaha Parkway under the Nicollet Avenue Bridge; Minnehaha Parkway and Portland Avenue ( 1345 W Minnehaha Parkway Minneapolis MN 55419 United States;X-APPLE-RADIUS=500;X-TITLE=1345 W Minnehaha Parkway:geo:-93.2986289,44.9118382
END:VEVENT
BEGIN:VEVENT
DTSTART;TZID=America/Chicago:20190622T100000
DTEND;TZID=America/Chicago:20190622T100000
DTSTAMP:20260422T140942
CREATED:20191216T183441Z
LAST-MODIFIED:20191216T183441Z
UID:39945-1561197600-1561197600@www.minneapolisparks.org
SUMMARY:Twin Cities Pride
DESCRIPTION:Get Directions
URL:https://www.minneapolisparks.org/event-calendar/twin-cities-pride-5/
LOCATION:Loring Park\, Loring Park\, Minneapolis\, MN\, 55403\, United States
CATEGORIES:Events- Non-MPRB
GEO:44.9649915;-93.2854596
X-APPLE-STRUCTURED-LOCATION;VALUE=URI;X-ADDRESS=Loring Park Loring Park Minneapolis MN 55403 United States;X-APPLE-RADIUS=500;X-TITLE=Loring Park:geo:-93.2854596,44.9649915
END:VEVENT
BEGIN:VEVENT
DTSTART;TZID=America/Chicago:20190622T193000
DTEND;TZID=America/Chicago:20190622T193000
DTSTAMP:20260422T140942
CREATED:20191216T183441Z
LAST-MODIFIED:20191216T183441Z
UID:39946-1561231800-1561231800@www.minneapolisparks.org
SUMMARY:Twin Cities Mobile Jazz Project
DESCRIPTION:improvisational jazz\, family friendly
URL:https://www.minneapolisparks.org/event-calendar/twin-cities-mobile-jazz-project-5/
LOCATION:Lake Harriet Bandshell\, Minneapolis\, MN\, United States
CATEGORIES:Music in the Parks
GEO:44.927901;-93.3082473
END:VEVENT
BEGIN:VEVENT
DTSTART;TZID=America/Chicago:20190622T211500
DTEND;TZID=America/Chicago:20190622T211500
DTSTAMP:20260422T140942
CREATED:20191216T183442Z
LAST-MODIFIED:20191216T183442Z
UID:39947-1561238100-1561238100@www.minneapolisparks.org
SUMMARY:Spiderman: Into the Spider-verse   Spanish Subtitles
DESCRIPTION:Movie starts 15 minutes after sunset
URL:https://www.minneapolisparks.org/event-calendar/spiderman-into-the-spider-verse-spanish-subtitles/
LOCATION:Bryant Sqaure\, 3101 Bryant Ave S\, Minneapolis\, MN\, 55408\, United States
CATEGORIES:Movies in the Parks
GEO:44.9460925;-93.2919284
X-APPLE-STRUCTURED-LOCATION;VALUE=URI;X-ADDRESS=Bryant Sqaure 3101 Bryant Ave S Minneapolis MN 55408 United States;X-APPLE-RADIUS=500;X-TITLE=3101 Bryant Ave S:geo:-93.2919284,44.9460925
END:VEVENT
BEGIN:VEVENT
DTSTART;TZID=America/Chicago:20190623T080000
DTEND;TZID=America/Chicago:20190623T080000
DTSTAMP:20260422T140942
CREATED:20191216T183442Z
LAST-MODIFIED:20191216T183442Z
UID:39948-1561276800-1561276800@www.minneapolisparks.org
SUMMARY:TC Pride Rainbow Run
DESCRIPTION:Get Directions
URL:https://www.minneapolisparks.org/event-calendar/tc-pride-rainbow-run-3/
LOCATION:Boom Island Park\, 724 Sibley Street NE\, Minneapolis\, MN\, 55413\, United States
CATEGORIES:Events- Non-MPRB
GEO:44.9927434;-93.2692589
X-APPLE-STRUCTURED-LOCATION;VALUE=URI;X-ADDRESS=Boom Island Park 724 Sibley Street NE Minneapolis MN 55413 United States;X-APPLE-RADIUS=500;X-TITLE=724 Sibley Street NE:geo:-93.2692589,44.9927434
END:VEVENT
BEGIN:VEVENT
DTSTART;TZID=America/Chicago:20190623T090000
DTEND;TZID=America/Chicago:20190623T090000
DTSTAMP:20260422T140942
CREATED:20191216T183442Z
LAST-MODIFIED:20191216T183442Z
UID:39949-1561280400-1561280400@www.minneapolisparks.org
SUMMARY:Adventures in Cardboard
DESCRIPTION:
URL:https://www.minneapolisparks.org/event-calendar/adventures-in-cardboard-24/
LOCATION:Theo Wirth Pavilion\, 3275 Glenwood Ave\, Minneapolis\, MN\, 55405\, United States
CATEGORIES:Events- Non-MPRB
GEO:44.9797382;-93.3231161
X-APPLE-STRUCTURED-LOCATION;VALUE=URI;X-ADDRESS=Theo Wirth Pavilion 3275 Glenwood Ave Minneapolis MN 55405 United States;X-APPLE-RADIUS=500;X-TITLE=3275 Glenwood Ave:geo:-93.3231161,44.9797382
END:VEVENT
BEGIN:VEVENT
DTSTART;TZID=America/Chicago:20190623T100000
DTEND;TZID=America/Chicago:20190623T100000
DTSTAMP:20260422T140942
CREATED:20191216T183443Z
LAST-MODIFIED:20191216T183443Z
UID:39951-1561284000-1561284000@www.minneapolisparks.org
SUMMARY:Twin Cities Pride
DESCRIPTION:Get Directions
URL:https://www.minneapolisparks.org/event-calendar/twin-cities-pride-6/
LOCATION:Loring Park\, Loring Park\, Minneapolis\, MN\, 55403\, United States
CATEGORIES:Events- Non-MPRB
GEO:44.9649915;-93.2854596
X-APPLE-STRUCTURED-LOCATION;VALUE=URI;X-ADDRESS=Loring Park Loring Park Minneapolis MN 55403 United States;X-APPLE-RADIUS=500;X-TITLE=Loring Park:geo:-93.2854596,44.9649915
END:VEVENT
BEGIN:VEVENT
DTSTART;TZID=America/Chicago:20190623T100000
DTEND;TZID=America/Chicago:20190623T100000
DTSTAMP:20260422T140942
CREATED:20191216T183442Z
LAST-MODIFIED:20191216T183442Z
UID:39950-1561284000-1561284000@www.minneapolisparks.org
SUMMARY:Scandinavian Summer Fest
DESCRIPTION:Get Directions
URL:https://www.minneapolisparks.org/event-calendar/scandinavian-summer-fest-3/
LOCATION:Minnehaha Regional Park\, 4801 South Minnehaha Drive\, Minneapolis\, MN\, 55417\, United States
CATEGORIES:Events- Non-MPRB
GEO:44.9161006;-93.2109865
X-APPLE-STRUCTURED-LOCATION;VALUE=URI;X-ADDRESS=Minnehaha Regional Park 4801 South Minnehaha Drive Minneapolis MN 55417 United States;X-APPLE-RADIUS=500;X-TITLE=4801 South Minnehaha Drive:geo:-93.2109865,44.9161006
END:VEVENT
BEGIN:VEVENT
DTSTART;TZID=America/Chicago:20190623T120000
DTEND;TZID=America/Chicago:20190623T160000
DTSTAMP:20260422T140942
CREATED:20191216T183444Z
LAST-MODIFIED:20191216T183444Z
UID:39952-1561291200-1561305600@www.minneapolisparks.org
SUMMARY:Theodore Wirth Home and Office – Free Guided Tour
DESCRIPTION:Public tours by the Minneapolis Parks Legacy Society one Sunday each month; call 612-275-8884 or email JoanBerthiaume@msn.com. \nMore InformationGet Directions
URL:https://www.minneapolisparks.org/event-calendar/theodore-wirth-home-and-office-free-guided-tour-2/
LOCATION:Lyndale Farmstead Park\, 3900 Bryant Ave S\, Minneapolis\, MN\, 55409\, United States
CATEGORIES:Events- MPRB
GEO:44.9321181;-93.2914154
X-APPLE-STRUCTURED-LOCATION;VALUE=URI;X-ADDRESS=Lyndale Farmstead Park 3900 Bryant Ave S Minneapolis MN 55409 United States;X-APPLE-RADIUS=500;X-TITLE=3900 Bryant Ave S:geo:-93.2914154,44.9321181
END:VEVENT
BEGIN:VEVENT
DTSTART;TZID=America/Chicago:20190623T130000
DTEND;TZID=America/Chicago:20190623T170000
DTSTAMP:20260422T140942
CREATED:20191216T183444Z
LAST-MODIFIED:20191216T183444Z
UID:39953-1561294800-1561309200@www.minneapolisparks.org
SUMMARY:Summer Fest
DESCRIPTION:It is time to celebrate the summer! Join us for a day full of family fun\, cultural entertainment\, resource tables\, and delicious food for sale. There will be a bounce house and inflatable slide\,activities for the youth through the day\, and a stage full of entertainment. Bring your family and friends for the day at East Phillips! \nGet Directions
URL:https://www.minneapolisparks.org/event-calendar/summer-fest-2/
LOCATION:East Phillips Park\, 2399 S 17th Ave\, Minneapolis\, MN\, 55404\, United States
CATEGORIES:Events- MPRB
GEO:44.9592105;-93.2497216
X-APPLE-STRUCTURED-LOCATION;VALUE=URI;X-ADDRESS=East Phillips Park 2399 S 17th Ave Minneapolis MN 55404 United States;X-APPLE-RADIUS=500;X-TITLE=2399 S 17th Ave:geo:-93.2497216,44.9592105
END:VEVENT
BEGIN:VEVENT
DTSTART;TZID=America/Chicago:20190623T140000
DTEND;TZID=America/Chicago:20190623T140000
DTSTAMP:20260422T140942
CREATED:20191216T183444Z
LAST-MODIFIED:20191216T183444Z
UID:39954-1561298400-1561298400@www.minneapolisparks.org
SUMMARY:Plymouth Concert Band
DESCRIPTION:plymouth band celebrating 20 years
URL:https://www.minneapolisparks.org/event-calendar/plymouth-concert-band-3/
LOCATION:Lake Harriet Bandshell\, Minneapolis\, MN\, United States
CATEGORIES:Music in the Parks
GEO:44.927901;-93.3082473
END:VEVENT
BEGIN:VEVENT
DTSTART;TZID=America/Chicago:20190623T173000
DTEND;TZID=America/Chicago:20190623T173000
DTSTAMP:20260422T140942
CREATED:20191216T183444Z
LAST-MODIFIED:20191216T183444Z
UID:39955-1561311000-1561311000@www.minneapolisparks.org
SUMMARY:Charanga Tropical
DESCRIPTION:cuban styled salsa with strings
URL:https://www.minneapolisparks.org/event-calendar/charanga-tropical-2/
LOCATION:Lake Harriet Bandshell\, Minneapolis\, MN\, United States
CATEGORIES:Music in the Parks
GEO:44.927901;-93.3082473
END:VEVENT
BEGIN:VEVENT
DTSTART;TZID=America/Chicago:20190624T090000
DTEND;TZID=America/Chicago:20190624T090000
DTSTAMP:20260422T140942
CREATED:20191216T183445Z
LAST-MODIFIED:20191216T183445Z
UID:39956-1561366800-1561366800@www.minneapolisparks.org
SUMMARY:Adventures in Cardboard
DESCRIPTION:
URL:https://www.minneapolisparks.org/event-calendar/adventures-in-cardboard-25/
LOCATION:Theo Wirth Pavilion\, 3275 Glenwood Ave\, Minneapolis\, MN\, 55405\, United States
CATEGORIES:Events- Non-MPRB
GEO:44.9797382;-93.3231161
X-APPLE-STRUCTURED-LOCATION;VALUE=URI;X-ADDRESS=Theo Wirth Pavilion 3275 Glenwood Ave Minneapolis MN 55405 United States;X-APPLE-RADIUS=500;X-TITLE=3275 Glenwood Ave:geo:-93.3231161,44.9797382
END:VEVENT
BEGIN:VEVENT
DTSTART;TZID=America/Chicago:20190624T190000
DTEND;TZID=America/Chicago:20190624T190000
DTSTAMP:20260422T140942
CREATED:20191216T183445Z
LAST-MODIFIED:20191216T183445Z
UID:39957-1561402800-1561402800@www.minneapolisparks.org
SUMMARY:Ragged But Right
DESCRIPTION:celebrating the Jerry Garcia Band
URL:https://www.minneapolisparks.org/event-calendar/ragged-but-right/
LOCATION:Nicollet Island\, Nicollet Island\, Minneapolis\, MN\, 55401\, United States
CATEGORIES:Music in the Parks
GEO:44.9874602;-93.2648511
X-APPLE-STRUCTURED-LOCATION;VALUE=URI;X-ADDRESS=Nicollet Island Nicollet Island Minneapolis MN 55401 United States;X-APPLE-RADIUS=500;X-TITLE=Nicollet Island:geo:-93.2648511,44.9874602
END:VEVENT
BEGIN:VEVENT
DTSTART;TZID=America/Chicago:20190624T193000
DTEND;TZID=America/Chicago:20190624T193000
DTSTAMP:20260422T140942
CREATED:20191216T183446Z
LAST-MODIFIED:20191216T183446Z
UID:39958-1561404600-1561404600@www.minneapolisparks.org
SUMMARY:Lila Ammons Jazz Group
DESCRIPTION:engaging\, versatile\, informative\, fun\, classic
URL:https://www.minneapolisparks.org/event-calendar/lila-ammons-jazz-group/
LOCATION:Lake Harriet Bandshell\, Minneapolis\, MN\, United States
CATEGORIES:Music in the Parks
GEO:44.927901;-93.3082473
END:VEVENT
BEGIN:VEVENT
DTSTART;TZID=America/Chicago:20190624T211500
DTEND;TZID=America/Chicago:20190624T211500
DTSTAMP:20260422T140942
CREATED:20191216T183446Z
LAST-MODIFIED:20191216T183446Z
UID:39959-1561410900-1561410900@www.minneapolisparks.org
SUMMARY:Ralph Breaks the Internet.
DESCRIPTION:Movie starts 15 minutes after sunset
URL:https://www.minneapolisparks.org/event-calendar/ralph-breaks-the-internet/
LOCATION:Audobon\, 1320 29th Ave NE\, Minneapolis\, MN\, 55418\, United States
CATEGORIES:Movies in the Parks
GEO:45.0192649;-93.2415519
X-APPLE-STRUCTURED-LOCATION;VALUE=URI;X-ADDRESS=Audobon 1320 29th Ave NE Minneapolis MN 55418 United States;X-APPLE-RADIUS=500;X-TITLE=1320 29th Ave NE:geo:-93.2415519,45.0192649
END:VEVENT
BEGIN:VEVENT
DTSTART;TZID=America/Chicago:20190625T090000
DTEND;TZID=America/Chicago:20190625T090000
DTSTAMP:20260422T140942
CREATED:20191216T183446Z
LAST-MODIFIED:20191216T183446Z
UID:39960-1561453200-1561453200@www.minneapolisparks.org
SUMMARY:Adventures in Cardboard
DESCRIPTION:
URL:https://www.minneapolisparks.org/event-calendar/adventures-in-cardboard-26/
LOCATION:Theo Wirth Pavilion\, 3275 Glenwood Ave\, Minneapolis\, MN\, 55405\, United States
CATEGORIES:Events- Non-MPRB
GEO:44.9797382;-93.3231161
X-APPLE-STRUCTURED-LOCATION;VALUE=URI;X-ADDRESS=Theo Wirth Pavilion 3275 Glenwood Ave Minneapolis MN 55405 United States;X-APPLE-RADIUS=500;X-TITLE=3275 Glenwood Ave:geo:-93.3231161,44.9797382
END:VEVENT
BEGIN:VEVENT
DTSTART;TZID=America/Chicago:20190625T170000
DTEND;TZID=America/Chicago:20190625T180000
DTSTAMP:20260422T140942
CREATED:20191216T183448Z
LAST-MODIFIED:20191216T183448Z
UID:39961-1561482000-1561485600@www.minneapolisparks.org
SUMMARY:Lynnhurst Area Subcommittee Meeting #2
DESCRIPTION:During this meeting\, a few members from both the Minnehaha Parkway Regional Trail Master Plan and SW Service Area Master Plan Community Advisory Committees (CAC) will review and discuss the preferred park concept design for Lynnhurst Park and the surrounding area. The goal of this subcommittee is to provide design guidance to staff and bring recommendations back to the full CACs for each project. Additional information can be found on each project page: www.minneapolisparks.org/minnehahacreek  or www.minneapolisparks.org/sw   \nGet Directions
URL:https://www.minneapolisparks.org/event-calendar/lynnhurst-area-subcommittee-meeting-2/
LOCATION:Fuller Recreation Center\, 4802 Grand Ave S\, Minneapolis\, MN\, 55419\, United States
CATEGORIES:Public Meetings
GEO:44.915755;-93.28479
X-APPLE-STRUCTURED-LOCATION;VALUE=URI;X-ADDRESS=Fuller Recreation Center 4802 Grand Ave S Minneapolis MN 55419 United States;X-APPLE-RADIUS=500;X-TITLE=4802 Grand Ave S:geo:-93.28479,44.915755
END:VEVENT
BEGIN:VEVENT
DTSTART;TZID=America/Chicago:20190625T180000
DTEND;TZID=America/Chicago:20190625T200000
DTSTAMP:20260422T140942
CREATED:20191216T183448Z
LAST-MODIFIED:20191216T183448Z
UID:39962-1561485600-1561492800@www.minneapolisparks.org
SUMMARY:SW Service Area Master Plan CAC Meeting #10
DESCRIPTION:During this meeting\, Community Advisory Committee (CAC) members will review and discuss preferred park concept designs and provide recommendations to the project team for Board review. All CAC meetings are open to the public and include light refreshments and passive children’s activities. For more info\, please visit www.minneapolisparks.org/sw \nGet Directions
URL:https://www.minneapolisparks.org/event-calendar/sw-service-area-master-plan-cac-meeting-10/
LOCATION:Fuller Recreation Center\, 4802 Grand Ave S\, Minneapolis\, MN\, 55419\, United States
CATEGORIES:Public Meetings
GEO:44.915755;-93.28479
X-APPLE-STRUCTURED-LOCATION;VALUE=URI;X-ADDRESS=Fuller Recreation Center 4802 Grand Ave S Minneapolis MN 55419 United States;X-APPLE-RADIUS=500;X-TITLE=4802 Grand Ave S:geo:-93.28479,44.915755
END:VEVENT
BEGIN:VEVENT
DTSTART;TZID=America/Chicago:20190625T183000
DTEND;TZID=America/Chicago:20190625T183000
DTSTAMP:20260422T140942
CREATED:20191216T183448Z
LAST-MODIFIED:20191216T183448Z
UID:39963-1561487400-1561487400@www.minneapolisparks.org
SUMMARY:Brett LeFebvre
DESCRIPTION:rising pop/hip hop singer & guitarist
URL:https://www.minneapolisparks.org/event-calendar/brett-lefebvre/
LOCATION:Bryant Square Park\, 3101 Bryant Ave S\, Minneapolis\, MN\, 55408\, United States
CATEGORIES:Music in the Parks
GEO:44.9461045;-93.2903539
X-APPLE-STRUCTURED-LOCATION;VALUE=URI;X-ADDRESS=Bryant Square Park 3101 Bryant Ave S Minneapolis MN 55408 United States;X-APPLE-RADIUS=500;X-TITLE=3101 Bryant Ave S:geo:-93.2903539,44.9461045
END:VEVENT
BEGIN:VEVENT
DTSTART;TZID=America/Chicago:20190625T190000
DTEND;TZID=America/Chicago:20190625T190000
DTSTAMP:20260422T140942
CREATED:20191216T183448Z
LAST-MODIFIED:20191216T183448Z
UID:39964-1561489200-1561489200@www.minneapolisparks.org
SUMMARY:Grateful Red
DESCRIPTION:high energy funk horn band
URL:https://www.minneapolisparks.org/event-calendar/grateful-red-2/
LOCATION:Father Hennepin Bluff Park\, Minneapolis\, MN\, United States
CATEGORIES:Music in the Parks
GEO:44.9826582;-93.2513335
END:VEVENT
BEGIN:VEVENT
DTSTART;TZID=America/Chicago:20190625T193000
DTEND;TZID=America/Chicago:20190625T193000
DTSTAMP:20260422T140942
CREATED:20191216T183449Z
LAST-MODIFIED:20191216T183449Z
UID:39965-1561491000-1561491000@www.minneapolisparks.org
SUMMARY:Women's Drum Center with Taikollaborative
DESCRIPTION:worldbeat drumming and japanese taiko
URL:https://www.minneapolisparks.org/event-calendar/womens-drum-center-with-taikollaborative-2/
LOCATION:Lake Harriet Bandshell\, Minneapolis\, MN\, United States
CATEGORIES:Music in the Parks
GEO:44.927901;-93.3082473
END:VEVENT
BEGIN:VEVENT
DTSTART;TZID=America/Chicago:20190625T211500
DTEND;TZID=America/Chicago:20190625T211500
DTSTAMP:20260422T140942
CREATED:20191216T183449Z
LAST-MODIFIED:20191216T183449Z
UID:39966-1561497300-1561497300@www.minneapolisparks.org
SUMMARY:Twin Cities Black Film Festival Presents: MasterJam
DESCRIPTION:Movie starts 15 minutes after sunset
URL:https://www.minneapolisparks.org/event-calendar/twin-cities-black-film-festival-presents-masterjam/
LOCATION:Father Hennepin\, Minneapolis\, MN\, United States
CATEGORIES:Movies in the Parks
GEO:44.9826582;-93.2513335
END:VEVENT
BEGIN:VEVENT
DTSTART;TZID=America/Chicago:20190626T090000
DTEND;TZID=America/Chicago:20190626T090000
DTSTAMP:20260422T140942
CREATED:20191216T183450Z
LAST-MODIFIED:20191216T183450Z
UID:39967-1561539600-1561539600@www.minneapolisparks.org
SUMMARY:Adventures in Cardboard
DESCRIPTION:
URL:https://www.minneapolisparks.org/event-calendar/adventures-in-cardboard-27/
LOCATION:Theo Wirth Pavilion\, 3275 Glenwood Ave\, Minneapolis\, MN\, 55405\, United States
CATEGORIES:Events- Non-MPRB
GEO:44.9797382;-93.3231161
X-APPLE-STRUCTURED-LOCATION;VALUE=URI;X-ADDRESS=Theo Wirth Pavilion 3275 Glenwood Ave Minneapolis MN 55405 United States;X-APPLE-RADIUS=500;X-TITLE=3275 Glenwood Ave:geo:-93.3231161,44.9797382
END:VEVENT
BEGIN:VEVENT
DTSTART;TZID=America/Chicago:20190626T170000
DTEND;TZID=America/Chicago:20190626T170000
DTSTAMP:20260422T140942
CREATED:20191216T183450Z
LAST-MODIFIED:20191216T183450Z
UID:39968-1561568400-1561568400@www.minneapolisparks.org
SUMMARY:Board Meeting
DESCRIPTION:
URL:https://www.minneapolisparks.org/event-calendar/board-meeting-66/
LOCATION:Mary Merrill Minneapolis Park & Recreation Board Headquarters\, 2117 West River Road N\, Minneapolis\, MN\, 55411\, United States
CATEGORIES:Public Meetings
GEO:45.0008334;-93.2780339
X-APPLE-STRUCTURED-LOCATION;VALUE=URI;X-ADDRESS=Mary Merrill Minneapolis Park & Recreation Board Headquarters 2117 West River Road N Minneapolis MN 55411 United States;X-APPLE-RADIUS=500;X-TITLE=2117 West River Road N:geo:-93.2780339,45.0008334
END:VEVENT
BEGIN:VEVENT
DTSTART;TZID=America/Chicago:20190626T183000
DTEND;TZID=America/Chicago:20190626T183000
DTSTAMP:20260422T140942
CREATED:20191216T183450Z
LAST-MODIFIED:20191216T183450Z
UID:39969-1561573800-1561573800@www.minneapolisparks.org
SUMMARY:Public Hearing on Mississippi Gorge Regional Park Master Plan
DESCRIPTION:Public hearing on the Mississippi Gorge Regional Park Master Plan \nMore InformationGet Directions
URL:https://www.minneapolisparks.org/event-calendar/public-hearing-on-mississippi-gorge-regional-park-master-plan/
LOCATION:Mary Merrill Minneapolis Park & Recreation Board Headquarters\, 2117 West River Road N\, Minneapolis\, MN\, 55411\, United States
CATEGORIES:Public Meetings
GEO:45.0008334;-93.2780339
X-APPLE-STRUCTURED-LOCATION;VALUE=URI;X-ADDRESS=Mary Merrill Minneapolis Park & Recreation Board Headquarters 2117 West River Road N Minneapolis MN 55411 United States;X-APPLE-RADIUS=500;X-TITLE=2117 West River Road N:geo:-93.2780339,45.0008334
END:VEVENT
BEGIN:VEVENT
DTSTART;TZID=America/Chicago:20190626T190000
DTEND;TZID=America/Chicago:20190626T190000
DTSTAMP:20260422T140942
CREATED:20191216T183452Z
LAST-MODIFIED:20191216T183452Z
UID:39971-1561575600-1561575600@www.minneapolisparks.org
SUMMARY:River City Jazz Orchestra
DESCRIPTION:big band jazz
URL:https://www.minneapolisparks.org/event-calendar/river-city-jazz-orchestra-2/
LOCATION:Minnehaha Regional Park\, 4801 South Minnehaha Drive\, Minneapolis\, MN\, 55417\, United States
CATEGORIES:Music in the Parks
GEO:44.9161006;-93.2109865
X-APPLE-STRUCTURED-LOCATION;VALUE=URI;X-ADDRESS=Minnehaha Regional Park 4801 South Minnehaha Drive Minneapolis MN 55417 United States;X-APPLE-RADIUS=500;X-TITLE=4801 South Minnehaha Drive:geo:-93.2109865,44.9161006
END:VEVENT
BEGIN:VEVENT
DTSTART;TZID=America/Chicago:20190626T190000
DTEND;TZID=America/Chicago:20190626T210000
DTSTAMP:20260422T140942
CREATED:20191216T183451Z
LAST-MODIFIED:20191216T183451Z
UID:39970-1561575600-1561582800@www.minneapolisparks.org
SUMMARY:Victory Ice Cream Social
DESCRIPTION:Don’t miss this event! Bring your family\, friends and neighbors to this spectacular annual event. Bounce house\, face painting\, musical performances including singers from the Asian Cultural Club\, ice cream\, refreshments\, pony rides and a petting zoo. Small fees for activities. \nGet Directions
URL:https://www.minneapolisparks.org/event-calendar/victory-ice-cream-social-3/
LOCATION:Victory Park\, 4414 Upton Ave N\, Minneapolis\, MN\, 55412\, United States
CATEGORIES:Events- MPRB
GEO:45.0359721;-93.3147565
X-APPLE-STRUCTURED-LOCATION;VALUE=URI;X-ADDRESS=Victory Park 4414 Upton Ave N Minneapolis MN 55412 United States;X-APPLE-RADIUS=500;X-TITLE=4414 Upton Ave N:geo:-93.3147565,45.0359721
END:VEVENT
BEGIN:VEVENT
DTSTART;TZID=America/Chicago:20190626T211500
DTEND;TZID=America/Chicago:20190626T211500
DTSTAMP:20260422T140942
CREATED:20191216T183452Z
LAST-MODIFIED:20191216T183452Z
UID:39972-1561583700-1561583700@www.minneapolisparks.org
SUMMARY:Aquaman spanish subtitles
DESCRIPTION:Movie starts 15 minutes after sunset
URL:https://www.minneapolisparks.org/event-calendar/aquaman-spanish-subtitles/
LOCATION:Phelps\, 701 E 39th St\, Minneapolis\, MN\, 55407\, United States
CATEGORIES:Movies in the Parks
GEO:44.9320116;-93.2655019
X-APPLE-STRUCTURED-LOCATION;VALUE=URI;X-ADDRESS=Phelps 701 E 39th St Minneapolis MN 55407 United States;X-APPLE-RADIUS=500;X-TITLE=701 E 39th St:geo:-93.2655019,44.9320116
END:VEVENT
END:VCALENDAR