BEGIN:VCALENDAR
VERSION:2.0
PRODID:-//Minneapolis Park &amp; Recreation Board - ECPv6.15.20//NONSGML v1.0//EN
CALSCALE:GREGORIAN
METHOD:PUBLISH
X-ORIGINAL-URL:https://www.minneapolisparks.org
X-WR-CALDESC:Events for Minneapolis Park &amp; Recreation Board
REFRESH-INTERVAL;VALUE=DURATION:PT1H
X-Robots-Tag:noindex
X-PUBLISHED-TTL:PT1H
BEGIN:VTIMEZONE
TZID:America/Chicago
BEGIN:DAYLIGHT
TZOFFSETFROM:-0600
TZOFFSETTO:-0500
TZNAME:CDT
DTSTART:20180311T080000
END:DAYLIGHT
BEGIN:STANDARD
TZOFFSETFROM:-0500
TZOFFSETTO:-0600
TZNAME:CST
DTSTART:20181104T070000
END:STANDARD
BEGIN:DAYLIGHT
TZOFFSETFROM:-0600
TZOFFSETTO:-0500
TZNAME:CDT
DTSTART:20190310T080000
END:DAYLIGHT
BEGIN:STANDARD
TZOFFSETFROM:-0500
TZOFFSETTO:-0600
TZNAME:CST
DTSTART:20191103T070000
END:STANDARD
BEGIN:DAYLIGHT
TZOFFSETFROM:-0600
TZOFFSETTO:-0500
TZNAME:CDT
DTSTART:20200308T080000
END:DAYLIGHT
BEGIN:STANDARD
TZOFFSETFROM:-0500
TZOFFSETTO:-0600
TZNAME:CST
DTSTART:20201101T070000
END:STANDARD
END:VTIMEZONE
BEGIN:VEVENT
DTSTART;TZID=America/Chicago:20190513T170000
DTEND;TZID=America/Chicago:20190513T190000
DTSTAMP:20260422T140940
CREATED:20191216T183339Z
LAST-MODIFIED:20191216T183339Z
UID:39767-1557766800-1557774000@www.minneapolisparks.org
SUMMARY:Pesticide Advisory Committee Meeting
DESCRIPTION:
URL:https://www.minneapolisparks.org/event-calendar/pesticide-advisory-committee-meeting-8/
LOCATION:Mary Merrill Minneapolis Park & Recreation Board Headquarters\, 2117 West River Road N\, Minneapolis\, MN\, 55411\, United States
CATEGORIES:Public Meetings
GEO:45.0008334;-93.2780339
X-APPLE-STRUCTURED-LOCATION;VALUE=URI;X-ADDRESS=Mary Merrill Minneapolis Park & Recreation Board Headquarters 2117 West River Road N Minneapolis MN 55411 United States;X-APPLE-RADIUS=500;X-TITLE=2117 West River Road N:geo:-93.2780339,45.0008334
END:VEVENT
BEGIN:VEVENT
DTSTART;TZID=America/Chicago:20190514T160000
DTEND;TZID=America/Chicago:20190514T160000
DTSTAMP:20260422T140940
CREATED:20191216T183340Z
LAST-MODIFIED:20191216T183340Z
UID:39768-1557849600-1557849600@www.minneapolisparks.org
SUMMARY:Committee of the Whole Meeting
DESCRIPTION:
URL:https://www.minneapolisparks.org/event-calendar/committee-of-the-whole-meeting-8/
LOCATION:Folwell Recreation Center\, 1615 N Dowling Ave\, Minneapolis\, MN\, 55412\, United States
CATEGORIES:Public Meetings
GEO:45.0235514;-93.3002305
X-APPLE-STRUCTURED-LOCATION;VALUE=URI;X-ADDRESS=Folwell Recreation Center 1615 N Dowling Ave Minneapolis MN 55412 United States;X-APPLE-RADIUS=500;X-TITLE=1615 N Dowling Ave:geo:-93.3002305,45.0235514
END:VEVENT
BEGIN:VEVENT
DTSTART;TZID=America/Chicago:20190515T170000
DTEND;TZID=America/Chicago:20190515T170000
DTSTAMP:20260422T140940
CREATED:20191216T183340Z
LAST-MODIFIED:20191216T183340Z
UID:39769-1557939600-1557939600@www.minneapolisparks.org
SUMMARY:Regular Meeting
DESCRIPTION:
URL:https://www.minneapolisparks.org/event-calendar/regular-meeting-2/
LOCATION:Mary Merrill Minneapolis Park & Recreation Board Headquarters\, 2117 West River Road N\, Minneapolis\, MN\, 55411\, United States
CATEGORIES:Public Meetings
GEO:45.0008334;-93.2780339
X-APPLE-STRUCTURED-LOCATION;VALUE=URI;X-ADDRESS=Mary Merrill Minneapolis Park & Recreation Board Headquarters 2117 West River Road N Minneapolis MN 55411 United States;X-APPLE-RADIUS=500;X-TITLE=2117 West River Road N:geo:-93.2780339,45.0008334
END:VEVENT
BEGIN:VEVENT
DTSTART;TZID=America/Chicago:20190517T073000
DTEND;TZID=America/Chicago:20190517T073000
DTSTAMP:20260422T140940
CREATED:20191216T183340Z
LAST-MODIFIED:20191216T183340Z
UID:39770-1558078200-1558078200@www.minneapolisparks.org
SUMMARY:NABP Convention Run
DESCRIPTION:Get Directions
URL:https://www.minneapolisparks.org/event-calendar/nabp-convention-run/
LOCATION:Loring Park\, Loring Park\, Minneapolis\, MN\, 55403\, United States
CATEGORIES:Events- Non-MPRB
GEO:44.9649915;-93.2854596
X-APPLE-STRUCTURED-LOCATION;VALUE=URI;X-ADDRESS=Loring Park Loring Park Minneapolis MN 55403 United States;X-APPLE-RADIUS=500;X-TITLE=Loring Park:geo:-93.2854596,44.9649915
END:VEVENT
BEGIN:VEVENT
DTSTART;TZID=America/Chicago:20190517T160000
DTEND;TZID=America/Chicago:20190517T183000
DTSTAMP:20260422T140940
CREATED:20191216T183341Z
LAST-MODIFIED:20191216T183341Z
UID:39771-1558108800-1558117800@www.minneapolisparks.org
SUMMARY:(CANCELED) Holmes Playground Improvements Pop-Up
DESCRIPTION:Event has been rescheduled to 5/23/19! \nMore InformationGet Directions
URL:https://www.minneapolisparks.org/event-calendar/canceled-holmes-playground-improvements-pop-up/
LOCATION:MN
CATEGORIES:Public Meetings
END:VEVENT
BEGIN:VEVENT
DTSTART;TZID=America/Chicago:20190518T090000
DTEND;TZID=America/Chicago:20190518T090000
DTSTAMP:20260422T140940
CREATED:20191216T183341Z
LAST-MODIFIED:20191216T183341Z
UID:39773-1558170000-1558170000@www.minneapolisparks.org
SUMMARY:Autism 5K
DESCRIPTION:Get Directions
URL:https://www.minneapolisparks.org/event-calendar/autism-5k-3/
LOCATION:Bde Maka Ska Park\, 3000 Calhoun Parkway\, Minneapolis\, MN\, 55408\, United States
CATEGORIES:Events- Non-MPRB
GEO:44.9338272;-93.310333
X-APPLE-STRUCTURED-LOCATION;VALUE=URI;X-ADDRESS=Bde Maka Ska Park 3000 Calhoun Parkway Minneapolis MN 55408 United States;X-APPLE-RADIUS=500;X-TITLE=3000 Calhoun Parkway:geo:-93.310333,44.9338272
END:VEVENT
BEGIN:VEVENT
DTSTART;TZID=America/Chicago:20190518T090000
DTEND;TZID=America/Chicago:20190518T150000
DTSTAMP:20260422T140940
CREATED:20191216T183341Z
LAST-MODIFIED:20191216T183341Z
UID:39772-1558170000-1558191600@www.minneapolisparks.org
SUMMARY:Spring Rummage Sale
DESCRIPTION:Doing a little Spring cleaning? Want to make a little extra money? Clear your clutter and come sell it at Folwell Park’s Rummage Sale. For more information and to reserve space\, please contact Folwell Park 612-370-4917 \nGet Directions
URL:https://www.minneapolisparks.org/event-calendar/spring-rummage-sale-2/
LOCATION:Folwell Park\, 1615 N Dowling Ave\, Minneapolis\, MN\, 55412\, United States
CATEGORIES:Events- MPRB
GEO:45.0235514;-93.3002305
X-APPLE-STRUCTURED-LOCATION;VALUE=URI;X-ADDRESS=Folwell Park 1615 N Dowling Ave Minneapolis MN 55412 United States;X-APPLE-RADIUS=500;X-TITLE=1615 N Dowling Ave:geo:-93.3002305,45.0235514
END:VEVENT
BEGIN:VEVENT
DTSTART;TZID=America/Chicago:20190518T130000
DTEND;TZID=America/Chicago:20190518T130000
DTSTAMP:20260422T140940
CREATED:20191216T183341Z
LAST-MODIFIED:20191216T183341Z
UID:39774-1558184400-1558184400@www.minneapolisparks.org
SUMMARY:MPS Performance
DESCRIPTION:Get Directions
URL:https://www.minneapolisparks.org/event-calendar/mps-performance-2/
LOCATION:Minnehaha Regional Park\, 4801 South Minnehaha Drive\, Minneapolis\, MN\, 55417\, United States
CATEGORIES:Events- Non-MPRB
GEO:44.9161006;-93.2109865
X-APPLE-STRUCTURED-LOCATION;VALUE=URI;X-ADDRESS=Minnehaha Regional Park 4801 South Minnehaha Drive Minneapolis MN 55417 United States;X-APPLE-RADIUS=500;X-TITLE=4801 South Minnehaha Drive:geo:-93.2109865,44.9161006
END:VEVENT
BEGIN:VEVENT
DTSTART;TZID=America/Chicago:20190518T140000
DTEND;TZID=America/Chicago:20190518T160000
DTSTAMP:20260422T140940
CREATED:20191216T183342Z
LAST-MODIFIED:20191216T183342Z
UID:39775-1558188000-1558195200@www.minneapolisparks.org
SUMMARY:Community Craze; Fun in the Sun
DESCRIPTION:We will be enjoying the beautiful weather with a variety of activities. Check out our pickleball\, or play a pick up game of volleyball with your friends and neighbors. This event is for all ages\, individuals\, and families. \nGet Directions
URL:https://www.minneapolisparks.org/event-calendar/community-craze-fun-in-the-sun/
LOCATION:Fuller Recreation Center\, 4802 Grand Ave S\, Minneapolis\, MN\, 55419\, United States
CATEGORIES:Events- MPRB
GEO:44.915755;-93.28479
X-APPLE-STRUCTURED-LOCATION;VALUE=URI;X-ADDRESS=Fuller Recreation Center 4802 Grand Ave S Minneapolis MN 55419 United States;X-APPLE-RADIUS=500;X-TITLE=4802 Grand Ave S:geo:-93.28479,44.915755
END:VEVENT
BEGIN:VEVENT
DTSTART;TZID=America/Chicago:20190519T063000
DTEND;TZID=America/Chicago:20190519T063000
DTSTAMP:20260422T140940
CREATED:20191216T183342Z
LAST-MODIFIED:20191216T183342Z
UID:39776-1558247400-1558247400@www.minneapolisparks.org
SUMMARY:MS Bike Ride
DESCRIPTION:
URL:https://www.minneapolisparks.org/event-calendar/ms-bike-ride-3/
LOCATION:Minneapolis Bike Pathways\, Minneapolis\, MN\, United States
CATEGORIES:Events- Non-MPRB
GEO:44.977753;-93.2650108
END:VEVENT
BEGIN:VEVENT
DTSTART;TZID=America/Chicago:20190519T080000
DTEND;TZID=America/Chicago:20190519T080000
DTSTAMP:20260422T140940
CREATED:20191216T183343Z
LAST-MODIFIED:20191216T183343Z
UID:39777-1558252800-1558252800@www.minneapolisparks.org
SUMMARY:Women Run the Cities
DESCRIPTION:Get Directions
URL:https://www.minneapolisparks.org/event-calendar/women-run-the-cities-4/
LOCATION:Minnehaha Regional Park\, 4801 South Minnehaha Drive\, Minneapolis\, MN\, 55417\, United States
CATEGORIES:Events- Non-MPRB
GEO:44.9161006;-93.2109865
X-APPLE-STRUCTURED-LOCATION;VALUE=URI;X-ADDRESS=Minnehaha Regional Park 4801 South Minnehaha Drive Minneapolis MN 55417 United States;X-APPLE-RADIUS=500;X-TITLE=4801 South Minnehaha Drive:geo:-93.2109865,44.9161006
END:VEVENT
BEGIN:VEVENT
DTSTART;TZID=America/Chicago:20190519T093000
DTEND;TZID=America/Chicago:20190519T093000
DTSTAMP:20260422T140940
CREATED:20191216T183343Z
LAST-MODIFIED:20191216T183343Z
UID:39778-1558258200-1558258200@www.minneapolisparks.org
SUMMARY:Salomon CITYTRAILS Loppet
DESCRIPTION:Get Directions
URL:https://www.minneapolisparks.org/event-calendar/salomon-citytrails-loppet-3/
LOCATION:Theodore Wirth Park\, Theodore Wirth Parkway\, Golden Valley\, MN\, 55422\, United States
CATEGORIES:Events- Non-MPRB
GEO:44.9609095;-93.3246285
X-APPLE-STRUCTURED-LOCATION;VALUE=URI;X-ADDRESS=Theodore Wirth Park Theodore Wirth Parkway Golden Valley MN 55422 United States;X-APPLE-RADIUS=500;X-TITLE=Theodore Wirth Parkway:geo:-93.3246285,44.9609095
END:VEVENT
BEGIN:VEVENT
DTSTART;TZID=America/Chicago:20190519T130000
DTEND;TZID=America/Chicago:20190519T160000
DTSTAMP:20260422T140940
CREATED:20191216T183343Z
LAST-MODIFIED:20191216T183343Z
UID:39779-1558270800-1558281600@www.minneapolisparks.org
SUMMARY:Dandelion Day at Ard Godfrey House
DESCRIPTION:Get Directions
URL:https://www.minneapolisparks.org/event-calendar/dandelion-day-at-ard-godfrey-house/
LOCATION:Chute Square\, 28 University Ave SE\, Minneapolis\, MN\, 55414\, United States
CATEGORIES:Events- Non-MPRB
GEO:44.986577;-93.2557019
X-APPLE-STRUCTURED-LOCATION;VALUE=URI;X-ADDRESS=Chute Square 28 University Ave SE Minneapolis MN 55414 United States;X-APPLE-RADIUS=500;X-TITLE=28 University Ave SE:geo:-93.2557019,44.986577
END:VEVENT
BEGIN:VEVENT
DTSTART;TZID=America/Chicago:20190520T173000
DTEND;TZID=America/Chicago:20190520T173000
DTSTAMP:20260422T140940
CREATED:20191216T183343Z
LAST-MODIFIED:20191216T183343Z
UID:39780-1558373400-1558373400@www.minneapolisparks.org
SUMMARY:Juneteenth Board and Committee Members Meeting
DESCRIPTION:Juneteenth Celebrating Freedom Day \nJuneteenth Board and Committee Members meet to plan the 2019 Juneteenth Celebrating Freedom Day. \nGet Directions
URL:https://www.minneapolisparks.org/event-calendar/juneteenth-board-and-committee-members-meeting-2/
LOCATION:Phillis Wheatly/Bethune Park\, 1301 10th Ave N\, Minneapolis\, MN\, 55411\, United States
CATEGORIES:Public Meetings
GEO:44.9875977;-93.2958262
X-APPLE-STRUCTURED-LOCATION;VALUE=URI;X-ADDRESS=Phillis Wheatly/Bethune Park 1301 10th Ave N Minneapolis MN 55411 United States;X-APPLE-RADIUS=500;X-TITLE=1301 10th Ave N:geo:-93.2958262,44.9875977
END:VEVENT
BEGIN:VEVENT
DTSTART;TZID=America/Chicago:20190520T190000
DTEND;TZID=America/Chicago:20190520T190000
DTSTAMP:20260422T140940
CREATED:20191216T183344Z
LAST-MODIFIED:20191216T183344Z
UID:39781-1558378800-1558378800@www.minneapolisparks.org
SUMMARY:Concert Series - Southwest High School
DESCRIPTION:Get Directions
URL:https://www.minneapolisparks.org/event-calendar/concert-series-southwest-high-school/
LOCATION:Lake Harriet Bandshell\, Minneapolis\, MN\, United States
CATEGORIES:Events- Non-MPRB
GEO:44.927901;-93.3082473
END:VEVENT
BEGIN:VEVENT
DTSTART;TZID=America/Chicago:20190521T160000
DTEND;TZID=America/Chicago:20190521T160000
DTSTAMP:20260422T140940
CREATED:20191216T183344Z
LAST-MODIFIED:20191216T183344Z
UID:39782-1558454400-1558454400@www.minneapolisparks.org
SUMMARY:Bridge Grand Re-Opening
DESCRIPTION:Join Commissioner Chris Meyer and your Northeast community as we officially celebrate the re-opening of the Boom Island-Nicollet Island Bridge following completion of updates. \nGet DirectionsMore Information
URL:https://www.minneapolisparks.org/event-calendar/bridge-grand-re-opening/
LOCATION:Boom Island/Nicollet Island Ped/Bike Bridge\, 724 Sibley Street NE\, Minneapolis\, MN\, 55413\, United States
CATEGORIES:Public Meetings
GEO:44.9927434;-93.2692589
X-APPLE-STRUCTURED-LOCATION;VALUE=URI;X-ADDRESS=Boom Island/Nicollet Island Ped/Bike Bridge 724 Sibley Street NE Minneapolis MN 55413 United States;X-APPLE-RADIUS=500;X-TITLE=724 Sibley Street NE:geo:-93.2692589,44.9927434
END:VEVENT
BEGIN:VEVENT
DTSTART;TZID=America/Chicago:20190521T190000
DTEND;TZID=America/Chicago:20190521T190000
DTSTAMP:20260422T140940
CREATED:20191216T183344Z
LAST-MODIFIED:20191216T183344Z
UID:39783-1558465200-1558465200@www.minneapolisparks.org
SUMMARY:Concert Series - Southwest High School
DESCRIPTION:Get Directions
URL:https://www.minneapolisparks.org/event-calendar/concert-series-southwest-high-school-2/
LOCATION:Lake Harriet Bandshell\, Minneapolis\, MN\, United States
CATEGORIES:Events- Non-MPRB
GEO:44.927901;-93.3082473
END:VEVENT
BEGIN:VEVENT
DTSTART;TZID=America/Chicago:20190522T120000
DTEND;TZID=America/Chicago:20190522T133000
DTSTAMP:20260422T140940
CREATED:20191216T183345Z
LAST-MODIFIED:20191216T183345Z
UID:39784-1558526400-1558531800@www.minneapolisparks.org
SUMMARY:Garden Tea
DESCRIPTION:This Garden Tea is held outdoors under the trees in Lyndale Farmstead Park\, weather permitting. We’ll be serving properly brewed tea in teapots and many delicious tea sandwiches and cakes to choose from. Good conversation and relaxed atmosphere make this an event to look forward to. For adults 50+ years. \nGet DirectionsRegister Online
URL:https://www.minneapolisparks.org/event-calendar/garden-tea-3/
LOCATION:Lyndale Farmstead Park\, 3900 Bryant Ave S\, Minneapolis\, MN\, 55409\, United States
CATEGORIES:Events- MPRB
GEO:44.9321181;-93.2914154
X-APPLE-STRUCTURED-LOCATION;VALUE=URI;X-ADDRESS=Lyndale Farmstead Park 3900 Bryant Ave S Minneapolis MN 55409 United States;X-APPLE-RADIUS=500;X-TITLE=3900 Bryant Ave S:geo:-93.2914154,44.9321181
END:VEVENT
BEGIN:VEVENT
DTSTART;TZID=America/Chicago:20190522T190000
DTEND;TZID=America/Chicago:20190522T190000
DTSTAMP:20260422T140940
CREATED:20191216T183345Z
LAST-MODIFIED:20191216T183345Z
UID:39785-1558551600-1558551600@www.minneapolisparks.org
SUMMARY:Concert Series - Southwest High School
DESCRIPTION:Get Directions
URL:https://www.minneapolisparks.org/event-calendar/concert-series-southwest-high-school-3/
LOCATION:Lake Harriet Bandshell\, Minneapolis\, MN\, United States
CATEGORIES:Events- Non-MPRB
GEO:44.927901;-93.3082473
END:VEVENT
BEGIN:VEVENT
DTSTART;TZID=America/Chicago:20190523T160000
DTEND;TZID=America/Chicago:20190523T183000
DTSTAMP:20260422T140940
CREATED:20191216T183346Z
LAST-MODIFIED:20191216T183346Z
UID:39786-1558627200-1558636200@www.minneapolisparks.org
SUMMARY:Rain Reschedule: Plan the Playground at Holmes Pop-Up Meeting!
DESCRIPTION:Come give input on what improvements should be done to the playground at Holmes Park. We will be located in the park near the playground by SE 3rd Ave and 5th St. Please stop by! Looking forward to hearing your creative ideas. In case of inclement weather please stay tuned for an alternate day. \nMore InformationGet Directions
URL:https://www.minneapolisparks.org/event-calendar/rain-reschedule-plan-the-playground-at-holmes-pop-up-meeting/
LOCATION:414 Third Avenue SE Minneapolis\, MN 55414\, 414 Third Avenue SE\, Minneapolis\, MN\, 55414\, United States
CATEGORIES:Public Meetings
GEO:44.9866552;-93.2512934
X-APPLE-STRUCTURED-LOCATION;VALUE=URI;X-ADDRESS=414 Third Avenue SE Minneapolis MN 55414 414 Third Avenue SE Minneapolis MN 55414 United States;X-APPLE-RADIUS=500;X-TITLE=414 Third Avenue SE:geo:-93.2512934,44.9866552
END:VEVENT
BEGIN:VEVENT
DTSTART;TZID=America/Chicago:20190523T190000
DTEND;TZID=America/Chicago:20190523T190000
DTSTAMP:20260422T140940
CREATED:20191216T183346Z
LAST-MODIFIED:20191216T183346Z
UID:39787-1558638000-1558638000@www.minneapolisparks.org
SUMMARY:Concert Series - Southwest High School
DESCRIPTION:Get Directions
URL:https://www.minneapolisparks.org/event-calendar/concert-series-southwest-high-school-4/
LOCATION:Lake Harriet Bandshell\, Minneapolis\, MN\, United States
CATEGORIES:Events- Non-MPRB
GEO:44.927901;-93.3082473
END:VEVENT
BEGIN:VEVENT
DTSTART;TZID=America/Chicago:20190524T080000
DTEND;TZID=America/Chicago:20190524T080000
DTSTAMP:20260422T140940
CREATED:20191216T183346Z
LAST-MODIFIED:20191216T183346Z
UID:39788-1558684800-1558684800@www.minneapolisparks.org
SUMMARY:Mde Maka Ska Canoe Nations Gathering
DESCRIPTION:Get Directions
URL:https://www.minneapolisparks.org/event-calendar/mde-maka-ska-canoe-nations-gathering-2/
LOCATION:Bde Maka Ska Park\, 3000 Calhoun Parkway\, Minneapolis\, MN\, 55408\, United States
CATEGORIES:Events- Non-MPRB
GEO:44.9338272;-93.310333
X-APPLE-STRUCTURED-LOCATION;VALUE=URI;X-ADDRESS=Bde Maka Ska Park 3000 Calhoun Parkway Minneapolis MN 55408 United States;X-APPLE-RADIUS=500;X-TITLE=3000 Calhoun Parkway:geo:-93.310333,44.9338272
END:VEVENT
BEGIN:VEVENT
DTSTART;TZID=America/Chicago:20190526T120000
DTEND;TZID=America/Chicago:20190526T160000
DTSTAMP:20260422T140940
CREATED:20191216T183347Z
LAST-MODIFIED:20191216T183347Z
UID:39789-1558872000-1558886400@www.minneapolisparks.org
SUMMARY:Theodore Wirth Home and Office – Free Guided Tour
DESCRIPTION:Public tours by the Minneapolis Parks Legacy Society one Sunday each month; call 612-275-8884 or email JoanBerthiaume@msn.com. \nMore InformationGet Directions
URL:https://www.minneapolisparks.org/event-calendar/theodore-wirth-home-and-office-free-guided-tour/
LOCATION:Lyndale Farmstead Park\, 3900 Bryant Ave S\, Minneapolis\, MN\, 55409\, United States
CATEGORIES:Events- MPRB
GEO:44.9321181;-93.2914154
X-APPLE-STRUCTURED-LOCATION;VALUE=URI;X-ADDRESS=Lyndale Farmstead Park 3900 Bryant Ave S Minneapolis MN 55409 United States;X-APPLE-RADIUS=500;X-TITLE=3900 Bryant Ave S:geo:-93.2914154,44.9321181
END:VEVENT
BEGIN:VEVENT
DTSTART;TZID=America/Chicago:20190526T151500
DTEND;TZID=America/Chicago:20190526T151500
DTSTAMP:20260422T140940
CREATED:20191216T183347Z
LAST-MODIFIED:20191216T183347Z
UID:39790-1558883700-1558883700@www.minneapolisparks.org
SUMMARY:Morris Ale Massed Dancing
DESCRIPTION:Get Directions
URL:https://www.minneapolisparks.org/event-calendar/morris-ale-massed-dancing/
LOCATION:Minneapolis Sculpture Garden\, 726 Vineland Place\, Minneapolis\, MN\, 55403\, United States
CATEGORIES:Events- Non-MPRB
GEO:44.9695492;-93.2897225
X-APPLE-STRUCTURED-LOCATION;VALUE=URI;X-ADDRESS=Minneapolis Sculpture Garden 726 Vineland Place Minneapolis MN 55403 United States;X-APPLE-RADIUS=500;X-TITLE=726 Vineland Place:geo:-93.2897225,44.9695492
END:VEVENT
BEGIN:VEVENT
DTSTART;TZID=America/Chicago:20190527T083000
DTEND;TZID=America/Chicago:20190527T083000
DTSTAMP:20260422T140940
CREATED:20191216T183348Z
LAST-MODIFIED:20191216T183348Z
UID:39791-1558945800-1558945800@www.minneapolisparks.org
SUMMARY:Brian Kraft Memorial 5K Run/Walk
DESCRIPTION:Get Directions
URL:https://www.minneapolisparks.org/event-calendar/brian-kraft-memorial-5k-run-walk-3/
LOCATION:Lake Nokomis Park\, 4955 W Lake Nokomis Parkway\, Minneapolis\, MN\, 55417\, United States
CATEGORIES:Events- Non-MPRB
GEO:44.9114979;-93.2431014
X-APPLE-STRUCTURED-LOCATION;VALUE=URI;X-ADDRESS=Lake Nokomis Park 4955 W Lake Nokomis Parkway Minneapolis MN 55417 United States;X-APPLE-RADIUS=500;X-TITLE=4955 W Lake Nokomis Parkway:geo:-93.2431014,44.9114979
END:VEVENT
BEGIN:VEVENT
DTSTART;TZID=America/Chicago:20190527T120000
DTEND;TZID=America/Chicago:20190527T130000
DTSTAMP:20260422T140940
CREATED:20191216T183348Z
LAST-MODIFIED:20191216T183348Z
UID:39792-1558958400-1558962000@www.minneapolisparks.org
SUMMARY:Memorial Day in Beltrami Park
DESCRIPTION:Please join Sunbeam Grange\, the Beltrami Neighborhood Council\, and the Minnesota National Guard for the monument and flagpole re-dedication ceremony including color guard\, speakers and an arrangement of Copland’s Lincoln Portrait for Brass quintet as well as other music and activities. \nGet Directions
URL:https://www.minneapolisparks.org/event-calendar/memorial-day-in-beltrami-park/
LOCATION:Beltrami Park\, 1111 Summer St NE\, Minneapolis\, MN\, 55413\, United States
CATEGORIES:Events- MPRB
GEO:44.9971364;-93.2433279
X-APPLE-STRUCTURED-LOCATION;VALUE=URI;X-ADDRESS=Beltrami Park 1111 Summer St NE Minneapolis MN 55413 United States;X-APPLE-RADIUS=500;X-TITLE=1111 Summer St NE:geo:-93.2433279,44.9971364
END:VEVENT
BEGIN:VEVENT
DTSTART;TZID=America/Chicago:20190527T173000
DTEND;TZID=America/Chicago:20190527T173000
DTSTAMP:20260422T140940
CREATED:20191216T183348Z
LAST-MODIFIED:20191216T183348Z
UID:39793-1558978200-1558978200@www.minneapolisparks.org
SUMMARY:Sawyer's Dream
DESCRIPTION:www.sawyersdream.com \nGenre: original\, seventies vibe\, harmony rock \nGet DirectionsMore Information
URL:https://www.minneapolisparks.org/event-calendar/sawyers-dream-2/
LOCATION:Lake Harriet Bandshell\, Minneapolis\, MN\, United States
CATEGORIES:Music in the Parks
GEO:44.927901;-93.3082473
END:VEVENT
BEGIN:VEVENT
DTSTART;TZID=America/Chicago:20190527T173000
DTEND;TZID=America/Chicago:20190527T173000
DTSTAMP:20260422T140940
CREATED:20191216T183349Z
LAST-MODIFIED:20191216T183349Z
UID:39794-1558978200-1558978200@www.minneapolisparks.org
SUMMARY:Music & Movies Kick Off Event
DESCRIPTION:We are excited that summer is just around the corner\, which means the Kick Off to the 2019 Music and Movies in the Parks Season. Come join us for a night of live music\, beer and food trucks at Lake Harriet. Monday\, May 27 is the launch of our 2019 season of Music in the Parks featuring more than 280 FREE music and movie events throughout the Minneapolis Park System. Don’t miss a night of dancing to great local music\, Sawyers Dream performs from 5:30-7 pm and Rubber Soul-Tribute to The Beatles perform from 7:30-9 pm at Lake Harriet Band Shell. See you there! \nGet Directions
URL:https://www.minneapolisparks.org/event-calendar/music-movies-kick-off-event/
LOCATION:Lake Harriet Bandshell\, Minneapolis\, MN\, United States
CATEGORIES:Music in the Parks
GEO:44.927901;-93.3082473
END:VEVENT
BEGIN:VEVENT
DTSTART;TZID=America/Chicago:20190527T193000
DTEND;TZID=America/Chicago:20190527T193000
DTSTAMP:20260422T140940
CREATED:20191216T183349Z
LAST-MODIFIED:20191216T183349Z
UID:39795-1558985400-1558985400@www.minneapolisparks.org
SUMMARY:Rubber Soul- Tribute to The Beatles
DESCRIPTION:www.rubbersoulthetribute.com  \nGenre: Beatles tribute \nMore InformationGet Directions
URL:https://www.minneapolisparks.org/event-calendar/rubber-soul-tribute-to-the-beatles/
LOCATION:Lake Harriet Bandshell\, Minneapolis\, MN\, United States
CATEGORIES:Music in the Parks
GEO:44.927901;-93.3082473
END:VEVENT
BEGIN:VEVENT
DTSTART;TZID=America/Chicago:20190528T100000
DTEND;TZID=America/Chicago:20190528T130000
DTSTAMP:20260422T140940
CREATED:20191216T183349Z
LAST-MODIFIED:20191216T183349Z
UID:39796-1559037600-1559048400@www.minneapolisparks.org
SUMMARY:(CANCELLED) Holmes Playground Improvements Pop-Up Meeting
DESCRIPTION:Pop-up for May 28th rescheduled for May 31st due to weather \nCome give input on what improvements should be done to the playground at Holmes Park. We will be located in the park near the playground by SE 3rd Ave and 5th St. Please stop by! Looking forward to hearing your creative ideas. In case of inclement weather please stay tuned for an alternate day. \nMore InformationGet Directions
URL:https://www.minneapolisparks.org/event-calendar/cancelled-holmes-playground-improvements-pop-up-meeting/
LOCATION:414 Third Avenue SE Minneapolis\, MN 55414\, 414 Third Avenue SE\, Minneapolis\, MN\, 55414\, United States
CATEGORIES:Public Meetings
GEO:44.9866552;-93.2512934
X-APPLE-STRUCTURED-LOCATION;VALUE=URI;X-ADDRESS=414 Third Avenue SE Minneapolis MN 55414 414 Third Avenue SE Minneapolis MN 55414 United States;X-APPLE-RADIUS=500;X-TITLE=414 Third Avenue SE:geo:-93.2512934,44.9866552
END:VEVENT
END:VCALENDAR