BEGIN:VCALENDAR
VERSION:2.0
PRODID:-//Minneapolis Park &amp; Recreation Board - ECPv6.15.20//NONSGML v1.0//EN
CALSCALE:GREGORIAN
METHOD:PUBLISH
X-WR-CALNAME:Minneapolis Park &amp; Recreation Board
X-ORIGINAL-URL:https://www.minneapolisparks.org
X-WR-CALDESC:Events for Minneapolis Park &amp; Recreation Board
REFRESH-INTERVAL;VALUE=DURATION:PT1H
X-Robots-Tag:noindex
X-PUBLISHED-TTL:PT1H
BEGIN:VTIMEZONE
TZID:America/Chicago
BEGIN:DAYLIGHT
TZOFFSETFROM:-0600
TZOFFSETTO:-0500
TZNAME:CDT
DTSTART:20230312T080000
END:DAYLIGHT
BEGIN:STANDARD
TZOFFSETFROM:-0500
TZOFFSETTO:-0600
TZNAME:CST
DTSTART:20231105T070000
END:STANDARD
BEGIN:DAYLIGHT
TZOFFSETFROM:-0600
TZOFFSETTO:-0500
TZNAME:CDT
DTSTART:20240310T080000
END:DAYLIGHT
BEGIN:STANDARD
TZOFFSETFROM:-0500
TZOFFSETTO:-0600
TZNAME:CST
DTSTART:20241103T070000
END:STANDARD
BEGIN:DAYLIGHT
TZOFFSETFROM:-0600
TZOFFSETTO:-0500
TZNAME:CDT
DTSTART:20250309T080000
END:DAYLIGHT
BEGIN:STANDARD
TZOFFSETFROM:-0500
TZOFFSETTO:-0600
TZNAME:CST
DTSTART:20251102T070000
END:STANDARD
BEGIN:DAYLIGHT
TZOFFSETFROM:-0600
TZOFFSETTO:-0500
TZNAME:CDT
DTSTART:20260308T080000
END:DAYLIGHT
BEGIN:STANDARD
TZOFFSETFROM:-0500
TZOFFSETTO:-0600
TZNAME:CST
DTSTART:20261101T070000
END:STANDARD
END:VTIMEZONE
BEGIN:VEVENT
DTSTART;TZID=America/Chicago:20240820T190000
DTEND;TZID=America/Chicago:20240820T190000
DTSTAMP:20260421T043152
CREATED:20240522T202035Z
LAST-MODIFIED:20240730T175036Z
UID:74066-1724180400-1724180400@www.minneapolisparks.org
SUMMARY:Coax From Chuckanut
DESCRIPTION:Whimsy Cozy Indie Pop Music
URL:https://www.minneapolisparks.org/event-calendar/coax-from-chuckanut/
LOCATION:Father Hennepin Bluff Park\, Minneapolis\, MN\, United States
CATEGORIES:Music & Movies in the Parks,Music in the Parks
GEO:44.9826582;-93.2513335
END:VEVENT
BEGIN:VEVENT
DTSTART;TZID=America/Chicago:20240820T190000
DTEND;TZID=America/Chicago:20240820T190000
DTSTAMP:20260421T043152
CREATED:20240523T142159Z
LAST-MODIFIED:20240708T195608Z
UID:74175-1724180400-1724180400@www.minneapolisparks.org
SUMMARY:Lake Davi
DESCRIPTION:Alternative country and indie-rock
URL:https://www.minneapolisparks.org/event-calendar/lake-davi/
LOCATION:Loring Park\, Loring Park\, Minneapolis\, MN\, 55403\, United States
CATEGORIES:Music & Movies in the Parks,Music in the Parks
GEO:44.9649915;-93.2854596
X-APPLE-STRUCTURED-LOCATION;VALUE=URI;X-ADDRESS=Loring Park Loring Park Minneapolis MN 55403 United States;X-APPLE-RADIUS=500;X-TITLE=Loring Park:geo:-93.2854596,44.9649915
END:VEVENT
BEGIN:VEVENT
DTSTART;TZID=America/Chicago:20240821T120000
DTEND;TZID=America/Chicago:20240821T120000
DTSTAMP:20260421T043152
CREATED:20240523T151854Z
LAST-MODIFIED:20240523T151854Z
UID:74208-1724241600-1724241600@www.minneapolisparks.org
SUMMARY:Gigi the Ukulady
DESCRIPTION:Acoustic ukulele covers and originals
URL:https://www.minneapolisparks.org/event-calendar/gigi-the-ukulady/
LOCATION:The Commons\, 425 Portland Ave South\, Minneapolis\, MN\, 55488\, United States
CATEGORIES:Music & Movies in the Parks,Music in the Parks
GEO:44.9766971;-93.2628904
X-APPLE-STRUCTURED-LOCATION;VALUE=URI;X-ADDRESS=The Commons 425 Portland Ave South Minneapolis MN 55488 United States;X-APPLE-RADIUS=500;X-TITLE=425 Portland Ave South:geo:-93.2628904,44.9766971
END:VEVENT
BEGIN:VEVENT
DTSTART;TZID=America/Chicago:20240821T193000
DTEND;TZID=America/Chicago:20240821T193000
DTSTAMP:20260421T043152
CREATED:20240523T161727Z
LAST-MODIFIED:20240523T161727Z
UID:74299-1724268600-1724268600@www.minneapolisparks.org
SUMMARY:Flamenco X Ensemble
DESCRIPTION:Groundbreaking music and dance ensemble
URL:https://www.minneapolisparks.org/event-calendar/flamenco-x-ensemble/
LOCATION:Lake Harriet Bandshell\, Minneapolis\, MN\, United States
CATEGORIES:Music & Movies in the Parks,Music in the Parks
GEO:44.927901;-93.3082473
END:VEVENT
BEGIN:VEVENT
DTSTART;TZID=America/Chicago:20240822T160000
DTEND;TZID=America/Chicago:20240822T200000
DTSTAMP:20260421T043152
CREATED:20240523T212822Z
LAST-MODIFIED:20240708T195610Z
UID:74438-1724342400-1724356800@www.minneapolisparks.org
SUMMARY:DJ in the Park (Dj Yasmeena)
DESCRIPTION:Dance Music
URL:https://www.minneapolisparks.org/event-calendar/dj-in-the-park-dj-yasmeena-3/
LOCATION:Loring Park\, Loring Park\, Minneapolis\, MN\, 55403\, United States
CATEGORIES:Music & Movies in the Parks,Music in the Parks
GEO:44.9649915;-93.2854596
X-APPLE-STRUCTURED-LOCATION;VALUE=URI;X-ADDRESS=Loring Park Loring Park Minneapolis MN 55403 United States;X-APPLE-RADIUS=500;X-TITLE=Loring Park:geo:-93.2854596,44.9649915
END:VEVENT
BEGIN:VEVENT
DTSTART;TZID=America/Chicago:20240822T190000
DTEND;TZID=America/Chicago:20240822T190000
DTSTAMP:20260421T043152
CREATED:20240522T195922Z
LAST-MODIFIED:20240701T191624Z
UID:74040-1724353200-1724353200@www.minneapolisparks.org
SUMMARY:RuDeGiRL
DESCRIPTION:Female Clash Tribute Band
URL:https://www.minneapolisparks.org/event-calendar/rudegirl-2/
LOCATION:Minnehaha Bandstand\, Minneapolis\, MN\, United States
CATEGORIES:Music & Movies in the Parks,Music in the Parks
GEO:44.9161006;-93.2109865
END:VEVENT
BEGIN:VEVENT
DTSTART;TZID=America/Chicago:20240822T190000
DTEND;TZID=America/Chicago:20240822T190000
DTSTAMP:20260421T043152
CREATED:20240523T152100Z
LAST-MODIFIED:20240523T152100Z
UID:74210-1724353200-1724353200@www.minneapolisparks.org
SUMMARY:Prank Williams
DESCRIPTION:Country performer – A fixture of fun in the Twin Cities
URL:https://www.minneapolisparks.org/event-calendar/prank-williams/
LOCATION:The Commons\, 425 Portland Ave South\, Minneapolis\, MN\, 55488\, United States
CATEGORIES:Music & Movies in the Parks,Music in the Parks
GEO:44.9766971;-93.2628904
X-APPLE-STRUCTURED-LOCATION;VALUE=URI;X-ADDRESS=The Commons 425 Portland Ave South Minneapolis MN 55488 United States;X-APPLE-RADIUS=500;X-TITLE=425 Portland Ave South:geo:-93.2628904,44.9766971
END:VEVENT
BEGIN:VEVENT
DTSTART;TZID=America/Chicago:20240823T190000
DTEND;TZID=America/Chicago:20240823T190000
DTSTAMP:20260421T043152
CREATED:20240522T200102Z
LAST-MODIFIED:20240701T191454Z
UID:74042-1724439600-1724439600@www.minneapolisparks.org
SUMMARY:Scott Liebers
DESCRIPTION:Acoustic guitar mandolin\, roots Americana
URL:https://www.minneapolisparks.org/event-calendar/scott-liebers/
LOCATION:Minnehaha Bandstand\, Minneapolis\, MN\, United States
CATEGORIES:Music & Movies in the Parks,Music in the Parks
GEO:44.9161006;-93.2109865
END:VEVENT
BEGIN:VEVENT
DTSTART;TZID=America/Chicago:20240823T193000
DTEND;TZID=America/Chicago:20240823T193000
DTSTAMP:20260421T043152
CREATED:20240523T161824Z
LAST-MODIFIED:20240612T194731Z
UID:74301-1724441400-1724441400@www.minneapolisparks.org
SUMMARY:Glycerin Tears
DESCRIPTION:1970s pop-rock hits
URL:https://www.minneapolisparks.org/event-calendar/glycerin-tears/
LOCATION:Lake Harriet Bandshell\, Minneapolis\, MN\, United States
CATEGORIES:Music & Movies in the Parks,Music in the Parks
GEO:44.927901;-93.3082473
END:VEVENT
BEGIN:VEVENT
DTSTART;TZID=America/Chicago:20240825T140000
DTEND;TZID=America/Chicago:20240825T140000
DTSTAMP:20260421T043152
CREATED:20240523T161933Z
LAST-MODIFIED:20240523T161951Z
UID:74303-1724594400-1724594400@www.minneapolisparks.org
SUMMARY:Sparky
DESCRIPTION:Homegrown\, country\, fun\, and easy-going
URL:https://www.minneapolisparks.org/event-calendar/sparky/
LOCATION:Lake Harriet Bandshell\, Minneapolis\, MN\, United States
CATEGORIES:Music & Movies in the Parks,Music in the Parks
GEO:44.927901;-93.3082473
END:VEVENT
BEGIN:VEVENT
DTSTART;TZID=America/Chicago:20240825T173000
DTEND;TZID=America/Chicago:20240825T173000
DTSTAMP:20260421T043152
CREATED:20240523T162053Z
LAST-MODIFIED:20240523T162053Z
UID:74306-1724607000-1724607000@www.minneapolisparks.org
SUMMARY:St Louis Park Community Band
DESCRIPTION:Full instrumentation community Band
URL:https://www.minneapolisparks.org/event-calendar/st-louis-park-community-band-3/
LOCATION:Lake Harriet Bandshell\, Minneapolis\, MN\, United States
CATEGORIES:Music & Movies in the Parks,Music in the Parks
GEO:44.927901;-93.3082473
END:VEVENT
BEGIN:VEVENT
DTSTART;TZID=America/Chicago:20240826T190000
DTEND;TZID=America/Chicago:20240826T190000
DTSTAMP:20260421T043152
CREATED:20240522T212534Z
LAST-MODIFIED:20240522T212557Z
UID:74148-1724698800-1724698800@www.minneapolisparks.org
SUMMARY:Lydia Sophia
DESCRIPTION:Singer-songwriter from Minneapolis
URL:https://www.minneapolisparks.org/event-calendar/lydia-sophia/
LOCATION:Water Works at Mill Ruins Park\, 425 West River Parkway\, Minneapolis\, MN\, 55401\, United States
CATEGORIES:Music & Movies in the Parks,Music in the Parks
GEO:44.9811921;-93.2620982
X-APPLE-STRUCTURED-LOCATION;VALUE=URI;X-ADDRESS=Water Works at Mill Ruins Park 425 West River Parkway Minneapolis MN 55401 United States;X-APPLE-RADIUS=500;X-TITLE=425 West River Parkway:geo:-93.2620982,44.9811921
END:VEVENT
BEGIN:VEVENT
DTSTART;TZID=America/Chicago:20240826T193000
DTEND;TZID=America/Chicago:20240826T193000
DTSTAMP:20260421T043152
CREATED:20240523T162159Z
LAST-MODIFIED:20240523T162159Z
UID:74308-1724700600-1724700600@www.minneapolisparks.org
SUMMARY:Necessary Diversion
DESCRIPTION:80s to now: Songs You Love
URL:https://www.minneapolisparks.org/event-calendar/necessary-diversion-7/
LOCATION:Lake Harriet Bandshell\, Minneapolis\, MN\, United States
CATEGORIES:Music & Movies in the Parks,Music in the Parks
GEO:44.927901;-93.3082473
END:VEVENT
BEGIN:VEVENT
DTSTART;TZID=America/Chicago:20240827T190000
DTEND;TZID=America/Chicago:20240827T190000
DTSTAMP:20260421T043152
CREATED:20240522T202152Z
LAST-MODIFIED:20240730T175044Z
UID:74068-1724785200-1724785200@www.minneapolisparks.org
SUMMARY:Problem Solvent
DESCRIPTION:Uniquely impressive rap metal Indie \n 
URL:https://www.minneapolisparks.org/event-calendar/problem-solvent/
LOCATION:Father Hennepin Bluff Park\, Minneapolis\, MN\, United States
CATEGORIES:Music & Movies in the Parks,Music in the Parks
GEO:44.9826582;-93.2513335
END:VEVENT
BEGIN:VEVENT
DTSTART;TZID=America/Chicago:20240827T190000
DTEND;TZID=America/Chicago:20240827T190000
DTSTAMP:20260421T043152
CREATED:20240523T142339Z
LAST-MODIFIED:20240708T195356Z
UID:74177-1724785200-1724785200@www.minneapolisparks.org
SUMMARY:Squid City Slingers
DESCRIPTION:Folk\, bluegrass\, gypsy jazz trio
URL:https://www.minneapolisparks.org/event-calendar/squid-city-slingers/
LOCATION:Loring Park\, Loring Park\, Minneapolis\, MN\, 55403\, United States
CATEGORIES:Music & Movies in the Parks,Music in the Parks
GEO:44.9649915;-93.2854596
X-APPLE-STRUCTURED-LOCATION;VALUE=URI;X-ADDRESS=Loring Park Loring Park Minneapolis MN 55403 United States;X-APPLE-RADIUS=500;X-TITLE=Loring Park:geo:-93.2854596,44.9649915
END:VEVENT
BEGIN:VEVENT
DTSTART;TZID=America/Chicago:20240828T120000
DTEND;TZID=America/Chicago:20240828T120000
DTSTAMP:20260421T043152
CREATED:20240523T152218Z
LAST-MODIFIED:20240523T152218Z
UID:74212-1724846400-1724846400@www.minneapolisparks.org
SUMMARY:Andy McClure
DESCRIPTION:Acoustic pop and rock favorites
URL:https://www.minneapolisparks.org/event-calendar/andy-mcclure/
LOCATION:The Commons\, 425 Portland Ave South\, Minneapolis\, MN\, 55488\, United States
CATEGORIES:Music & Movies in the Parks,Music in the Parks
GEO:44.9766971;-93.2628904
X-APPLE-STRUCTURED-LOCATION;VALUE=URI;X-ADDRESS=The Commons 425 Portland Ave South Minneapolis MN 55488 United States;X-APPLE-RADIUS=500;X-TITLE=425 Portland Ave South:geo:-93.2628904,44.9766971
END:VEVENT
BEGIN:VEVENT
DTSTART;TZID=America/Chicago:20240828T193000
DTEND;TZID=America/Chicago:20240828T193000
DTSTAMP:20260421T043152
CREATED:20240523T162557Z
LAST-MODIFIED:20240523T162557Z
UID:74310-1724873400-1724873400@www.minneapolisparks.org
SUMMARY:John Penny and His Virtual Band
DESCRIPTION:World jazz composer guitarist
URL:https://www.minneapolisparks.org/event-calendar/john-penny-and-his-virtual-band/
LOCATION:Lake Harriet Bandshell\, Minneapolis\, MN\, United States
CATEGORIES:Music & Movies in the Parks,Music in the Parks
GEO:44.927901;-93.3082473
END:VEVENT
BEGIN:VEVENT
DTSTART;TZID=America/Chicago:20240829T190000
DTEND;TZID=America/Chicago:20240829T190000
DTSTAMP:20260421T043152
CREATED:20240522T200229Z
LAST-MODIFIED:20240701T191428Z
UID:74044-1724958000-1724958000@www.minneapolisparks.org
SUMMARY:Band of Praise
DESCRIPTION:Vintage jazz
URL:https://www.minneapolisparks.org/event-calendar/band-of-praise-3/
LOCATION:Minnehaha Bandstand\, Minneapolis\, MN\, United States
CATEGORIES:Music & Movies in the Parks,Music in the Parks
GEO:44.9161006;-93.2109865
END:VEVENT
BEGIN:VEVENT
DTSTART;TZID=America/Chicago:20240829T190000
DTEND;TZID=America/Chicago:20240829T190000
DTSTAMP:20260421T043152
CREATED:20240523T152324Z
LAST-MODIFIED:20240523T152324Z
UID:74214-1724958000-1724958000@www.minneapolisparks.org
SUMMARY:Ditchbird
DESCRIPTION:Americana singer-songwriter with shredding banjo
URL:https://www.minneapolisparks.org/event-calendar/ditchbird/
LOCATION:The Commons\, 425 Portland Ave South\, Minneapolis\, MN\, 55488\, United States
CATEGORIES:Music & Movies in the Parks,Music in the Parks
GEO:44.9766971;-93.2628904
X-APPLE-STRUCTURED-LOCATION;VALUE=URI;X-ADDRESS=The Commons 425 Portland Ave South Minneapolis MN 55488 United States;X-APPLE-RADIUS=500;X-TITLE=425 Portland Ave South:geo:-93.2628904,44.9766971
END:VEVENT
BEGIN:VEVENT
DTSTART;TZID=America/Chicago:20240830T190000
DTEND;TZID=America/Chicago:20240830T190000
DTSTAMP:20260421T043152
CREATED:20240522T200411Z
LAST-MODIFIED:20240701T191403Z
UID:74046-1725044400-1725044400@www.minneapolisparks.org
SUMMARY:The West Metro Big Band
DESCRIPTION:Modern Jazz Big Band
URL:https://www.minneapolisparks.org/event-calendar/the-west-metro-big-band-3/
LOCATION:Minnehaha Bandstand\, Minneapolis\, MN\, United States
CATEGORIES:Music & Movies in the Parks,Music in the Parks
GEO:44.9161006;-93.2109865
END:VEVENT
BEGIN:VEVENT
DTSTART;TZID=America/Chicago:20240830T193000
DTEND;TZID=America/Chicago:20240830T193000
DTSTAMP:20260421T043152
CREATED:20240523T162715Z
LAST-MODIFIED:20240523T162715Z
UID:74312-1725046200-1725046200@www.minneapolisparks.org
SUMMARY:Luke LeBlanc Band
DESCRIPTION:Minneapolis based folk-rock songwriter
URL:https://www.minneapolisparks.org/event-calendar/luke-leblanc-band-2/
LOCATION:Lake Harriet Bandshell\, Minneapolis\, MN\, United States
CATEGORIES:Music & Movies in the Parks,Music in the Parks
GEO:44.927901;-93.3082473
END:VEVENT
BEGIN:VEVENT
DTSTART;TZID=America/Chicago:20240901T140000
DTEND;TZID=America/Chicago:20240901T140000
DTSTAMP:20260421T043152
CREATED:20240523T162825Z
LAST-MODIFIED:20240523T162825Z
UID:74314-1725199200-1725199200@www.minneapolisparks.org
SUMMARY:The Jolly Pops
DESCRIPTION:Happy Dads playing music for kids and families
URL:https://www.minneapolisparks.org/event-calendar/the-jolly-pops-3/
LOCATION:Lake Harriet Bandshell\, Minneapolis\, MN\, United States
CATEGORIES:Music & Movies in the Parks,Music in the Parks
GEO:44.927901;-93.3082473
END:VEVENT
BEGIN:VEVENT
DTSTART;TZID=America/Chicago:20240901T173000
DTEND;TZID=America/Chicago:20240901T173000
DTSTAMP:20260421T043152
CREATED:20240523T163324Z
LAST-MODIFIED:20240523T163324Z
UID:74320-1725211800-1725211800@www.minneapolisparks.org
SUMMARY:SESAY
DESCRIPTION:Acoustic afro pop\, unique\, singer-songwriter\, storytelling\, and ear candy
URL:https://www.minneapolisparks.org/event-calendar/sesay-5/
LOCATION:Lake Harriet Bandshell\, Minneapolis\, MN\, United States
CATEGORIES:Music & Movies in the Parks,Music in the Parks
GEO:44.927901;-93.3082473
END:VEVENT
BEGIN:VEVENT
DTSTART;TZID=America/Chicago:20240902T173000
DTEND;TZID=America/Chicago:20240902T173000
DTSTAMP:20260421T043152
CREATED:20240523T162940Z
LAST-MODIFIED:20240830T194203Z
UID:74316-1725298200-1725298200@www.minneapolisparks.org
SUMMARY:BATO BATO! Breck School Marimba Ensemble
DESCRIPTION:Danceable upbeat music
URL:https://www.minneapolisparks.org/event-calendar/bato-bato-breck-school-marimba-ensemble-3/
LOCATION:Lake Harriet Bandshell\, Minneapolis\, MN\, United States
CATEGORIES:Music & Movies in the Parks,Music in the Parks
GEO:44.927901;-93.3082473
END:VEVENT
BEGIN:VEVENT
DTSTART;TZID=America/Chicago:20240902T190000
DTEND;TZID=America/Chicago:20240902T190000
DTSTAMP:20260421T043152
CREATED:20240522T212813Z
LAST-MODIFIED:20240522T212813Z
UID:74151-1725303600-1725303600@www.minneapolisparks.org
SUMMARY:Overdressed Duo
DESCRIPTION:An opera and musical extravaganza
URL:https://www.minneapolisparks.org/event-calendar/overdressed-duo-4/
LOCATION:Water Works at Mill Ruins Park\, 425 West River Parkway\, Minneapolis\, MN\, 55401\, United States
CATEGORIES:Music & Movies in the Parks,Music in the Parks
GEO:44.9811921;-93.2620982
X-APPLE-STRUCTURED-LOCATION;VALUE=URI;X-ADDRESS=Water Works at Mill Ruins Park 425 West River Parkway Minneapolis MN 55401 United States;X-APPLE-RADIUS=500;X-TITLE=425 West River Parkway:geo:-93.2620982,44.9811921
END:VEVENT
BEGIN:VEVENT
DTSTART;TZID=America/Chicago:20240902T193000
DTEND;TZID=America/Chicago:20240902T193000
DTSTAMP:20260421T043152
CREATED:20240523T163424Z
LAST-MODIFIED:20240523T163424Z
UID:74322-1725305400-1725305400@www.minneapolisparks.org
SUMMARY:Socaholix
DESCRIPTION:High energy Caribbean dance band
URL:https://www.minneapolisparks.org/event-calendar/socaholix-4/
LOCATION:Lake Harriet Bandshell\, Minneapolis\, MN\, United States
CATEGORIES:Music & Movies in the Parks,Music in the Parks
GEO:44.927901;-93.3082473
END:VEVENT
BEGIN:VEVENT
DTSTART;TZID=America/Chicago:20250119T150000
DTEND;TZID=America/Chicago:20250119T180000
DTSTAMP:20260421T043152
CREATED:20250102T214345Z
LAST-MODIFIED:20250103T150944Z
UID:79484-1737298800-1737309600@www.minneapolisparks.org
SUMMARY:Movies Made (right) Here the Untamed Heart
DESCRIPTION:Untamed Heart: A love letter to Minneapolis! \nGet ready to cozy up for a heartwarming Minneapolis love story! Join us on Sunday\, January 19\, 3 pm inside the Nicollet Island Pavilion for a special screening of Untamed Heart—a movie filmed right here in the neighborhoods surrounding the Pavilion. This 1993 romantic drama stars Christian Slater and Marisa Tomei as two unlikely lovers whose story unfolds amidst some of Minneapolis’ most iconic spots. You’ll spot Jim’s Coffee Shop\, Our Lady of Lourdes Church\, Jefferson Street NE\, Florence Court Apartments on University Avenue SE\, and even the old Met Center in this local classic. \nBundle up\, grab some popcorn\, and relive the magic of a film that’s as much about love as it is about our beautiful city. Admission is free\, so bring your friends\, your date\, or your love for Minneapolis-made movies. We’ll see you there!
URL:https://www.minneapolisparks.org/event-calendar/movies-made-right-here-the-untamed-heart/
LOCATION:Nicollet Island Pavilion\, 40 Power St\, Minneapolis\, MN\, 55401\, United States
CATEGORIES:Events- All,Events- MPRB,Music & Movies in the Parks,Music in the Parks
GEO:44.9847316;-93.2600873
X-APPLE-STRUCTURED-LOCATION;VALUE=URI;X-ADDRESS=Nicollet Island Pavilion 40 Power St Minneapolis MN 55401 United States;X-APPLE-RADIUS=500;X-TITLE=40 Power St:geo:-93.2600873,44.9847316
END:VEVENT
BEGIN:VEVENT
DTSTART;TZID=America/Chicago:20250126T150000
DTEND;TZID=America/Chicago:20250126T180000
DTSTAMP:20260421T043152
CREATED:20250102T213853Z
LAST-MODIFIED:20250103T150919Z
UID:79481-1737903600-1737914400@www.minneapolisparks.org
SUMMARY:Dancing at the Pavilion: Line Dance with Billie
DESCRIPTION:Kick up your heels and join us for an afternoon of fun\, movement\, and music at Dancing in the Pavilion! Led by Billie from the Back Road Kickers\, this event is perfect for all ages and abilities. Whether you’re a seasoned dancer or a complete beginner\, Billie will guide you through easy-to-follow steps that will have you movin’ and groovin’ in no time. \nDoors open at 2:45 PM—come early to grab your spot! Lessons kick off at 3:00 PM\, and starting at 5:00 PM\, enjoy an open dance session to practice your new moves and enjoy the music. \nThis event is free to attend with free parking available. Bring your friends\, family\, or come solo—everyone’s welcome in this fun\, friendly environment! \nDon’t miss the chance to make new memories and enjoy a lively afternoon of line dancing. Lace up your dancing shoes and join us at the Nicollet Island Pavilion on Sunday\, January 26. See you on the dance floor!
URL:https://www.minneapolisparks.org/event-calendar/dancing-at-the-pavilion-line-dance-with-billie/
LOCATION:Nicollet Island Pavilion\, 40 Power St\, Minneapolis\, MN\, 55401\, United States
CATEGORIES:Events- All,Events- MPRB,Music & Movies in the Parks,Music in the Parks
GEO:44.9847316;-93.2600873
X-APPLE-STRUCTURED-LOCATION;VALUE=URI;X-ADDRESS=Nicollet Island Pavilion 40 Power St Minneapolis MN 55401 United States;X-APPLE-RADIUS=500;X-TITLE=40 Power St:geo:-93.2600873,44.9847316
END:VEVENT
BEGIN:VEVENT
DTSTART;TZID=America/Chicago:20250515T193000
DTEND;TZID=America/Chicago:20250515T193000
DTSTAMP:20260421T043152
CREATED:20250515T194218Z
LAST-MODIFIED:20250515T194218Z
UID:82403-1747337400-1747337400@www.minneapolisparks.org
SUMMARY:La Danse Fatale Ballet Company
DESCRIPTION:Dance
URL:https://www.minneapolisparks.org/event-calendar/la-danse-fatale-ballet-company-3/
LOCATION:Lake Harriet Bandshell\, Minneapolis\, MN\, United States
CATEGORIES:Music & Movies in the Parks,Music in the Parks
GEO:44.927901;-93.3082473
END:VEVENT
BEGIN:VEVENT
DTSTART;TZID=America/Chicago:20250522T180000
DTEND;TZID=America/Chicago:20250522T180000
DTSTAMP:20260421T043152
CREATED:20250515T215238Z
LAST-MODIFIED:20250515T215238Z
UID:82556-1747936800-1747936800@www.minneapolisparks.org
SUMMARY:Big Mike and the Time Machine
DESCRIPTION:70’s and Motown Show
URL:https://www.minneapolisparks.org/event-calendar/big-mike-and-the-time-machine/
LOCATION:North Commons Community Center\, 1801 James Ave N\, Minneapolis\, MN\, 55411\, United States
CATEGORIES:Music & Movies in the Parks,Music in the Parks
GEO:44.9972515;-93.3011657
X-APPLE-STRUCTURED-LOCATION;VALUE=URI;X-ADDRESS=North Commons Community Center 1801 James Ave N Minneapolis MN 55411 United States;X-APPLE-RADIUS=500;X-TITLE=1801 James Ave N:geo:-93.3011657,44.9972515
END:VEVENT
END:VCALENDAR