BEGIN:VCALENDAR
VERSION:2.0
PRODID:-//Minneapolis Park &amp; Recreation Board - ECPv6.15.20//NONSGML v1.0//EN
CALSCALE:GREGORIAN
METHOD:PUBLISH
X-WR-CALNAME:Minneapolis Park &amp; Recreation Board
X-ORIGINAL-URL:https://www.minneapolisparks.org
X-WR-CALDESC:Events for Minneapolis Park &amp; Recreation Board
REFRESH-INTERVAL;VALUE=DURATION:PT1H
X-Robots-Tag:noindex
X-PUBLISHED-TTL:PT1H
BEGIN:VTIMEZONE
TZID:America/Chicago
BEGIN:DAYLIGHT
TZOFFSETFROM:-0600
TZOFFSETTO:-0500
TZNAME:CDT
DTSTART:20230312T080000
END:DAYLIGHT
BEGIN:STANDARD
TZOFFSETFROM:-0500
TZOFFSETTO:-0600
TZNAME:CST
DTSTART:20231105T070000
END:STANDARD
BEGIN:DAYLIGHT
TZOFFSETFROM:-0600
TZOFFSETTO:-0500
TZNAME:CDT
DTSTART:20240310T080000
END:DAYLIGHT
BEGIN:STANDARD
TZOFFSETFROM:-0500
TZOFFSETTO:-0600
TZNAME:CST
DTSTART:20241103T070000
END:STANDARD
BEGIN:DAYLIGHT
TZOFFSETFROM:-0600
TZOFFSETTO:-0500
TZNAME:CDT
DTSTART:20250309T080000
END:DAYLIGHT
BEGIN:STANDARD
TZOFFSETFROM:-0500
TZOFFSETTO:-0600
TZNAME:CST
DTSTART:20251102T070000
END:STANDARD
END:VTIMEZONE
BEGIN:VEVENT
DTSTART;TZID=America/Chicago:20240713T080000
DTEND;TZID=America/Chicago:20240713T080000
DTSTAMP:20260419T075002
CREATED:20240709T192217Z
LAST-MODIFIED:20240709T192217Z
UID:75324-1720857600-1720857600@www.minneapolisparks.org
SUMMARY:Doggie Walk
DESCRIPTION:
URL:https://www.minneapolisparks.org/event-calendar/doggie-walk-6/
LOCATION:Lake of the Isles\, Minneapolis\, MN\, United States
CATEGORIES:Events- All
GEO:44.9583577;-93.3032469
END:VEVENT
BEGIN:VEVENT
DTSTART;TZID=America/Chicago:20240713T090000
DTEND;TZID=America/Chicago:20240713T090000
DTSTAMP:20260419T075002
CREATED:20240709T192429Z
LAST-MODIFIED:20240709T192429Z
UID:75327-1720861200-1720861200@www.minneapolisparks.org
SUMMARY:Zahara Kathawalla Foundation 5k
DESCRIPTION:
URL:https://www.minneapolisparks.org/event-calendar/zahara-kathawalla-foundation-5k-2/
LOCATION:Lake Harriet\, Minneapolis\, MN\, United States
CATEGORIES:Events- All
GEO:44.927901;-93.3082473
END:VEVENT
BEGIN:VEVENT
DTSTART;TZID=America/Chicago:20240715T150000
DTEND;TZID=America/Chicago:20240715T150000
DTSTAMP:20260419T075002
CREATED:20240409T182804Z
LAST-MODIFIED:20240409T182804Z
UID:73033-1721055600-1721055600@www.minneapolisparks.org
SUMMARY:Book Buggie - FREE BOOKS/Summer
DESCRIPTION:
URL:https://www.minneapolisparks.org/event-calendar/book-buggie-free-books-summer-4/
LOCATION:Brackett Recreation Center\, 2728 S 39th Ave\, Minneapolis\, MN\, 55406\, United States
CATEGORIES:Events- All,Events- MPRB
GEO:44.9527432;-93.2170093
X-APPLE-STRUCTURED-LOCATION;VALUE=URI;X-ADDRESS=Brackett Recreation Center 2728 S 39th Ave Minneapolis MN 55406 United States;X-APPLE-RADIUS=500;X-TITLE=2728 S 39th Ave:geo:-93.2170093,44.9527432
END:VEVENT
BEGIN:VEVENT
DTSTART;TZID=America/Chicago:20240719T150000
DTEND;TZID=America/Chicago:20240719T150000
DTSTAMP:20260419T075002
CREATED:20240709T193009Z
LAST-MODIFIED:20240719T163412Z
UID:75333-1721401200-1721401200@www.minneapolisparks.org
SUMMARY:Minnehaha Art Fair
DESCRIPTION:
URL:https://www.minneapolisparks.org/event-calendar/minnehaha-art-fair-3/
LOCATION:Minnehaha Regional Park\, 4801 South Minnehaha Drive\, Minneapolis\, MN\, 55417\, United States
CATEGORIES:Events- All,Events- Non-MPRB
GEO:44.9161006;-93.2109865
X-APPLE-STRUCTURED-LOCATION;VALUE=URI;X-ADDRESS=Minnehaha Regional Park 4801 South Minnehaha Drive Minneapolis MN 55417 United States;X-APPLE-RADIUS=500;X-TITLE=4801 South Minnehaha Drive:geo:-93.2109865,44.9161006
END:VEVENT
BEGIN:VEVENT
DTSTART;TZID=America/Chicago:20240719T190000
DTEND;TZID=America/Chicago:20240719T190000
DTSTAMP:20260419T075002
CREATED:20240709T192648Z
LAST-MODIFIED:20240719T163849Z
UID:75329-1721415600-1721415600@www.minneapolisparks.org
SUMMARY:Dances at the Lake Festival
DESCRIPTION:
URL:https://www.minneapolisparks.org/event-calendar/dances-at-the-lake-festival/
LOCATION:Lyndale Park\, 1300 42nd St W\, Minneapolis\, MN\, 55409\, United States
CATEGORIES:Events- All,Events- Non-MPRB
GEO:44.9275251;-93.2953725
X-APPLE-STRUCTURED-LOCATION;VALUE=URI;X-ADDRESS=Lyndale Park 1300 42nd St W Minneapolis MN 55409 United States;X-APPLE-RADIUS=500;X-TITLE=1300 42nd St W:geo:-93.2953725,44.9275251
END:VEVENT
BEGIN:VEVENT
DTSTART;TZID=America/Chicago:20240720T100000
DTEND;TZID=America/Chicago:20240720T100000
DTSTAMP:20260419T075002
CREATED:20240709T193216Z
LAST-MODIFIED:20240719T163314Z
UID:75335-1721469600-1721469600@www.minneapolisparks.org
SUMMARY:Minnehaha Art Fair
DESCRIPTION:
URL:https://www.minneapolisparks.org/event-calendar/minnehaha-art-fair-4/
LOCATION:Minnehaha Regional Park\, 4801 South Minnehaha Drive\, Minneapolis\, MN\, 55417\, United States
CATEGORIES:Events- All,Events- Non-MPRB
GEO:44.9161006;-93.2109865
X-APPLE-STRUCTURED-LOCATION;VALUE=URI;X-ADDRESS=Minnehaha Regional Park 4801 South Minnehaha Drive Minneapolis MN 55417 United States;X-APPLE-RADIUS=500;X-TITLE=4801 South Minnehaha Drive:geo:-93.2109865,44.9161006
END:VEVENT
BEGIN:VEVENT
DTSTART;TZID=America/Chicago:20240720T190000
DTEND;TZID=America/Chicago:20240720T190000
DTSTAMP:20260419T075002
CREATED:20240709T192748Z
LAST-MODIFIED:20240719T163502Z
UID:75331-1721502000-1721502000@www.minneapolisparks.org
SUMMARY:Dances at the Lake Festival
DESCRIPTION:
URL:https://www.minneapolisparks.org/event-calendar/dances-at-the-lake-festival-2/
LOCATION:Lyndale Park\, 1300 42nd St W\, Minneapolis\, MN\, 55409\, United States
CATEGORIES:Events- All,Events- Non-MPRB
GEO:44.9275251;-93.2953725
X-APPLE-STRUCTURED-LOCATION;VALUE=URI;X-ADDRESS=Lyndale Park 1300 42nd St W Minneapolis MN 55409 United States;X-APPLE-RADIUS=500;X-TITLE=1300 42nd St W:geo:-93.2953725,44.9275251
END:VEVENT
BEGIN:VEVENT
DTSTART;TZID=America/Chicago:20240720T190000
DTEND;TZID=America/Chicago:20240720T190000
DTSTAMP:20260419T075002
CREATED:20240710T194159Z
LAST-MODIFIED:20240719T163917Z
UID:75400-1721502000-1721502000@www.minneapolisparks.org
SUMMARY:"Calypso\," a new play based on Homer's The Odyssey
DESCRIPTION:The story follows the lonely Calypso\, trapped on an island with only the god Hermes as an occasional visitor. When Odysseus washes ashore\, she experiences companionship for the first time and finds she cannot go back to living alone. Calypso takes a minor character from a classic story and gives her a full-fledged narrative\, spinning it into a tale about first love and the myths which we choose to remember. \nCalypso Program [PDF]
URL:https://www.minneapolisparks.org/event-calendar/calypso-a-new-play-based-on-homers-the-odyssey/
LOCATION:Water Works at Mill Ruins Park\, 425 West River Parkway\, Minneapolis\, MN\, 55401\, United States
CATEGORIES:Events- All,Events- Non-MPRB
GEO:44.9811921;-93.2620982
X-APPLE-STRUCTURED-LOCATION;VALUE=URI;X-ADDRESS=Water Works at Mill Ruins Park 425 West River Parkway Minneapolis MN 55401 United States;X-APPLE-RADIUS=500;X-TITLE=425 West River Parkway:geo:-93.2620982,44.9811921
END:VEVENT
BEGIN:VEVENT
DTSTART;TZID=America/Chicago:20240721T100000
DTEND;TZID=America/Chicago:20240721T100000
DTSTAMP:20260419T075002
CREATED:20240709T193454Z
LAST-MODIFIED:20240719T163931Z
UID:75337-1721556000-1721556000@www.minneapolisparks.org
SUMMARY:Minnehaha Art Fair
DESCRIPTION:
URL:https://www.minneapolisparks.org/event-calendar/minnehaha-art-fair-5/
LOCATION:Minnehaha Regional Park\, 4801 South Minnehaha Drive\, Minneapolis\, MN\, 55417\, United States
CATEGORIES:Events- All,Events- Non-MPRB
GEO:44.9161006;-93.2109865
X-APPLE-STRUCTURED-LOCATION;VALUE=URI;X-ADDRESS=Minnehaha Regional Park 4801 South Minnehaha Drive Minneapolis MN 55417 United States;X-APPLE-RADIUS=500;X-TITLE=4801 South Minnehaha Drive:geo:-93.2109865,44.9161006
END:VEVENT
BEGIN:VEVENT
DTSTART;TZID=America/Chicago:20240721T110000
DTEND;TZID=America/Chicago:20240721T140000
DTSTAMP:20260419T075002
CREATED:20240311T154224Z
LAST-MODIFIED:20240311T154224Z
UID:72174-1721559600-1721570400@www.minneapolisparks.org
SUMMARY:Skatin' in Commons
DESCRIPTION:Join TC Skaters every week for Skatin’ at The Commons! Lace up for free skates\, groove to beats from our live DJ\, and roll with the coolest crew in town! \nLet’s turn The Commons into our skating playground. See you there\, ready to roll and rock!
URL:https://www.minneapolisparks.org/event-calendar/skatin-in-commons-2/
LOCATION:The Commons\, 425 Portland Ave South\, Minneapolis\, MN\, 55488\, United States
CATEGORIES:Events- All,Events- MPRB
GEO:44.9766971;-93.2628904
X-APPLE-STRUCTURED-LOCATION;VALUE=URI;X-ADDRESS=The Commons 425 Portland Ave South Minneapolis MN 55488 United States;X-APPLE-RADIUS=500;X-TITLE=425 Portland Ave South:geo:-93.2628904,44.9766971
END:VEVENT
BEGIN:VEVENT
DTSTART;TZID=America/Chicago:20240721T140000
DTEND;TZID=America/Chicago:20240721T140000
DTSTAMP:20260419T075002
CREATED:20240716T200125Z
LAST-MODIFIED:20240719T163944Z
UID:75602-1721570400-1721570400@www.minneapolisparks.org
SUMMARY:“Calypso\,” a new play based on Homer’s The Odyssey
DESCRIPTION:The story follows the lonely Calypso\, trapped on an island with only the god Hermes as an occasional visitor. When Odysseus washes ashore\, she experiences companionship for the first time and finds she cannot go back to living alone. Calypso takes a minor character from a classic story and gives her a full-fledged narrative\, spinning it into a tale about first love and the myths which we choose to remember. \nCalypso Program [PDF]
URL:https://www.minneapolisparks.org/event-calendar/calypso-a-new-play-based-on-homers-the-odyssey-4/
LOCATION:Water Works at Mill Ruins Park\, 425 West River Parkway\, Minneapolis\, MN\, 55401\, United States
CATEGORIES:Events- All,Events- Non-MPRB
GEO:44.9811921;-93.2620982
X-APPLE-STRUCTURED-LOCATION;VALUE=URI;X-ADDRESS=Water Works at Mill Ruins Park 425 West River Parkway Minneapolis MN 55401 United States;X-APPLE-RADIUS=500;X-TITLE=425 West River Parkway:geo:-93.2620982,44.9811921
END:VEVENT
BEGIN:VEVENT
DTSTART;TZID=America/Chicago:20240726T160000
DTEND;TZID=America/Chicago:20240726T160000
DTSTAMP:20260419T075002
CREATED:20240723T193259Z
LAST-MODIFIED:20240723T193259Z
UID:76025-1722009600-1722009600@www.minneapolisparks.org
SUMMARY:Carifest
DESCRIPTION:
URL:https://www.minneapolisparks.org/event-calendar/carifest-6/
LOCATION:West River Road\, Minneapolis\, MN\, United States
CATEGORIES:Events- All,Events- Non-MPRB
GEO:44.9990888;-93.277474
END:VEVENT
BEGIN:VEVENT
DTSTART;TZID=America/Chicago:20240726T190000
DTEND;TZID=America/Chicago:20240726T190000
DTSTAMP:20260419T075002
CREATED:20240716T200122Z
LAST-MODIFIED:20240719T164126Z
UID:75603-1722020400-1722020400@www.minneapolisparks.org
SUMMARY:“Calypso\,” a new play based on Homer’s The Odyssey
DESCRIPTION:The story follows the lonely Calypso\, trapped on an island with only the god Hermes as an occasional visitor. When Odysseus washes ashore\, she experiences companionship for the first time and finds she cannot go back to living alone. Calypso takes a minor character from a classic story and gives her a full-fledged narrative\, spinning it into a tale about first love and the myths which we choose to remember. \nCalypso Program [PDF]
URL:https://www.minneapolisparks.org/event-calendar/calypso-a-new-play-based-on-homers-the-odyssey-3/
LOCATION:Water Works at Mill Ruins Park\, 425 West River Parkway\, Minneapolis\, MN\, 55401\, United States
CATEGORIES:Events- All,Events- Non-MPRB
GEO:44.9811921;-93.2620982
X-APPLE-STRUCTURED-LOCATION;VALUE=URI;X-ADDRESS=Water Works at Mill Ruins Park 425 West River Parkway Minneapolis MN 55401 United States;X-APPLE-RADIUS=500;X-TITLE=425 West River Parkway:geo:-93.2620982,44.9811921
END:VEVENT
BEGIN:VEVENT
DTSTART;TZID=America/Chicago:20240727T100000
DTEND;TZID=America/Chicago:20240727T100000
DTSTAMP:20260419T075002
CREATED:20240709T193956Z
LAST-MODIFIED:20240719T164115Z
UID:75341-1722074400-1722074400@www.minneapolisparks.org
SUMMARY:Carifest
DESCRIPTION:
URL:https://www.minneapolisparks.org/event-calendar/carifest-5/
LOCATION:West River Road\, Minneapolis\, MN\, United States
CATEGORIES:Events- All,Events- Non-MPRB
GEO:44.9990888;-93.277474
END:VEVENT
BEGIN:VEVENT
DTSTART;TZID=America/Chicago:20240727T100000
DTEND;TZID=America/Chicago:20240727T100000
DTSTAMP:20260419T075002
CREATED:20240709T195053Z
LAST-MODIFIED:20240719T164105Z
UID:75345-1722074400-1722074400@www.minneapolisparks.org
SUMMARY:Loring Park Art Festival
DESCRIPTION:
URL:https://www.minneapolisparks.org/event-calendar/loring-park-art-festival-10/
LOCATION:Loring Park\, Loring Park\, Minneapolis\, MN\, 55403\, United States
CATEGORIES:Events- All,Events- Non-MPRB
GEO:44.9649915;-93.2854596
X-APPLE-STRUCTURED-LOCATION;VALUE=URI;X-ADDRESS=Loring Park Loring Park Minneapolis MN 55403 United States;X-APPLE-RADIUS=500;X-TITLE=Loring Park:geo:-93.2854596,44.9649915
END:VEVENT
BEGIN:VEVENT
DTSTART;TZID=America/Chicago:20240727T160000
DTEND;TZID=America/Chicago:20240727T160000
DTSTAMP:20260419T075002
CREATED:20240709T193802Z
LAST-MODIFIED:20240719T164054Z
UID:75339-1722096000-1722096000@www.minneapolisparks.org
SUMMARY:Aquatennial AquaJam & Fireworks
DESCRIPTION:
URL:https://www.minneapolisparks.org/event-calendar/aquatennial-aquajam-fireworks/
LOCATION:Stone Arch Bridge / West River Parkway\, 100 Portland Ave\, Minneapolis\, MN\, 55401\, United States
CATEGORIES:Events- All,Events- Non-MPRB
GEO:44.9804766;-93.259591
X-APPLE-STRUCTURED-LOCATION;VALUE=URI;X-ADDRESS=Stone Arch Bridge / West River Parkway 100 Portland Ave Minneapolis MN 55401 United States;X-APPLE-RADIUS=500;X-TITLE=100 Portland Ave:geo:-93.259591,44.9804766
END:VEVENT
BEGIN:VEVENT
DTSTART;TZID=America/Chicago:20240727T170000
DTEND;TZID=America/Chicago:20240727T170000
DTSTAMP:20260419T075002
CREATED:20240709T194803Z
LAST-MODIFIED:20240719T164044Z
UID:75343-1722099600-1722099600@www.minneapolisparks.org
SUMMARY:ArtCar ArtBike Parade of Minnesota
DESCRIPTION:
URL:https://www.minneapolisparks.org/event-calendar/artcar-artbike-parade-of-minnesota/
LOCATION:Lake Harriet\, Minneapolis\, MN\, United States
CATEGORIES:Events- All,Events- Non-MPRB
GEO:44.927901;-93.3082473
END:VEVENT
BEGIN:VEVENT
DTSTART;TZID=America/Chicago:20240728T100000
DTEND;TZID=America/Chicago:20240728T100000
DTSTAMP:20260419T075002
CREATED:20240709T195148Z
LAST-MODIFIED:20240719T164032Z
UID:75347-1722160800-1722160800@www.minneapolisparks.org
SUMMARY:Loring Park Art Festival
DESCRIPTION:
URL:https://www.minneapolisparks.org/event-calendar/loring-park-art-festival-11/
LOCATION:Loring Park\, Loring Park\, Minneapolis\, MN\, 55403\, United States
CATEGORIES:Events- All,Events- Non-MPRB
GEO:44.9649915;-93.2854596
X-APPLE-STRUCTURED-LOCATION;VALUE=URI;X-ADDRESS=Loring Park Loring Park Minneapolis MN 55403 United States;X-APPLE-RADIUS=500;X-TITLE=Loring Park:geo:-93.2854596,44.9649915
END:VEVENT
BEGIN:VEVENT
DTSTART;TZID=America/Chicago:20240728T140000
DTEND;TZID=America/Chicago:20240728T140000
DTSTAMP:20260419T075002
CREATED:20240716T200115Z
LAST-MODIFIED:20240719T164018Z
UID:75604-1722175200-1722175200@www.minneapolisparks.org
SUMMARY:“Calypso\,” a new play based on Homer’s The Odyssey
DESCRIPTION:The story follows the lonely Calypso\, trapped on an island with only the god Hermes as an occasional visitor. When Odysseus washes ashore\, she experiences companionship for the first time and finds she cannot go back to living alone. Calypso takes a minor character from a classic story and gives her a full-fledged narrative\, spinning it into a tale about first love and the myths which we choose to remember. \nCalypso Program [PDF]
URL:https://www.minneapolisparks.org/event-calendar/calypso-a-new-play-based-on-homers-the-odyssey-2/
LOCATION:Water Works at Mill Ruins Park\, 425 West River Parkway\, Minneapolis\, MN\, 55401\, United States
CATEGORIES:Events- All,Events- Non-MPRB
GEO:44.9811921;-93.2620982
X-APPLE-STRUCTURED-LOCATION;VALUE=URI;X-ADDRESS=Water Works at Mill Ruins Park 425 West River Parkway Minneapolis MN 55401 United States;X-APPLE-RADIUS=500;X-TITLE=425 West River Parkway:geo:-93.2620982,44.9811921
END:VEVENT
BEGIN:VEVENT
DTSTART;TZID=America/Chicago:20240802T130000
DTEND;TZID=America/Chicago:20240802T130000
DTSTAMP:20260419T075002
CREATED:20240709T195322Z
LAST-MODIFIED:20240719T164235Z
UID:75349-1722603600-1722603600@www.minneapolisparks.org
SUMMARY:Basilica Block Party
DESCRIPTION:
URL:https://www.minneapolisparks.org/event-calendar/basilica-block-party/
LOCATION:Boom Island\, 724 Sibley St NE\, Minneapolis\, MN\, 55413\, United States
CATEGORIES:Events- All,Events- Non-MPRB
GEO:44.9920367;-93.3036741
X-APPLE-STRUCTURED-LOCATION;VALUE=URI;X-ADDRESS=Boom Island 724 Sibley St NE Minneapolis MN 55413 United States;X-APPLE-RADIUS=500;X-TITLE=724 Sibley St NE:geo:-93.3036741,44.9920367
END:VEVENT
BEGIN:VEVENT
DTSTART;TZID=America/Chicago:20240803T090000
DTEND;TZID=America/Chicago:20240803T090000
DTSTAMP:20260419T075002
CREATED:20240709T195727Z
LAST-MODIFIED:20240719T164223Z
UID:75356-1722675600-1722675600@www.minneapolisparks.org
SUMMARY:Stride to SAVE Lives
DESCRIPTION:
URL:https://www.minneapolisparks.org/event-calendar/stride-to-save-lives/
LOCATION:Lake Harriet\, Minneapolis\, MN\, United States
CATEGORIES:Events- All,Events- Non-MPRB
GEO:44.927901;-93.3082473
END:VEVENT
BEGIN:VEVENT
DTSTART;TZID=America/Chicago:20240803T100000
DTEND;TZID=America/Chicago:20240803T100000
DTSTAMP:20260419T075002
CREATED:20240709T195631Z
LAST-MODIFIED:20240719T164214Z
UID:75354-1722679200-1722679200@www.minneapolisparks.org
SUMMARY:Powderhorn Art Fair
DESCRIPTION:
URL:https://www.minneapolisparks.org/event-calendar/powderhorn-art-fair-10/
LOCATION:Powderhorn Park\, 3400 15th Ave S\, Minneapolis\, MN\, 554107\, United States
CATEGORIES:Events- All,Events- Non-MPRB
GEO:44.9413282;-93.2547875
X-APPLE-STRUCTURED-LOCATION;VALUE=URI;X-ADDRESS=Powderhorn Park 3400 15th Ave S Minneapolis MN 554107 United States;X-APPLE-RADIUS=500;X-TITLE=3400 15th Ave S:geo:-93.2547875,44.9413282
END:VEVENT
BEGIN:VEVENT
DTSTART;TZID=America/Chicago:20240803T100000
DTEND;TZID=America/Chicago:20240803T100000
DTSTAMP:20260419T075002
CREATED:20240709T195836Z
LAST-MODIFIED:20240719T164205Z
UID:75358-1722679200-1722679200@www.minneapolisparks.org
SUMMARY:Free First Saturday
DESCRIPTION:
URL:https://www.minneapolisparks.org/event-calendar/free-first-saturday-8/
LOCATION:Sculpture Garden\, Minneapolis\, MN\, United States
CATEGORIES:Events- All,Events- Non-MPRB
GEO:44.9695492;-93.2897225
END:VEVENT
BEGIN:VEVENT
DTSTART;TZID=America/Chicago:20240803T130000
DTEND;TZID=America/Chicago:20240803T130000
DTSTAMP:20260419T075002
CREATED:20240709T195502Z
LAST-MODIFIED:20240719T164153Z
UID:75351-1722690000-1722690000@www.minneapolisparks.org
SUMMARY:Basilica Block Party
DESCRIPTION:
URL:https://www.minneapolisparks.org/event-calendar/basilica-block-party-2/
LOCATION:Boom Island\, 724 Sibley St NE\, Minneapolis\, MN\, 55413\, United States
CATEGORIES:Events- All,Events- Non-MPRB
GEO:44.9920367;-93.3036741
X-APPLE-STRUCTURED-LOCATION;VALUE=URI;X-ADDRESS=Boom Island 724 Sibley St NE Minneapolis MN 55413 United States;X-APPLE-RADIUS=500;X-TITLE=724 Sibley St NE:geo:-93.3036741,44.9920367
END:VEVENT
BEGIN:VEVENT
DTSTART;TZID=America/Chicago:20240804T100000
DTEND;TZID=America/Chicago:20240804T100000
DTSTAMP:20260419T075002
CREATED:20240709T200009Z
LAST-MODIFIED:20240719T164143Z
UID:75360-1722765600-1722765600@www.minneapolisparks.org
SUMMARY:Powderhorn Art Fair
DESCRIPTION:
URL:https://www.minneapolisparks.org/event-calendar/powderhorn-art-fair-11/
LOCATION:Powderhorn Park\, 3400 15th Ave S\, Minneapolis\, MN\, 554107\, United States
CATEGORIES:Events- All,Events- Non-MPRB
GEO:44.9413282;-93.2547875
X-APPLE-STRUCTURED-LOCATION;VALUE=URI;X-ADDRESS=Powderhorn Park 3400 15th Ave S Minneapolis MN 554107 United States;X-APPLE-RADIUS=500;X-TITLE=3400 15th Ave S:geo:-93.2547875,44.9413282
END:VEVENT
BEGIN:VEVENT
DTSTART;TZID=America/Chicago:20240808T173000
DTEND;TZID=America/Chicago:20240808T200000
DTSTAMP:20260419T075002
CREATED:20240807T185524Z
LAST-MODIFIED:20240807T185524Z
UID:76198-1723138200-1723147200@www.minneapolisparks.org
SUMMARY:Keewaydin Festival
DESCRIPTION:Come on down and and have a blast with the park. Bring the family\, as there will be games\, inflatables\, food and beverages for sale. It’s a neighborhood party\, so do not miss out on the fun! Enroll now (free)
URL:https://www.minneapolisparks.org/event-calendar/keewaydin-festival/
LOCATION:Keewaydin Park\, 3030 E 53rd St\, Minneapolis\, MN\, 55417\, United States
CATEGORIES:Events- All,Events- MPRB
GEO:44.9074817;-93.22849
X-APPLE-STRUCTURED-LOCATION;VALUE=URI;X-ADDRESS=Keewaydin Park 3030 E 53rd St Minneapolis MN 55417 United States;X-APPLE-RADIUS=500;X-TITLE=3030 E 53rd St:geo:-93.22849,44.9074817
END:VEVENT
BEGIN:VEVENT
DTSTART;TZID=America/Chicago:20240808T173000
DTEND;TZID=America/Chicago:20240808T200000
DTSTAMP:20260419T075002
CREATED:20240807T185813Z
LAST-MODIFIED:20240807T185813Z
UID:76200-1723138200-1723147200@www.minneapolisparks.org
SUMMARY:Ice Cream Social
DESCRIPTION:Cool off on a hot summer evening and join fellow neighbors for our annual ice cream social! Face painting\, yard games\, and inflatables for kids!
URL:https://www.minneapolisparks.org/event-calendar/ice-cream-social-43/
LOCATION:Phelps Field Park\, 701 E 39th St\, Minneapolis\, MN\, 55407\, United States
CATEGORIES:Events- All,Events- MPRB
GEO:44.9320116;-93.2633132
X-APPLE-STRUCTURED-LOCATION;VALUE=URI;X-ADDRESS=Phelps Field Park 701 E 39th St Minneapolis MN 55407 United States;X-APPLE-RADIUS=500;X-TITLE=701 E 39th St:geo:-93.2633132,44.9320116
END:VEVENT
BEGIN:VEVENT
DTSTART;TZID=America/Chicago:20240809T180000
DTEND;TZID=America/Chicago:20240809T193000
DTSTAMP:20260419T075002
CREATED:20240809T185814Z
LAST-MODIFIED:20240809T185814Z
UID:76317-1723226400-1723231800@www.minneapolisparks.org
SUMMARY:Fall Equinox Forest Bathing at Longfellow Garden Prairie
DESCRIPTION:Find balance in self as the day and night find equal length this equinox and the fall season begins. \n\nForest Bathing is a research-based\, immersive practice of slowing down and opening our senses to the natural world around us. With this practice we can develop a deeper relationship with ourselves\, the more-than-human-world\, and other humans.\n\nMel\, a Certified Nature and Forest Therapy Guide\, will guide this experience with thoughtful invitations to help you slow down and explore the world around you\, followed by opportunities to share our experiences with one another.\n\nThis program will meet near the small parking lot off of E Minnehaha Pkwy.
URL:https://www.minneapolisparks.org/event-calendar/fall-equinox-forest-bathing-at-longfellow-garden-prairie/
LOCATION:Longfellow Park\, 3435 36th Ave S\, Minneapolis\, MN\, 55406\, United States
CATEGORIES:Events- All,Events- MPRB
GEO:44.9400906;-93.2199535
X-APPLE-STRUCTURED-LOCATION;VALUE=URI;X-ADDRESS=Longfellow Park 3435 36th Ave S Minneapolis MN 55406 United States;X-APPLE-RADIUS=500;X-TITLE=3435 36th Ave S:geo:-93.2199535,44.9400906
END:VEVENT
BEGIN:VEVENT
DTSTART;TZID=America/Chicago:20240810T081100
DTEND;TZID=America/Chicago:20240810T081100
DTSTAMP:20260419T075002
CREATED:20240709T200123Z
LAST-MODIFIED:20240719T164313Z
UID:75362-1723277460-1723277460@www.minneapolisparks.org
SUMMARY:811 5k
DESCRIPTION:
URL:https://www.minneapolisparks.org/event-calendar/811-5k-2/
LOCATION:Bde Maka Ska\, Bde Maka Ska\, Minneapolis\, MN\, 55416\, United States
CATEGORIES:Events- All,Events- Non-MPRB
GEO:44.9421047;-93.3207807
X-APPLE-STRUCTURED-LOCATION;VALUE=URI;X-ADDRESS=Bde Maka Ska Bde Maka Ska Minneapolis MN 55416 United States;X-APPLE-RADIUS=500;X-TITLE=Bde Maka Ska:geo:-93.3207807,44.9421047
END:VEVENT
BEGIN:VEVENT
DTSTART;TZID=America/Chicago:20240810T083000
DTEND;TZID=America/Chicago:20240810T083000
DTSTAMP:20260419T075002
CREATED:20240709T200305Z
LAST-MODIFIED:20240719T164304Z
UID:75364-1723278600-1723278600@www.minneapolisparks.org
SUMMARY:Breath of Hope Lung Run/Walk
DESCRIPTION:
URL:https://www.minneapolisparks.org/event-calendar/breath-of-hope-lung-run-walk/
LOCATION:Lake Harriet\, Minneapolis\, MN\, United States
CATEGORIES:Events- All,Events- Non-MPRB
GEO:44.927901;-93.3082473
END:VEVENT
END:VCALENDAR