BEGIN:VCALENDAR
VERSION:2.0
PRODID:-//Minneapolis Park &amp; Recreation Board - ECPv6.15.20//NONSGML v1.0//EN
CALSCALE:GREGORIAN
METHOD:PUBLISH
X-WR-CALNAME:Minneapolis Park &amp; Recreation Board
X-ORIGINAL-URL:https://www.minneapolisparks.org
X-WR-CALDESC:Events for Minneapolis Park &amp; Recreation Board
REFRESH-INTERVAL;VALUE=DURATION:PT1H
X-Robots-Tag:noindex
X-PUBLISHED-TTL:PT1H
BEGIN:VTIMEZONE
TZID:America/Chicago
BEGIN:DAYLIGHT
TZOFFSETFROM:-0600
TZOFFSETTO:-0500
TZNAME:CDT
DTSTART:20230312T080000
END:DAYLIGHT
BEGIN:STANDARD
TZOFFSETFROM:-0500
TZOFFSETTO:-0600
TZNAME:CST
DTSTART:20231105T070000
END:STANDARD
BEGIN:DAYLIGHT
TZOFFSETFROM:-0600
TZOFFSETTO:-0500
TZNAME:CDT
DTSTART:20240310T080000
END:DAYLIGHT
BEGIN:STANDARD
TZOFFSETFROM:-0500
TZOFFSETTO:-0600
TZNAME:CST
DTSTART:20241103T070000
END:STANDARD
BEGIN:DAYLIGHT
TZOFFSETFROM:-0600
TZOFFSETTO:-0500
TZNAME:CDT
DTSTART:20250309T080000
END:DAYLIGHT
BEGIN:STANDARD
TZOFFSETFROM:-0500
TZOFFSETTO:-0600
TZNAME:CST
DTSTART:20251102T070000
END:STANDARD
END:VTIMEZONE
BEGIN:VEVENT
DTSTART;TZID=America/Chicago:20240804T173000
DTEND;TZID=America/Chicago:20240804T173000
DTSTAMP:20260421T025632
CREATED:20240523T160229Z
LAST-MODIFIED:20240523T160229Z
UID:74273-1722792600-1722792600@www.minneapolisparks.org
SUMMARY:The Way Way Back Band
DESCRIPTION:Energetic mix of Motown\, funk\, and disco
URL:https://www.minneapolisparks.org/event-calendar/the-way-way-back-band/
LOCATION:Lake Harriet Bandshell\, Minneapolis\, MN\, United States
CATEGORIES:Music & Movies in the Parks,Music in the Parks
GEO:44.927901;-93.3082473
END:VEVENT
BEGIN:VEVENT
DTSTART;TZID=America/Chicago:20240805T190000
DTEND;TZID=America/Chicago:20240805T190000
DTSTAMP:20260421T025632
CREATED:20240522T212204Z
LAST-MODIFIED:20240522T212204Z
UID:74142-1722884400-1722884400@www.minneapolisparks.org
SUMMARY:Matt Yetter
DESCRIPTION:Acoustic blues slide guitarist with harmonica \n 
URL:https://www.minneapolisparks.org/event-calendar/matt-yetter-2/
LOCATION:Water Works at Mill Ruins Park\, 425 West River Parkway\, Minneapolis\, MN\, 55401\, United States
CATEGORIES:Music & Movies in the Parks,Music in the Parks
GEO:44.9811921;-93.2620982
X-APPLE-STRUCTURED-LOCATION;VALUE=URI;X-ADDRESS=Water Works at Mill Ruins Park 425 West River Parkway Minneapolis MN 55401 United States;X-APPLE-RADIUS=500;X-TITLE=425 West River Parkway:geo:-93.2620982,44.9811921
END:VEVENT
BEGIN:VEVENT
DTSTART;TZID=America/Chicago:20240805T193000
DTEND;TZID=America/Chicago:20240805T193000
DTSTAMP:20260421T025632
CREATED:20240523T160416Z
LAST-MODIFIED:20240523T160416Z
UID:74275-1722886200-1722886200@www.minneapolisparks.org
SUMMARY:The C Notes
DESCRIPTION:Rock blues soul funk band
URL:https://www.minneapolisparks.org/event-calendar/the-c-notes/
LOCATION:Lake Harriet Bandshell\, Minneapolis\, MN\, United States
CATEGORIES:Music & Movies in the Parks,Music in the Parks
GEO:44.927901;-93.3082473
END:VEVENT
BEGIN:VEVENT
DTSTART;TZID=America/Chicago:20240806T190000
DTEND;TZID=America/Chicago:20240806T190000
DTSTAMP:20260421T025632
CREATED:20240522T201758Z
LAST-MODIFIED:20240730T175020Z
UID:74062-1722970800-1722970800@www.minneapolisparks.org
SUMMARY:Lakewood Cemetery
DESCRIPTION:Intricate songs and tight harmonies
URL:https://www.minneapolisparks.org/event-calendar/lakewood-cemetery/
LOCATION:Father Hennepin Bluff Park\, Minneapolis\, MN\, United States
CATEGORIES:Music & Movies in the Parks,Music in the Parks
GEO:44.9826582;-93.2513335
END:VEVENT
BEGIN:VEVENT
DTSTART;TZID=America/Chicago:20240806T190000
DTEND;TZID=America/Chicago:20240806T190000
DTSTAMP:20260421T025632
CREATED:20240523T141905Z
LAST-MODIFIED:20240708T195602Z
UID:74171-1722970800-1722970800@www.minneapolisparks.org
SUMMARY:Palms Psalm
DESCRIPTION:Ancient Tongan combined with surf-rock
URL:https://www.minneapolisparks.org/event-calendar/palms-psalm/
LOCATION:Loring Park\, Loring Park\, Minneapolis\, MN\, 55403\, United States
CATEGORIES:Music & Movies in the Parks,Music in the Parks
GEO:44.9649915;-93.2854596
X-APPLE-STRUCTURED-LOCATION;VALUE=URI;X-ADDRESS=Loring Park Loring Park Minneapolis MN 55403 United States;X-APPLE-RADIUS=500;X-TITLE=Loring Park:geo:-93.2854596,44.9649915
END:VEVENT
BEGIN:VEVENT
DTSTART;TZID=America/Chicago:20240807T120000
DTEND;TZID=America/Chicago:20240807T120000
DTSTAMP:20260421T025632
CREATED:20240523T151349Z
LAST-MODIFIED:20240523T151349Z
UID:74200-1723032000-1723032000@www.minneapolisparks.org
SUMMARY:Demolition Means Progress
DESCRIPTION:Harmonic indie rock
URL:https://www.minneapolisparks.org/event-calendar/demolition-means-progress-7/
LOCATION:The Commons\, 425 Portland Ave South\, Minneapolis\, MN\, 55488\, United States
CATEGORIES:Music & Movies in the Parks,Music in the Parks
GEO:44.9766971;-93.2628904
X-APPLE-STRUCTURED-LOCATION;VALUE=URI;X-ADDRESS=The Commons 425 Portland Ave South Minneapolis MN 55488 United States;X-APPLE-RADIUS=500;X-TITLE=425 Portland Ave South:geo:-93.2628904,44.9766971
END:VEVENT
BEGIN:VEVENT
DTSTART;TZID=America/Chicago:20240807T193000
DTEND;TZID=America/Chicago:20240807T193000
DTSTAMP:20260421T025632
CREATED:20240523T160522Z
LAST-MODIFIED:20240719T164335Z
UID:74277-1723059000-1723059000@www.minneapolisparks.org
SUMMARY:Shaun Johnson + the Big Band Experience
DESCRIPTION:Contemporary big band style
URL:https://www.minneapolisparks.org/event-calendar/shaun-johnson-the-big-band-experience/
LOCATION:Lake Harriet Bandshell\, Minneapolis\, MN\, United States
CATEGORIES:Music & Movies in the Parks,Music in the Parks
GEO:44.927901;-93.3082473
END:VEVENT
BEGIN:VEVENT
DTSTART;TZID=America/Chicago:20240808T180000
DTEND;TZID=America/Chicago:20240808T210000
DTSTAMP:20260421T025632
CREATED:20240802T165437Z
LAST-MODIFIED:20240802T165437Z
UID:76141-1723140000-1723150800@www.minneapolisparks.org
SUMMARY:Live on the Northside: Papa Roof & The Soul Villains
DESCRIPTION:Music\, Dancing\, Food Trucks\, Lawn Games\, Balloon Animals\, and  Community Fun!\nMOVIES AT DUSK: A Wrinkle in Time \n  \nThis activity is funded\, in part\, by an appropriation from the Minnesota State Legislature with money from the State’s general fund.
URL:https://www.minneapolisparks.org/event-calendar/live-on-the-northside-papa-roof-the-soul-villains/
LOCATION:Victory Park\, 4414 Upton Ave N\, Minneapolis\, MN\, 55412\, United States
CATEGORIES:Music & Movies in the Parks,Music in the Parks
GEO:45.0359721;-93.3147565
X-APPLE-STRUCTURED-LOCATION;VALUE=URI;X-ADDRESS=Victory Park 4414 Upton Ave N Minneapolis MN 55412 United States;X-APPLE-RADIUS=500;X-TITLE=4414 Upton Ave N:geo:-93.3147565,45.0359721
END:VEVENT
BEGIN:VEVENT
DTSTART;TZID=America/Chicago:20240808T190000
DTEND;TZID=America/Chicago:20240808T190000
DTSTAMP:20260421T025632
CREATED:20240522T195339Z
LAST-MODIFIED:20240701T191748Z
UID:74032-1723143600-1723143600@www.minneapolisparks.org
SUMMARY:Kung Fu Hippies
DESCRIPTION:Feel-good hippie rock
URL:https://www.minneapolisparks.org/event-calendar/kung-fu-hippies-5/
LOCATION:Minnehaha Bandstand\, Minneapolis\, MN\, United States
CATEGORIES:Music & Movies in the Parks,Music in the Parks
GEO:44.9161006;-93.2109865
END:VEVENT
BEGIN:VEVENT
DTSTART;TZID=America/Chicago:20240808T190000
DTEND;TZID=America/Chicago:20240808T190000
DTSTAMP:20260421T025632
CREATED:20240523T151453Z
LAST-MODIFIED:20240523T151453Z
UID:74202-1723143600-1723143600@www.minneapolisparks.org
SUMMARY:Niny Salem Trio
DESCRIPTION:Charismatic\, international and soulful jazz songstress
URL:https://www.minneapolisparks.org/event-calendar/niny-salem-trio/
LOCATION:The Commons\, 425 Portland Ave South\, Minneapolis\, MN\, 55488\, United States
CATEGORIES:Music & Movies in the Parks,Music in the Parks
GEO:44.9766971;-93.2628904
X-APPLE-STRUCTURED-LOCATION;VALUE=URI;X-ADDRESS=The Commons 425 Portland Ave South Minneapolis MN 55488 United States;X-APPLE-RADIUS=500;X-TITLE=425 Portland Ave South:geo:-93.2628904,44.9766971
END:VEVENT
BEGIN:VEVENT
DTSTART;TZID=America/Chicago:20240809T190000
DTEND;TZID=America/Chicago:20240809T190000
DTSTAMP:20260421T025632
CREATED:20240522T195453Z
LAST-MODIFIED:20240701T191715Z
UID:74034-1723230000-1723230000@www.minneapolisparks.org
SUMMARY:Side By Side
DESCRIPTION:Womens acapella barbershop octet
URL:https://www.minneapolisparks.org/event-calendar/side-by-side/
LOCATION:Minnehaha Bandstand\, Minneapolis\, MN\, United States
CATEGORIES:Music & Movies in the Parks,Music in the Parks
GEO:44.9161006;-93.2109865
END:VEVENT
BEGIN:VEVENT
DTSTART;TZID=America/Chicago:20240809T193000
DTEND;TZID=America/Chicago:20240809T193000
DTSTAMP:20260421T025632
CREATED:20240523T160636Z
LAST-MODIFIED:20240523T160636Z
UID:74279-1723231800-1723231800@www.minneapolisparks.org
SUMMARY:Star Tribune Presents Ber.
DESCRIPTION:
URL:https://www.minneapolisparks.org/event-calendar/star-tribune-presents-ber/
LOCATION:Lake Harriet Bandshell\, Minneapolis\, MN\, United States
CATEGORIES:Music & Movies in the Parks,Music in the Parks
GEO:44.927901;-93.3082473
END:VEVENT
BEGIN:VEVENT
DTSTART;TZID=America/Chicago:20240811T140000
DTEND;TZID=America/Chicago:20240811T140000
DTSTAMP:20260421T025632
CREATED:20240523T160735Z
LAST-MODIFIED:20240523T160735Z
UID:74281-1723384800-1723384800@www.minneapolisparks.org
SUMMARY:Percolators Band
DESCRIPTION:Refreshing 60’s vocal harmony rock
URL:https://www.minneapolisparks.org/event-calendar/percolators-band-7/
LOCATION:Lake Harriet Bandshell\, Minneapolis\, MN\, United States
CATEGORIES:Music & Movies in the Parks,Music in the Parks
GEO:44.927901;-93.3082473
END:VEVENT
BEGIN:VEVENT
DTSTART;TZID=America/Chicago:20240811T173000
DTEND;TZID=America/Chicago:20240811T173000
DTSTAMP:20260421T025632
CREATED:20240523T160840Z
LAST-MODIFIED:20240523T160840Z
UID:74283-1723397400-1723397400@www.minneapolisparks.org
SUMMARY:Kenwood Symphony Orchestra
DESCRIPTION:Community symphony orchestra
URL:https://www.minneapolisparks.org/event-calendar/kenwood-symphony-orchestra-7/
LOCATION:Lake Harriet Bandshell\, Minneapolis\, MN\, United States
CATEGORIES:Music & Movies in the Parks,Music in the Parks
GEO:44.927901;-93.3082473
END:VEVENT
BEGIN:VEVENT
DTSTART;TZID=America/Chicago:20240812T190000
DTEND;TZID=America/Chicago:20240812T190000
DTSTAMP:20260421T025632
CREATED:20240522T212317Z
LAST-MODIFIED:20240522T212317Z
UID:74144-1723489200-1723489200@www.minneapolisparks.org
SUMMARY:FINICK
DESCRIPTION:Singer-songwriter\, indie-folk music
URL:https://www.minneapolisparks.org/event-calendar/finick/
LOCATION:Water Works at Mill Ruins Park\, 425 West River Parkway\, Minneapolis\, MN\, 55401\, United States
CATEGORIES:Music & Movies in the Parks,Music in the Parks
GEO:44.9811921;-93.2620982
X-APPLE-STRUCTURED-LOCATION;VALUE=URI;X-ADDRESS=Water Works at Mill Ruins Park 425 West River Parkway Minneapolis MN 55401 United States;X-APPLE-RADIUS=500;X-TITLE=425 West River Parkway:geo:-93.2620982,44.9811921
END:VEVENT
BEGIN:VEVENT
DTSTART;TZID=America/Chicago:20240812T193000
DTEND;TZID=America/Chicago:20240812T193000
DTSTAMP:20260421T025632
CREATED:20240523T160941Z
LAST-MODIFIED:20240708T181637Z
UID:74285-1723491000-1723491000@www.minneapolisparks.org
SUMMARY:Jaspar Lepak
DESCRIPTION:Heartfelt Folk/Americana
URL:https://www.minneapolisparks.org/event-calendar/the-seaweeds/
LOCATION:Lake Harriet Bandshell\, Minneapolis\, MN\, United States
CATEGORIES:Music & Movies in the Parks,Music in the Parks
GEO:44.927901;-93.3082473
END:VEVENT
BEGIN:VEVENT
DTSTART;TZID=America/Chicago:20240813T190000
DTEND;TZID=America/Chicago:20240813T190000
DTSTAMP:20260421T025632
CREATED:20240522T201921Z
LAST-MODIFIED:20240730T175027Z
UID:74064-1723575600-1723575600@www.minneapolisparks.org
SUMMARY:Will Sings Songs
DESCRIPTION:Environmental musical family fun
URL:https://www.minneapolisparks.org/event-calendar/will-sings-songs/
LOCATION:Father Hennepin Bluff Park\, Minneapolis\, MN\, United States
CATEGORIES:Music & Movies in the Parks,Music in the Parks
GEO:44.9826582;-93.2513335
END:VEVENT
BEGIN:VEVENT
DTSTART;TZID=America/Chicago:20240813T190000
DTEND;TZID=America/Chicago:20240813T190000
DTSTAMP:20260421T025632
CREATED:20240523T142002Z
LAST-MODIFIED:20240708T195605Z
UID:74173-1723575600-1723575600@www.minneapolisparks.org
SUMMARY:Root River Jam
DESCRIPTION:Americana roots and blues
URL:https://www.minneapolisparks.org/event-calendar/root-river-jam-5/
LOCATION:Loring Park\, Loring Park\, Minneapolis\, MN\, 55403\, United States
CATEGORIES:Music & Movies in the Parks,Music in the Parks
GEO:44.9649915;-93.2854596
X-APPLE-STRUCTURED-LOCATION;VALUE=URI;X-ADDRESS=Loring Park Loring Park Minneapolis MN 55403 United States;X-APPLE-RADIUS=500;X-TITLE=Loring Park:geo:-93.2854596,44.9649915
END:VEVENT
BEGIN:VEVENT
DTSTART;TZID=America/Chicago:20240814T120000
DTEND;TZID=America/Chicago:20240814T120000
DTSTAMP:20260421T025632
CREATED:20240523T151618Z
LAST-MODIFIED:20240523T151618Z
UID:74204-1723636800-1723636800@www.minneapolisparks.org
SUMMARY:Sing United
DESCRIPTION:Corporate singers providing joyful music
URL:https://www.minneapolisparks.org/event-calendar/sing-united-2/
LOCATION:The Commons\, 425 Portland Ave South\, Minneapolis\, MN\, 55488\, United States
CATEGORIES:Music & Movies in the Parks,Music in the Parks
GEO:44.9766971;-93.2628904
X-APPLE-STRUCTURED-LOCATION;VALUE=URI;X-ADDRESS=The Commons 425 Portland Ave South Minneapolis MN 55488 United States;X-APPLE-RADIUS=500;X-TITLE=425 Portland Ave South:geo:-93.2628904,44.9766971
END:VEVENT
BEGIN:VEVENT
DTSTART;TZID=America/Chicago:20240814T193000
DTEND;TZID=America/Chicago:20240814T193000
DTSTAMP:20260421T025632
CREATED:20240523T161037Z
LAST-MODIFIED:20240523T161037Z
UID:74287-1723663800-1723663800@www.minneapolisparks.org
SUMMARY:The Pan-handlers Steel Drum Band
DESCRIPTION:Caribbean music on steel drums
URL:https://www.minneapolisparks.org/event-calendar/the-pan-handlers-steel-drum-band-2/
LOCATION:Lake Harriet Bandshell\, Minneapolis\, MN\, United States
CATEGORIES:Music & Movies in the Parks,Music in the Parks
GEO:44.927901;-93.3082473
END:VEVENT
BEGIN:VEVENT
DTSTART;TZID=America/Chicago:20240815T190000
DTEND;TZID=America/Chicago:20240815T190000
DTSTAMP:20260421T025632
CREATED:20240522T195614Z
LAST-MODIFIED:20240701T191658Z
UID:74036-1723748400-1723748400@www.minneapolisparks.org
SUMMARY:Fr/end
DESCRIPTION:Grunge folk for good times
URL:https://www.minneapolisparks.org/event-calendar/fr-end/
LOCATION:Minnehaha Bandstand\, Minneapolis\, MN\, United States
CATEGORIES:Music & Movies in the Parks,Music in the Parks
GEO:44.9161006;-93.2109865
END:VEVENT
BEGIN:VEVENT
DTSTART;TZID=America/Chicago:20240815T190000
DTEND;TZID=America/Chicago:20240815T190000
DTSTAMP:20260421T025632
CREATED:20240523T151732Z
LAST-MODIFIED:20240806T182043Z
UID:74206-1723748400-1723748400@www.minneapolisparks.org
SUMMARY:Music in the Park featuring DxLr
DESCRIPTION:Low & High + Minneapolis Parks & Recreation Present:\nMusic in The Parks\, featuring downtempo by DxLr!
URL:https://www.minneapolisparks.org/event-calendar/adam-bohanan/
LOCATION:The Commons\, 425 Portland Ave South\, Minneapolis\, MN\, 55488\, United States
CATEGORIES:Music & Movies in the Parks,Music in the Parks
GEO:44.9766971;-93.2628904
X-APPLE-STRUCTURED-LOCATION;VALUE=URI;X-ADDRESS=The Commons 425 Portland Ave South Minneapolis MN 55488 United States;X-APPLE-RADIUS=500;X-TITLE=425 Portland Ave South:geo:-93.2628904,44.9766971
END:VEVENT
BEGIN:VEVENT
DTSTART;TZID=America/Chicago:20240816T190000
DTEND;TZID=America/Chicago:20240816T190000
DTSTAMP:20260421T025632
CREATED:20240522T195752Z
LAST-MODIFIED:20240701T191639Z
UID:74038-1723834800-1723834800@www.minneapolisparks.org
SUMMARY:Quantum Mechanics
DESCRIPTION:Original pseudo scientific jam band
URL:https://www.minneapolisparks.org/event-calendar/quantum-mechanics/
LOCATION:Minnehaha Bandstand\, Minneapolis\, MN\, United States
CATEGORIES:Music & Movies in the Parks,Music in the Parks
GEO:44.9161006;-93.2109865
END:VEVENT
BEGIN:VEVENT
DTSTART;TZID=America/Chicago:20240816T193000
DTEND;TZID=America/Chicago:20240816T193000
DTSTAMP:20260421T025632
CREATED:20240523T161155Z
LAST-MODIFIED:20240523T161155Z
UID:74289-1723836600-1723836600@www.minneapolisparks.org
SUMMARY:The Zillionaires
DESCRIPTION:Original Music\, alt-variety band
URL:https://www.minneapolisparks.org/event-calendar/the-zillionaires-2/
LOCATION:Lake Harriet Bandshell\, Minneapolis\, MN\, United States
CATEGORIES:Music & Movies in the Parks,Music in the Parks
GEO:44.927901;-93.3082473
END:VEVENT
BEGIN:VEVENT
DTSTART;TZID=America/Chicago:20240817T193000
DTEND;TZID=America/Chicago:20240817T193000
DTSTAMP:20260421T025632
CREATED:20240523T161257Z
LAST-MODIFIED:20240523T161257Z
UID:74291-1723923000-1723923000@www.minneapolisparks.org
SUMMARY:Fat Chance Jug Band
DESCRIPTION:Jug band songs and more
URL:https://www.minneapolisparks.org/event-calendar/fat-chance-jug-band-2/
LOCATION:Lake Harriet Bandshell\, Minneapolis\, MN\, United States
CATEGORIES:Music & Movies in the Parks,Music in the Parks
GEO:44.927901;-93.3082473
END:VEVENT
BEGIN:VEVENT
DTSTART;TZID=America/Chicago:20240818T140000
DTEND;TZID=America/Chicago:20240818T140000
DTSTAMP:20260421T025632
CREATED:20240523T161356Z
LAST-MODIFIED:20240523T161356Z
UID:74293-1723989600-1723989600@www.minneapolisparks.org
SUMMARY:ROBOS (Rock On Brothers Of Sound)
DESCRIPTION:Koroline Wells led classic rock Musicians.
URL:https://www.minneapolisparks.org/event-calendar/robos-rock-on-brothers-of-sound/
LOCATION:Lake Harriet Bandshell\, Minneapolis\, MN\, United States
CATEGORIES:Music & Movies in the Parks,Music in the Parks
GEO:44.927901;-93.3082473
END:VEVENT
BEGIN:VEVENT
DTSTART;TZID=America/Chicago:20240818T173000
DTEND;TZID=America/Chicago:20240818T173000
DTSTAMP:20260421T025632
CREATED:20240523T161508Z
LAST-MODIFIED:20240523T161508Z
UID:74295-1724002200-1724002200@www.minneapolisparks.org
SUMMARY:Saddle Sores
DESCRIPTION:Classic country from the 50s\, 60s and 70s
URL:https://www.minneapolisparks.org/event-calendar/saddle-sores-6/
LOCATION:Lake Harriet Bandshell\, Minneapolis\, MN\, United States
CATEGORIES:Music & Movies in the Parks,Music in the Parks
GEO:44.927901;-93.3082473
END:VEVENT
BEGIN:VEVENT
DTSTART;TZID=America/Chicago:20240819T190000
DTEND;TZID=America/Chicago:20240819T190000
DTSTAMP:20260421T025632
CREATED:20240522T212423Z
LAST-MODIFIED:20240522T212423Z
UID:74146-1724094000-1724094000@www.minneapolisparks.org
SUMMARY:Overdressed Duo
DESCRIPTION:An opera and musical extravaganza
URL:https://www.minneapolisparks.org/event-calendar/overdressed-duo-3/
LOCATION:Water Works at Mill Ruins Park\, 425 West River Parkway\, Minneapolis\, MN\, 55401\, United States
CATEGORIES:Music & Movies in the Parks,Music in the Parks
GEO:44.9811921;-93.2620982
X-APPLE-STRUCTURED-LOCATION;VALUE=URI;X-ADDRESS=Water Works at Mill Ruins Park 425 West River Parkway Minneapolis MN 55401 United States;X-APPLE-RADIUS=500;X-TITLE=425 West River Parkway:geo:-93.2620982,44.9811921
END:VEVENT
BEGIN:VEVENT
DTSTART;TZID=America/Chicago:20240819T193000
DTEND;TZID=America/Chicago:20240819T193000
DTSTAMP:20260421T025632
CREATED:20240523T161618Z
LAST-MODIFIED:20240523T161618Z
UID:74297-1724095800-1724095800@www.minneapolisparks.org
SUMMARY:La Danse Fatale Ballet Company
DESCRIPTION:Performing arts ballet company
URL:https://www.minneapolisparks.org/event-calendar/la-danse-fatale-ballet-company-2/
LOCATION:Lake Harriet Bandshell\, Minneapolis\, MN\, United States
CATEGORIES:Music & Movies in the Parks,Music in the Parks
GEO:44.927901;-93.3082473
END:VEVENT
BEGIN:VEVENT
DTSTART;TZID=America/Chicago:20240819T201000
DTEND;TZID=America/Chicago:20240819T201000
DTSTAMP:20260421T025632
CREATED:20240523T184735Z
LAST-MODIFIED:20240523T184735Z
UID:74402-1724098200-1724098200@www.minneapolisparks.org
SUMMARY:Wish
DESCRIPTION:PG
URL:https://www.minneapolisparks.org/event-calendar/wish-2/
LOCATION:Mueller Park\, Minneapolis\, MN\, United States
CATEGORIES:Music & Movies in the Parks,Music in the Parks
GEO:44.9569732;-93.2914447
END:VEVENT
END:VCALENDAR