BEGIN:VCALENDAR
VERSION:2.0
PRODID:-//Minneapolis Park &amp; Recreation Board - ECPv6.15.20//NONSGML v1.0//EN
CALSCALE:GREGORIAN
METHOD:PUBLISH
X-WR-CALNAME:Minneapolis Park &amp; Recreation Board
X-ORIGINAL-URL:https://www.minneapolisparks.org
X-WR-CALDESC:Events for Minneapolis Park &amp; Recreation Board
REFRESH-INTERVAL;VALUE=DURATION:PT1H
X-Robots-Tag:noindex
X-PUBLISHED-TTL:PT1H
BEGIN:VTIMEZONE
TZID:America/Chicago
BEGIN:DAYLIGHT
TZOFFSETFROM:-0600
TZOFFSETTO:-0500
TZNAME:CDT
DTSTART:20230312T080000
END:DAYLIGHT
BEGIN:STANDARD
TZOFFSETFROM:-0500
TZOFFSETTO:-0600
TZNAME:CST
DTSTART:20231105T070000
END:STANDARD
BEGIN:DAYLIGHT
TZOFFSETFROM:-0600
TZOFFSETTO:-0500
TZNAME:CDT
DTSTART:20240310T080000
END:DAYLIGHT
BEGIN:STANDARD
TZOFFSETFROM:-0500
TZOFFSETTO:-0600
TZNAME:CST
DTSTART:20241103T070000
END:STANDARD
BEGIN:DAYLIGHT
TZOFFSETFROM:-0600
TZOFFSETTO:-0500
TZNAME:CDT
DTSTART:20250309T080000
END:DAYLIGHT
BEGIN:STANDARD
TZOFFSETFROM:-0500
TZOFFSETTO:-0600
TZNAME:CST
DTSTART:20251102T070000
END:STANDARD
END:VTIMEZONE
BEGIN:VEVENT
DTSTART;TZID=America/Chicago:20240708T190000
DTEND;TZID=America/Chicago:20240708T190000
DTSTAMP:20260420T220810
CREATED:20240708T194625Z
LAST-MODIFIED:20240708T194625Z
UID:75305-1720465200-1720465200@www.minneapolisparks.org
SUMMARY:Jon Rodine Band
DESCRIPTION:Soul Americana
URL:https://www.minneapolisparks.org/event-calendar/jon-rodine-band-4/
LOCATION:Water Works at Mill Ruins Park\, 425 West River Parkway\, Minneapolis\, MN\, 55401\, United States
CATEGORIES:Music & Movies in the Parks,Music in the Parks
GEO:44.9811921;-93.2620982
X-APPLE-STRUCTURED-LOCATION;VALUE=URI;X-ADDRESS=Water Works at Mill Ruins Park 425 West River Parkway Minneapolis MN 55401 United States;X-APPLE-RADIUS=500;X-TITLE=425 West River Parkway:geo:-93.2620982,44.9811921
END:VEVENT
BEGIN:VEVENT
DTSTART;TZID=America/Chicago:20240708T193000
DTEND;TZID=America/Chicago:20240708T193000
DTSTAMP:20260420T220810
CREATED:20240523T152554Z
LAST-MODIFIED:20240707T225123Z
UID:74216-1720467000-1720467000@www.minneapolisparks.org
SUMMARY:MN Orchestra **Cancelled**
DESCRIPTION:The Minnesota Orchestra
URL:https://www.minneapolisparks.org/event-calendar/mn-orchestra-2/
LOCATION:Lake Harriet Bandshell\, Minneapolis\, MN\, United States
CATEGORIES:Music & Movies in the Parks,Music in the Parks
GEO:44.927901;-93.3082473
END:VEVENT
BEGIN:VEVENT
DTSTART;TZID=America/Chicago:20240709T183000
DTEND;TZID=America/Chicago:20240709T200000
DTSTAMP:20260420T220810
CREATED:20240522T205357Z
LAST-MODIFIED:20240522T205357Z
UID:74116-1720549800-1720555200@www.minneapolisparks.org
SUMMARY:Bloodlines
DESCRIPTION:Pop
URL:https://www.minneapolisparks.org/event-calendar/bloodlines/
LOCATION:Bryant Square Park\, 3101 Bryant Ave S\, Minneapolis\, MN\, 55408\, United States
CATEGORIES:Music & Movies in the Parks,Music in the Parks
GEO:44.9461045;-93.2903539
X-APPLE-STRUCTURED-LOCATION;VALUE=URI;X-ADDRESS=Bryant Square Park 3101 Bryant Ave S Minneapolis MN 55408 United States;X-APPLE-RADIUS=500;X-TITLE=3101 Bryant Ave S:geo:-93.2903539,44.9461045
END:VEVENT
BEGIN:VEVENT
DTSTART;TZID=America/Chicago:20240709T190000
DTEND;TZID=America/Chicago:20240709T190000
DTSTAMP:20260420T220810
CREATED:20240522T201151Z
LAST-MODIFIED:20240522T201151Z
UID:74054-1720551600-1720551600@www.minneapolisparks.org
SUMMARY:Indigie Femme
DESCRIPTION:Americana folk duo who tap into their Indigenous roots
URL:https://www.minneapolisparks.org/event-calendar/indigie-femme/
LOCATION:Father Hennepin\, Minneapolis\, MN\, United States
CATEGORIES:Music & Movies in the Parks,Music in the Parks
GEO:44.9826582;-93.2513335
END:VEVENT
BEGIN:VEVENT
DTSTART;TZID=America/Chicago:20240709T190000
DTEND;TZID=America/Chicago:20240709T190000
DTSTAMP:20260420T220810
CREATED:20240708T194937Z
LAST-MODIFIED:20240708T194937Z
UID:75309-1720551600-1720551600@www.minneapolisparks.org
SUMMARY:Sam Graber Band
DESCRIPTION:All original MN roots rock!
URL:https://www.minneapolisparks.org/event-calendar/sam-graber-band/
LOCATION:Loring Park\, Loring Park\, Minneapolis\, MN\, 55403\, United States
CATEGORIES:Music & Movies in the Parks,Music in the Parks
GEO:44.9649915;-93.2854596
X-APPLE-STRUCTURED-LOCATION;VALUE=URI;X-ADDRESS=Loring Park Loring Park Minneapolis MN 55403 United States;X-APPLE-RADIUS=500;X-TITLE=Loring Park:geo:-93.2854596,44.9649915
END:VEVENT
BEGIN:VEVENT
DTSTART;TZID=America/Chicago:20240710T120000
DTEND;TZID=America/Chicago:20240710T120000
DTSTAMP:20260420T220810
CREATED:20240523T143514Z
LAST-MODIFIED:20240523T143514Z
UID:74181-1720612800-1720612800@www.minneapolisparks.org
SUMMARY:Eb & Barb
DESCRIPTION:70’s folk rock warm fun
URL:https://www.minneapolisparks.org/event-calendar/eb-barb/
LOCATION:The Commons\, 425 Portland Ave South\, Minneapolis\, MN\, 55488\, United States
CATEGORIES:Music & Movies in the Parks,Music in the Parks
GEO:44.9766971;-93.2628904
X-APPLE-STRUCTURED-LOCATION;VALUE=URI;X-ADDRESS=The Commons 425 Portland Ave South Minneapolis MN 55488 United States;X-APPLE-RADIUS=500;X-TITLE=425 Portland Ave South:geo:-93.2628904,44.9766971
END:VEVENT
BEGIN:VEVENT
DTSTART;TZID=America/Chicago:20240710T193000
DTEND;TZID=America/Chicago:20240710T193000
DTSTAMP:20260420T220810
CREATED:20240523T153729Z
LAST-MODIFIED:20240523T153729Z
UID:74231-1720639800-1720639800@www.minneapolisparks.org
SUMMARY:JoJo Green
DESCRIPTION:Big sound\, authentically unique
URL:https://www.minneapolisparks.org/event-calendar/jojo-green-3/
LOCATION:Lake Harriet Bandshell\, Minneapolis\, MN\, United States
CATEGORIES:Music & Movies in the Parks,Music in the Parks
GEO:44.927901;-93.3082473
END:VEVENT
BEGIN:VEVENT
DTSTART;TZID=America/Chicago:20240711T180000
DTEND;TZID=America/Chicago:20240711T180000
DTSTAMP:20260420T220810
CREATED:20240702T163430Z
LAST-MODIFIED:20240702T163430Z
UID:75216-1720720800-1720720800@www.minneapolisparks.org
SUMMARY:Dr. Mambo's Combo
DESCRIPTION:
URL:https://www.minneapolisparks.org/event-calendar/dr-mambos-combo/
LOCATION:Webber Park\, 4300 Webber Parkway\, Minneapolis\, MN\, 55412\, United States
CATEGORIES:Music & Movies in the Parks,Music in the Parks
GEO:45.034522;-93.291918
X-APPLE-STRUCTURED-LOCATION;VALUE=URI;X-ADDRESS=Webber Park 4300 Webber Parkway Minneapolis MN 55412 United States;X-APPLE-RADIUS=500;X-TITLE=4300 Webber Parkway:geo:-93.291918,45.034522
END:VEVENT
BEGIN:VEVENT
DTSTART;TZID=America/Chicago:20240711T183000
DTEND;TZID=America/Chicago:20240711T200000
DTSTAMP:20260420T220810
CREATED:20240522T205511Z
LAST-MODIFIED:20240522T205511Z
UID:74118-1720722600-1720728000@www.minneapolisparks.org
SUMMARY:Woodzen
DESCRIPTION:Rock
URL:https://www.minneapolisparks.org/event-calendar/woodzen/
LOCATION:Bryant Square Park\, 3101 Bryant Ave S\, Minneapolis\, MN\, 55408\, United States
CATEGORIES:Music & Movies in the Parks,Music in the Parks
GEO:44.9461045;-93.2903539
X-APPLE-STRUCTURED-LOCATION;VALUE=URI;X-ADDRESS=Bryant Square Park 3101 Bryant Ave S Minneapolis MN 55408 United States;X-APPLE-RADIUS=500;X-TITLE=3101 Bryant Ave S:geo:-93.2903539,44.9461045
END:VEVENT
BEGIN:VEVENT
DTSTART;TZID=America/Chicago:20240711T190000
DTEND;TZID=America/Chicago:20240711T190000
DTSTAMP:20260420T220810
CREATED:20240522T193942Z
LAST-MODIFIED:20240701T192000Z
UID:74015-1720724400-1720724400@www.minneapolisparks.org
SUMMARY:Lojo Russo
DESCRIPTION:Sweet folk to roots rock
URL:https://www.minneapolisparks.org/event-calendar/lojo-russo-3/
LOCATION:Minnehaha Bandstand\, Minneapolis\, MN\, United States
CATEGORIES:Music & Movies in the Parks,Music in the Parks
GEO:44.9161006;-93.2109865
END:VEVENT
BEGIN:VEVENT
DTSTART;TZID=America/Chicago:20240711T190000
DTEND;TZID=America/Chicago:20240711T190000
DTSTAMP:20260420T220810
CREATED:20240708T194813Z
LAST-MODIFIED:20240708T194813Z
UID:75307-1720724400-1720724400@www.minneapolisparks.org
SUMMARY:Two Peace Suite
DESCRIPTION:Acoustic duo\, Americana\, blues and rock
URL:https://www.minneapolisparks.org/event-calendar/two-peace-suite-3/
LOCATION:The Commons\, 425 Portland Ave South\, Minneapolis\, MN\, 55488\, United States
CATEGORIES:Music & Movies in the Parks,Music in the Parks
GEO:44.9766971;-93.2628904
X-APPLE-STRUCTURED-LOCATION;VALUE=URI;X-ADDRESS=The Commons 425 Portland Ave South Minneapolis MN 55488 United States;X-APPLE-RADIUS=500;X-TITLE=425 Portland Ave South:geo:-93.2628904,44.9766971
END:VEVENT
BEGIN:VEVENT
DTSTART;TZID=America/Chicago:20240712T190000
DTEND;TZID=America/Chicago:20240712T190000
DTSTAMP:20260420T220810
CREATED:20240522T194141Z
LAST-MODIFIED:20240701T191945Z
UID:74017-1720810800-1720810800@www.minneapolisparks.org
SUMMARY:Panza
DESCRIPTION:Cool\, dance\, talented\, Brazilian\, passionate
URL:https://www.minneapolisparks.org/event-calendar/panza/
LOCATION:Minnehaha Bandstand\, Minneapolis\, MN\, United States
CATEGORIES:Music in the Parks
GEO:44.9161006;-93.2109865
END:VEVENT
BEGIN:VEVENT
DTSTART;TZID=America/Chicago:20240712T193000
DTEND;TZID=America/Chicago:20240712T193000
DTSTAMP:20260420T220810
CREATED:20240523T153849Z
LAST-MODIFIED:20240712T190421Z
UID:74233-1720812600-1720812600@www.minneapolisparks.org
SUMMARY:MN Sinfonia **Cancelled**
DESCRIPTION:Exceptional quality\, professional orchestra
URL:https://www.minneapolisparks.org/event-calendar/mn-sinfonia-8/
LOCATION:Lake Harriet Bandshell\, Minneapolis\, MN\, United States
CATEGORIES:Music & Movies in the Parks,Music in the Parks
GEO:44.927901;-93.3082473
END:VEVENT
BEGIN:VEVENT
DTSTART;TZID=America/Chicago:20240713T193000
DTEND;TZID=America/Chicago:20240713T193000
DTSTAMP:20260420T220810
CREATED:20240523T153952Z
LAST-MODIFIED:20240712T190447Z
UID:74235-1720899000-1720899000@www.minneapolisparks.org
SUMMARY:Minneapolis POPs **Cancelled**
DESCRIPTION:Providing live public performances by 45 professional musicians
URL:https://www.minneapolisparks.org/event-calendar/minneapolis-pops-10/
LOCATION:Lake Harriet Bandshell\, Minneapolis\, MN\, United States
CATEGORIES:Music & Movies in the Parks,Music in the Parks
GEO:44.927901;-93.3082473
END:VEVENT
BEGIN:VEVENT
DTSTART;TZID=America/Chicago:20240714T140000
DTEND;TZID=America/Chicago:20240714T140000
DTSTAMP:20260420T220810
CREATED:20240523T154059Z
LAST-MODIFIED:20240523T154059Z
UID:74237-1720965600-1720965600@www.minneapolisparks.org
SUMMARY:Paul Barry Blues Band
DESCRIPTION:Chicago and West Coast blues
URL:https://www.minneapolisparks.org/event-calendar/paul-barry-blues-band-4/
LOCATION:Lake Harriet Bandshell\, Minneapolis\, MN\, United States
CATEGORIES:Music & Movies in the Parks,Music in the Parks
GEO:44.927901;-93.3082473
END:VEVENT
BEGIN:VEVENT
DTSTART;TZID=America/Chicago:20240714T173000
DTEND;TZID=America/Chicago:20240714T173000
DTSTAMP:20260420T220810
CREATED:20240523T154220Z
LAST-MODIFIED:20240712T190444Z
UID:74239-1720978200-1720978200@www.minneapolisparks.org
SUMMARY:Minneapolis POPs **Cancelled**
DESCRIPTION:Providing live public performances by 45 professional musicians
URL:https://www.minneapolisparks.org/event-calendar/minneapolis-pops-11/
LOCATION:Lake Harriet Bandshell\, Minneapolis\, MN\, United States
CATEGORIES:Music & Movies in the Parks,Music in the Parks
GEO:44.927901;-93.3082473
END:VEVENT
BEGIN:VEVENT
DTSTART;TZID=America/Chicago:20240715T190000
DTEND;TZID=America/Chicago:20240715T190000
DTSTAMP:20260420T220810
CREATED:20240522T211738Z
LAST-MODIFIED:20240522T211738Z
UID:74136-1721070000-1721070000@www.minneapolisparks.org
SUMMARY:Overdressed Duo
DESCRIPTION:An opera and musical extravaganza
URL:https://www.minneapolisparks.org/event-calendar/overdressed-duo-2/
LOCATION:Water Works at Mill Ruins Park\, 425 West River Parkway\, Minneapolis\, MN\, 55401\, United States
CATEGORIES:Music & Movies in the Parks,Music in the Parks
GEO:44.9811921;-93.2620982
X-APPLE-STRUCTURED-LOCATION;VALUE=URI;X-ADDRESS=Water Works at Mill Ruins Park 425 West River Parkway Minneapolis MN 55401 United States;X-APPLE-RADIUS=500;X-TITLE=425 West River Parkway:geo:-93.2620982,44.9811921
END:VEVENT
BEGIN:VEVENT
DTSTART;TZID=America/Chicago:20240715T193000
DTEND;TZID=America/Chicago:20240715T193000
DTSTAMP:20260420T220810
CREATED:20240523T163129Z
LAST-MODIFIED:20240523T163129Z
UID:74318-1721071800-1721071800@www.minneapolisparks.org
SUMMARY:Rare Form
DESCRIPTION:Energetic danceable classic rock
URL:https://www.minneapolisparks.org/event-calendar/rare-form-2/
LOCATION:Lake Harriet Bandshell\, Minneapolis\, MN\, United States
CATEGORIES:Music & Movies in the Parks,Music in the Parks
GEO:44.927901;-93.3082473
END:VEVENT
BEGIN:VEVENT
DTSTART;TZID=America/Chicago:20240716T183000
DTEND;TZID=America/Chicago:20240716T200000
DTSTAMP:20260420T220810
CREATED:20240522T205639Z
LAST-MODIFIED:20240522T205639Z
UID:74120-1721154600-1721160000@www.minneapolisparks.org
SUMMARY:KODJ
DESCRIPTION:Alt-Indie
URL:https://www.minneapolisparks.org/event-calendar/kodj-3/
LOCATION:Bryant Square Park\, 3101 Bryant Ave S\, Minneapolis\, MN\, 55408\, United States
CATEGORIES:Music & Movies in the Parks,Music in the Parks
GEO:44.9461045;-93.2903539
X-APPLE-STRUCTURED-LOCATION;VALUE=URI;X-ADDRESS=Bryant Square Park 3101 Bryant Ave S Minneapolis MN 55408 United States;X-APPLE-RADIUS=500;X-TITLE=3101 Bryant Ave S:geo:-93.2903539,44.9461045
END:VEVENT
BEGIN:VEVENT
DTSTART;TZID=America/Chicago:20240716T190000
DTEND;TZID=America/Chicago:20240716T190000
DTSTAMP:20260420T220810
CREATED:20240522T201324Z
LAST-MODIFIED:20240522T201324Z
UID:74056-1721156400-1721156400@www.minneapolisparks.org
SUMMARY:Alligations band
DESCRIPTION:Alligator records tribute band\, Variety
URL:https://www.minneapolisparks.org/event-calendar/alligations-band/
LOCATION:Father Hennepin\, Minneapolis\, MN\, United States
CATEGORIES:Music & Movies in the Parks,Music in the Parks
GEO:44.9826582;-93.2513335
END:VEVENT
BEGIN:VEVENT
DTSTART;TZID=America/Chicago:20240716T190000
DTEND;TZID=America/Chicago:20240716T190000
DTSTAMP:20260420T220810
CREATED:20240523T141358Z
LAST-MODIFIED:20240708T195447Z
UID:74163-1721156400-1721156400@www.minneapolisparks.org
SUMMARY:Charlie Doesn't Surf
DESCRIPTION:Indie-punk trio from Minneapolis
URL:https://www.minneapolisparks.org/event-calendar/charlie-doesnt-surf-2/
LOCATION:Loring Park\, Loring Park\, Minneapolis\, MN\, 55403\, United States
CATEGORIES:Music & Movies in the Parks,Music in the Parks
GEO:44.9649915;-93.2854596
X-APPLE-STRUCTURED-LOCATION;VALUE=URI;X-ADDRESS=Loring Park Loring Park Minneapolis MN 55403 United States;X-APPLE-RADIUS=500;X-TITLE=Loring Park:geo:-93.2854596,44.9649915
END:VEVENT
BEGIN:VEVENT
DTSTART;TZID=America/Chicago:20240717T120000
DTEND;TZID=America/Chicago:20240717T120000
DTSTAMP:20260420T220810
CREATED:20240523T143807Z
LAST-MODIFIED:20240523T143807Z
UID:74185-1721217600-1721217600@www.minneapolisparks.org
SUMMARY:Echo Trail
DESCRIPTION:Bluegrass inspired\, acoustic driven Americana
URL:https://www.minneapolisparks.org/event-calendar/echo-trail/
LOCATION:The Commons\, 425 Portland Ave South\, Minneapolis\, MN\, 55488\, United States
CATEGORIES:Music & Movies in the Parks,Music in the Parks
GEO:44.9766971;-93.2628904
X-APPLE-STRUCTURED-LOCATION;VALUE=URI;X-ADDRESS=The Commons 425 Portland Ave South Minneapolis MN 55488 United States;X-APPLE-RADIUS=500;X-TITLE=425 Portland Ave South:geo:-93.2628904,44.9766971
END:VEVENT
BEGIN:VEVENT
DTSTART;TZID=America/Chicago:20240717T193000
DTEND;TZID=America/Chicago:20240717T193000
DTSTAMP:20260420T220810
CREATED:20240523T154332Z
LAST-MODIFIED:20240523T154332Z
UID:74241-1721244600-1721244600@www.minneapolisparks.org
SUMMARY:Mark Joseph
DESCRIPTION:Blues\, soul\, rock’n’roll\, Americana\, Feelgood
URL:https://www.minneapolisparks.org/event-calendar/mark-joseph/
LOCATION:Lake Harriet Bandshell\, Minneapolis\, MN\, United States
CATEGORIES:Music & Movies in the Parks,Music in the Parks
GEO:44.927901;-93.3082473
END:VEVENT
BEGIN:VEVENT
DTSTART;TZID=America/Chicago:20240718T160000
DTEND;TZID=America/Chicago:20240718T200000
DTSTAMP:20260420T220810
CREATED:20240523T141524Z
LAST-MODIFIED:20240708T195550Z
UID:74165-1721318400-1721332800@www.minneapolisparks.org
SUMMARY:DJ in the Park (DJ Yasmeena)
DESCRIPTION:Dance Music
URL:https://www.minneapolisparks.org/event-calendar/dj-in-the-park-dj-yasmeena-2/
LOCATION:Loring Park\, Loring Park\, Minneapolis\, MN\, 55403\, United States
CATEGORIES:Music & Movies in the Parks,Music in the Parks
GEO:44.9649915;-93.2854596
X-APPLE-STRUCTURED-LOCATION;VALUE=URI;X-ADDRESS=Loring Park Loring Park Minneapolis MN 55403 United States;X-APPLE-RADIUS=500;X-TITLE=Loring Park:geo:-93.2854596,44.9649915
END:VEVENT
BEGIN:VEVENT
DTSTART;TZID=America/Chicago:20240718T183000
DTEND;TZID=America/Chicago:20240718T200000
DTSTAMP:20260420T220810
CREATED:20240522T205817Z
LAST-MODIFIED:20240522T205817Z
UID:74122-1721327400-1721332800@www.minneapolisparks.org
SUMMARY:Brilliant Colors of Jazz Trio
DESCRIPTION:Jazz
URL:https://www.minneapolisparks.org/event-calendar/brilliant-colors-of-jazz-trio/
LOCATION:Bryant Square Park\, 3101 Bryant Ave S\, Minneapolis\, MN\, 55408\, United States
CATEGORIES:Music & Movies in the Parks,Music in the Parks
GEO:44.9461045;-93.2903539
X-APPLE-STRUCTURED-LOCATION;VALUE=URI;X-ADDRESS=Bryant Square Park 3101 Bryant Ave S Minneapolis MN 55408 United States;X-APPLE-RADIUS=500;X-TITLE=3101 Bryant Ave S:geo:-93.2903539,44.9461045
END:VEVENT
BEGIN:VEVENT
DTSTART;TZID=America/Chicago:20240718T190000
DTEND;TZID=America/Chicago:20240718T190000
DTSTAMP:20260420T220810
CREATED:20240522T194328Z
LAST-MODIFIED:20240701T191929Z
UID:74019-1721329200-1721329200@www.minneapolisparks.org
SUMMARY:Yo Jimbo Jazz
DESCRIPTION:Jazz
URL:https://www.minneapolisparks.org/event-calendar/yo-jimbo-jazz-4/
LOCATION:Minnehaha Bandstand\, Minneapolis\, MN\, United States
CATEGORIES:Music & Movies in the Parks,Music in the Parks
GEO:44.9161006;-93.2109865
END:VEVENT
BEGIN:VEVENT
DTSTART;TZID=America/Chicago:20240718T190000
DTEND;TZID=America/Chicago:20240718T190000
DTSTAMP:20260420T220810
CREATED:20240523T143910Z
LAST-MODIFIED:20240523T143910Z
UID:74187-1721329200-1721329200@www.minneapolisparks.org
SUMMARY:Artificial Flowers
DESCRIPTION:Minneapolis-based folk-rock band
URL:https://www.minneapolisparks.org/event-calendar/artificial-flowers/
LOCATION:The Commons\, 425 Portland Ave South\, Minneapolis\, MN\, 55488\, United States
CATEGORIES:Music & Movies in the Parks,Music in the Parks
GEO:44.9766971;-93.2628904
X-APPLE-STRUCTURED-LOCATION;VALUE=URI;X-ADDRESS=The Commons 425 Portland Ave South Minneapolis MN 55488 United States;X-APPLE-RADIUS=500;X-TITLE=425 Portland Ave South:geo:-93.2628904,44.9766971
END:VEVENT
BEGIN:VEVENT
DTSTART;TZID=America/Chicago:20240719T190000
DTEND;TZID=America/Chicago:20240719T190000
DTSTAMP:20260420T220810
CREATED:20240522T194531Z
LAST-MODIFIED:20240701T191916Z
UID:74021-1721415600-1721415600@www.minneapolisparks.org
SUMMARY:Ingrid Streitz
DESCRIPTION:Pop singer and guitar player
URL:https://www.minneapolisparks.org/event-calendar/ingrid-streitz/
LOCATION:Minnehaha Bandstand\, Minneapolis\, MN\, United States
CATEGORIES:Music in the Parks
GEO:44.9161006;-93.2109865
END:VEVENT
BEGIN:VEVENT
DTSTART;TZID=America/Chicago:20240719T193000
DTEND;TZID=America/Chicago:20240719T193000
DTSTAMP:20260420T220810
CREATED:20240523T154501Z
LAST-MODIFIED:20240523T154501Z
UID:74243-1721417400-1721417400@www.minneapolisparks.org
SUMMARY:Dark Light Oblivion
DESCRIPTION:Minneapolis based original rock band
URL:https://www.minneapolisparks.org/event-calendar/dark-light-oblivion-3/
LOCATION:Lake Harriet Bandshell\, Minneapolis\, MN\, United States
CATEGORIES:Music & Movies in the Parks,Music in the Parks
GEO:44.927901;-93.3082473
END:VEVENT
BEGIN:VEVENT
DTSTART;TZID=America/Chicago:20240720T193000
DTEND;TZID=America/Chicago:20240720T193000
DTSTAMP:20260420T220810
CREATED:20240523T154629Z
LAST-MODIFIED:20240719T212814Z
UID:74245-1721503800-1721503800@www.minneapolisparks.org
SUMMARY:John Magnuson Trio
DESCRIPTION:Americana
URL:https://www.minneapolisparks.org/event-calendar/john-magnuson-trio/
LOCATION:Lake Harriet Bandshell\, Minneapolis\, MN\, United States
CATEGORIES:Music & Movies in the Parks,Music in the Parks
GEO:44.927901;-93.3082473
END:VEVENT
END:VCALENDAR