BEGIN:VCALENDAR
VERSION:2.0
PRODID:-//Minneapolis Park &amp; Recreation Board - ECPv6.15.20//NONSGML v1.0//EN
CALSCALE:GREGORIAN
METHOD:PUBLISH
X-WR-CALNAME:Minneapolis Park &amp; Recreation Board
X-ORIGINAL-URL:https://www.minneapolisparks.org
X-WR-CALDESC:Events for Minneapolis Park &amp; Recreation Board
REFRESH-INTERVAL;VALUE=DURATION:PT1H
X-Robots-Tag:noindex
X-PUBLISHED-TTL:PT1H
BEGIN:VTIMEZONE
TZID:America/Chicago
BEGIN:DAYLIGHT
TZOFFSETFROM:-0600
TZOFFSETTO:-0500
TZNAME:CDT
DTSTART:20230312T080000
END:DAYLIGHT
BEGIN:STANDARD
TZOFFSETFROM:-0500
TZOFFSETTO:-0600
TZNAME:CST
DTSTART:20231105T070000
END:STANDARD
BEGIN:DAYLIGHT
TZOFFSETFROM:-0600
TZOFFSETTO:-0500
TZNAME:CDT
DTSTART:20240310T080000
END:DAYLIGHT
BEGIN:STANDARD
TZOFFSETFROM:-0500
TZOFFSETTO:-0600
TZNAME:CST
DTSTART:20241103T070000
END:STANDARD
BEGIN:DAYLIGHT
TZOFFSETFROM:-0600
TZOFFSETTO:-0500
TZNAME:CDT
DTSTART:20250309T080000
END:DAYLIGHT
BEGIN:STANDARD
TZOFFSETFROM:-0500
TZOFFSETTO:-0600
TZNAME:CST
DTSTART:20251102T070000
END:STANDARD
END:VTIMEZONE
BEGIN:VEVENT
DTSTART;TZID=America/Chicago:20240607T193000
DTEND;TZID=America/Chicago:20240607T193000
DTSTAMP:20260420T185721
CREATED:20240515T212258Z
LAST-MODIFIED:20240515T212258Z
UID:73856-1717788600-1717788600@www.minneapolisparks.org
SUMMARY:Linden Hills Chamber Orchestra
DESCRIPTION:Non-profit Twin Cities community orchestra
URL:https://www.minneapolisparks.org/event-calendar/linden-hills-chamber-orchestra-7/
LOCATION:Lake Harriet Bandshell\, Minneapolis\, MN\, United States
CATEGORIES:Music & Movies in the Parks,Music in the Parks
GEO:44.927901;-93.3082473
END:VEVENT
BEGIN:VEVENT
DTSTART;TZID=America/Chicago:20240609T140000
DTEND;TZID=America/Chicago:20240609T140000
DTSTAMP:20260420T185721
CREATED:20240515T212353Z
LAST-MODIFIED:20240515T212353Z
UID:73858-1717941600-1717941600@www.minneapolisparks.org
SUMMARY:Valley Winds
DESCRIPTION:New community band
URL:https://www.minneapolisparks.org/event-calendar/valley-winds/
LOCATION:Lake Harriet Bandshell\, Minneapolis\, MN\, United States
CATEGORIES:Music & Movies in the Parks,Music in the Parks
GEO:44.927901;-93.3082473
END:VEVENT
BEGIN:VEVENT
DTSTART;TZID=America/Chicago:20240609T173000
DTEND;TZID=America/Chicago:20240609T173000
DTSTAMP:20260420T185721
CREATED:20240515T212447Z
LAST-MODIFIED:20240524T203854Z
UID:73860-1717954200-1717954200@www.minneapolisparks.org
SUMMARY:The Jugsluggers
DESCRIPTION:Eclectic string band music
URL:https://www.minneapolisparks.org/event-calendar/the-jugsluggers-2/
LOCATION:Lake Harriet Bandshell\, Minneapolis\, MN\, United States
CATEGORIES:Music & Movies in the Parks,Music in the Parks
GEO:44.927901;-93.3082473
END:VEVENT
BEGIN:VEVENT
DTSTART;TZID=America/Chicago:20240610T190000
DTEND;TZID=America/Chicago:20240610T190000
DTSTAMP:20260420T185721
CREATED:20240522T203409Z
LAST-MODIFIED:20240522T203409Z
UID:74087-1718046000-1718046000@www.minneapolisparks.org
SUMMARY:Jim Sings Swing (Jim Bird)
DESCRIPTION:Big band standard covers
URL:https://www.minneapolisparks.org/event-calendar/jim-sings-swing-jim-bird/
LOCATION:Water Works at Mill Ruins Park\, 425 West River Parkway\, Minneapolis\, MN\, 55401\, United States
CATEGORIES:Music & Movies in the Parks,Music in the Parks
GEO:44.9811921;-93.2620982
X-APPLE-STRUCTURED-LOCATION;VALUE=URI;X-ADDRESS=Water Works at Mill Ruins Park 425 West River Parkway Minneapolis MN 55401 United States;X-APPLE-RADIUS=500;X-TITLE=425 West River Parkway:geo:-93.2620982,44.9811921
END:VEVENT
BEGIN:VEVENT
DTSTART;TZID=America/Chicago:20240610T193000
DTEND;TZID=America/Chicago:20240610T193000
DTSTAMP:20260420T185721
CREATED:20240521T150715Z
LAST-MODIFIED:20240521T150715Z
UID:73902-1718047800-1718047800@www.minneapolisparks.org
SUMMARY:Robbinsdale City Band
DESCRIPTION:Robbinsdale city band
URL:https://www.minneapolisparks.org/event-calendar/robbinsdale-city-band-3/
LOCATION:Lake Harriet\, Minneapolis\, MN\, United States
CATEGORIES:Music & Movies in the Parks,Music in the Parks
GEO:44.927901;-93.3082473
END:VEVENT
BEGIN:VEVENT
DTSTART;TZID=America/Chicago:20240611T183000
DTEND;TZID=America/Chicago:20240611T200000
DTSTAMP:20260420T185721
CREATED:20240522T202616Z
LAST-MODIFIED:20240522T202616Z
UID:74074-1718130600-1718136000@www.minneapolisparks.org
SUMMARY:Zachary Scott Johnson
DESCRIPTION:
URL:https://www.minneapolisparks.org/event-calendar/zachary-scott-johnson/
LOCATION:Bryant Square Park\, 3101 Bryant Ave S\, Minneapolis\, MN\, 55408\, United States
CATEGORIES:Music & Movies in the Parks,Music in the Parks
GEO:44.9461045;-93.2903539
X-APPLE-STRUCTURED-LOCATION;VALUE=URI;X-ADDRESS=Bryant Square Park 3101 Bryant Ave S Minneapolis MN 55408 United States;X-APPLE-RADIUS=500;X-TITLE=3101 Bryant Ave S:geo:-93.2903539,44.9461045
END:VEVENT
BEGIN:VEVENT
DTSTART;TZID=America/Chicago:20240611T190000
DTEND;TZID=America/Chicago:20240611T190000
DTSTAMP:20260420T185721
CREATED:20240522T200745Z
LAST-MODIFIED:20240522T200745Z
UID:74050-1718132400-1718132400@www.minneapolisparks.org
SUMMARY:The Hamm Sammies
DESCRIPTION:Delicious country/soul on a roll
URL:https://www.minneapolisparks.org/event-calendar/the-hamm-sammies-2/
LOCATION:Father Hennepin\, Minneapolis\, MN\, United States
CATEGORIES:Music & Movies in the Parks,Music in the Parks
GEO:44.9826582;-93.2513335
END:VEVENT
BEGIN:VEVENT
DTSTART;TZID=America/Chicago:20240611T190000
DTEND;TZID=America/Chicago:20240611T190000
DTSTAMP:20260420T185721
CREATED:20240522T203942Z
LAST-MODIFIED:20240522T203942Z
UID:74095-1718132400-1718132400@www.minneapolisparks.org
SUMMARY:School of Rock - Eden Prairie Houseband
DESCRIPTION:Students of rock
URL:https://www.minneapolisparks.org/event-calendar/school-of-rock-eden-prairie-houseband/
LOCATION:Loring Park\, Loring Park\, Minneapolis\, MN\, 55403\, United States
CATEGORIES:Music & Movies in the Parks,Music in the Parks
GEO:44.9649915;-93.2854596
X-APPLE-STRUCTURED-LOCATION;VALUE=URI;X-ADDRESS=Loring Park Loring Park Minneapolis MN 55403 United States;X-APPLE-RADIUS=500;X-TITLE=Loring Park:geo:-93.2854596,44.9649915
END:VEVENT
BEGIN:VEVENT
DTSTART;TZID=America/Chicago:20240612T120000
DTEND;TZID=America/Chicago:20240612T120000
DTSTAMP:20260420T185721
CREATED:20240522T204728Z
LAST-MODIFIED:20240522T204728Z
UID:74106-1718193600-1718193600@www.minneapolisparks.org
SUMMARY:Two Peace Suite
DESCRIPTION:Acoustic duo\, Americana\, blues and rock
URL:https://www.minneapolisparks.org/event-calendar/two-peace-suite-2/
LOCATION:The Commons\, 425 Portland Ave South\, Minneapolis\, MN\, 55488\, United States
CATEGORIES:Music & Movies in the Parks,Music in the Parks
GEO:44.9766971;-93.2628904
X-APPLE-STRUCTURED-LOCATION;VALUE=URI;X-ADDRESS=The Commons 425 Portland Ave South Minneapolis MN 55488 United States;X-APPLE-RADIUS=500;X-TITLE=425 Portland Ave South:geo:-93.2628904,44.9766971
END:VEVENT
BEGIN:VEVENT
DTSTART;TZID=America/Chicago:20240612T160000
DTEND;TZID=America/Chicago:20240612T190000
DTSTAMP:20260420T185721
CREATED:20240607T205952Z
LAST-MODIFIED:20240607T205952Z
UID:74777-1718208000-1718218800@www.minneapolisparks.org
SUMMARY:Twin Cities Mobile Jazz Project
DESCRIPTION:
URL:https://www.minneapolisparks.org/event-calendar/twin-cities-mobile-jazz-project-17/
LOCATION:Rev. Dr. Martin Luther King\, Jr. Park\, 4055 Nicollet Ave S\, Minneapolis\, MN\, 55409\, United States
CATEGORIES:Music & Movies in the Parks,Music in the Parks
GEO:44.9292348;-93.2773221
X-APPLE-STRUCTURED-LOCATION;VALUE=URI;X-ADDRESS=Rev. Dr. Martin Luther King Jr. Park 4055 Nicollet Ave S Minneapolis MN 55409 United States;X-APPLE-RADIUS=500;X-TITLE=4055 Nicollet Ave S:geo:-93.2773221,44.9292348
END:VEVENT
BEGIN:VEVENT
DTSTART;TZID=America/Chicago:20240612T193000
DTEND;TZID=America/Chicago:20240612T193000
DTSTAMP:20260420T185721
CREATED:20240521T151346Z
LAST-MODIFIED:20240521T151346Z
UID:73904-1718220600-1718220600@www.minneapolisparks.org
SUMMARY:The Mark Miller Band
DESCRIPTION:Classic rock cover band
URL:https://www.minneapolisparks.org/event-calendar/the-mark-miller-band/
LOCATION:Lake Harriet\, Minneapolis\, MN\, United States
CATEGORIES:Music & Movies in the Parks,Music in the Parks
GEO:44.927901;-93.3082473
END:VEVENT
BEGIN:VEVENT
DTSTART;TZID=America/Chicago:20240613T173000
DTEND;TZID=America/Chicago:20240613T173000
DTSTAMP:20260420T185721
CREATED:20240610T170719Z
LAST-MODIFIED:20240610T170719Z
UID:74791-1718299800-1718299800@www.minneapolisparks.org
SUMMARY:RLB Band
DESCRIPTION:
URL:https://www.minneapolisparks.org/event-calendar/rlb-band/
LOCATION:Victory Park\, 4414 Upton Ave N\, Minneapolis\, MN\, 55412\, United States
CATEGORIES:Music & Movies in the Parks,Music in the Parks
GEO:45.0359721;-93.3147565
X-APPLE-STRUCTURED-LOCATION;VALUE=URI;X-ADDRESS=Victory Park 4414 Upton Ave N Minneapolis MN 55412 United States;X-APPLE-RADIUS=500;X-TITLE=4414 Upton Ave N:geo:-93.3147565,45.0359721
END:VEVENT
BEGIN:VEVENT
DTSTART;TZID=America/Chicago:20240613T183000
DTEND;TZID=America/Chicago:20240613T200000
DTSTAMP:20260420T185721
CREATED:20240522T202740Z
LAST-MODIFIED:20240522T202740Z
UID:74077-1718303400-1718308800@www.minneapolisparks.org
SUMMARY:Irish Diplomacy
DESCRIPTION:Irish
URL:https://www.minneapolisparks.org/event-calendar/irish-diplomacy-2/
LOCATION:Bryant Square Park\, 3101 Bryant Ave S\, Minneapolis\, MN\, 55408\, United States
CATEGORIES:Music & Movies in the Parks,Music in the Parks
GEO:44.9461045;-93.2903539
X-APPLE-STRUCTURED-LOCATION;VALUE=URI;X-ADDRESS=Bryant Square Park 3101 Bryant Ave S Minneapolis MN 55408 United States;X-APPLE-RADIUS=500;X-TITLE=3101 Bryant Ave S:geo:-93.2903539,44.9461045
END:VEVENT
BEGIN:VEVENT
DTSTART;TZID=America/Chicago:20240613T190000
DTEND;TZID=America/Chicago:20240613T190000
DTSTAMP:20260420T185721
CREATED:20240522T192615Z
LAST-MODIFIED:20240522T192615Z
UID:74001-1718305200-1718305200@www.minneapolisparks.org
SUMMARY:Chickaboom and Trolglodyte
DESCRIPTION:70’s K-tel Pop
URL:https://www.minneapolisparks.org/event-calendar/chickaboom-and-trolglodyte/
LOCATION:Minnehaha Falls\, Minnehaha Falls\, Minneapolis\, MN\, 55417\, United States
CATEGORIES:Music & Movies in the Parks,Music in the Parks
GEO:44.9153307;-93.2110006
X-APPLE-STRUCTURED-LOCATION;VALUE=URI;X-ADDRESS=Minnehaha Falls Minnehaha Falls Minneapolis MN 55417 United States;X-APPLE-RADIUS=500;X-TITLE=Minnehaha Falls:geo:-93.2110006,44.9153307
END:VEVENT
BEGIN:VEVENT
DTSTART;TZID=America/Chicago:20240613T190000
DTEND;TZID=America/Chicago:20240613T190000
DTSTAMP:20260420T185721
CREATED:20240522T204842Z
LAST-MODIFIED:20240522T204842Z
UID:74108-1718305200-1718305200@www.minneapolisparks.org
SUMMARY:Havana Quartet
DESCRIPTION:Cuban string quartet
URL:https://www.minneapolisparks.org/event-calendar/havana-quartet/
LOCATION:The Commons\, 425 Portland Ave South\, Minneapolis\, MN\, 55488\, United States
CATEGORIES:Music & Movies in the Parks,Music in the Parks
GEO:44.9766971;-93.2628904
X-APPLE-STRUCTURED-LOCATION;VALUE=URI;X-ADDRESS=The Commons 425 Portland Ave South Minneapolis MN 55488 United States;X-APPLE-RADIUS=500;X-TITLE=425 Portland Ave South:geo:-93.2628904,44.9766971
END:VEVENT
BEGIN:VEVENT
DTSTART;TZID=America/Chicago:20240613T190000
DTEND;TZID=America/Chicago:20240613T190000
DTSTAMP:20260420T185721
CREATED:20240610T170815Z
LAST-MODIFIED:20240610T170815Z
UID:74793-1718305200-1718305200@www.minneapolisparks.org
SUMMARY:Nunnabove
DESCRIPTION:
URL:https://www.minneapolisparks.org/event-calendar/nunnabove-2/
LOCATION:Victory Park\, 4414 Upton Ave N\, Minneapolis\, MN\, 55412\, United States
CATEGORIES:Music & Movies in the Parks,Music in the Parks
GEO:45.0359721;-93.3147565
X-APPLE-STRUCTURED-LOCATION;VALUE=URI;X-ADDRESS=Victory Park 4414 Upton Ave N Minneapolis MN 55412 United States;X-APPLE-RADIUS=500;X-TITLE=4414 Upton Ave N:geo:-93.3147565,45.0359721
END:VEVENT
BEGIN:VEVENT
DTSTART;TZID=America/Chicago:20240614T190000
DTEND;TZID=America/Chicago:20240614T190000
DTSTAMP:20260420T185721
CREATED:20240522T192824Z
LAST-MODIFIED:20240522T192824Z
UID:74003-1718391600-1718391600@www.minneapolisparks.org
SUMMARY:Minneapolis Police Band
DESCRIPTION:Community band plays fan favorites
URL:https://www.minneapolisparks.org/event-calendar/minneapolis-police-band-5/
LOCATION:Minnehaha Falls\, Minnehaha Falls\, Minneapolis\, MN\, 55417\, United States
CATEGORIES:Music & Movies in the Parks,Music in the Parks
GEO:44.9153307;-93.2110006
X-APPLE-STRUCTURED-LOCATION;VALUE=URI;X-ADDRESS=Minnehaha Falls Minnehaha Falls Minneapolis MN 55417 United States;X-APPLE-RADIUS=500;X-TITLE=Minnehaha Falls:geo:-93.2110006,44.9153307
END:VEVENT
BEGIN:VEVENT
DTSTART;TZID=America/Chicago:20240614T193000
DTEND;TZID=America/Chicago:20240614T193000
DTSTAMP:20260420T185721
CREATED:20240521T151514Z
LAST-MODIFIED:20240611T192820Z
UID:73906-1718393400-1718393400@www.minneapolisparks.org
SUMMARY:Red Hot Django Peppers
DESCRIPTION:All star group\, new transfiguration of jazz.
URL:https://www.minneapolisparks.org/event-calendar/red-hot-django-peppers-2/
LOCATION:Lake Harriet Bandshell\, Minneapolis\, MN\, United States
CATEGORIES:Music & Movies in the Parks,Music in the Parks
GEO:44.927901;-93.3082473
END:VEVENT
BEGIN:VEVENT
DTSTART;TZID=America/Chicago:20240615T193000
DTEND;TZID=America/Chicago:20240615T193000
DTSTAMP:20260420T185721
CREATED:20240521T151645Z
LAST-MODIFIED:20240612T173426Z
UID:73908-1718479800-1718479800@www.minneapolisparks.org
SUMMARY:Twin City Mobile Jazz Project
DESCRIPTION:Twin City Mobile Jazz Project
URL:https://www.minneapolisparks.org/event-calendar/twin-city-mobile-jazz-project/
LOCATION:Lake Harriet Bandshell\, Minneapolis\, MN\, United States
CATEGORIES:Music & Movies in the Parks,Music in the Parks
GEO:44.927901;-93.3082473
END:VEVENT
BEGIN:VEVENT
DTSTART;TZID=America/Chicago:20240616T140000
DTEND;TZID=America/Chicago:20240616T140000
DTSTAMP:20260420T185721
CREATED:20240607T181722Z
LAST-MODIFIED:20240607T181722Z
UID:74745-1718546400-1718546400@www.minneapolisparks.org
SUMMARY:Ryan Picone Quartet
DESCRIPTION:Jazz quartet like Django
URL:https://www.minneapolisparks.org/event-calendar/ryan-picone-quartet-2/
LOCATION:Lake Harriet Bandshell\, Minneapolis\, MN\, United States
CATEGORIES:Music & Movies in the Parks,Music in the Parks
GEO:44.927901;-93.3082473
END:VEVENT
BEGIN:VEVENT
DTSTART;TZID=America/Chicago:20240616T173000
DTEND;TZID=America/Chicago:20240616T173000
DTSTAMP:20260420T185721
CREATED:20240521T151849Z
LAST-MODIFIED:20240612T173500Z
UID:73912-1718559000-1718559000@www.minneapolisparks.org
SUMMARY:Star Of the North Band
DESCRIPTION:Community concert band
URL:https://www.minneapolisparks.org/event-calendar/star-of-the-north-band/
LOCATION:Lake Harriet Bandshell\, Minneapolis\, MN\, United States
CATEGORIES:Music & Movies in the Parks,Music in the Parks
GEO:44.927901;-93.3082473
END:VEVENT
BEGIN:VEVENT
DTSTART;TZID=America/Chicago:20240617T190000
DTEND;TZID=America/Chicago:20240617T190000
DTSTAMP:20260420T185721
CREATED:20240522T203528Z
LAST-MODIFIED:20240522T203528Z
UID:74089-1718650800-1718650800@www.minneapolisparks.org
SUMMARY:Overdressed Duo
DESCRIPTION:An opera and musical extravaganza \n 
URL:https://www.minneapolisparks.org/event-calendar/overdressed-duo/
LOCATION:Water Works at Mill Ruins Park\, 425 West River Parkway\, Minneapolis\, MN\, 55401\, United States
CATEGORIES:Music & Movies in the Parks,Music in the Parks
GEO:44.9811921;-93.2620982
X-APPLE-STRUCTURED-LOCATION;VALUE=URI;X-ADDRESS=Water Works at Mill Ruins Park 425 West River Parkway Minneapolis MN 55401 United States;X-APPLE-RADIUS=500;X-TITLE=425 West River Parkway:geo:-93.2620982,44.9811921
END:VEVENT
BEGIN:VEVENT
DTSTART;TZID=America/Chicago:20240617T193000
DTEND;TZID=America/Chicago:20240617T193000
DTSTAMP:20260420T185721
CREATED:20240521T152037Z
LAST-MODIFIED:20240612T173531Z
UID:73914-1718652600-1718652600@www.minneapolisparks.org
SUMMARY:South High Community Band
DESCRIPTION:Family Friendly Fun Band Tunes
URL:https://www.minneapolisparks.org/event-calendar/south-high-community-band-5/
LOCATION:Lake Harriet Bandshell\, Minneapolis\, MN\, United States
CATEGORIES:Music & Movies in the Parks,Music in the Parks
GEO:44.927901;-93.3082473
END:VEVENT
BEGIN:VEVENT
DTSTART;TZID=America/Chicago:20240618T190000
DTEND;TZID=America/Chicago:20240618T190000
DTSTAMP:20260420T185721
CREATED:20240522T200907Z
LAST-MODIFIED:20240522T200907Z
UID:74052-1718737200-1718737200@www.minneapolisparks.org
SUMMARY:The Mubbla Buggs
DESCRIPTION:Rock\, Alt\, World Beat\, Punk\, and Pop
URL:https://www.minneapolisparks.org/event-calendar/the-mubbla-buggs/
LOCATION:Father Hennepin\, Minneapolis\, MN\, United States
CATEGORIES:Music & Movies in the Parks,Music in the Parks
GEO:44.9826582;-93.2513335
END:VEVENT
BEGIN:VEVENT
DTSTART;TZID=America/Chicago:20240618T190000
DTEND;TZID=America/Chicago:20240618T190000
DTSTAMP:20260420T185721
CREATED:20240522T204057Z
LAST-MODIFIED:20240522T204057Z
UID:74097-1718737200-1718737200@www.minneapolisparks.org
SUMMARY:Papa Bleu
DESCRIPTION:We make the soundtracks of life
URL:https://www.minneapolisparks.org/event-calendar/papa-bleu-3/
LOCATION:Loring Park\, Loring Park\, Minneapolis\, MN\, 55403\, United States
CATEGORIES:Music & Movies in the Parks,Music in the Parks
GEO:44.9649915;-93.2854596
X-APPLE-STRUCTURED-LOCATION;VALUE=URI;X-ADDRESS=Loring Park Loring Park Minneapolis MN 55403 United States;X-APPLE-RADIUS=500;X-TITLE=Loring Park:geo:-93.2854596,44.9649915
END:VEVENT
BEGIN:VEVENT
DTSTART;TZID=America/Chicago:20240619T120000
DTEND;TZID=America/Chicago:20240619T120000
DTSTAMP:20260420T185721
CREATED:20240522T204951Z
LAST-MODIFIED:20240522T204951Z
UID:74110-1718798400-1718798400@www.minneapolisparks.org
SUMMARY:Michael Sherwood
DESCRIPTION:Rock covers and guitar solos
URL:https://www.minneapolisparks.org/event-calendar/michael-sherwood/
LOCATION:The Commons\, 425 Portland Ave South\, Minneapolis\, MN\, 55488\, United States
CATEGORIES:Music & Movies in the Parks,Music in the Parks
GEO:44.9766971;-93.2628904
X-APPLE-STRUCTURED-LOCATION;VALUE=URI;X-ADDRESS=The Commons 425 Portland Ave South Minneapolis MN 55488 United States;X-APPLE-RADIUS=500;X-TITLE=425 Portland Ave South:geo:-93.2628904,44.9766971
END:VEVENT
BEGIN:VEVENT
DTSTART;TZID=America/Chicago:20240619T193000
DTEND;TZID=America/Chicago:20240619T193000
DTSTAMP:20260420T185721
CREATED:20240521T152105Z
LAST-MODIFIED:20240612T173618Z
UID:73915-1718825400-1718825400@www.minneapolisparks.org
SUMMARY:Medalist Concert Band
DESCRIPTION:Concert band
URL:https://www.minneapolisparks.org/event-calendar/medalist-concert-band-5/
LOCATION:Lake Harriet Bandshell\, Minneapolis\, MN\, United States
CATEGORIES:Music & Movies in the Parks,Music in the Parks
GEO:44.927901;-93.3082473
END:VEVENT
BEGIN:VEVENT
DTSTART;TZID=America/Chicago:20240620T160000
DTEND;TZID=America/Chicago:20240620T200000
DTSTAMP:20260420T185721
CREATED:20240522T204215Z
LAST-MODIFIED:20240523T212957Z
UID:74099-1718899200-1718913600@www.minneapolisparks.org
SUMMARY:DJ in the Park (Dj Yasmeena)
DESCRIPTION:Dance Music
URL:https://www.minneapolisparks.org/event-calendar/dj-in-the-park-dj-yasmeena/
LOCATION:Loring Park\, Loring Park\, Minneapolis\, MN\, 55403\, United States
CATEGORIES:Music & Movies in the Parks,Music in the Parks
GEO:44.9649915;-93.2854596
X-APPLE-STRUCTURED-LOCATION;VALUE=URI;X-ADDRESS=Loring Park Loring Park Minneapolis MN 55403 United States;X-APPLE-RADIUS=500;X-TITLE=Loring Park:geo:-93.2854596,44.9649915
END:VEVENT
BEGIN:VEVENT
DTSTART;TZID=America/Chicago:20240620T183000
DTEND;TZID=America/Chicago:20240620T200000
DTSTAMP:20260420T185721
CREATED:20240522T202855Z
LAST-MODIFIED:20240522T202855Z
UID:74079-1718908200-1718913600@www.minneapolisparks.org
SUMMARY:Katie Burton
DESCRIPTION:SKA
URL:https://www.minneapolisparks.org/event-calendar/katie-burton/
LOCATION:Bryant Square Park\, 3101 Bryant Ave S\, Minneapolis\, MN\, 55408\, United States
CATEGORIES:Music & Movies in the Parks,Music in the Parks
GEO:44.9461045;-93.2903539
X-APPLE-STRUCTURED-LOCATION;VALUE=URI;X-ADDRESS=Bryant Square Park 3101 Bryant Ave S Minneapolis MN 55408 United States;X-APPLE-RADIUS=500;X-TITLE=3101 Bryant Ave S:geo:-93.2903539,44.9461045
END:VEVENT
BEGIN:VEVENT
DTSTART;TZID=America/Chicago:20240620T190000
DTEND;TZID=America/Chicago:20240620T190000
DTSTAMP:20260420T185721
CREATED:20240522T193056Z
LAST-MODIFIED:20240522T193056Z
UID:74005-1718910000-1718910000@www.minneapolisparks.org
SUMMARY:Just Dave and the Rockin' All Stars Band
DESCRIPTION:
URL:https://www.minneapolisparks.org/event-calendar/just-dave-and-the-rockin-all-stars-band-2/
LOCATION:Minnehaha Falls\, Minnehaha Falls\, Minneapolis\, MN\, 55417\, United States
CATEGORIES:Music & Movies in the Parks,Music in the Parks
GEO:44.9153307;-93.2110006
X-APPLE-STRUCTURED-LOCATION;VALUE=URI;X-ADDRESS=Minnehaha Falls Minnehaha Falls Minneapolis MN 55417 United States;X-APPLE-RADIUS=500;X-TITLE=Minnehaha Falls:geo:-93.2110006,44.9153307
END:VEVENT
END:VCALENDAR