BEGIN:VCALENDAR
VERSION:2.0
PRODID:-//Minneapolis Park &amp; Recreation Board - ECPv6.15.20//NONSGML v1.0//EN
CALSCALE:GREGORIAN
METHOD:PUBLISH
X-WR-CALNAME:Minneapolis Park &amp; Recreation Board
X-ORIGINAL-URL:https://www.minneapolisparks.org
X-WR-CALDESC:Events for Minneapolis Park &amp; Recreation Board
REFRESH-INTERVAL;VALUE=DURATION:PT1H
X-Robots-Tag:noindex
X-PUBLISHED-TTL:PT1H
BEGIN:VTIMEZONE
TZID:America/Chicago
BEGIN:DAYLIGHT
TZOFFSETFROM:-0600
TZOFFSETTO:-0500
TZNAME:CDT
DTSTART:20240310T080000
END:DAYLIGHT
BEGIN:STANDARD
TZOFFSETFROM:-0500
TZOFFSETTO:-0600
TZNAME:CST
DTSTART:20241103T070000
END:STANDARD
BEGIN:DAYLIGHT
TZOFFSETFROM:-0600
TZOFFSETTO:-0500
TZNAME:CDT
DTSTART:20250309T080000
END:DAYLIGHT
BEGIN:STANDARD
TZOFFSETFROM:-0500
TZOFFSETTO:-0600
TZNAME:CST
DTSTART:20251102T070000
END:STANDARD
BEGIN:DAYLIGHT
TZOFFSETFROM:-0600
TZOFFSETTO:-0500
TZNAME:CDT
DTSTART:20260308T080000
END:DAYLIGHT
BEGIN:STANDARD
TZOFFSETFROM:-0500
TZOFFSETTO:-0600
TZNAME:CST
DTSTART:20261101T070000
END:STANDARD
END:VTIMEZONE
BEGIN:VEVENT
DTSTART;TZID=America/Chicago:20250728T193000
DTEND;TZID=America/Chicago:20250728T193000
DTSTAMP:20260420T171833
CREATED:20250515T192003Z
LAST-MODIFIED:20250515T192003Z
UID:82367-1753731000-1753731000@www.minneapolisparks.org
SUMMARY:Hot Club Mania (Formally Gypsy Mania)
DESCRIPTION:Jazz manouche
URL:https://www.minneapolisparks.org/event-calendar/hot-club-mania-formally-gypsy-mania/
LOCATION:Lake Harriet Bandshell\, Minneapolis\, MN\, United States
CATEGORIES:Music & Movies in the Parks,Music in the Parks
GEO:44.927901;-93.3082473
END:VEVENT
BEGIN:VEVENT
DTSTART;TZID=America/Chicago:20250729T120000
DTEND;TZID=America/Chicago:20250729T120000
DTSTAMP:20260420T171833
CREATED:20250515T212220Z
LAST-MODIFIED:20250515T212220Z
UID:82496-1753790400-1753790400@www.minneapolisparks.org
SUMMARY:Kodj
DESCRIPTION:Alternative Pop
URL:https://www.minneapolisparks.org/event-calendar/kodj-4/
LOCATION:Minnehaha Bandstand\, Minneapolis\, MN\, United States
CATEGORIES:Music & Movies in the Parks,Music in the Parks
GEO:44.9161006;-93.2109865
END:VEVENT
BEGIN:VEVENT
DTSTART;TZID=America/Chicago:20250729T190000
DTEND;TZID=America/Chicago:20250729T190000
DTSTAMP:20260420T171833
CREATED:20250515T213331Z
LAST-MODIFIED:20250515T213331Z
UID:82518-1753815600-1753815600@www.minneapolisparks.org
SUMMARY:Jessie Street Duo
DESCRIPTION:Jazz / Pop
URL:https://www.minneapolisparks.org/event-calendar/jessie-street-duo-2/
LOCATION:Father Hennepin\, Minneapolis\, MN\, United States
CATEGORIES:Music & Movies in the Parks,Music in the Parks
GEO:44.9826582;-93.2513335
END:VEVENT
BEGIN:VEVENT
DTSTART;TZID=America/Chicago:20250729T190000
DTEND;TZID=America/Chicago:20250729T190000
DTSTAMP:20260420T171833
CREATED:20250516T190115Z
LAST-MODIFIED:20250516T190115Z
UID:82623-1753815600-1753815600@www.minneapolisparks.org
SUMMARY:Phil Berbig
DESCRIPTION:Acoustic Rock. Fun\, personable and great sound!
URL:https://www.minneapolisparks.org/event-calendar/phil-berbig-4/
LOCATION:Loring Park\, Loring Park\, Minneapolis\, MN\, 55403\, United States
CATEGORIES:Music & Movies in the Parks,Music in the Parks
GEO:44.9649915;-93.2854596
X-APPLE-STRUCTURED-LOCATION;VALUE=URI;X-ADDRESS=Loring Park Loring Park Minneapolis MN 55403 United States;X-APPLE-RADIUS=500;X-TITLE=Loring Park:geo:-93.2854596,44.9649915
END:VEVENT
BEGIN:VEVENT
DTSTART;TZID=America/Chicago:20250729T190000
DTEND;TZID=America/Chicago:20250729T190000
DTSTAMP:20260420T171833
CREATED:20250516T193518Z
LAST-MODIFIED:20250516T193518Z
UID:82655-1753815600-1753815600@www.minneapolisparks.org
SUMMARY:Umbrella Bed
DESCRIPTION:Ska
URL:https://www.minneapolisparks.org/event-calendar/umbrella-bed-2/
LOCATION:Bryant Square Park\, 3101 Bryant Ave S\, Minneapolis\, MN\, 55408\, United States
CATEGORIES:Music & Movies in the Parks,Music in the Parks
GEO:44.9461045;-93.2903539
X-APPLE-STRUCTURED-LOCATION;VALUE=URI;X-ADDRESS=Bryant Square Park 3101 Bryant Ave S Minneapolis MN 55408 United States;X-APPLE-RADIUS=500;X-TITLE=3101 Bryant Ave S:geo:-93.2903539,44.9461045
END:VEVENT
BEGIN:VEVENT
DTSTART;TZID=America/Chicago:20250730T120000
DTEND;TZID=America/Chicago:20250730T120000
DTSTAMP:20260420T171833
CREATED:20250516T183357Z
LAST-MODIFIED:20250516T183357Z
UID:82577-1753876800-1753876800@www.minneapolisparks.org
SUMMARY:Matt Yetter
DESCRIPTION:Acoustic Blues
URL:https://www.minneapolisparks.org/event-calendar/matt-yetter-3/
LOCATION:The Commons\, 425 Portland Ave South\, Minneapolis\, MN\, 55488\, United States
CATEGORIES:Music & Movies in the Parks,Music in the Parks
GEO:44.9766971;-93.2628904
X-APPLE-STRUCTURED-LOCATION;VALUE=URI;X-ADDRESS=The Commons 425 Portland Ave South Minneapolis MN 55488 United States;X-APPLE-RADIUS=500;X-TITLE=425 Portland Ave South:geo:-93.2628904,44.9766971
END:VEVENT
BEGIN:VEVENT
DTSTART;TZID=America/Chicago:20250730T193000
DTEND;TZID=America/Chicago:20250730T193000
DTSTAMP:20260420T171833
CREATED:20250515T192104Z
LAST-MODIFIED:20250515T192104Z
UID:82369-1753903800-1753903800@www.minneapolisparks.org
SUMMARY:Other Country Ensemble
DESCRIPTION:International Music
URL:https://www.minneapolisparks.org/event-calendar/other-country-ensemble-4/
LOCATION:Lake Harriet Bandshell\, Minneapolis\, MN\, United States
CATEGORIES:Music & Movies in the Parks,Music in the Parks
GEO:44.927901;-93.3082473
END:VEVENT
BEGIN:VEVENT
DTSTART;TZID=America/Chicago:20250731T190000
DTEND;TZID=America/Chicago:20250731T190000
DTSTAMP:20260420T171833
CREATED:20250515T210153Z
LAST-MODIFIED:20250723T174857Z
UID:82462-1753988400-1753988400@www.minneapolisparks.org
SUMMARY:Yo Jimbo Jazz
DESCRIPTION:Jazz
URL:https://www.minneapolisparks.org/event-calendar/yo-jimbo-jazz-5/
LOCATION:Minnehaha Bandstand\, Minneapolis\, MN\, United States
CATEGORIES:Music & Movies in the Parks,Music in the Parks
GEO:44.9161006;-93.2109865
END:VEVENT
BEGIN:VEVENT
DTSTART;TZID=America/Chicago:20250731T190000
DTEND;TZID=America/Chicago:20250731T190000
DTSTAMP:20260420T171833
CREATED:20250516T184246Z
LAST-MODIFIED:20250516T184246Z
UID:82593-1753988400-1753988400@www.minneapolisparks.org
SUMMARY:Seculants
DESCRIPTION:Future Folk
URL:https://www.minneapolisparks.org/event-calendar/seculants/
LOCATION:The Commons\, 425 Portland Ave South\, Minneapolis\, MN\, 55488\, United States
CATEGORIES:Music & Movies in the Parks,Music in the Parks
GEO:44.9766971;-93.2628904
X-APPLE-STRUCTURED-LOCATION;VALUE=URI;X-ADDRESS=The Commons 425 Portland Ave South Minneapolis MN 55488 United States;X-APPLE-RADIUS=500;X-TITLE=425 Portland Ave South:geo:-93.2628904,44.9766971
END:VEVENT
BEGIN:VEVENT
DTSTART;TZID=America/Chicago:20250731T190000
DTEND;TZID=America/Chicago:20250731T190000
DTSTAMP:20260420T171833
CREATED:20250516T193602Z
LAST-MODIFIED:20250516T193602Z
UID:82656-1753988400-1753988400@www.minneapolisparks.org
SUMMARY:Myallo
DESCRIPTION:R&B
URL:https://www.minneapolisparks.org/event-calendar/myallo-3/
LOCATION:Bryant Square Park\, 3101 Bryant Ave S\, Minneapolis\, MN\, 55408\, United States
CATEGORIES:Music & Movies in the Parks,Music in the Parks
GEO:44.9461045;-93.2903539
X-APPLE-STRUCTURED-LOCATION;VALUE=URI;X-ADDRESS=Bryant Square Park 3101 Bryant Ave S Minneapolis MN 55408 United States;X-APPLE-RADIUS=500;X-TITLE=3101 Bryant Ave S:geo:-93.2903539,44.9461045
END:VEVENT
BEGIN:VEVENT
DTSTART;TZID=America/Chicago:20250801T190000
DTEND;TZID=America/Chicago:20250801T190000
DTSTAMP:20260420T171833
CREATED:20250515T210250Z
LAST-MODIFIED:20250515T210326Z
UID:82464-1754074800-1754074800@www.minneapolisparks.org
SUMMARY:The Rockin' Iguanas
DESCRIPTION:Blues Rock
URL:https://www.minneapolisparks.org/event-calendar/the-rockin-iguanas/
LOCATION:Minnehaha Bandstand\, Minneapolis\, MN\, United States
CATEGORIES:Music & Movies in the Parks,Music in the Parks
GEO:44.9161006;-93.2109865
END:VEVENT
BEGIN:VEVENT
DTSTART;TZID=America/Chicago:20250801T193000
DTEND;TZID=America/Chicago:20250801T193000
DTSTAMP:20260420T171833
CREATED:20250515T192206Z
LAST-MODIFIED:20250515T192206Z
UID:82371-1754076600-1754076600@www.minneapolisparks.org
SUMMARY:Yam Haus
DESCRIPTION:Rock
URL:https://www.minneapolisparks.org/event-calendar/yam-haus/
LOCATION:Lake Harriet Bandshell\, Minneapolis\, MN\, United States
CATEGORIES:Music & Movies in the Parks,Music in the Parks
GEO:44.927901;-93.3082473
END:VEVENT
BEGIN:VEVENT
DTSTART;TZID=America/Chicago:20250802T190000
DTEND;TZID=America/Chicago:20250802T190000
DTSTAMP:20260420T171833
CREATED:20250515T214558Z
LAST-MODIFIED:20250515T214558Z
UID:82541-1754161200-1754161200@www.minneapolisparks.org
SUMMARY:Santcuary Strings
DESCRIPTION:Indie Rock
URL:https://www.minneapolisparks.org/event-calendar/santcuary-strings/
LOCATION:Water Works at Mill Ruins Park\, 425 West River Parkway\, Minneapolis\, MN\, 55401\, United States
CATEGORIES:Music & Movies in the Parks,Music in the Parks
GEO:44.9811921;-93.2620982
X-APPLE-STRUCTURED-LOCATION;VALUE=URI;X-ADDRESS=Water Works at Mill Ruins Park 425 West River Parkway Minneapolis MN 55401 United States;X-APPLE-RADIUS=500;X-TITLE=425 West River Parkway:geo:-93.2620982,44.9811921
END:VEVENT
BEGIN:VEVENT
DTSTART;TZID=America/Chicago:20250802T193000
DTEND;TZID=America/Chicago:20250802T193000
DTSTAMP:20260420T171833
CREATED:20250515T192310Z
LAST-MODIFIED:20250515T192310Z
UID:82373-1754163000-1754163000@www.minneapolisparks.org
SUMMARY:PRGRPHS
DESCRIPTION:Rock
URL:https://www.minneapolisparks.org/event-calendar/prgrphs/
LOCATION:Lake Harriet Bandshell\, Minneapolis\, MN\, United States
CATEGORIES:Music & Movies in the Parks,Music in the Parks
GEO:44.927901;-93.3082473
END:VEVENT
BEGIN:VEVENT
DTSTART;TZID=America/Chicago:20250803T140000
DTEND;TZID=America/Chicago:20250803T140000
DTSTAMP:20260420T171833
CREATED:20250515T192418Z
LAST-MODIFIED:20250515T192418Z
UID:82375-1754229600-1754229600@www.minneapolisparks.org
SUMMARY:Issho 5
DESCRIPTION:International Music
URL:https://www.minneapolisparks.org/event-calendar/issho-5/
LOCATION:Lake Harriet Bandshell\, Minneapolis\, MN\, United States
CATEGORIES:Music & Movies in the Parks,Music in the Parks
GEO:44.927901;-93.3082473
END:VEVENT
BEGIN:VEVENT
DTSTART;TZID=America/Chicago:20250803T173000
DTEND;TZID=America/Chicago:20250803T173000
DTSTAMP:20260420T171833
CREATED:20250515T192514Z
LAST-MODIFIED:20250515T192514Z
UID:82377-1754242200-1754242200@www.minneapolisparks.org
SUMMARY:Minnesota Freedom Jazz
DESCRIPTION:Big Band
URL:https://www.minneapolisparks.org/event-calendar/minnesota-freedom-jazz/
LOCATION:Lake Harriet Bandshell\, Minneapolis\, MN\, United States
CATEGORIES:Music & Movies in the Parks,Music in the Parks
GEO:44.927901;-93.3082473
END:VEVENT
BEGIN:VEVENT
DTSTART;TZID=America/Chicago:20250804T193000
DTEND;TZID=America/Chicago:20250804T193000
DTSTAMP:20260420T171833
CREATED:20250515T192632Z
LAST-MODIFIED:20250515T192632Z
UID:82379-1754335800-1754335800@www.minneapolisparks.org
SUMMARY:The Way Way Back Band
DESCRIPTION:Soul Funk
URL:https://www.minneapolisparks.org/event-calendar/the-way-way-back-band-2/
LOCATION:Lake Harriet Bandshell\, Minneapolis\, MN\, United States
CATEGORIES:Music & Movies in the Parks,Music in the Parks
GEO:44.927901;-93.3082473
END:VEVENT
BEGIN:VEVENT
DTSTART;TZID=America/Chicago:20250805T190000
DTEND;TZID=America/Chicago:20250805T190000
DTSTAMP:20260420T171833
CREATED:20250515T213502Z
LAST-MODIFIED:20250515T213502Z
UID:82523-1754420400-1754420400@www.minneapolisparks.org
SUMMARY:Minnesota Mandolin Orchestra
DESCRIPTION:Classical
URL:https://www.minneapolisparks.org/event-calendar/minnesota-mandolin-orchestra-6/
LOCATION:Father Hennepin\, Minneapolis\, MN\, United States
CATEGORIES:Music & Movies in the Parks,Music in the Parks
GEO:44.9826582;-93.2513335
END:VEVENT
BEGIN:VEVENT
DTSTART;TZID=America/Chicago:20250805T190000
DTEND;TZID=America/Chicago:20250805T190000
DTSTAMP:20260420T171833
CREATED:20250516T190223Z
LAST-MODIFIED:20250516T190223Z
UID:82625-1754420400-1754420400@www.minneapolisparks.org
SUMMARY:Myallo
DESCRIPTION:Rhythm & Blues (R&B)
URL:https://www.minneapolisparks.org/event-calendar/myallo-2/
LOCATION:Loring Park\, Loring Park\, Minneapolis\, MN\, 55403\, United States
CATEGORIES:Music & Movies in the Parks,Music in the Parks
GEO:44.9649915;-93.2854596
X-APPLE-STRUCTURED-LOCATION;VALUE=URI;X-ADDRESS=Loring Park Loring Park Minneapolis MN 55403 United States;X-APPLE-RADIUS=500;X-TITLE=Loring Park:geo:-93.2854596,44.9649915
END:VEVENT
BEGIN:VEVENT
DTSTART;TZID=America/Chicago:20250806T193000
DTEND;TZID=America/Chicago:20250806T193000
DTSTAMP:20260420T171833
CREATED:20250515T192752Z
LAST-MODIFIED:20250515T192752Z
UID:82381-1754508600-1754508600@www.minneapolisparks.org
SUMMARY:The Great Northern
DESCRIPTION:Bluegrass
URL:https://www.minneapolisparks.org/event-calendar/the-great-northern/
LOCATION:Lake Harriet Bandshell\, Minneapolis\, MN\, United States
CATEGORIES:Music & Movies in the Parks,Music in the Parks
GEO:44.927901;-93.3082473
END:VEVENT
BEGIN:VEVENT
DTSTART;TZID=America/Chicago:20250807T190000
DTEND;TZID=America/Chicago:20250807T190000
DTSTAMP:20260420T171833
CREATED:20250515T210422Z
LAST-MODIFIED:20250515T210422Z
UID:82466-1754593200-1754593200@www.minneapolisparks.org
SUMMARY:Prairie Potluck Band
DESCRIPTION:Bluegrass/Country
URL:https://www.minneapolisparks.org/event-calendar/prairie-potluck-band/
LOCATION:Minnehaha Bandstand\, Minneapolis\, MN\, United States
CATEGORIES:Music & Movies in the Parks,Music in the Parks
GEO:44.9161006;-93.2109865
END:VEVENT
BEGIN:VEVENT
DTSTART;TZID=America/Chicago:20250807T190000
DTEND;TZID=America/Chicago:20250807T190000
DTSTAMP:20260420T171833
CREATED:20250516T184346Z
LAST-MODIFIED:20250516T184346Z
UID:82595-1754593200-1754593200@www.minneapolisparks.org
SUMMARY:University of Minnesota Band Alumni Summer Band
DESCRIPTION:Classical
URL:https://www.minneapolisparks.org/event-calendar/university-of-minnesota-band-alumni-summer-band/
LOCATION:The Commons\, 425 Portland Ave South\, Minneapolis\, MN\, 55488\, United States
CATEGORIES:Music & Movies in the Parks,Music in the Parks
GEO:44.9766971;-93.2628904
X-APPLE-STRUCTURED-LOCATION;VALUE=URI;X-ADDRESS=The Commons 425 Portland Ave South Minneapolis MN 55488 United States;X-APPLE-RADIUS=500;X-TITLE=425 Portland Ave South:geo:-93.2628904,44.9766971
END:VEVENT
BEGIN:VEVENT
DTSTART;TZID=America/Chicago:20250807T190000
DTEND;TZID=America/Chicago:20250807T190000
DTSTAMP:20260420T171833
CREATED:20250516T193640Z
LAST-MODIFIED:20250516T193640Z
UID:82657-1754593200-1754593200@www.minneapolisparks.org
SUMMARY:Amateur
DESCRIPTION:Variety
URL:https://www.minneapolisparks.org/event-calendar/amateur/
LOCATION:Bryant Square Park\, 3101 Bryant Ave S\, Minneapolis\, MN\, 55408\, United States
CATEGORIES:Music & Movies in the Parks,Music in the Parks
GEO:44.9461045;-93.2903539
X-APPLE-STRUCTURED-LOCATION;VALUE=URI;X-ADDRESS=Bryant Square Park 3101 Bryant Ave S Minneapolis MN 55408 United States;X-APPLE-RADIUS=500;X-TITLE=3101 Bryant Ave S:geo:-93.2903539,44.9461045
END:VEVENT
BEGIN:VEVENT
DTSTART;TZID=America/Chicago:20250807T193000
DTEND;TZID=America/Chicago:20250807T193000
DTSTAMP:20260420T171833
CREATED:20250515T192903Z
LAST-MODIFIED:20250515T192903Z
UID:82383-1754595000-1754595000@www.minneapolisparks.org
SUMMARY:Rubber Soul The Tribute
DESCRIPTION:Rock
URL:https://www.minneapolisparks.org/event-calendar/rubber-soul-the-tribute-2/
LOCATION:Lake Harriet Bandshell\, Minneapolis\, MN\, United States
CATEGORIES:Music & Movies in the Parks,Music in the Parks
GEO:44.927901;-93.3082473
END:VEVENT
BEGIN:VEVENT
DTSTART;TZID=America/Chicago:20250808T190000
DTEND;TZID=America/Chicago:20250808T190000
DTSTAMP:20260420T171833
CREATED:20250515T210521Z
LAST-MODIFIED:20250515T210521Z
UID:82468-1754679600-1754679600@www.minneapolisparks.org
SUMMARY:Backman
DESCRIPTION:Alternative
URL:https://www.minneapolisparks.org/event-calendar/backman/
LOCATION:Minnehaha Bandstand\, Minneapolis\, MN\, United States
CATEGORIES:Music & Movies in the Parks,Music in the Parks
GEO:44.9161006;-93.2109865
END:VEVENT
BEGIN:VEVENT
DTSTART;TZID=America/Chicago:20250808T193000
DTEND;TZID=America/Chicago:20250808T193000
DTSTAMP:20260420T171833
CREATED:20250515T193021Z
LAST-MODIFIED:20250515T193021Z
UID:82385-1754681400-1754681400@www.minneapolisparks.org
SUMMARY:Paul Barry Blues Band
DESCRIPTION:Chicago Blues
URL:https://www.minneapolisparks.org/event-calendar/paul-barry-blues-band-5/
LOCATION:Lake Harriet Bandshell\, Minneapolis\, MN\, United States
CATEGORIES:Music & Movies in the Parks,Music in the Parks
GEO:44.927901;-93.3082473
END:VEVENT
BEGIN:VEVENT
DTSTART;TZID=America/Chicago:20250809T160000
DTEND;TZID=America/Chicago:20250809T200000
DTSTAMP:20260420T171833
CREATED:20250516T190325Z
LAST-MODIFIED:20250516T190325Z
UID:82627-1754755200-1754769600@www.minneapolisparks.org
SUMMARY:DJ in the Park (4-8pm)
DESCRIPTION:DJ Music
URL:https://www.minneapolisparks.org/event-calendar/dj-in-the-park-4-8pm-3/
LOCATION:Loring Park\, Loring Park\, Minneapolis\, MN\, 55403\, United States
CATEGORIES:Music & Movies in the Parks,Music in the Parks
GEO:44.9649915;-93.2854596
X-APPLE-STRUCTURED-LOCATION;VALUE=URI;X-ADDRESS=Loring Park Loring Park Minneapolis MN 55403 United States;X-APPLE-RADIUS=500;X-TITLE=Loring Park:geo:-93.2854596,44.9649915
END:VEVENT
BEGIN:VEVENT
DTSTART;TZID=America/Chicago:20250809T190000
DTEND;TZID=America/Chicago:20250809T190000
DTSTAMP:20260420T171833
CREATED:20250515T214704Z
LAST-MODIFIED:20250515T214704Z
UID:82546-1754766000-1754766000@www.minneapolisparks.org
SUMMARY:Jayson Banks
DESCRIPTION:Variety
URL:https://www.minneapolisparks.org/event-calendar/jayson-banks/
LOCATION:Water Works at Mill Ruins Park\, 425 West River Parkway\, Minneapolis\, MN\, 55401\, United States
CATEGORIES:Music & Movies in the Parks,Music in the Parks
GEO:44.9811921;-93.2620982
X-APPLE-STRUCTURED-LOCATION;VALUE=URI;X-ADDRESS=Water Works at Mill Ruins Park 425 West River Parkway Minneapolis MN 55401 United States;X-APPLE-RADIUS=500;X-TITLE=425 West River Parkway:geo:-93.2620982,44.9811921
END:VEVENT
BEGIN:VEVENT
DTSTART;TZID=America/Chicago:20250809T193000
DTEND;TZID=America/Chicago:20250809T193000
DTSTAMP:20260420T171833
CREATED:20250717T145559Z
LAST-MODIFIED:20250717T145559Z
UID:84056-1754767800-1754767800@www.minneapolisparks.org
SUMMARY:Tre Aaron & The Undergroove
DESCRIPTION:Funk\, Soul\, Rock\, Rhythm & Blues
URL:https://www.minneapolisparks.org/event-calendar/tre-aaron-the-undergroove/
LOCATION:Lake Harriet Bandshell\, Minneapolis\, MN\, United States
CATEGORIES:Music & Movies in the Parks,Music in the Parks
GEO:44.927901;-93.3082473
END:VEVENT
BEGIN:VEVENT
DTSTART;TZID=America/Chicago:20250810T140000
DTEND;TZID=America/Chicago:20250810T140000
DTSTAMP:20260420T171833
CREATED:20250515T193123Z
LAST-MODIFIED:20250515T193123Z
UID:82387-1754834400-1754834400@www.minneapolisparks.org
SUMMARY:Kenwood Symphony Orchestra
DESCRIPTION:Classical
URL:https://www.minneapolisparks.org/event-calendar/kenwood-symphony-orchestra-8/
LOCATION:Lake Harriet Bandshell\, Minneapolis\, MN\, United States
CATEGORIES:Music & Movies in the Parks,Music in the Parks
GEO:44.927901;-93.3082473
END:VEVENT
END:VCALENDAR