BEGIN:VCALENDAR
VERSION:2.0
PRODID:-//Minneapolis Park &amp; Recreation Board - ECPv6.15.20//NONSGML v1.0//EN
CALSCALE:GREGORIAN
METHOD:PUBLISH
X-WR-CALNAME:Minneapolis Park &amp; Recreation Board
X-ORIGINAL-URL:https://www.minneapolisparks.org
X-WR-CALDESC:Events for Minneapolis Park &amp; Recreation Board
REFRESH-INTERVAL;VALUE=DURATION:PT1H
X-Robots-Tag:noindex
X-PUBLISHED-TTL:PT1H
BEGIN:VTIMEZONE
TZID:America/Chicago
BEGIN:DAYLIGHT
TZOFFSETFROM:-0600
TZOFFSETTO:-0500
TZNAME:CDT
DTSTART:20220313T080000
END:DAYLIGHT
BEGIN:STANDARD
TZOFFSETFROM:-0500
TZOFFSETTO:-0600
TZNAME:CST
DTSTART:20221106T070000
END:STANDARD
BEGIN:DAYLIGHT
TZOFFSETFROM:-0600
TZOFFSETTO:-0500
TZNAME:CDT
DTSTART:20230312T080000
END:DAYLIGHT
BEGIN:STANDARD
TZOFFSETFROM:-0500
TZOFFSETTO:-0600
TZNAME:CST
DTSTART:20231105T070000
END:STANDARD
BEGIN:DAYLIGHT
TZOFFSETFROM:-0600
TZOFFSETTO:-0500
TZNAME:CDT
DTSTART:20240310T080000
END:DAYLIGHT
BEGIN:STANDARD
TZOFFSETFROM:-0500
TZOFFSETTO:-0600
TZNAME:CST
DTSTART:20241103T070000
END:STANDARD
END:VTIMEZONE
BEGIN:VEVENT
DTSTART;TZID=America/Chicago:20230821T190000
DTEND;TZID=America/Chicago:20230821T190000
DTSTAMP:20260420T154357
CREATED:20230504T185211Z
LAST-MODIFIED:20230612T173758Z
UID:65265-1692644400-1692644400@www.minneapolisparks.org
SUMMARY:Rare Form
DESCRIPTION:Country
URL:https://www.minneapolisparks.org/event-calendar/rare-form/
LOCATION:Nicollet Island\, Nicollet Island\, Minneapolis\, MN\, 55401\, United States
CATEGORIES:Music & Movies in the Parks,Music in the Parks
GEO:44.9874602;-93.2648511
X-APPLE-STRUCTURED-LOCATION;VALUE=URI;X-ADDRESS=Nicollet Island Nicollet Island Minneapolis MN 55401 United States;X-APPLE-RADIUS=500;X-TITLE=Nicollet Island:geo:-93.2648511,44.9874602
END:VEVENT
BEGIN:VEVENT
DTSTART;TZID=America/Chicago:20230821T193000
DTEND;TZID=America/Chicago:20230821T193000
DTSTAMP:20260420T154357
CREATED:20230510T180553Z
LAST-MODIFIED:20230612T173804Z
UID:65621-1692646200-1692646200@www.minneapolisparks.org
SUMMARY:Jumping Jehosafats
DESCRIPTION:Dixieland and all that Jazz!
URL:https://www.minneapolisparks.org/event-calendar/jumping-jehosafats/
LOCATION:Lake Harriet Bandshell\, Minneapolis\, MN\, United States
CATEGORIES:Music & Movies in the Parks,Music in the Parks
GEO:44.927901;-93.3082473
END:VEVENT
BEGIN:VEVENT
DTSTART;TZID=America/Chicago:20230822T120000
DTEND;TZID=America/Chicago:20230822T120000
DTSTAMP:20260420T154357
CREATED:20230420T192719Z
LAST-MODIFIED:20230612T173933Z
UID:64897-1692705600-1692705600@www.minneapolisparks.org
SUMMARY:RayCabaet
DESCRIPTION:Organic Serenade Classy-Jazz
URL:https://www.minneapolisparks.org/event-calendar/raycabaet/
LOCATION:Loring Park\, Loring Park\, Minneapolis\, MN\, 55403\, United States
CATEGORIES:Music & Movies in the Parks,Music in the Parks
GEO:44.9649915;-93.2854596
X-APPLE-STRUCTURED-LOCATION;VALUE=URI;X-ADDRESS=Loring Park Loring Park Minneapolis MN 55403 United States;X-APPLE-RADIUS=500;X-TITLE=Loring Park:geo:-93.2854596,44.9649915
END:VEVENT
BEGIN:VEVENT
DTSTART;TZID=America/Chicago:20230822T190000
DTEND;TZID=America/Chicago:20230822T190000
DTSTAMP:20260420T154357
CREATED:20230420T201840Z
LAST-MODIFIED:20230801T204457Z
UID:64967-1692730800-1692730800@www.minneapolisparks.org
SUMMARY:Smell My Pillow
DESCRIPTION:Original Hard Rock Band
URL:https://www.minneapolisparks.org/event-calendar/smell-my-pillow/
LOCATION:Father Hennepin Bluff Park\, Minneapolis\, MN\, United States
CATEGORIES:Music & Movies in the Parks,Music in the Parks
GEO:44.9826582;-93.2513335
END:VEVENT
BEGIN:VEVENT
DTSTART;TZID=America/Chicago:20230823T120000
DTEND;TZID=America/Chicago:20230823T120000
DTSTAMP:20260420T154357
CREATED:20230420T202246Z
LAST-MODIFIED:20230612T173941Z
UID:64976-1692792000-1692792000@www.minneapolisparks.org
SUMMARY:The Paper Clips Trombone Quartet
DESCRIPTION:Motown Sound Meets Trombone Quartet
URL:https://www.minneapolisparks.org/event-calendar/the-paper-clips-trombone-quartet-2/
LOCATION:The Commons\, 425 Portland Ave South\, Minneapolis\, MN\, 55488\, United States
CATEGORIES:Music & Movies in the Parks,Music in the Parks
GEO:44.9766971;-93.2628904
X-APPLE-STRUCTURED-LOCATION;VALUE=URI;X-ADDRESS=The Commons 425 Portland Ave South Minneapolis MN 55488 United States;X-APPLE-RADIUS=500;X-TITLE=425 Portland Ave South:geo:-93.2628904,44.9766971
END:VEVENT
BEGIN:VEVENT
DTSTART;TZID=America/Chicago:20230823T193000
DTEND;TZID=America/Chicago:20230823T193000
DTSTAMP:20260420T154357
CREATED:20230510T180635Z
LAST-MODIFIED:20230612T173945Z
UID:65623-1692819000-1692819000@www.minneapolisparks.org
SUMMARY:Papa Bleu
DESCRIPTION:Music gumbo for the people.
URL:https://www.minneapolisparks.org/event-calendar/papa-bleu-2/
LOCATION:Lake Harriet Bandshell\, Minneapolis\, MN\, United States
CATEGORIES:Music & Movies in the Parks,Music in the Parks
GEO:44.927901;-93.3082473
END:VEVENT
BEGIN:VEVENT
DTSTART;TZID=America/Chicago:20230824T190000
DTEND;TZID=America/Chicago:20230824T190000
DTSTAMP:20260420T154357
CREATED:20230420T202342Z
LAST-MODIFIED:20230612T174144Z
UID:64979-1692903600-1692903600@www.minneapolisparks.org
SUMMARY:Kodj
DESCRIPTION:Alternative\, vibey\, energetic\, fun\, relatable
URL:https://www.minneapolisparks.org/event-calendar/kodj-2/
LOCATION:The Commons\, 425 Portland Ave South\, Minneapolis\, MN\, 55488\, United States
CATEGORIES:Music & Movies in the Parks,Music in the Parks
GEO:44.9766971;-93.2628904
X-APPLE-STRUCTURED-LOCATION;VALUE=URI;X-ADDRESS=The Commons 425 Portland Ave South Minneapolis MN 55488 United States;X-APPLE-RADIUS=500;X-TITLE=425 Portland Ave South:geo:-93.2628904,44.9766971
END:VEVENT
BEGIN:VEVENT
DTSTART;TZID=America/Chicago:20230824T190000
DTEND;TZID=America/Chicago:20230824T190000
DTSTAMP:20260420T154357
CREATED:20230504T192215Z
LAST-MODIFIED:20230612T174148Z
UID:65341-1692903600-1692903600@www.minneapolisparks.org
SUMMARY:Chickaboom and Troglodyte
DESCRIPTION:K-tel Pop of the 70’s
URL:https://www.minneapolisparks.org/event-calendar/chickaboom-and-troglodyte/
LOCATION:Minnehaha Bandstand\, Minneapolis\, MN\, United States
CATEGORIES:Music & Movies in the Parks,Music in the Parks
GEO:44.9161006;-93.2109865
END:VEVENT
BEGIN:VEVENT
DTSTART;TZID=America/Chicago:20230825T120000
DTEND;TZID=America/Chicago:20230825T120000
DTSTAMP:20260420T154357
CREATED:20230424T174627Z
LAST-MODIFIED:20230612T174315Z
UID:65055-1692964800-1692964800@www.minneapolisparks.org
SUMMARY:Alex Sandberg
DESCRIPTION:Dylan\, Beatles\, and classic instrumentals
URL:https://www.minneapolisparks.org/event-calendar/alex-sandberg/
LOCATION:Water Works at Mill Ruins Park\, 425 West River Parkway\, Minneapolis\, MN\, 55401\, United States
CATEGORIES:Music & Movies in the Parks,Music in the Parks
GEO:44.9811921;-93.2620982
X-APPLE-STRUCTURED-LOCATION;VALUE=URI;X-ADDRESS=Water Works at Mill Ruins Park 425 West River Parkway Minneapolis MN 55401 United States;X-APPLE-RADIUS=500;X-TITLE=425 West River Parkway:geo:-93.2620982,44.9811921
END:VEVENT
BEGIN:VEVENT
DTSTART;TZID=America/Chicago:20230825T190000
DTEND;TZID=America/Chicago:20230825T190000
DTSTAMP:20260420T154357
CREATED:20230420T192803Z
LAST-MODIFIED:20230612T174318Z
UID:64899-1692990000-1692990000@www.minneapolisparks.org
SUMMARY:Bluedog
DESCRIPTION:Original Native blues and rock
URL:https://www.minneapolisparks.org/event-calendar/bluedog-6/
LOCATION:Loring Park\, Loring Park\, Minneapolis\, MN\, 55403\, United States
CATEGORIES:Music & Movies in the Parks,Music in the Parks
GEO:44.9649915;-93.2854596
X-APPLE-STRUCTURED-LOCATION;VALUE=URI;X-ADDRESS=Loring Park Loring Park Minneapolis MN 55403 United States;X-APPLE-RADIUS=500;X-TITLE=Loring Park:geo:-93.2854596,44.9649915
END:VEVENT
BEGIN:VEVENT
DTSTART;TZID=America/Chicago:20230825T190000
DTEND;TZID=America/Chicago:20230825T190000
DTSTAMP:20260420T154357
CREATED:20230504T192253Z
LAST-MODIFIED:20230612T174323Z
UID:65343-1692990000-1692990000@www.minneapolisparks.org
SUMMARY:Harlow
DESCRIPTION:Nostalgic Folk Rock outta MPLS.
URL:https://www.minneapolisparks.org/event-calendar/harlow/
LOCATION:Minnehaha Bandstand\, Minneapolis\, MN\, United States
CATEGORIES:Music & Movies in the Parks,Music in the Parks
GEO:44.9161006;-93.2109865
END:VEVENT
BEGIN:VEVENT
DTSTART;TZID=America/Chicago:20230825T193000
DTEND;TZID=America/Chicago:20230825T193000
DTSTAMP:20260420T154357
CREATED:20230510T180730Z
LAST-MODIFIED:20230612T174327Z
UID:65625-1692991800-1692991800@www.minneapolisparks.org
SUMMARY:Ka Lia Universe
DESCRIPTION:presented by Star Tribune
URL:https://www.minneapolisparks.org/event-calendar/ka-lia-universe/
LOCATION:Lake Harriet Bandshell\, Minneapolis\, MN\, United States
CATEGORIES:Music & Movies in the Parks,Music in the Parks
GEO:44.927901;-93.3082473
END:VEVENT
BEGIN:VEVENT
DTSTART;TZID=America/Chicago:20230827T140000
DTEND;TZID=America/Chicago:20230827T140000
DTSTAMP:20260420T154357
CREATED:20230510T180811Z
LAST-MODIFIED:20230612T174451Z
UID:65627-1693144800-1693144800@www.minneapolisparks.org
SUMMARY:Cole Diamond
DESCRIPTION:Classic Country covers and originals.
URL:https://www.minneapolisparks.org/event-calendar/cole-diamond/
LOCATION:Lake Harriet Bandshell\, Minneapolis\, MN\, United States
CATEGORIES:Music & Movies in the Parks,Music in the Parks
GEO:44.927901;-93.3082473
END:VEVENT
BEGIN:VEVENT
DTSTART;TZID=America/Chicago:20230827T173000
DTEND;TZID=America/Chicago:20230827T173000
DTSTAMP:20260420T154357
CREATED:20230825T194411Z
LAST-MODIFIED:20230825T194411Z
UID:68212-1693157400-1693157400@www.minneapolisparks.org
SUMMARY:Killer Prophets – Psych-rock diaries
DESCRIPTION:
URL:https://www.minneapolisparks.org/event-calendar/killer-prophets-psych-rock-diaries/
LOCATION:Lake Harriet Bandshell\, Minneapolis\, MN\, United States
CATEGORIES:Music & Movies in the Parks,Music in the Parks
GEO:44.927901;-93.3082473
END:VEVENT
BEGIN:VEVENT
DTSTART;TZID=America/Chicago:20230828T190000
DTEND;TZID=America/Chicago:20230828T190000
DTSTAMP:20260420T154357
CREATED:20230424T174712Z
LAST-MODIFIED:20230612T174454Z
UID:65057-1693249200-1693249200@www.minneapolisparks.org
SUMMARY:Skarlett Woods
DESCRIPTION:Soul-singing Americana/Jazz songwriter
URL:https://www.minneapolisparks.org/event-calendar/skarlett-woods/
LOCATION:Water Works at Mill Ruins Park\, 425 West River Parkway\, Minneapolis\, MN\, 55401\, United States
CATEGORIES:Music & Movies in the Parks,Music in the Parks
GEO:44.9811921;-93.2620982
X-APPLE-STRUCTURED-LOCATION;VALUE=URI;X-ADDRESS=Water Works at Mill Ruins Park 425 West River Parkway Minneapolis MN 55401 United States;X-APPLE-RADIUS=500;X-TITLE=425 West River Parkway:geo:-93.2620982,44.9811921
END:VEVENT
BEGIN:VEVENT
DTSTART;TZID=America/Chicago:20230828T193000
DTEND;TZID=America/Chicago:20230828T193000
DTSTAMP:20260420T154357
CREATED:20230518T210438Z
LAST-MODIFIED:20230612T174627Z
UID:65985-1693251000-1693251000@www.minneapolisparks.org
SUMMARY:Retro Soul and the Westside Horns
DESCRIPTION:Rock roll\, Soul\, Funk\, Blues
URL:https://www.minneapolisparks.org/event-calendar/retro-soul-and-the-westside-horns-2/
LOCATION:Lake Harriet Bandshell\, Minneapolis\, MN\, United States
CATEGORIES:Music & Movies in the Parks,Music in the Parks
GEO:44.927901;-93.3082473
END:VEVENT
BEGIN:VEVENT
DTSTART;TZID=America/Chicago:20230829T120000
DTEND;TZID=America/Chicago:20230829T120000
DTSTAMP:20260420T154357
CREATED:20230420T192948Z
LAST-MODIFIED:20230612T174635Z
UID:64901-1693310400-1693310400@www.minneapolisparks.org
SUMMARY:Old guys play the blues
DESCRIPTION:Traditional folk blues
URL:https://www.minneapolisparks.org/event-calendar/old-guys-play-the-blues/
LOCATION:Loring Park\, Loring Park\, Minneapolis\, MN\, 55403\, United States
CATEGORIES:Music & Movies in the Parks,Music in the Parks
GEO:44.9649915;-93.2854596
X-APPLE-STRUCTURED-LOCATION;VALUE=URI;X-ADDRESS=Loring Park Loring Park Minneapolis MN 55403 United States;X-APPLE-RADIUS=500;X-TITLE=Loring Park:geo:-93.2854596,44.9649915
END:VEVENT
BEGIN:VEVENT
DTSTART;TZID=America/Chicago:20230829T190000
DTEND;TZID=America/Chicago:20230829T190000
DTSTAMP:20260420T154357
CREATED:20230504T185246Z
LAST-MODIFIED:20230612T174659Z
UID:65267-1693335600-1693335600@www.minneapolisparks.org
SUMMARY:Cassandra Cole
DESCRIPTION:Pop/rock
URL:https://www.minneapolisparks.org/event-calendar/cassandra-cole/
LOCATION:Father Hennepin Bluff Park\, Minneapolis\, MN\, United States
CATEGORIES:Music & Movies in the Parks,Music in the Parks
GEO:44.9826582;-93.2513335
END:VEVENT
BEGIN:VEVENT
DTSTART;TZID=America/Chicago:20230830T120000
DTEND;TZID=America/Chicago:20230830T120000
DTSTAMP:20260420T154357
CREATED:20230420T202426Z
LAST-MODIFIED:20230612T175111Z
UID:64981-1693396800-1693396800@www.minneapolisparks.org
SUMMARY:Edie Rae & The Blaze Kings
DESCRIPTION:Upbeat indie country pop sounds!
URL:https://www.minneapolisparks.org/event-calendar/edie-rae-the-blaze-kings-2/
LOCATION:The Commons\, 425 Portland Ave South\, Minneapolis\, MN\, 55488\, United States
CATEGORIES:Music & Movies in the Parks,Music in the Parks
GEO:44.9766971;-93.2628904
X-APPLE-STRUCTURED-LOCATION;VALUE=URI;X-ADDRESS=The Commons 425 Portland Ave South Minneapolis MN 55488 United States;X-APPLE-RADIUS=500;X-TITLE=425 Portland Ave South:geo:-93.2628904,44.9766971
END:VEVENT
BEGIN:VEVENT
DTSTART;TZID=America/Chicago:20230830T193000
DTEND;TZID=America/Chicago:20230830T193000
DTSTAMP:20260420T154357
CREATED:20230510T180902Z
LAST-MODIFIED:20230612T175104Z
UID:65629-1693423800-1693423800@www.minneapolisparks.org
SUMMARY:Bonne
DESCRIPTION:Award-winning Female Rock/Pop Artist
URL:https://www.minneapolisparks.org/event-calendar/bonne/
LOCATION:Lake Harriet Bandshell\, Minneapolis\, MN\, United States
CATEGORIES:Music & Movies in the Parks,Music in the Parks
GEO:44.927901;-93.3082473
END:VEVENT
BEGIN:VEVENT
DTSTART;TZID=America/Chicago:20230831T190000
DTEND;TZID=America/Chicago:20230831T190000
DTSTAMP:20260420T154357
CREATED:20230420T202505Z
LAST-MODIFIED:20230612T175051Z
UID:64983-1693508400-1693508400@www.minneapolisparks.org
SUMMARY:The Confused
DESCRIPTION:Blues Funk Fusion
URL:https://www.minneapolisparks.org/event-calendar/the-confused/
LOCATION:The Commons\, 425 Portland Ave South\, Minneapolis\, MN\, 55488\, United States
CATEGORIES:Music & Movies in the Parks,Music in the Parks
GEO:44.9766971;-93.2628904
X-APPLE-STRUCTURED-LOCATION;VALUE=URI;X-ADDRESS=The Commons 425 Portland Ave South Minneapolis MN 55488 United States;X-APPLE-RADIUS=500;X-TITLE=425 Portland Ave South:geo:-93.2628904,44.9766971
END:VEVENT
BEGIN:VEVENT
DTSTART;TZID=America/Chicago:20230831T190000
DTEND;TZID=America/Chicago:20230831T190000
DTSTAMP:20260420T154357
CREATED:20230518T210823Z
LAST-MODIFIED:20230612T175306Z
UID:65987-1693508400-1693508400@www.minneapolisparks.org
SUMMARY:Cabin Fever
DESCRIPTION:Acoustic pop\, 80s and 90s covers
URL:https://www.minneapolisparks.org/event-calendar/cabin-fever-2/
LOCATION:Minnehaha Falls\, Minnehaha Falls\, Minneapolis\, MN\, 55417\, United States
CATEGORIES:Music & Movies in the Parks,Music in the Parks
GEO:44.9153307;-93.2110006
X-APPLE-STRUCTURED-LOCATION;VALUE=URI;X-ADDRESS=Minnehaha Falls Minnehaha Falls Minneapolis MN 55417 United States;X-APPLE-RADIUS=500;X-TITLE=Minnehaha Falls:geo:-93.2110006,44.9153307
END:VEVENT
BEGIN:VEVENT
DTSTART;TZID=America/Chicago:20230901T190000
DTEND;TZID=America/Chicago:20230901T190000
DTSTAMP:20260420T154357
CREATED:20230504T192329Z
LAST-MODIFIED:20230612T175315Z
UID:65345-1693594800-1693594800@www.minneapolisparks.org
SUMMARY:Prairie Fire Lady Choir
DESCRIPTION:PFLC sings an eclectic mix of music.
URL:https://www.minneapolisparks.org/event-calendar/prairie-fire-lady-choir-2/
LOCATION:Minnehaha Bandstand\, Minneapolis\, MN\, United States
CATEGORIES:Music & Movies in the Parks,Music in the Parks
GEO:44.9161006;-93.2109865
END:VEVENT
BEGIN:VEVENT
DTSTART;TZID=America/Chicago:20230901T193000
DTEND;TZID=America/Chicago:20230901T193000
DTSTAMP:20260420T154357
CREATED:20230510T180944Z
LAST-MODIFIED:20230818T160251Z
UID:65631-1693596600-1693596600@www.minneapolisparks.org
SUMMARY:BOB! (The Music of Dylan)
DESCRIPTION:Quintet performing Bob Dylan songs
URL:https://www.minneapolisparks.org/event-calendar/bob-the-music-of-dylan-4/
LOCATION:Lake Harriet Bandshell\, Minneapolis\, MN\, United States
CATEGORIES:Music & Movies in the Parks,Music in the Parks
GEO:44.927901;-93.3082473
END:VEVENT
BEGIN:VEVENT
DTSTART;TZID=America/Chicago:20230902T193000
DTEND;TZID=America/Chicago:20230902T193000
DTSTAMP:20260420T154357
CREATED:20230510T181027Z
LAST-MODIFIED:20230818T160426Z
UID:65633-1693683000-1693683000@www.minneapolisparks.org
SUMMARY:Tony Oritz and the Guns of Soul
DESCRIPTION:Top Minnesota original rock
URL:https://www.minneapolisparks.org/event-calendar/tony-oritz-and-the-guns-of-soul/
LOCATION:Lake Harriet Bandshell\, Minneapolis\, MN\, United States
CATEGORIES:Music & Movies in the Parks,Music in the Parks
GEO:44.927901;-93.3082473
END:VEVENT
BEGIN:VEVENT
DTSTART;TZID=America/Chicago:20230903T140000
DTEND;TZID=America/Chicago:20230903T140000
DTSTAMP:20260420T154357
CREATED:20230510T181118Z
LAST-MODIFIED:20230612T175515Z
UID:65635-1693749600-1693749600@www.minneapolisparks.org
SUMMARY:Willem S Hartong
DESCRIPTION:Happy Dads Playing Family Music
URL:https://www.minneapolisparks.org/event-calendar/willem-s-hartong/
LOCATION:Lake Harriet Bandshell\, Minneapolis\, MN\, United States
CATEGORIES:Music & Movies in the Parks,Music in the Parks
GEO:44.927901;-93.3082473
END:VEVENT
BEGIN:VEVENT
DTSTART;TZID=America/Chicago:20230903T173000
DTEND;TZID=America/Chicago:20230903T173000
DTSTAMP:20260420T154357
CREATED:20230510T181209Z
LAST-MODIFIED:20230612T175805Z
UID:65637-1693762200-1693762200@www.minneapolisparks.org
SUMMARY:Papa Roof and the Soul Villains
DESCRIPTION:Classic Southern Soul and Funk
URL:https://www.minneapolisparks.org/event-calendar/papa-roof-and-the-soul-villains/
LOCATION:Lake Harriet Bandshell\, Minneapolis\, MN\, United States
CATEGORIES:Music & Movies in the Parks,Music in the Parks
GEO:44.927901;-93.3082473
END:VEVENT
BEGIN:VEVENT
DTSTART;TZID=America/Chicago:20230904T173000
DTEND;TZID=America/Chicago:20230904T173000
DTSTAMP:20260420T154357
CREATED:20230510T181254Z
LAST-MODIFIED:20230821T154752Z
UID:65639-1693848600-1693848600@www.minneapolisparks.org
SUMMARY:Tre Aaron & The Undergroove
DESCRIPTION:Funk\, Rhythm & Blues jam band
URL:https://www.minneapolisparks.org/event-calendar/tre-aaron-7/
LOCATION:Lake Harriet Bandshell\, Minneapolis\, MN\, United States
CATEGORIES:Music & Movies in the Parks,Music in the Parks
GEO:44.927901;-93.3082473
END:VEVENT
BEGIN:VEVENT
DTSTART;TZID=America/Chicago:20230904T190000
DTEND;TZID=America/Chicago:20230904T190000
DTSTAMP:20260420T154357
CREATED:20230510T181339Z
LAST-MODIFIED:20230821T154521Z
UID:65641-1693854000-1693854000@www.minneapolisparks.org
SUMMARY:Sawyer's Dream
DESCRIPTION:Americana Powerhouse Vocal Harmony Band
URL:https://www.minneapolisparks.org/event-calendar/sawyers-dream-5/
LOCATION:Lake Harriet Bandshell\, Minneapolis\, MN\, United States
CATEGORIES:Music & Movies in the Parks,Music in the Parks
GEO:44.927901;-93.3082473
END:VEVENT
BEGIN:VEVENT
DTSTART;TZID=America/Chicago:20230906T120000
DTEND;TZID=America/Chicago:20230906T120000
DTSTAMP:20260420T154357
CREATED:20230420T202553Z
LAST-MODIFIED:20230612T175820Z
UID:64985-1694001600-1694001600@www.minneapolisparks.org
SUMMARY:Lena & The Lovekills
DESCRIPTION:Rockabilly + swing = Swingabilly!
URL:https://www.minneapolisparks.org/event-calendar/lena-the-lovekills/
LOCATION:The Commons\, 425 Portland Ave South\, Minneapolis\, MN\, 55488\, United States
CATEGORIES:Music & Movies in the Parks,Music in the Parks
GEO:44.9766971;-93.2628904
X-APPLE-STRUCTURED-LOCATION;VALUE=URI;X-ADDRESS=The Commons 425 Portland Ave South Minneapolis MN 55488 United States;X-APPLE-RADIUS=500;X-TITLE=425 Portland Ave South:geo:-93.2628904,44.9766971
END:VEVENT
END:VCALENDAR