BEGIN:VCALENDAR
VERSION:2.0
PRODID:-//Minneapolis Park &amp; Recreation Board - ECPv6.15.20//NONSGML v1.0//EN
CALSCALE:GREGORIAN
METHOD:PUBLISH
X-WR-CALNAME:Minneapolis Park &amp; Recreation Board
X-ORIGINAL-URL:https://www.minneapolisparks.org
X-WR-CALDESC:Events for Minneapolis Park &amp; Recreation Board
REFRESH-INTERVAL;VALUE=DURATION:PT1H
X-Robots-Tag:noindex
X-PUBLISHED-TTL:PT1H
BEGIN:VTIMEZONE
TZID:America/Chicago
BEGIN:DAYLIGHT
TZOFFSETFROM:-0600
TZOFFSETTO:-0500
TZNAME:CDT
DTSTART:20200308T080000
END:DAYLIGHT
BEGIN:STANDARD
TZOFFSETFROM:-0500
TZOFFSETTO:-0600
TZNAME:CST
DTSTART:20201101T070000
END:STANDARD
BEGIN:DAYLIGHT
TZOFFSETFROM:-0600
TZOFFSETTO:-0500
TZNAME:CDT
DTSTART:20210314T080000
END:DAYLIGHT
BEGIN:STANDARD
TZOFFSETFROM:-0500
TZOFFSETTO:-0600
TZNAME:CST
DTSTART:20211107T070000
END:STANDARD
BEGIN:DAYLIGHT
TZOFFSETFROM:-0600
TZOFFSETTO:-0500
TZNAME:CDT
DTSTART:20220313T080000
END:DAYLIGHT
BEGIN:STANDARD
TZOFFSETFROM:-0500
TZOFFSETTO:-0600
TZNAME:CST
DTSTART:20221106T070000
END:STANDARD
END:VTIMEZONE
BEGIN:VEVENT
DTSTART;TZID=America/Chicago:20210629T210000
DTEND;TZID=America/Chicago:20210629T210000
DTSTAMP:20260420T231913
CREATED:20210621T215521Z
LAST-MODIFIED:20210621T224241Z
UID:49763-1625000400-1625000400@www.minneapolisparks.org
SUMMARY:Hmong Movie Night
DESCRIPTION:NR
URL:https://www.minneapolisparks.org/event-calendar/hmong-movie-night/
LOCATION:Father Hennepin\, Minneapolis\, MN\, United States
CATEGORIES:Events- All,Events- MPRB,Movies in the Parks,Music & Movies in the Parks
GEO:44.9826582;-93.2513335
END:VEVENT
BEGIN:VEVENT
DTSTART;VALUE=DATE:20210701
DTEND;VALUE=DATE:20210702
DTSTAMP:20260420T231913
CREATED:20210610T032958Z
LAST-MODIFIED:20210610T032958Z
UID:49566-1625097600-1625183999@www.minneapolisparks.org
SUMMARY:The Night Light Chasers
DESCRIPTION:Modern Alternative Folk Rock
URL:https://www.minneapolisparks.org/event-calendar/the-night-light-chasers/
LOCATION:Minnehaha Falls\, Minnehaha Falls\, Minneapolis\, MN\, 55417\, United States
CATEGORIES:Events- All,Music & Movies in the Parks,Music in the Parks
GEO:44.9153307;-93.2110006
X-APPLE-STRUCTURED-LOCATION;VALUE=URI;X-ADDRESS=Minnehaha Falls Minnehaha Falls Minneapolis MN 55417 United States;X-APPLE-RADIUS=500;X-TITLE=Minnehaha Falls:geo:-93.2110006,44.9153307
END:VEVENT
BEGIN:VEVENT
DTSTART;VALUE=DATE:20210701
DTEND;VALUE=DATE:20210702
DTSTAMP:20260420T231913
CREATED:20210610T033358Z
LAST-MODIFIED:20210610T033358Z
UID:49576-1625097600-1625183999@www.minneapolisparks.org
SUMMARY:Percolators Band
DESCRIPTION:Engaging 60s rock\, harmony\, FUN
URL:https://www.minneapolisparks.org/event-calendar/percolators-band-4/
LOCATION:MN
CATEGORIES:Events- All,Music & Movies in the Parks,Music in the Parks
END:VEVENT
BEGIN:VEVENT
DTSTART;TZID=America/Chicago:20210701T173000
DTEND;TZID=America/Chicago:20210701T173000
DTSTAMP:20260420T231913
CREATED:20210715T141652Z
LAST-MODIFIED:20210715T141652Z
UID:50316-1625160600-1625160600@www.minneapolisparks.org
SUMMARY:Samantha Moon
DESCRIPTION:
URL:https://www.minneapolisparks.org/event-calendar/samantha-moon/
LOCATION:The Commons\, 425 Portland Ave South\, Minneapolis\, MN\, 55488\, United States
CATEGORIES:Events- All,Events- MPRB,Music & Movies in the Parks,Music in the Parks
GEO:44.9766971;-93.2628904
X-APPLE-STRUCTURED-LOCATION;VALUE=URI;X-ADDRESS=The Commons 425 Portland Ave South Minneapolis MN 55488 United States;X-APPLE-RADIUS=500;X-TITLE=425 Portland Ave South:geo:-93.2628904,44.9766971
END:VEVENT
BEGIN:VEVENT
DTSTART;TZID=America/Chicago:20210701T193000
DTEND;TZID=America/Chicago:20210701T193000
DTSTAMP:20260420T231913
CREATED:20210610T032154Z
LAST-MODIFIED:20210610T032154Z
UID:49539-1625167800-1625167800@www.minneapolisparks.org
SUMMARY:Minnesota Sinfonia
DESCRIPTION:classical\, pops children’s concert
URL:https://www.minneapolisparks.org/event-calendar/minnesota-sinfonia-7/
LOCATION:Lake Harriet Bandshell\, Minneapolis\, MN\, United States
CATEGORIES:Events- All,Music & Movies in the Parks,Music in the Parks
GEO:44.927901;-93.3082473
END:VEVENT
BEGIN:VEVENT
DTSTART;TZID=America/Chicago:20210701T210000
DTEND;TZID=America/Chicago:20210701T210000
DTSTAMP:20260420T231913
CREATED:20210621T215521Z
LAST-MODIFIED:20210621T224234Z
UID:49764-1625173200-1625173200@www.minneapolisparks.org
SUMMARY:Spider-Man: Into the Spider-Verse
DESCRIPTION:PG
URL:https://www.minneapolisparks.org/event-calendar/spider-man-into-the-spider-verse/
LOCATION:Farview Park\, 621 N 29th Ave\, Minneapolis\, MN\, 55411\, United States
CATEGORIES:Events- All,Events- MPRB,Movies in the Parks,Music & Movies in the Parks
GEO:45.0076966;-93.286445
X-APPLE-STRUCTURED-LOCATION;VALUE=URI;X-ADDRESS=Farview Park 621 N 29th Ave Minneapolis MN 55411 United States;X-APPLE-RADIUS=500;X-TITLE=621 N 29th Ave:geo:-93.286445,45.0076966
END:VEVENT
BEGIN:VEVENT
DTSTART;VALUE=DATE:20210702
DTEND;VALUE=DATE:20210703
DTSTAMP:20260420T231913
CREATED:20210610T032958Z
LAST-MODIFIED:20210610T032958Z
UID:49567-1625184000-1625270399@www.minneapolisparks.org
SUMMARY:Root River Jam
DESCRIPTION:americana roots fusion jam band
URL:https://www.minneapolisparks.org/event-calendar/root-river-jam-3/
LOCATION:Minnehaha Falls\, Minnehaha Falls\, Minneapolis\, MN\, 55417\, United States
CATEGORIES:Events- All,Music & Movies in the Parks,Music in the Parks
GEO:44.9153307;-93.2110006
X-APPLE-STRUCTURED-LOCATION;VALUE=URI;X-ADDRESS=Minnehaha Falls Minnehaha Falls Minneapolis MN 55417 United States;X-APPLE-RADIUS=500;X-TITLE=Minnehaha Falls:geo:-93.2110006,44.9153307
END:VEVENT
BEGIN:VEVENT
DTSTART;TZID=America/Chicago:20210702T193000
DTEND;TZID=America/Chicago:20210702T193000
DTSTAMP:20260420T231913
CREATED:20210610T032154Z
LAST-MODIFIED:20210610T032154Z
UID:49540-1625254200-1625254200@www.minneapolisparks.org
SUMMARY:Oklahoma
DESCRIPTION:indie rock with a heart-of-gold
URL:https://www.minneapolisparks.org/event-calendar/oklahoma-2/
LOCATION:Lake Harriet Bandshell\, Minneapolis\, MN\, United States
CATEGORIES:Events- All,Music & Movies in the Parks,Music in the Parks
GEO:44.927901;-93.3082473
END:VEVENT
BEGIN:VEVENT
DTSTART;TZID=America/Chicago:20210702T210000
DTEND;TZID=America/Chicago:20210702T210000
DTSTAMP:20260420T231913
CREATED:20210621T215521Z
LAST-MODIFIED:20210621T224226Z
UID:49765-1625259600-1625259600@www.minneapolisparks.org
SUMMARY:Aladdin (2019)
DESCRIPTION:PG
URL:https://www.minneapolisparks.org/event-calendar/aladdin-2019/
LOCATION:West Calhoun\, W Calhoun Pkwy\, Minneapolis\, MN\, 55416\, United States
CATEGORIES:Events- All,Events- MPRB,Movies in the Parks,Music & Movies in the Parks
GEO:44.9414093;-93.322868
X-APPLE-STRUCTURED-LOCATION;VALUE=URI;X-ADDRESS=West Calhoun W Calhoun Pkwy Minneapolis MN 55416 United States;X-APPLE-RADIUS=500;X-TITLE=W Calhoun Pkwy:geo:-93.322868,44.9414093
END:VEVENT
BEGIN:VEVENT
DTSTART;TZID=America/Chicago:20210703T190000
DTEND;TZID=America/Chicago:20210703T213000
DTSTAMP:20260420T231913
CREATED:20210623T185133Z
LAST-MODIFIED:20210623T185419Z
UID:49895-1625338800-1625347800@www.minneapolisparks.org
SUMMARY:Shakespeare in the Park
DESCRIPTION:
URL:https://www.minneapolisparks.org/event-calendar/shakespeare-in-the-park/2021-07-03/
LOCATION:Lake of the Isles\, Minneapolis\, MN\, United States
CATEGORIES:Events- All,Events- Non-MPRB
GEO:44.9583577;-93.3032469
END:VEVENT
BEGIN:VEVENT
DTSTART;TZID=America/Chicago:20210703T193000
DTEND;TZID=America/Chicago:20210703T193000
DTSTAMP:20260420T231913
CREATED:20210610T032154Z
LAST-MODIFIED:20210610T032154Z
UID:49541-1625340600-1625340600@www.minneapolisparks.org
SUMMARY:MN Pops Orchestra
DESCRIPTION:Minneapolis Pops Orchestra
URL:https://www.minneapolisparks.org/event-calendar/mn-pops-orchestra/
LOCATION:Lake Harriet Bandshell\, Minneapolis\, MN\, United States
CATEGORIES:Events- All,Music & Movies in the Parks,Music in the Parks
GEO:44.927901;-93.3082473
END:VEVENT
BEGIN:VEVENT
DTSTART;VALUE=DATE:20210705
DTEND;VALUE=DATE:20210706
DTSTAMP:20260420T231913
CREATED:20210610T032758Z
LAST-MODIFIED:20210610T032758Z
UID:49562-1625443200-1625529599@www.minneapolisparks.org
SUMMARY:Shrewd Mammals
DESCRIPTION:a funky\, soulful\, jazzy quartet
URL:https://www.minneapolisparks.org/event-calendar/shrewd-mammals-4/
LOCATION:MN
CATEGORIES:Events- All,Music & Movies in the Parks,Music in the Parks
END:VEVENT
BEGIN:VEVENT
DTSTART;TZID=America/Chicago:20210705T193000
DTEND;TZID=America/Chicago:20210705T193000
DTSTAMP:20260420T231913
CREATED:20210610T032154Z
LAST-MODIFIED:20210610T032154Z
UID:49542-1625513400-1625513400@www.minneapolisparks.org
SUMMARY:Brooklyn Community Band
DESCRIPTION:concert band playing your favorites!
URL:https://www.minneapolisparks.org/event-calendar/brooklyn-community-band-3/
LOCATION:Lake Harriet Bandshell\, Minneapolis\, MN\, United States
CATEGORIES:Events- All,Music & Movies in the Parks,Music in the Parks
GEO:44.927901;-93.3082473
END:VEVENT
BEGIN:VEVENT
DTSTART;TZID=America/Chicago:20210705T210000
DTEND;TZID=America/Chicago:20210705T210000
DTSTAMP:20260420T231913
CREATED:20210621T215522Z
LAST-MODIFIED:20210621T224219Z
UID:49766-1625518800-1625518800@www.minneapolisparks.org
SUMMARY:Abominable
DESCRIPTION:PG
URL:https://www.minneapolisparks.org/event-calendar/abominable-2/
LOCATION:Cleveland Park\, 3232 Russell Ave N\, Minneapolis\, MN\, 55412\, United States
CATEGORIES:Events- All,Events- MPRB,Movies in the Parks,Music & Movies in the Parks
GEO:45.0143502;-93.3093619
X-APPLE-STRUCTURED-LOCATION;VALUE=URI;X-ADDRESS=Cleveland Park 3232 Russell Ave N Minneapolis MN 55412 United States;X-APPLE-RADIUS=500;X-TITLE=3232 Russell Ave N:geo:-93.3093619,45.0143502
END:VEVENT
BEGIN:VEVENT
DTSTART;VALUE=DATE:20210706
DTEND;VALUE=DATE:20210707
DTSTAMP:20260420T231913
CREATED:20210610T033358Z
LAST-MODIFIED:20210610T033358Z
UID:49577-1625529600-1625615999@www.minneapolisparks.org
SUMMARY:Bossa Soul
DESCRIPTION:Brazilian jazz\, soul and funk
URL:https://www.minneapolisparks.org/event-calendar/bossa-soul/
LOCATION:MN
CATEGORIES:Events- All,Music & Movies in the Parks,Music in the Parks
END:VEVENT
BEGIN:VEVENT
DTSTART;TZID=America/Chicago:20210706T210000
DTEND;TZID=America/Chicago:20210706T210000
DTSTAMP:20260420T231913
CREATED:20210621T215722Z
LAST-MODIFIED:20210621T224212Z
UID:49767-1625605200-1625605200@www.minneapolisparks.org
SUMMARY:42
DESCRIPTION:PG-13
URL:https://www.minneapolisparks.org/event-calendar/42-4/
LOCATION:Powderhorn Park\, 3400 15th Ave S\, Minneapolis\, MN\, 554107\, United States
CATEGORIES:Events- All,Events- MPRB,Movies in the Parks,Music & Movies in the Parks
GEO:44.9413282;-93.2547875
X-APPLE-STRUCTURED-LOCATION;VALUE=URI;X-ADDRESS=Powderhorn Park 3400 15th Ave S Minneapolis MN 554107 United States;X-APPLE-RADIUS=500;X-TITLE=3400 15th Ave S:geo:-93.2547875,44.9413282
END:VEVENT
BEGIN:VEVENT
DTSTART;VALUE=DATE:20210708
DTEND;VALUE=DATE:20210709
DTSTAMP:20260420T231913
CREATED:20210610T032958Z
LAST-MODIFIED:20210610T032958Z
UID:49568-1625702400-1625788799@www.minneapolisparks.org
SUMMARY:Homeward Bound
DESCRIPTION:upper midwestern roots; folk\, rock
URL:https://www.minneapolisparks.org/event-calendar/homeward-bound/
LOCATION:Minnehaha Falls\, Minnehaha Falls\, Minneapolis\, MN\, 55417\, United States
CATEGORIES:Events- All,Music & Movies in the Parks,Music in the Parks
GEO:44.9153307;-93.2110006
X-APPLE-STRUCTURED-LOCATION;VALUE=URI;X-ADDRESS=Minnehaha Falls Minnehaha Falls Minneapolis MN 55417 United States;X-APPLE-RADIUS=500;X-TITLE=Minnehaha Falls:geo:-93.2110006,44.9153307
END:VEVENT
BEGIN:VEVENT
DTSTART;VALUE=DATE:20210708
DTEND;VALUE=DATE:20210709
DTSTAMP:20260420T231913
CREATED:20210610T033358Z
LAST-MODIFIED:20210610T033358Z
UID:49578-1625702400-1625788799@www.minneapolisparks.org
SUMMARY:The Christensen Sisters Bluegrass Band
DESCRIPTION:Minnesota’s premier sibling bluegrass group
URL:https://www.minneapolisparks.org/event-calendar/the-christensen-sisters-bluegrass-band/
LOCATION:MN
CATEGORIES:Events- All,Music & Movies in the Parks,Music in the Parks
END:VEVENT
BEGIN:VEVENT
DTSTART;TZID=America/Chicago:20210708T173000
DTEND;TZID=America/Chicago:20210708T173000
DTSTAMP:20260420T231913
CREATED:20210715T141729Z
LAST-MODIFIED:20210715T141729Z
UID:50319-1625765400-1625765400@www.minneapolisparks.org
SUMMARY:Camille Gross
DESCRIPTION:
URL:https://www.minneapolisparks.org/event-calendar/camille-gross/
LOCATION:The Commons\, 425 Portland Ave South\, Minneapolis\, MN\, 55488\, United States
CATEGORIES:Events- All,Events- MPRB,Music & Movies in the Parks,Music in the Parks
GEO:44.9766971;-93.2628904
X-APPLE-STRUCTURED-LOCATION;VALUE=URI;X-ADDRESS=The Commons 425 Portland Ave South Minneapolis MN 55488 United States;X-APPLE-RADIUS=500;X-TITLE=425 Portland Ave South:geo:-93.2628904,44.9766971
END:VEVENT
BEGIN:VEVENT
DTSTART;TZID=America/Chicago:20210708T193000
DTEND;TZID=America/Chicago:20210708T193000
DTSTAMP:20260420T231913
CREATED:20210610T032154Z
LAST-MODIFIED:20210610T032154Z
UID:49543-1625772600-1625772600@www.minneapolisparks.org
SUMMARY:Ecuador Manta
DESCRIPTION:native music from South America & Latin Fusion
URL:https://www.minneapolisparks.org/event-calendar/ecuador-manta-3/
LOCATION:Lake Harriet Bandshell\, Minneapolis\, MN\, United States
CATEGORIES:Events- All,Music & Movies in the Parks,Music in the Parks
GEO:44.927901;-93.3082473
END:VEVENT
BEGIN:VEVENT
DTSTART;TZID=America/Chicago:20210708T210000
DTEND;TZID=America/Chicago:20210708T210000
DTSTAMP:20260420T231913
CREATED:20210621T215722Z
LAST-MODIFIED:20210621T224151Z
UID:49768-1625778000-1625778000@www.minneapolisparks.org
SUMMARY:Frozen 2
DESCRIPTION:PG
URL:https://www.minneapolisparks.org/event-calendar/frozen-2/
LOCATION:Live on the Drive\, Victory Memorial Dr & 34th Ave N\, Minneapolis\, MN\, 55412\, United States
CATEGORIES:Events- All,Events- MPRB,Movies in the Parks,Music & Movies in the Parks
GEO:45.0169269;-93.3190402
X-APPLE-STRUCTURED-LOCATION;VALUE=URI;X-ADDRESS=Live on the Drive Victory Memorial Dr & 34th Ave N Minneapolis MN 55412 United States;X-APPLE-RADIUS=500;X-TITLE=Victory Memorial Dr & 34th Ave N:geo:-93.3190402,45.0169269
END:VEVENT
BEGIN:VEVENT
DTSTART;VALUE=DATE:20210709
DTEND;VALUE=DATE:20210710
DTSTAMP:20260420T231913
CREATED:20210610T033158Z
LAST-MODIFIED:20210610T033158Z
UID:49569-1625788800-1625875199@www.minneapolisparks.org
SUMMARY:Mystery Crew Band
DESCRIPTION:classic rock blues rock all ages
URL:https://www.minneapolisparks.org/event-calendar/mystery-crew-band/
LOCATION:Minnehaha Falls\, Minnehaha Falls\, Minneapolis\, MN\, 55417\, United States
CATEGORIES:Events- All,Music & Movies in the Parks,Music in the Parks
GEO:44.9153307;-93.2110006
X-APPLE-STRUCTURED-LOCATION;VALUE=URI;X-ADDRESS=Minnehaha Falls Minnehaha Falls Minneapolis MN 55417 United States;X-APPLE-RADIUS=500;X-TITLE=Minnehaha Falls:geo:-93.2110006,44.9153307
END:VEVENT
BEGIN:VEVENT
DTSTART;TZID=America/Chicago:20210709T193000
DTEND;TZID=America/Chicago:20210709T193000
DTSTAMP:20260420T231913
CREATED:20210610T032157Z
LAST-MODIFIED:20210610T032157Z
UID:49544-1625859000-1625859000@www.minneapolisparks.org
SUMMARY:Saddle Sores
DESCRIPTION:classic country from the 50s 70s
URL:https://www.minneapolisparks.org/event-calendar/saddle-sores-3/
LOCATION:Lake Harriet Bandshell\, Minneapolis\, MN\, United States
CATEGORIES:Events- All,Music & Movies in the Parks,Music in the Parks
GEO:44.927901;-93.3082473
END:VEVENT
BEGIN:VEVENT
DTSTART;TZID=America/Chicago:20210709T210000
DTEND;TZID=America/Chicago:20210709T210000
DTSTAMP:20260420T231913
CREATED:20210621T215722Z
LAST-MODIFIED:20210621T224141Z
UID:49769-1625864400-1625864400@www.minneapolisparks.org
SUMMARY:Ford v Ferrari
DESCRIPTION:PG-13
URL:https://www.minneapolisparks.org/event-calendar/ford-v-ferrari/
LOCATION:Lake Harriet\, Minneapolis\, MN\, United States
CATEGORIES:Events- All,Events- MPRB,Movies in the Parks,Music & Movies in the Parks
GEO:44.927901;-93.3082473
END:VEVENT
BEGIN:VEVENT
DTSTART;TZID=America/Chicago:20210710T210000
DTEND;TZID=America/Chicago:20210710T210000
DTSTAMP:20260420T231913
CREATED:20210621T215723Z
LAST-MODIFIED:20210621T224132Z
UID:49770-1625950800-1625950800@www.minneapolisparks.org
SUMMARY:Princess Bride
DESCRIPTION:PG
URL:https://www.minneapolisparks.org/event-calendar/princess-bride-2/
LOCATION:Nokomis\, 4955 W Lake Nokomis Pkwy\, Minneapolis\, MN\, 55417\, United States
CATEGORIES:Events- All,Events- MPRB,Movies in the Parks,Music & Movies in the Parks
GEO:44.9091057;-93.2469231
X-APPLE-STRUCTURED-LOCATION;VALUE=URI;X-ADDRESS=Nokomis 4955 W Lake Nokomis Pkwy Minneapolis MN 55417 United States;X-APPLE-RADIUS=500;X-TITLE=4955 W Lake Nokomis Pkwy:geo:-93.2469231,44.9091057
END:VEVENT
BEGIN:VEVENT
DTSTART;TZID=America/Chicago:20210711T140000
DTEND;TZID=America/Chicago:20210711T140000
DTSTAMP:20260420T231913
CREATED:20210610T032158Z
LAST-MODIFIED:20210610T032158Z
UID:49545-1626012000-1626012000@www.minneapolisparks.org
SUMMARY:Louis and Dan and the Invisible Band
DESCRIPTION:catchy\, original music for families
URL:https://www.minneapolisparks.org/event-calendar/louis-and-dan-and-the-invisible-band-2/
LOCATION:Lake Harriet Bandshell\, Minneapolis\, MN\, United States
CATEGORIES:Events- All,Music & Movies in the Parks,Music in the Parks
GEO:44.927901;-93.3082473
END:VEVENT
BEGIN:VEVENT
DTSTART;TZID=America/Chicago:20210711T173000
DTEND;TZID=America/Chicago:20210711T173000
DTSTAMP:20260420T231913
CREATED:20210610T032158Z
LAST-MODIFIED:20210610T032158Z
UID:49546-1626024600-1626024600@www.minneapolisparks.org
SUMMARY:MN Pops Orchestra
DESCRIPTION:Minneapolis Pops Orchestra
URL:https://www.minneapolisparks.org/event-calendar/mn-pops-orchestra-2/
LOCATION:Lake Harriet Bandshell\, Minneapolis\, MN\, United States
CATEGORIES:Events- All,Music & Movies in the Parks,Music in the Parks
GEO:44.927901;-93.3082473
END:VEVENT
BEGIN:VEVENT
DTSTART;TZID=America/Chicago:20210712T193000
DTEND;TZID=America/Chicago:20210712T193000
DTSTAMP:20260420T231913
CREATED:20210610T032158Z
LAST-MODIFIED:20210610T032158Z
UID:49547-1626118200-1626118200@www.minneapolisparks.org
SUMMARY:Women's Drum Center with Taikollaborative
DESCRIPTION:high energy worldbeat drumming
URL:https://www.minneapolisparks.org/event-calendar/womens-drum-center-with-taikollaborative-3/
LOCATION:Lake Harriet Bandshell\, Minneapolis\, MN\, United States
CATEGORIES:Events- All,Music & Movies in the Parks,Music in the Parks
GEO:44.927901;-93.3082473
END:VEVENT
BEGIN:VEVENT
DTSTART;TZID=America/Chicago:20210712T210000
DTEND;TZID=America/Chicago:20210712T210000
DTSTAMP:20260420T231913
CREATED:20210621T215723Z
LAST-MODIFIED:20210621T224122Z
UID:49771-1626123600-1626123600@www.minneapolisparks.org
SUMMARY:Playing with Fire
DESCRIPTION:PG
URL:https://www.minneapolisparks.org/event-calendar/playing-with-fire/
LOCATION:Creekview Park\, 5001 Humboldt Ave N\, Minneapolis\, MN\, 55430\, United States
CATEGORIES:Events- All,Events- MPRB,Movies in the Parks,Music & Movies in the Parks
GEO:45.0452068;-93.301536
X-APPLE-STRUCTURED-LOCATION;VALUE=URI;X-ADDRESS=Creekview Park 5001 Humboldt Ave N Minneapolis MN 55430 United States;X-APPLE-RADIUS=500;X-TITLE=5001 Humboldt Ave N:geo:-93.301536,45.0452068
END:VEVENT
BEGIN:VEVENT
DTSTART;VALUE=DATE:20210713
DTEND;VALUE=DATE:20210714
DTSTAMP:20260420T231913
CREATED:20210610T032758Z
LAST-MODIFIED:20210610T032758Z
UID:49563-1626134400-1626220799@www.minneapolisparks.org
SUMMARY:Aaron Kerr's Dissonant Creatures
DESCRIPTION:classical free form metal jazz
URL:https://www.minneapolisparks.org/event-calendar/aaron-kerrs-dissonant-creatures/
LOCATION:MN
CATEGORIES:Events- All,Music & Movies in the Parks,Music in the Parks
END:VEVENT
END:VCALENDAR