BEGIN:VCALENDAR
VERSION:2.0
PRODID:-//Minneapolis Park &amp; Recreation Board - ECPv6.15.20//NONSGML v1.0//EN
CALSCALE:GREGORIAN
METHOD:PUBLISH
X-WR-CALNAME:Minneapolis Park &amp; Recreation Board
X-ORIGINAL-URL:https://www.minneapolisparks.org
X-WR-CALDESC:Events for Minneapolis Park &amp; Recreation Board
REFRESH-INTERVAL;VALUE=DURATION:PT1H
X-Robots-Tag:noindex
X-PUBLISHED-TTL:PT1H
BEGIN:VTIMEZONE
TZID:America/Chicago
BEGIN:DAYLIGHT
TZOFFSETFROM:-0600
TZOFFSETTO:-0500
TZNAME:CDT
DTSTART:20240310T080000
END:DAYLIGHT
BEGIN:STANDARD
TZOFFSETFROM:-0500
TZOFFSETTO:-0600
TZNAME:CST
DTSTART:20241103T070000
END:STANDARD
BEGIN:DAYLIGHT
TZOFFSETFROM:-0600
TZOFFSETTO:-0500
TZNAME:CDT
DTSTART:20250309T080000
END:DAYLIGHT
BEGIN:STANDARD
TZOFFSETFROM:-0500
TZOFFSETTO:-0600
TZNAME:CST
DTSTART:20251102T070000
END:STANDARD
BEGIN:DAYLIGHT
TZOFFSETFROM:-0600
TZOFFSETTO:-0500
TZNAME:CDT
DTSTART:20260308T080000
END:DAYLIGHT
BEGIN:STANDARD
TZOFFSETFROM:-0500
TZOFFSETTO:-0600
TZNAME:CST
DTSTART:20261101T070000
END:STANDARD
END:VTIMEZONE
BEGIN:VEVENT
DTSTART;TZID=America/Chicago:20250713T140000
DTEND;TZID=America/Chicago:20250713T140000
DTSTAMP:20260420T171743
CREATED:20250515T185041Z
LAST-MODIFIED:20250515T185041Z
UID:82339-1752415200-1752415200@www.minneapolisparks.org
SUMMARY:Minnesota Pipes and Drums
DESCRIPTION:Scottish Highland Traditional
URL:https://www.minneapolisparks.org/event-calendar/minnesota-pipes-and-drums/
LOCATION:Lake Harriet Bandshell\, Minneapolis\, MN\, United States
CATEGORIES:Music & Movies in the Parks,Music in the Parks
GEO:44.927901;-93.3082473
END:VEVENT
BEGIN:VEVENT
DTSTART;TZID=America/Chicago:20250713T173000
DTEND;TZID=America/Chicago:20250713T173000
DTSTAMP:20260420T171743
CREATED:20250515T185158Z
LAST-MODIFIED:20250515T185158Z
UID:82341-1752427800-1752427800@www.minneapolisparks.org
SUMMARY:Minneapolis POPs
DESCRIPTION:Big Band
URL:https://www.minneapolisparks.org/event-calendar/minneapolis-pops-18/
LOCATION:Lake Harriet Bandshell\, Minneapolis\, MN\, United States
CATEGORIES:Music & Movies in the Parks,Music in the Parks
GEO:44.927901;-93.3082473
END:VEVENT
BEGIN:VEVENT
DTSTART;TZID=America/Chicago:20250714T193000
DTEND;TZID=America/Chicago:20250714T193000
DTSTAMP:20260420T171743
CREATED:20250515T185259Z
LAST-MODIFIED:20250515T185259Z
UID:82343-1752521400-1752521400@www.minneapolisparks.org
SUMMARY:Saltydog
DESCRIPTION:Rock
URL:https://www.minneapolisparks.org/event-calendar/saltydog/
LOCATION:Lake Harriet Bandshell\, Minneapolis\, MN\, United States
CATEGORIES:Music & Movies in the Parks,Music in the Parks
GEO:44.927901;-93.3082473
END:VEVENT
BEGIN:VEVENT
DTSTART;TZID=America/Chicago:20250715T190000
DTEND;TZID=America/Chicago:20250715T190000
DTSTAMP:20260420T171743
CREATED:20250515T213213Z
LAST-MODIFIED:20250515T213213Z
UID:82516-1752606000-1752606000@www.minneapolisparks.org
SUMMARY:Matt Hannah
DESCRIPTION:Folk Americana
URL:https://www.minneapolisparks.org/event-calendar/matt-hannah-5/
LOCATION:Father Hennepin\, Minneapolis\, MN\, United States
CATEGORIES:Music & Movies in the Parks,Music in the Parks
GEO:44.9826582;-93.2513335
END:VEVENT
BEGIN:VEVENT
DTSTART;TZID=America/Chicago:20250715T190000
DTEND;TZID=America/Chicago:20250715T190000
DTSTAMP:20260420T171743
CREATED:20250516T193133Z
LAST-MODIFIED:20250516T193133Z
UID:82647-1752606000-1752606000@www.minneapolisparks.org
SUMMARY:Honey Please
DESCRIPTION:Rock
URL:https://www.minneapolisparks.org/event-calendar/honey-please-2/
LOCATION:Bryant Square Park\, 3101 Bryant Ave S\, Minneapolis\, MN\, 55408\, United States
CATEGORIES:Music & Movies in the Parks,Music in the Parks
GEO:44.9461045;-93.2903539
X-APPLE-STRUCTURED-LOCATION;VALUE=URI;X-ADDRESS=Bryant Square Park 3101 Bryant Ave S Minneapolis MN 55408 United States;X-APPLE-RADIUS=500;X-TITLE=3101 Bryant Ave S:geo:-93.2903539,44.9461045
END:VEVENT
BEGIN:VEVENT
DTSTART;TZID=America/Chicago:20250716T120000
DTEND;TZID=America/Chicago:20250716T120000
DTSTAMP:20260420T171743
CREATED:20250516T183253Z
LAST-MODIFIED:20250516T183253Z
UID:82575-1752667200-1752667200@www.minneapolisparks.org
SUMMARY:Backman
DESCRIPTION:Alternative
URL:https://www.minneapolisparks.org/event-calendar/backman-2/
LOCATION:The Commons\, 425 Portland Ave South\, Minneapolis\, MN\, 55488\, United States
CATEGORIES:Music & Movies in the Parks,Music in the Parks
GEO:44.9766971;-93.2628904
X-APPLE-STRUCTURED-LOCATION;VALUE=URI;X-ADDRESS=The Commons 425 Portland Ave South Minneapolis MN 55488 United States;X-APPLE-RADIUS=500;X-TITLE=425 Portland Ave South:geo:-93.2628904,44.9766971
END:VEVENT
BEGIN:VEVENT
DTSTART;TZID=America/Chicago:20250716T193000
DTEND;TZID=America/Chicago:20250716T193000
DTSTAMP:20260420T171743
CREATED:20250515T185407Z
LAST-MODIFIED:20250515T185407Z
UID:82345-1752694200-1752694200@www.minneapolisparks.org
SUMMARY:Atomic Beat
DESCRIPTION:New Wave
URL:https://www.minneapolisparks.org/event-calendar/atomic-beat-3/
LOCATION:Lake Harriet Bandshell\, Minneapolis\, MN\, United States
CATEGORIES:Music & Movies in the Parks,Music in the Parks
GEO:44.927901;-93.3082473
END:VEVENT
BEGIN:VEVENT
DTSTART;TZID=America/Chicago:20250717T190000
DTEND;TZID=America/Chicago:20250717T190000
DTSTAMP:20260420T171743
CREATED:20250515T205813Z
LAST-MODIFIED:20250515T205813Z
UID:82454-1752778800-1752778800@www.minneapolisparks.org
SUMMARY:Jessie Street Band
DESCRIPTION:Jazz / Pop
URL:https://www.minneapolisparks.org/event-calendar/jessie-street-band/
LOCATION:Minnehaha Bandstand\, Minneapolis\, MN\, United States
CATEGORIES:Music & Movies in the Parks,Music in the Parks
GEO:44.9161006;-93.2109865
END:VEVENT
BEGIN:VEVENT
DTSTART;TZID=America/Chicago:20250717T190000
DTEND;TZID=America/Chicago:20250717T190000
DTSTAMP:20260420T171743
CREATED:20250516T184050Z
LAST-MODIFIED:20250516T184050Z
UID:82589-1752778800-1752778800@www.minneapolisparks.org
SUMMARY:ROBOS
DESCRIPTION:Rock
URL:https://www.minneapolisparks.org/event-calendar/robos/
LOCATION:The Commons\, 425 Portland Ave South\, Minneapolis\, MN\, 55488\, United States
CATEGORIES:Music & Movies in the Parks,Music in the Parks
GEO:44.9766971;-93.2628904
X-APPLE-STRUCTURED-LOCATION;VALUE=URI;X-ADDRESS=The Commons 425 Portland Ave South Minneapolis MN 55488 United States;X-APPLE-RADIUS=500;X-TITLE=425 Portland Ave South:geo:-93.2628904,44.9766971
END:VEVENT
BEGIN:VEVENT
DTSTART;TZID=America/Chicago:20250717T190000
DTEND;TZID=America/Chicago:20250717T190000
DTSTAMP:20260420T171743
CREATED:20250516T193234Z
LAST-MODIFIED:20250516T193234Z
UID:82649-1752778800-1752778800@www.minneapolisparks.org
SUMMARY:Echo Trail
DESCRIPTION:Americana / Bluegrass
URL:https://www.minneapolisparks.org/event-calendar/echo-trail-3/
LOCATION:Bryant Square Park\, 3101 Bryant Ave S\, Minneapolis\, MN\, 55408\, United States
CATEGORIES:Music & Movies in the Parks,Music in the Parks
GEO:44.9461045;-93.2903539
X-APPLE-STRUCTURED-LOCATION;VALUE=URI;X-ADDRESS=Bryant Square Park 3101 Bryant Ave S Minneapolis MN 55408 United States;X-APPLE-RADIUS=500;X-TITLE=3101 Bryant Ave S:geo:-93.2903539,44.9461045
END:VEVENT
BEGIN:VEVENT
DTSTART;TZID=America/Chicago:20250718T190000
DTEND;TZID=America/Chicago:20250718T190000
DTSTAMP:20260420T171743
CREATED:20250515T205917Z
LAST-MODIFIED:20250515T205917Z
UID:82456-1752865200-1752865200@www.minneapolisparks.org
SUMMARY:Fat Chance Jug Band
DESCRIPTION:Jug Band Classics
URL:https://www.minneapolisparks.org/event-calendar/fat-chance-jug-band-3/
LOCATION:Minnehaha Bandstand\, Minneapolis\, MN\, United States
CATEGORIES:Music & Movies in the Parks,Music in the Parks
GEO:44.9161006;-93.2109865
END:VEVENT
BEGIN:VEVENT
DTSTART;TZID=America/Chicago:20250718T193000
DTEND;TZID=America/Chicago:20250718T193000
DTSTAMP:20260420T171743
CREATED:20250515T185605Z
LAST-MODIFIED:20250515T185605Z
UID:82347-1752867000-1752867000@www.minneapolisparks.org
SUMMARY:The Court Revelers
DESCRIPTION:Sea Shanty Pub Songs
URL:https://www.minneapolisparks.org/event-calendar/the-court-revelers/
LOCATION:Lake Harriet Bandshell\, Minneapolis\, MN\, United States
CATEGORIES:Music & Movies in the Parks,Music in the Parks
GEO:44.927901;-93.3082473
END:VEVENT
BEGIN:VEVENT
DTSTART;TZID=America/Chicago:20250719T190000
DTEND;TZID=America/Chicago:20250719T190000
DTSTAMP:20260420T171743
CREATED:20250515T214528Z
LAST-MODIFIED:20250515T214528Z
UID:82543-1752951600-1752951600@www.minneapolisparks.org
SUMMARY:Cain & Co.
DESCRIPTION:Country
URL:https://www.minneapolisparks.org/event-calendar/cain-co/
LOCATION:Water Works at Mill Ruins Park\, 425 West River Parkway\, Minneapolis\, MN\, 55401\, United States
CATEGORIES:Music & Movies in the Parks,Music in the Parks
GEO:44.9811921;-93.2620982
X-APPLE-STRUCTURED-LOCATION;VALUE=URI;X-ADDRESS=Water Works at Mill Ruins Park 425 West River Parkway Minneapolis MN 55401 United States;X-APPLE-RADIUS=500;X-TITLE=425 West River Parkway:geo:-93.2620982,44.9811921
END:VEVENT
BEGIN:VEVENT
DTSTART;TZID=America/Chicago:20250719T193000
DTEND;TZID=America/Chicago:20250719T193000
DTSTAMP:20260420T171743
CREATED:20250515T185723Z
LAST-MODIFIED:20250515T185723Z
UID:82349-1752953400-1752953400@www.minneapolisparks.org
SUMMARY:Minneapolis POPs
DESCRIPTION:Big Band
URL:https://www.minneapolisparks.org/event-calendar/minneapolis-pops-19/
LOCATION:Lake Harriet Bandshell\, Minneapolis\, MN\, United States
CATEGORIES:Music & Movies in the Parks,Music in the Parks
GEO:44.927901;-93.3082473
END:VEVENT
BEGIN:VEVENT
DTSTART;TZID=America/Chicago:20250720T140000
DTEND;TZID=America/Chicago:20250720T140000
DTSTAMP:20260420T171743
CREATED:20250515T185839Z
LAST-MODIFIED:20250515T185839Z
UID:82351-1753020000-1753020000@www.minneapolisparks.org
SUMMARY:Opera Under The Stars PRESENTED BY Overdressed Duo
DESCRIPTION:Classical
URL:https://www.minneapolisparks.org/event-calendar/opera-under-the-stars-presented-by-overdressed-duo/
LOCATION:Lake Harriet Bandshell\, Minneapolis\, MN\, United States
CATEGORIES:Music & Movies in the Parks,Music in the Parks
GEO:44.927901;-93.3082473
END:VEVENT
BEGIN:VEVENT
DTSTART;TZID=America/Chicago:20250720T173000
DTEND;TZID=America/Chicago:20250720T173000
DTSTAMP:20260420T171743
CREATED:20250515T185940Z
LAST-MODIFIED:20250515T185940Z
UID:82353-1753032600-1753032600@www.minneapolisparks.org
SUMMARY:Minneapolis POPs
DESCRIPTION:Big Band
URL:https://www.minneapolisparks.org/event-calendar/minneapolis-pops-20/
LOCATION:Lake Harriet Bandshell\, Minneapolis\, MN\, United States
CATEGORIES:Music & Movies in the Parks,Music in the Parks
GEO:44.927901;-93.3082473
END:VEVENT
BEGIN:VEVENT
DTSTART;TZID=America/Chicago:20250721T193000
DTEND;TZID=America/Chicago:20250721T193000
DTSTAMP:20260420T171743
CREATED:20250515T190043Z
LAST-MODIFIED:20250515T190043Z
UID:82355-1753126200-1753126200@www.minneapolisparks.org
SUMMARY:Ryan Picone Quartet
DESCRIPTION:Quartet
URL:https://www.minneapolisparks.org/event-calendar/ryan-picone-quartet-3/
LOCATION:Lake Harriet Bandshell\, Minneapolis\, MN\, United States
CATEGORIES:Music & Movies in the Parks,Music in the Parks
GEO:44.927901;-93.3082473
END:VEVENT
BEGIN:VEVENT
DTSTART;TZID=America/Chicago:20250722T120000
DTEND;TZID=America/Chicago:20250722T120000
DTSTAMP:20260420T171743
CREATED:20250515T212126Z
LAST-MODIFIED:20250515T212126Z
UID:82494-1753185600-1753185600@www.minneapolisparks.org
SUMMARY:Old Guys Play the Blues
DESCRIPTION:Folk Blues
URL:https://www.minneapolisparks.org/event-calendar/old-guys-play-the-blues-5/
LOCATION:Minnehaha Bandstand\, Minneapolis\, MN\, United States
CATEGORIES:Music & Movies in the Parks,Music in the Parks
GEO:44.9161006;-93.2109865
END:VEVENT
BEGIN:VEVENT
DTSTART;TZID=America/Chicago:20250722T190000
DTEND;TZID=America/Chicago:20250722T190000
DTSTAMP:20260420T171743
CREATED:20250515T213253Z
LAST-MODIFIED:20250515T213253Z
UID:82517-1753210800-1753210800@www.minneapolisparks.org
SUMMARY:Northeast Community Band
DESCRIPTION:Big Band
URL:https://www.minneapolisparks.org/event-calendar/northeast-community-band/
LOCATION:Father Hennepin\, Minneapolis\, MN\, United States
CATEGORIES:Music & Movies in the Parks,Music in the Parks
GEO:44.9826582;-93.2513335
END:VEVENT
BEGIN:VEVENT
DTSTART;TZID=America/Chicago:20250722T190000
DTEND;TZID=America/Chicago:20250722T190000
DTSTAMP:20260420T171743
CREATED:20250516T185946Z
LAST-MODIFIED:20250516T185946Z
UID:82621-1753210800-1753210800@www.minneapolisparks.org
SUMMARY:Joan of Profile
DESCRIPTION:Female-fronted alternative pop band.
URL:https://www.minneapolisparks.org/event-calendar/joan-of-profile/
LOCATION:Loring Park\, Loring Park\, Minneapolis\, MN\, 55403\, United States
CATEGORIES:Music & Movies in the Parks,Music in the Parks
GEO:44.9649915;-93.2854596
X-APPLE-STRUCTURED-LOCATION;VALUE=URI;X-ADDRESS=Loring Park Loring Park Minneapolis MN 55403 United States;X-APPLE-RADIUS=500;X-TITLE=Loring Park:geo:-93.2854596,44.9649915
END:VEVENT
BEGIN:VEVENT
DTSTART;TZID=America/Chicago:20250722T190000
DTEND;TZID=America/Chicago:20250722T190000
DTSTAMP:20260420T171743
CREATED:20250516T193329Z
LAST-MODIFIED:20250516T193329Z
UID:82651-1753210800-1753210800@www.minneapolisparks.org
SUMMARY:Barking at Ghosts
DESCRIPTION:Rock
URL:https://www.minneapolisparks.org/event-calendar/barking-at-ghosts/
LOCATION:Bryant Square Park\, 3101 Bryant Ave S\, Minneapolis\, MN\, 55408\, United States
CATEGORIES:Music & Movies in the Parks,Music in the Parks
GEO:44.9461045;-93.2903539
X-APPLE-STRUCTURED-LOCATION;VALUE=URI;X-ADDRESS=Bryant Square Park 3101 Bryant Ave S Minneapolis MN 55408 United States;X-APPLE-RADIUS=500;X-TITLE=3101 Bryant Ave S:geo:-93.2903539,44.9461045
END:VEVENT
BEGIN:VEVENT
DTSTART;TZID=America/Chicago:20250723T193000
DTEND;TZID=America/Chicago:20250723T193000
DTSTAMP:20260420T171743
CREATED:20250515T190145Z
LAST-MODIFIED:20250515T190145Z
UID:82357-1753299000-1753299000@www.minneapolisparks.org
SUMMARY:The Whistles
DESCRIPTION:Rock
URL:https://www.minneapolisparks.org/event-calendar/the-whistles/
LOCATION:Lake Harriet Bandshell\, Minneapolis\, MN\, United States
CATEGORIES:Music & Movies in the Parks,Music in the Parks
GEO:44.927901;-93.3082473
END:VEVENT
BEGIN:VEVENT
DTSTART;TZID=America/Chicago:20250724T190000
DTEND;TZID=America/Chicago:20250724T190000
DTSTAMP:20260420T171743
CREATED:20250515T210011Z
LAST-MODIFIED:20250515T210011Z
UID:82458-1753383600-1753383600@www.minneapolisparks.org
SUMMARY:Two Peace Suite
DESCRIPTION:Americana
URL:https://www.minneapolisparks.org/event-calendar/two-peace-suite-4/
LOCATION:Minnehaha Bandstand\, Minneapolis\, MN\, United States
CATEGORIES:Music & Movies in the Parks,Music in the Parks
GEO:44.9161006;-93.2109865
END:VEVENT
BEGIN:VEVENT
DTSTART;TZID=America/Chicago:20250724T190000
DTEND;TZID=America/Chicago:20250724T190000
DTSTAMP:20260420T171743
CREATED:20250516T184147Z
LAST-MODIFIED:20250516T184147Z
UID:82591-1753383600-1753383600@www.minneapolisparks.org
SUMMARY:Meat Raffle Ska
DESCRIPTION:Ska
URL:https://www.minneapolisparks.org/event-calendar/meat-raffle-ska-2/
LOCATION:The Commons\, 425 Portland Ave South\, Minneapolis\, MN\, 55488\, United States
CATEGORIES:Music & Movies in the Parks,Music in the Parks
GEO:44.9766971;-93.2628904
X-APPLE-STRUCTURED-LOCATION;VALUE=URI;X-ADDRESS=The Commons 425 Portland Ave South Minneapolis MN 55488 United States;X-APPLE-RADIUS=500;X-TITLE=425 Portland Ave South:geo:-93.2628904,44.9766971
END:VEVENT
BEGIN:VEVENT
DTSTART;TZID=America/Chicago:20250724T190000
DTEND;TZID=America/Chicago:20250724T190000
DTSTAMP:20260420T171743
CREATED:20250516T193430Z
LAST-MODIFIED:20250516T193430Z
UID:82653-1753383600-1753383600@www.minneapolisparks.org
SUMMARY:Illwin
DESCRIPTION:Hip-Hop
URL:https://www.minneapolisparks.org/event-calendar/illwin-3/
LOCATION:Bryant Square Park\, 3101 Bryant Ave S\, Minneapolis\, MN\, 55408\, United States
CATEGORIES:Music & Movies in the Parks,Music in the Parks
GEO:44.9461045;-93.2903539
X-APPLE-STRUCTURED-LOCATION;VALUE=URI;X-ADDRESS=Bryant Square Park 3101 Bryant Ave S Minneapolis MN 55408 United States;X-APPLE-RADIUS=500;X-TITLE=3101 Bryant Ave S:geo:-93.2903539,44.9461045
END:VEVENT
BEGIN:VEVENT
DTSTART;TZID=America/Chicago:20250725T190000
DTEND;TZID=America/Chicago:20250725T190000
DTSTAMP:20260420T171743
CREATED:20250515T210103Z
LAST-MODIFIED:20250515T210103Z
UID:82460-1753470000-1753470000@www.minneapolisparks.org
SUMMARY:Twin Cities Mobile Jazz Project
DESCRIPTION:Jazz
URL:https://www.minneapolisparks.org/event-calendar/twin-cities-mobile-jazz-project-19/
LOCATION:Minnehaha Bandstand\, Minneapolis\, MN\, United States
CATEGORIES:Music & Movies in the Parks,Music in the Parks
GEO:44.9161006;-93.2109865
END:VEVENT
BEGIN:VEVENT
DTSTART;TZID=America/Chicago:20250725T193000
DTEND;TZID=America/Chicago:20250725T193000
DTSTAMP:20260420T171743
CREATED:20250515T190334Z
LAST-MODIFIED:20250515T190334Z
UID:82359-1753471800-1753471800@www.minneapolisparks.org
SUMMARY:USPOP
DESCRIPTION:Britt Pop
URL:https://www.minneapolisparks.org/event-calendar/uspop-2/
LOCATION:Lake Harriet Bandshell\, Minneapolis\, MN\, United States
CATEGORIES:Music & Movies in the Parks,Music in the Parks
GEO:44.927901;-93.3082473
END:VEVENT
BEGIN:VEVENT
DTSTART;TZID=America/Chicago:20250726T193000
DTEND;TZID=America/Chicago:20250726T193000
DTSTAMP:20260420T171743
CREATED:20250515T190445Z
LAST-MODIFIED:20250515T190445Z
UID:82361-1753558200-1753558200@www.minneapolisparks.org
SUMMARY:Minneapolis POPs
DESCRIPTION:Big Band
URL:https://www.minneapolisparks.org/event-calendar/minneapolis-pops-21/
LOCATION:Lake Harriet Bandshell\, Minneapolis\, MN\, United States
CATEGORIES:Music & Movies in the Parks,Music in the Parks
GEO:44.927901;-93.3082473
END:VEVENT
BEGIN:VEVENT
DTSTART;TZID=America/Chicago:20250727T140000
DTEND;TZID=America/Chicago:20250727T140000
DTSTAMP:20260420T171743
CREATED:20250515T190605Z
LAST-MODIFIED:20250515T190605Z
UID:82363-1753624800-1753624800@www.minneapolisparks.org
SUMMARY:BOB! (The Music of Dylan)
DESCRIPTION:Folk Rock
URL:https://www.minneapolisparks.org/event-calendar/bob-the-music-of-dylan-5/
LOCATION:Lake Harriet Bandshell\, Minneapolis\, MN\, United States
CATEGORIES:Music & Movies in the Parks,Music in the Parks
GEO:44.927901;-93.3082473
END:VEVENT
BEGIN:VEVENT
DTSTART;TZID=America/Chicago:20250727T173000
DTEND;TZID=America/Chicago:20250727T173000
DTSTAMP:20260420T171743
CREATED:20250515T190739Z
LAST-MODIFIED:20250515T190739Z
UID:82365-1753637400-1753637400@www.minneapolisparks.org
SUMMARY:Minneapolis POPs
DESCRIPTION:Big Band
URL:https://www.minneapolisparks.org/event-calendar/minneapolis-pops-22/
LOCATION:Lake Harriet Bandshell\, Minneapolis\, MN\, United States
CATEGORIES:Music & Movies in the Parks,Music in the Parks
GEO:44.927901;-93.3082473
END:VEVENT
END:VCALENDAR