BEGIN:VCALENDAR
VERSION:2.0
PRODID:-//Minneapolis Park &amp; Recreation Board - ECPv6.15.20//NONSGML v1.0//EN
CALSCALE:GREGORIAN
METHOD:PUBLISH
X-WR-CALNAME:Minneapolis Park &amp; Recreation Board
X-ORIGINAL-URL:https://www.minneapolisparks.org
X-WR-CALDESC:Events for Minneapolis Park &amp; Recreation Board
REFRESH-INTERVAL;VALUE=DURATION:PT1H
X-Robots-Tag:noindex
X-PUBLISHED-TTL:PT1H
BEGIN:VTIMEZONE
TZID:America/Chicago
BEGIN:DAYLIGHT
TZOFFSETFROM:-0600
TZOFFSETTO:-0500
TZNAME:CDT
DTSTART:20220313T080000
END:DAYLIGHT
BEGIN:STANDARD
TZOFFSETFROM:-0500
TZOFFSETTO:-0600
TZNAME:CST
DTSTART:20221106T070000
END:STANDARD
BEGIN:DAYLIGHT
TZOFFSETFROM:-0600
TZOFFSETTO:-0500
TZNAME:CDT
DTSTART:20230312T080000
END:DAYLIGHT
BEGIN:STANDARD
TZOFFSETFROM:-0500
TZOFFSETTO:-0600
TZNAME:CST
DTSTART:20231105T070000
END:STANDARD
BEGIN:DAYLIGHT
TZOFFSETFROM:-0600
TZOFFSETTO:-0500
TZNAME:CDT
DTSTART:20240310T080000
END:DAYLIGHT
BEGIN:STANDARD
TZOFFSETFROM:-0500
TZOFFSETTO:-0600
TZNAME:CST
DTSTART:20241103T070000
END:STANDARD
END:VTIMEZONE
BEGIN:VEVENT
DTSTART;TZID=America/Chicago:20230808T190000
DTEND;TZID=America/Chicago:20230808T190000
DTSTAMP:20260420T135856
CREATED:20230504T185054Z
LAST-MODIFIED:20230612T144511Z
UID:65261-1691521200-1691521200@www.minneapolisparks.org
SUMMARY:Dave Velk
DESCRIPTION:Hip Hop
URL:https://www.minneapolisparks.org/event-calendar/dave-velk/
LOCATION:Father Hennepin Bluff Park\, Minneapolis\, MN\, United States
CATEGORIES:Music & Movies in the Parks,Music in the Parks
GEO:44.9826582;-93.2513335
END:VEVENT
BEGIN:VEVENT
DTSTART;TZID=America/Chicago:20230809T120000
DTEND;TZID=America/Chicago:20230809T120000
DTSTAMP:20260420T135856
CREATED:20230420T201920Z
LAST-MODIFIED:20230612T144738Z
UID:64969-1691582400-1691582400@www.minneapolisparks.org
SUMMARY:Blu Kanu
DESCRIPTION:Tight harmonies\, positive energy\, fun!
URL:https://www.minneapolisparks.org/event-calendar/blu-kanu/
LOCATION:The Commons\, 425 Portland Ave South\, Minneapolis\, MN\, 55488\, United States
CATEGORIES:Music & Movies in the Parks,Music in the Parks
GEO:44.9766971;-93.2628904
X-APPLE-STRUCTURED-LOCATION;VALUE=URI;X-ADDRESS=The Commons 425 Portland Ave South Minneapolis MN 55488 United States;X-APPLE-RADIUS=500;X-TITLE=425 Portland Ave South:geo:-93.2628904,44.9766971
END:VEVENT
BEGIN:VEVENT
DTSTART;TZID=America/Chicago:20230809T193000
DTEND;TZID=America/Chicago:20230809T193000
DTSTAMP:20260420T135856
CREATED:20230510T175057Z
LAST-MODIFIED:20230612T144743Z
UID:65597-1691609400-1691609400@www.minneapolisparks.org
SUMMARY:Bend in the River Big Band
DESCRIPTION:Big Band Swing for Everyone
URL:https://www.minneapolisparks.org/event-calendar/bend-in-the-river-big-band-4/
LOCATION:Lake Harriet Bandshell\, Minneapolis\, MN\, United States
CATEGORIES:Music & Movies in the Parks,Music in the Parks
GEO:44.927901;-93.3082473
END:VEVENT
BEGIN:VEVENT
DTSTART;TZID=America/Chicago:20230810T180000
DTEND;TZID=America/Chicago:20230810T193000
DTSTAMP:20260420T135856
CREATED:20230809T203112Z
LAST-MODIFIED:20230809T203334Z
UID:67954-1691690400-1691695800@www.minneapolisparks.org
SUMMARY:Live on the Drive
DESCRIPTION:Music from 6:00 – 7:30 p.m. (Stay for the movie at dusk) \n Music by: Leon\, Taco\, and the Brooklyn Park Lions Drum Corp \n Location: Victory Memorial Pkwy\, & 34th Ave. N. \n 
URL:https://www.minneapolisparks.org/event-calendar/live-on-the-drive-11/
LOCATION:Victory Memorial Drive 34th-36th Ave\, Victory Memorial Drive\, Minneapolis\, MN\, United States
CATEGORIES:Events- All,Events- MPRB,Music & Movies in the Parks,Music in the Parks
GEO:45.0311986;-93.3193329
X-APPLE-STRUCTURED-LOCATION;VALUE=URI;X-ADDRESS=Victory Memorial Drive 34th-36th Ave Victory Memorial Drive Minneapolis MN United States;X-APPLE-RADIUS=500;X-TITLE=Victory Memorial Drive:geo:-93.3193329,45.0311986
END:VEVENT
BEGIN:VEVENT
DTSTART;TZID=America/Chicago:20230810T190000
DTEND;TZID=America/Chicago:20230810T190000
DTSTAMP:20260420T135856
CREATED:20230420T202005Z
LAST-MODIFIED:20230612T144928Z
UID:64971-1691694000-1691694000@www.minneapolisparks.org
SUMMARY:Hunker'd Down Blues Band
DESCRIPTION:Eclectic mix of blues/rock
URL:https://www.minneapolisparks.org/event-calendar/hunkerd-down-blues-band-4/
LOCATION:The Commons\, 425 Portland Ave South\, Minneapolis\, MN\, 55488\, United States
CATEGORIES:Music & Movies in the Parks,Music in the Parks
GEO:44.9766971;-93.2628904
X-APPLE-STRUCTURED-LOCATION;VALUE=URI;X-ADDRESS=The Commons 425 Portland Ave South Minneapolis MN 55488 United States;X-APPLE-RADIUS=500;X-TITLE=425 Portland Ave South:geo:-93.2628904,44.9766971
END:VEVENT
BEGIN:VEVENT
DTSTART;TZID=America/Chicago:20230810T190000
DTEND;TZID=America/Chicago:20230810T190000
DTSTAMP:20260420T135856
CREATED:20230504T191927Z
LAST-MODIFIED:20230612T144936Z
UID:65333-1691694000-1691694000@www.minneapolisparks.org
SUMMARY:Good News Big Band
DESCRIPTION:Uplifting Concert Big Band Music
URL:https://www.minneapolisparks.org/event-calendar/good-news-big-band/
LOCATION:Minnehaha Bandstand\, Minneapolis\, MN\, United States
CATEGORIES:Music & Movies in the Parks,Music in the Parks
GEO:44.9161006;-93.2109865
END:VEVENT
BEGIN:VEVENT
DTSTART;TZID=America/Chicago:20230811T120000
DTEND;TZID=America/Chicago:20230811T120000
DTSTAMP:20260420T135856
CREATED:20230424T174332Z
LAST-MODIFIED:20230612T145122Z
UID:65047-1691755200-1691755200@www.minneapolisparks.org
SUMMARY:Juliet & The Montagues
DESCRIPTION:Smooth vocals and jazz guitar
URL:https://www.minneapolisparks.org/event-calendar/juliet-the-montagues/
LOCATION:Water Works at Mill Ruins Park\, 425 West River Parkway\, Minneapolis\, MN\, 55401\, United States
CATEGORIES:Music & Movies in the Parks,Music in the Parks
GEO:44.9811921;-93.2620982
X-APPLE-STRUCTURED-LOCATION;VALUE=URI;X-ADDRESS=Water Works at Mill Ruins Park 425 West River Parkway Minneapolis MN 55401 United States;X-APPLE-RADIUS=500;X-TITLE=425 West River Parkway:geo:-93.2620982,44.9811921
END:VEVENT
BEGIN:VEVENT
DTSTART;TZID=America/Chicago:20230811T190000
DTEND;TZID=America/Chicago:20230811T190000
DTSTAMP:20260420T135856
CREATED:20230420T192409Z
LAST-MODIFIED:20230612T145127Z
UID:64891-1691780400-1691780400@www.minneapolisparks.org
SUMMARY:The Apple Cellar Trio
DESCRIPTION:Favorite Jazz Standards
URL:https://www.minneapolisparks.org/event-calendar/the-apple-cellar-trio/
LOCATION:Loring Park\, Loring Park\, Minneapolis\, MN\, 55403\, United States
CATEGORIES:Music & Movies in the Parks,Music in the Parks
GEO:44.9649915;-93.2854596
X-APPLE-STRUCTURED-LOCATION;VALUE=URI;X-ADDRESS=Loring Park Loring Park Minneapolis MN 55403 United States;X-APPLE-RADIUS=500;X-TITLE=Loring Park:geo:-93.2854596,44.9649915
END:VEVENT
BEGIN:VEVENT
DTSTART;TZID=America/Chicago:20230811T190000
DTEND;TZID=America/Chicago:20230811T190000
DTSTAMP:20260420T135856
CREATED:20230504T192010Z
LAST-MODIFIED:20230612T145131Z
UID:65335-1691780400-1691780400@www.minneapolisparks.org
SUMMARY:Kung Fu Hippies
DESCRIPTION:Feel good hippie rock
URL:https://www.minneapolisparks.org/event-calendar/kung-fu-hippies-4/
LOCATION:Minnehaha Bandstand\, Minneapolis\, MN\, United States
CATEGORIES:Music & Movies in the Parks,Music in the Parks
GEO:44.9161006;-93.2109865
END:VEVENT
BEGIN:VEVENT
DTSTART;TZID=America/Chicago:20230811T193000
DTEND;TZID=America/Chicago:20230811T193000
DTSTAMP:20260420T135856
CREATED:20230510T175141Z
LAST-MODIFIED:20230612T145135Z
UID:65599-1691782200-1691782200@www.minneapolisparks.org
SUMMARY:The Alarmists
DESCRIPTION:presented by Star Tribune
URL:https://www.minneapolisparks.org/event-calendar/the-alarmists/
LOCATION:Lake Harriet Bandshell\, Minneapolis\, MN\, United States
CATEGORIES:Music & Movies in the Parks,Music in the Parks
GEO:44.927901;-93.3082473
END:VEVENT
BEGIN:VEVENT
DTSTART;TZID=America/Chicago:20230812T193000
DTEND;TZID=America/Chicago:20230812T193000
DTSTAMP:20260420T135856
CREATED:20230510T175735Z
LAST-MODIFIED:20230612T145451Z
UID:65601-1691868600-1691868600@www.minneapolisparks.org
SUMMARY:And Then There Were Eight
DESCRIPTION:Phil Collins/Genesis Tribute Band
URL:https://www.minneapolisparks.org/event-calendar/and-then-there-were-eight/
LOCATION:Lake Harriet Bandshell\, Minneapolis\, MN\, United States
CATEGORIES:Music & Movies in the Parks,Music in the Parks
GEO:44.927901;-93.3082473
END:VEVENT
BEGIN:VEVENT
DTSTART;TZID=America/Chicago:20230813T140000
DTEND;TZID=America/Chicago:20230813T140000
DTSTAMP:20260420T135856
CREATED:20230510T175833Z
LAST-MODIFIED:20230612T145501Z
UID:65603-1691935200-1691935200@www.minneapolisparks.org
SUMMARY:Kenwood Symphony Orchestra
DESCRIPTION:Minneapolis Based Community Classical Orchestra
URL:https://www.minneapolisparks.org/event-calendar/kenwood-symphony-orchestra-6/
LOCATION:Lake Harriet Bandshell\, Minneapolis\, MN\, United States
CATEGORIES:Music & Movies in the Parks,Music in the Parks
GEO:44.927901;-93.3082473
END:VEVENT
BEGIN:VEVENT
DTSTART;TZID=America/Chicago:20230813T173000
DTEND;TZID=America/Chicago:20230813T173000
DTSTAMP:20260420T135856
CREATED:20230510T175933Z
LAST-MODIFIED:20230612T145626Z
UID:65605-1691947800-1691947800@www.minneapolisparks.org
SUMMARY:Jewbalaya
DESCRIPTION:New Orleans Jazz Meets Klezmer
URL:https://www.minneapolisparks.org/event-calendar/jewbalaya/
LOCATION:Lake Harriet Bandshell\, Minneapolis\, MN\, United States
CATEGORIES:Music & Movies in the Parks,Music in the Parks
GEO:44.927901;-93.3082473
END:VEVENT
BEGIN:VEVENT
DTSTART;TZID=America/Chicago:20230814T190000
DTEND;TZID=America/Chicago:20230814T190000
DTSTAMP:20260420T135856
CREATED:20230424T174412Z
LAST-MODIFIED:20230612T145631Z
UID:65049-1692039600-1692039600@www.minneapolisparks.org
SUMMARY:Jim Gefroh
DESCRIPTION:Acoustic\, pop\, easy listening tunes
URL:https://www.minneapolisparks.org/event-calendar/jim-gefroh/
LOCATION:Water Works at Mill Ruins Park\, 425 West River Parkway\, Minneapolis\, MN\, 55401\, United States
CATEGORIES:Music & Movies in the Parks,Music in the Parks
GEO:44.9811921;-93.2620982
X-APPLE-STRUCTURED-LOCATION;VALUE=URI;X-ADDRESS=Water Works at Mill Ruins Park 425 West River Parkway Minneapolis MN 55401 United States;X-APPLE-RADIUS=500;X-TITLE=425 West River Parkway:geo:-93.2620982,44.9811921
END:VEVENT
BEGIN:VEVENT
DTSTART;TZID=America/Chicago:20230814T193000
DTEND;TZID=America/Chicago:20230814T193000
DTSTAMP:20260420T135856
CREATED:20230510T180023Z
LAST-MODIFIED:20230612T145635Z
UID:65607-1692041400-1692041400@www.minneapolisparks.org
SUMMARY:The Zillionaires
DESCRIPTION:Alt variety band originals/covers.
URL:https://www.minneapolisparks.org/event-calendar/the-zillionaires/
LOCATION:Lake Harriet Bandshell\, Minneapolis\, MN\, United States
CATEGORIES:Music & Movies in the Parks,Music in the Parks
GEO:44.927901;-93.3082473
END:VEVENT
BEGIN:VEVENT
DTSTART;TZID=America/Chicago:20230815T120000
DTEND;TZID=America/Chicago:20230815T120000
DTSTAMP:20260420T135856
CREATED:20230420T192453Z
LAST-MODIFIED:20230612T145924Z
UID:64893-1692100800-1692100800@www.minneapolisparks.org
SUMMARY:The Paper Clips Trombone Quartet
DESCRIPTION:Motown Sound Meets Trombone Quartet
URL:https://www.minneapolisparks.org/event-calendar/the-paper-clips-trombone-quartet/
LOCATION:Loring Park\, Loring Park\, Minneapolis\, MN\, 55403\, United States
CATEGORIES:Music & Movies in the Parks,Music in the Parks
GEO:44.9649915;-93.2854596
X-APPLE-STRUCTURED-LOCATION;VALUE=URI;X-ADDRESS=Loring Park Loring Park Minneapolis MN 55403 United States;X-APPLE-RADIUS=500;X-TITLE=Loring Park:geo:-93.2854596,44.9649915
END:VEVENT
BEGIN:VEVENT
DTSTART;TZID=America/Chicago:20230815T190000
DTEND;TZID=America/Chicago:20230815T190000
DTSTAMP:20260420T135856
CREATED:20230504T185130Z
LAST-MODIFIED:20230612T145930Z
UID:65263-1692126000-1692126000@www.minneapolisparks.org
SUMMARY:Machinery Hill
DESCRIPTION:Americana with Harmonies
URL:https://www.minneapolisparks.org/event-calendar/machinery-hill-2/
LOCATION:Father Hennepin Bluff Park\, Minneapolis\, MN\, United States
CATEGORIES:Music & Movies in the Parks,Music in the Parks
GEO:44.9826582;-93.2513335
END:VEVENT
BEGIN:VEVENT
DTSTART;TZID=America/Chicago:20230816T120000
DTEND;TZID=America/Chicago:20230816T120000
DTSTAMP:20260420T135856
CREATED:20230420T202046Z
LAST-MODIFIED:20230612T145940Z
UID:64973-1692187200-1692187200@www.minneapolisparks.org
SUMMARY:Serious Machine
DESCRIPTION:Post Grunge Indie Rock Trio
URL:https://www.minneapolisparks.org/event-calendar/serious-machine/
LOCATION:The Commons\, 425 Portland Ave South\, Minneapolis\, MN\, 55488\, United States
CATEGORIES:Music & Movies in the Parks,Music in the Parks
GEO:44.9766971;-93.2628904
X-APPLE-STRUCTURED-LOCATION;VALUE=URI;X-ADDRESS=The Commons 425 Portland Ave South Minneapolis MN 55488 United States;X-APPLE-RADIUS=500;X-TITLE=425 Portland Ave South:geo:-93.2628904,44.9766971
END:VEVENT
BEGIN:VEVENT
DTSTART;TZID=America/Chicago:20230816T193000
DTEND;TZID=America/Chicago:20230816T193000
DTSTAMP:20260420T135856
CREATED:20230510T180113Z
LAST-MODIFIED:20230612T173231Z
UID:65609-1692214200-1692214200@www.minneapolisparks.org
SUMMARY:La Danse Fatale Ballet Company
DESCRIPTION:Where music is made visible.
URL:https://www.minneapolisparks.org/event-calendar/la-danse-fatale-ballet-company/
LOCATION:Lake Harriet Bandshell\, Minneapolis\, MN\, United States
CATEGORIES:Music & Movies in the Parks,Music in the Parks
GEO:44.927901;-93.3082473
END:VEVENT
BEGIN:VEVENT
DTSTART;TZID=America/Chicago:20230817T190000
DTEND;TZID=America/Chicago:20230817T190000
DTSTAMP:20260420T135856
CREATED:20230420T202158Z
LAST-MODIFIED:20230612T173240Z
UID:64975-1692298800-1692298800@www.minneapolisparks.org
SUMMARY:theyself
DESCRIPTION:Dance folk
URL:https://www.minneapolisparks.org/event-calendar/theyself-2/
LOCATION:The Commons\, 425 Portland Ave South\, Minneapolis\, MN\, 55488\, United States
CATEGORIES:Music & Movies in the Parks,Music in the Parks
GEO:44.9766971;-93.2628904
X-APPLE-STRUCTURED-LOCATION;VALUE=URI;X-ADDRESS=The Commons 425 Portland Ave South Minneapolis MN 55488 United States;X-APPLE-RADIUS=500;X-TITLE=425 Portland Ave South:geo:-93.2628904,44.9766971
END:VEVENT
BEGIN:VEVENT
DTSTART;TZID=America/Chicago:20230817T190000
DTEND;TZID=America/Chicago:20230817T190000
DTSTAMP:20260420T135856
CREATED:20230504T192051Z
LAST-MODIFIED:20230612T173244Z
UID:65337-1692298800-1692298800@www.minneapolisparks.org
SUMMARY:Golden Morrison
DESCRIPTION:Instrumental Steely Dan meets 2023
URL:https://www.minneapolisparks.org/event-calendar/golden-morrison/
LOCATION:Minnehaha Bandstand\, Minneapolis\, MN\, United States
CATEGORIES:Music & Movies in the Parks,Music in the Parks
GEO:44.9161006;-93.2109865
END:VEVENT
BEGIN:VEVENT
DTSTART;TZID=America/Chicago:20230817T193000
DTEND;TZID=America/Chicago:20230817T193000
DTSTAMP:20260420T135856
CREATED:20230510T180212Z
LAST-MODIFIED:20230810T195043Z
UID:65611-1692300600-1692300600@www.minneapolisparks.org
SUMMARY:The Jayhawks\, Presented by Linden Hills Dentistry
DESCRIPTION:The Jayhawks\, Presented by Linden Hills Dentistry \n 
URL:https://www.minneapolisparks.org/event-calendar/the-jayhawks/
LOCATION:Lake Harriet Bandshell\, Minneapolis\, MN\, United States
CATEGORIES:Music & Movies in the Parks,Music in the Parks
GEO:44.927901;-93.3082473
END:VEVENT
BEGIN:VEVENT
DTSTART;TZID=America/Chicago:20230818T120000
DTEND;TZID=America/Chicago:20230818T120000
DTSTAMP:20260420T135856
CREATED:20230424T174501Z
LAST-MODIFIED:20230612T173354Z
UID:65051-1692360000-1692360000@www.minneapolisparks.org
SUMMARY:Demolition Means Progress
DESCRIPTION:Jangly indie rock with violin and lots of harmonies.
URL:https://www.minneapolisparks.org/event-calendar/demolition-means-progress-6/
LOCATION:Water Works at Mill Ruins Park\, 425 West River Parkway\, Minneapolis\, MN\, 55401\, United States
CATEGORIES:Music & Movies in the Parks,Music in the Parks
GEO:44.9811921;-93.2620982
X-APPLE-STRUCTURED-LOCATION;VALUE=URI;X-ADDRESS=Water Works at Mill Ruins Park 425 West River Parkway Minneapolis MN 55401 United States;X-APPLE-RADIUS=500;X-TITLE=425 West River Parkway:geo:-93.2620982,44.9811921
END:VEVENT
BEGIN:VEVENT
DTSTART;TZID=America/Chicago:20230818T190000
DTEND;TZID=America/Chicago:20230818T190000
DTSTAMP:20260420T135856
CREATED:20230420T192547Z
LAST-MODIFIED:20230612T173357Z
UID:64895-1692385200-1692385200@www.minneapolisparks.org
SUMMARY:James Eugene Russell
DESCRIPTION:Country Mid-Western Music
URL:https://www.minneapolisparks.org/event-calendar/james-eugene-russell/
LOCATION:Loring Park\, Loring Park\, Minneapolis\, MN\, 55403\, United States
CATEGORIES:Music & Movies in the Parks,Music in the Parks
GEO:44.9649915;-93.2854596
X-APPLE-STRUCTURED-LOCATION;VALUE=URI;X-ADDRESS=Loring Park Loring Park Minneapolis MN 55403 United States;X-APPLE-RADIUS=500;X-TITLE=Loring Park:geo:-93.2854596,44.9649915
END:VEVENT
BEGIN:VEVENT
DTSTART;TZID=America/Chicago:20230818T190000
DTEND;TZID=America/Chicago:20230818T190000
DTSTAMP:20260420T135856
CREATED:20230504T192128Z
LAST-MODIFIED:20230612T173457Z
UID:65339-1692385200-1692385200@www.minneapolisparks.org
SUMMARY:The Bad Companions
DESCRIPTION:Dance friendly original roots rock
URL:https://www.minneapolisparks.org/event-calendar/the-bad-companions-3/
LOCATION:Minnehaha Bandstand\, Minneapolis\, MN\, United States
CATEGORIES:Music & Movies in the Parks,Music in the Parks
GEO:44.9161006;-93.2109865
END:VEVENT
BEGIN:VEVENT
DTSTART;TZID=America/Chicago:20230818T193000
DTEND;TZID=America/Chicago:20230818T193000
DTSTAMP:20260420T135856
CREATED:20230510T180254Z
LAST-MODIFIED:20230612T173501Z
UID:65613-1692387000-1692387000@www.minneapolisparks.org
SUMMARY:Nunnabove
DESCRIPTION:presented by Star Tribune
URL:https://www.minneapolisparks.org/event-calendar/nunnabove/
LOCATION:Lake Harriet Bandshell\, Minneapolis\, MN\, United States
CATEGORIES:Music & Movies in the Parks,Music in the Parks
GEO:44.927901;-93.3082473
END:VEVENT
BEGIN:VEVENT
DTSTART;TZID=America/Chicago:20230819T193000
DTEND;TZID=America/Chicago:20230819T193000
DTSTAMP:20260420T135856
CREATED:20230510T180343Z
LAST-MODIFIED:20230612T173559Z
UID:65615-1692473400-1692473400@www.minneapolisparks.org
SUMMARY:Civic Orchestra of Minneapolis
DESCRIPTION:Orchestral classics by the lake.
URL:https://www.minneapolisparks.org/event-calendar/civic-orchestra-of-minneapolis-4/
LOCATION:Lake Harriet Bandshell\, Minneapolis\, MN\, United States
CATEGORIES:Music & Movies in the Parks,Music in the Parks
GEO:44.927901;-93.3082473
END:VEVENT
BEGIN:VEVENT
DTSTART;TZID=America/Chicago:20230820T140000
DTEND;TZID=America/Chicago:20230820T140000
DTSTAMP:20260420T135856
CREATED:20230510T180426Z
LAST-MODIFIED:20230612T173606Z
UID:65617-1692540000-1692540000@www.minneapolisparks.org
SUMMARY:Not Quite Dead
DESCRIPTION:Grateful Dead Tribute Band
URL:https://www.minneapolisparks.org/event-calendar/not-quite-dead-3/
LOCATION:Lake Harriet Bandshell\, Minneapolis\, MN\, United States
CATEGORIES:Music & Movies in the Parks,Music in the Parks
GEO:44.927901;-93.3082473
END:VEVENT
BEGIN:VEVENT
DTSTART;TZID=America/Chicago:20230820T173000
DTEND;TZID=America/Chicago:20230820T173000
DTSTAMP:20260420T135856
CREATED:20230510T180512Z
LAST-MODIFIED:20230612T173749Z
UID:65619-1692552600-1692552600@www.minneapolisparks.org
SUMMARY:Gypsy Mania Hot Club Quartet
DESCRIPTION:Gypsy Hot Club Swing Jazz
URL:https://www.minneapolisparks.org/event-calendar/gypsy-mania-hot-club-quartet-4/
LOCATION:Lake Harriet Bandshell\, Minneapolis\, MN\, United States
CATEGORIES:Music & Movies in the Parks,Music in the Parks
GEO:44.927901;-93.3082473
END:VEVENT
BEGIN:VEVENT
DTSTART;TZID=America/Chicago:20230821T190000
DTEND;TZID=America/Chicago:20230821T190000
DTSTAMP:20260420T135856
CREATED:20230424T174541Z
LAST-MODIFIED:20230612T173754Z
UID:65053-1692644400-1692644400@www.minneapolisparks.org
SUMMARY:Brian Allen
DESCRIPTION:Rockin’ sing-along piano favorites
URL:https://www.minneapolisparks.org/event-calendar/brian-allen/
LOCATION:Water Works at Mill Ruins Park\, 425 West River Parkway\, Minneapolis\, MN\, 55401\, United States
CATEGORIES:Music & Movies in the Parks,Music in the Parks
GEO:44.9811921;-93.2620982
X-APPLE-STRUCTURED-LOCATION;VALUE=URI;X-ADDRESS=Water Works at Mill Ruins Park 425 West River Parkway Minneapolis MN 55401 United States;X-APPLE-RADIUS=500;X-TITLE=425 West River Parkway:geo:-93.2620982,44.9811921
END:VEVENT
END:VCALENDAR