BEGIN:VCALENDAR
VERSION:2.0
PRODID:-//Minneapolis Park &amp; Recreation Board - ECPv6.15.20//NONSGML v1.0//EN
CALSCALE:GREGORIAN
METHOD:PUBLISH
X-WR-CALNAME:Minneapolis Park &amp; Recreation Board
X-ORIGINAL-URL:https://www.minneapolisparks.org
X-WR-CALDESC:Events for Minneapolis Park &amp; Recreation Board
REFRESH-INTERVAL;VALUE=DURATION:PT1H
X-Robots-Tag:noindex
X-PUBLISHED-TTL:PT1H
BEGIN:VTIMEZONE
TZID:America/Chicago
BEGIN:DAYLIGHT
TZOFFSETFROM:-0600
TZOFFSETTO:-0500
TZNAME:CDT
DTSTART:20240310T080000
END:DAYLIGHT
BEGIN:STANDARD
TZOFFSETFROM:-0500
TZOFFSETTO:-0600
TZNAME:CST
DTSTART:20241103T070000
END:STANDARD
BEGIN:DAYLIGHT
TZOFFSETFROM:-0600
TZOFFSETTO:-0500
TZNAME:CDT
DTSTART:20250309T080000
END:DAYLIGHT
BEGIN:STANDARD
TZOFFSETFROM:-0500
TZOFFSETTO:-0600
TZNAME:CST
DTSTART:20251102T070000
END:STANDARD
BEGIN:DAYLIGHT
TZOFFSETFROM:-0600
TZOFFSETTO:-0500
TZNAME:CDT
DTSTART:20260308T080000
END:DAYLIGHT
BEGIN:STANDARD
TZOFFSETFROM:-0500
TZOFFSETTO:-0600
TZNAME:CST
DTSTART:20261101T070000
END:STANDARD
END:VTIMEZONE
BEGIN:VEVENT
DTSTART;TZID=America/Chicago:20250614T160000
DTEND;TZID=America/Chicago:20250614T200000
DTSTAMP:20260420T203901
CREATED:20250516T185318Z
LAST-MODIFIED:20250516T185318Z
UID:82607-1749916800-1749931200@www.minneapolisparks.org
SUMMARY:DJ in the Park (4-8pm)
DESCRIPTION:DJ Music.
URL:https://www.minneapolisparks.org/event-calendar/dj-in-the-park-4-8pm/
LOCATION:Loring Park\, Loring Park\, Minneapolis\, MN\, 55403\, United States
CATEGORIES:Music & Movies in the Parks,Music in the Parks
GEO:44.9649915;-93.2854596
X-APPLE-STRUCTURED-LOCATION;VALUE=URI;X-ADDRESS=Loring Park Loring Park Minneapolis MN 55403 United States;X-APPLE-RADIUS=500;X-TITLE=Loring Park:geo:-93.2854596,44.9649915
END:VEVENT
BEGIN:VEVENT
DTSTART;TZID=America/Chicago:20250614T193000
DTEND;TZID=America/Chicago:20250614T193000
DTSTAMP:20260420T203901
CREATED:20250515T154711Z
LAST-MODIFIED:20250515T154711Z
UID:82290-1749929400-1749929400@www.minneapolisparks.org
SUMMARY:Twin Cities Mobile Jazz Project
DESCRIPTION:Jazz
URL:https://www.minneapolisparks.org/event-calendar/twin-cities-mobile-jazz-project-18/
LOCATION:Lake Harriet Bandshell\, Minneapolis\, MN\, United States
CATEGORIES:Music & Movies in the Parks,Music in the Parks
GEO:44.927901;-93.3082473
END:VEVENT
BEGIN:VEVENT
DTSTART;TZID=America/Chicago:20250615T140000
DTEND;TZID=America/Chicago:20250615T140000
DTSTAMP:20260420T203901
CREATED:20250515T154906Z
LAST-MODIFIED:20250515T154906Z
UID:82292-1749996000-1749996000@www.minneapolisparks.org
SUMMARY:CANTUS
DESCRIPTION:A Capella
URL:https://www.minneapolisparks.org/event-calendar/cantus-7/
LOCATION:Lake Harriet Bandshell\, Minneapolis\, MN\, United States
CATEGORIES:Music & Movies in the Parks,Music in the Parks
GEO:44.927901;-93.3082473
END:VEVENT
BEGIN:VEVENT
DTSTART;TZID=America/Chicago:20250615T173000
DTEND;TZID=America/Chicago:20250615T173000
DTSTAMP:20260420T203901
CREATED:20250515T155010Z
LAST-MODIFIED:20250515T155010Z
UID:82294-1750008600-1750008600@www.minneapolisparks.org
SUMMARY:Just Dave and The Rockin Allstars
DESCRIPTION:Rock
URL:https://www.minneapolisparks.org/event-calendar/just-dave-and-the-rockin-allstars/
LOCATION:Lake Harriet Bandshell\, Minneapolis\, MN\, United States
CATEGORIES:Music & Movies in the Parks,Music in the Parks
GEO:44.927901;-93.3082473
END:VEVENT
BEGIN:VEVENT
DTSTART;TZID=America/Chicago:20250616T193000
DTEND;TZID=America/Chicago:20250616T193000
DTSTAMP:20260420T203901
CREATED:20250515T155120Z
LAST-MODIFIED:20250515T155120Z
UID:82296-1750102200-1750102200@www.minneapolisparks.org
SUMMARY:Tom\, Dick & Harry
DESCRIPTION:Rock
URL:https://www.minneapolisparks.org/event-calendar/tom-dick-harry-2/
LOCATION:Lake Harriet Bandshell\, Minneapolis\, MN\, United States
CATEGORIES:Music & Movies in the Parks,Music in the Parks
GEO:44.927901;-93.3082473
END:VEVENT
BEGIN:VEVENT
DTSTART;TZID=America/Chicago:20250617T120000
DTEND;TZID=America/Chicago:20250617T120000
DTSTAMP:20260420T203901
CREATED:20250515T211528Z
LAST-MODIFIED:20250515T211810Z
UID:82486-1750161600-1750161600@www.minneapolisparks.org
SUMMARY:Jessie Street Duo
DESCRIPTION:
URL:https://www.minneapolisparks.org/event-calendar/jessie-street-duo/
LOCATION:Minnehaha Bandstand\, Minneapolis\, MN\, United States
CATEGORIES:Music & Movies in the Parks,Music in the Parks
GEO:44.9161006;-93.2109865
END:VEVENT
BEGIN:VEVENT
DTSTART;TZID=America/Chicago:20250617T190000
DTEND;TZID=America/Chicago:20250617T190000
DTSTAMP:20260420T203901
CREATED:20250515T212826Z
LAST-MODIFIED:20250515T212826Z
UID:82508-1750186800-1750186800@www.minneapolisparks.org
SUMMARY:John Penny
DESCRIPTION:World Jazz
URL:https://www.minneapolisparks.org/event-calendar/john-penny/
LOCATION:Father Hennepin\, Minneapolis\, MN\, United States
CATEGORIES:Music & Movies in the Parks,Music in the Parks
GEO:44.9826582;-93.2513335
END:VEVENT
BEGIN:VEVENT
DTSTART;TZID=America/Chicago:20250617T190000
DTEND;TZID=America/Chicago:20250617T190000
DTSTAMP:20260420T203901
CREATED:20250516T185429Z
LAST-MODIFIED:20250516T185429Z
UID:82609-1750186800-1750186800@www.minneapolisparks.org
SUMMARY:Scott Allen & The List
DESCRIPTION:Americana Rock originals
URL:https://www.minneapolisparks.org/event-calendar/scott-allen-the-list/
LOCATION:Loring Park\, Loring Park\, Minneapolis\, MN\, 55403\, United States
CATEGORIES:Music & Movies in the Parks,Music in the Parks
GEO:44.9649915;-93.2854596
X-APPLE-STRUCTURED-LOCATION;VALUE=URI;X-ADDRESS=Loring Park Loring Park Minneapolis MN 55403 United States;X-APPLE-RADIUS=500;X-TITLE=Loring Park:geo:-93.2854596,44.9649915
END:VEVENT
BEGIN:VEVENT
DTSTART;TZID=America/Chicago:20250617T190000
DTEND;TZID=America/Chicago:20250617T190000
DTSTAMP:20260420T203901
CREATED:20250516T192602Z
LAST-MODIFIED:20250516T192602Z
UID:82637-1750186800-1750186800@www.minneapolisparks.org
SUMMARY:Niny Salem
DESCRIPTION:Jazz
URL:https://www.minneapolisparks.org/event-calendar/niny-salem-2/
LOCATION:Bryant Square Park\, 3101 Bryant Ave S\, Minneapolis\, MN\, 55408\, United States
CATEGORIES:Music & Movies in the Parks,Music in the Parks
GEO:44.9461045;-93.2903539
X-APPLE-STRUCTURED-LOCATION;VALUE=URI;X-ADDRESS=Bryant Square Park 3101 Bryant Ave S Minneapolis MN 55408 United States;X-APPLE-RADIUS=500;X-TITLE=3101 Bryant Ave S:geo:-93.2903539,44.9461045
END:VEVENT
BEGIN:VEVENT
DTSTART;TZID=America/Chicago:20250618T120000
DTEND;TZID=America/Chicago:20250618T120000
DTSTAMP:20260420T203901
CREATED:20250516T183003Z
LAST-MODIFIED:20250516T183003Z
UID:82571-1750248000-1750248000@www.minneapolisparks.org
SUMMARY:Chris Holm
DESCRIPTION:One Man Country Blues Band
URL:https://www.minneapolisparks.org/event-calendar/chris-holm/
LOCATION:The Commons\, 425 Portland Ave South\, Minneapolis\, MN\, 55488\, United States
CATEGORIES:Music & Movies in the Parks,Music in the Parks
GEO:44.9766971;-93.2628904
X-APPLE-STRUCTURED-LOCATION;VALUE=URI;X-ADDRESS=The Commons 425 Portland Ave South Minneapolis MN 55488 United States;X-APPLE-RADIUS=500;X-TITLE=425 Portland Ave South:geo:-93.2628904,44.9766971
END:VEVENT
BEGIN:VEVENT
DTSTART;TZID=America/Chicago:20250618T193000
DTEND;TZID=America/Chicago:20250618T193000
DTSTAMP:20260420T203901
CREATED:20250515T155450Z
LAST-MODIFIED:20250515T155450Z
UID:82298-1750275000-1750275000@www.minneapolisparks.org
SUMMARY:Percolators Band
DESCRIPTION:Rock
URL:https://www.minneapolisparks.org/event-calendar/percolators-band-8/
LOCATION:Lake Harriet Bandshell\, Minneapolis\, MN\, United States
CATEGORIES:Music & Movies in the Parks,Music in the Parks
GEO:44.927901;-93.3082473
END:VEVENT
BEGIN:VEVENT
DTSTART;TZID=America/Chicago:20250619T190000
DTEND;TZID=America/Chicago:20250619T190000
DTSTAMP:20260420T203901
CREATED:20250515T205223Z
LAST-MODIFIED:20250515T205223Z
UID:82442-1750359600-1750359600@www.minneapolisparks.org
SUMMARY:Pan-handlers Steel Drum Band
DESCRIPTION:International Music
URL:https://www.minneapolisparks.org/event-calendar/pan-handlers-steel-drum-band-5/
LOCATION:Minnehaha Bandstand\, Minneapolis\, MN\, United States
CATEGORIES:Music & Movies in the Parks,Music in the Parks
GEO:44.9161006;-93.2109865
END:VEVENT
BEGIN:VEVENT
DTSTART;TZID=America/Chicago:20250619T190000
DTEND;TZID=America/Chicago:20250619T190000
DTSTAMP:20260420T203901
CREATED:20250516T183746Z
LAST-MODIFIED:20250516T183746Z
UID:82583-1750359600-1750359600@www.minneapolisparks.org
SUMMARY:Target Spots
DESCRIPTION:Pop Disney
URL:https://www.minneapolisparks.org/event-calendar/target-spots/
LOCATION:The Commons\, 425 Portland Ave South\, Minneapolis\, MN\, 55488\, United States
CATEGORIES:Music & Movies in the Parks,Music in the Parks
GEO:44.9766971;-93.2628904
X-APPLE-STRUCTURED-LOCATION;VALUE=URI;X-ADDRESS=The Commons 425 Portland Ave South Minneapolis MN 55488 United States;X-APPLE-RADIUS=500;X-TITLE=425 Portland Ave South:geo:-93.2628904,44.9766971
END:VEVENT
BEGIN:VEVENT
DTSTART;TZID=America/Chicago:20250620T190000
DTEND;TZID=America/Chicago:20250620T190000
DTSTAMP:20260420T203901
CREATED:20250515T205329Z
LAST-MODIFIED:20250515T205329Z
UID:82444-1750446000-1750446000@www.minneapolisparks.org
SUMMARY:Just Luv\, Inc.
DESCRIPTION:Rock
URL:https://www.minneapolisparks.org/event-calendar/just-luv-inc/
LOCATION:Minnehaha Bandstand\, Minneapolis\, MN\, United States
CATEGORIES:Music & Movies in the Parks,Music in the Parks
GEO:44.9161006;-93.2109865
END:VEVENT
BEGIN:VEVENT
DTSTART;TZID=America/Chicago:20250620T193000
DTEND;TZID=America/Chicago:20250620T193000
DTSTAMP:20260420T203901
CREATED:20250515T155654Z
LAST-MODIFIED:20250515T155728Z
UID:82300-1750447800-1750447800@www.minneapolisparks.org
SUMMARY:The Get-Up Mondays
DESCRIPTION:Rock
URL:https://www.minneapolisparks.org/event-calendar/the-get-up-mondays/
LOCATION:Lake Harriet Bandshell\, Minneapolis\, MN\, United States
CATEGORIES:Music & Movies in the Parks,Music in the Parks
GEO:44.927901;-93.3082473
END:VEVENT
BEGIN:VEVENT
DTSTART;TZID=America/Chicago:20250621T190000
DTEND;TZID=America/Chicago:20250621T190000
DTSTAMP:20260420T203901
CREATED:20250515T214149Z
LAST-MODIFIED:20250515T214149Z
UID:82533-1750532400-1750532400@www.minneapolisparks.org
SUMMARY:Overdressed Duo
DESCRIPTION:Classical Opera
URL:https://www.minneapolisparks.org/event-calendar/overdressed-duo-5/
LOCATION:Water Works at Mill Ruins Park\, 425 West River Parkway\, Minneapolis\, MN\, 55401\, United States
CATEGORIES:Music & Movies in the Parks,Music in the Parks
GEO:44.9811921;-93.2620982
X-APPLE-STRUCTURED-LOCATION;VALUE=URI;X-ADDRESS=Water Works at Mill Ruins Park 425 West River Parkway Minneapolis MN 55401 United States;X-APPLE-RADIUS=500;X-TITLE=425 West River Parkway:geo:-93.2620982,44.9811921
END:VEVENT
BEGIN:VEVENT
DTSTART;TZID=America/Chicago:20250621T193000
DTEND;TZID=America/Chicago:20250621T193000
DTSTAMP:20260420T203901
CREATED:20250515T155840Z
LAST-MODIFIED:20250515T155840Z
UID:82302-1750534200-1750534200@www.minneapolisparks.org
SUMMARY:Alligations
DESCRIPTION:Rhythm & Blues
URL:https://www.minneapolisparks.org/event-calendar/alligations/
LOCATION:Lake Harriet Bandshell\, Minneapolis\, MN\, United States
CATEGORIES:Music & Movies in the Parks,Music in the Parks
GEO:44.927901;-93.3082473
END:VEVENT
BEGIN:VEVENT
DTSTART;TZID=America/Chicago:20250622T140000
DTEND;TZID=America/Chicago:20250622T140000
DTSTAMP:20260420T203901
CREATED:20250515T182613Z
LAST-MODIFIED:20250522T180447Z
UID:82305-1750600800-1750600800@www.minneapolisparks.org
SUMMARY:Star of The North Concert Band
DESCRIPTION:Classical
URL:https://www.minneapolisparks.org/event-calendar/star-of-the-north-concert-band-3/
LOCATION:Lake Harriet Bandshell\, Minneapolis\, MN\, United States
CATEGORIES:Music & Movies in the Parks,Music in the Parks
GEO:44.927901;-93.3082473
END:VEVENT
BEGIN:VEVENT
DTSTART;TZID=America/Chicago:20250622T173000
DTEND;TZID=America/Chicago:20250622T173000
DTSTAMP:20260420T203901
CREATED:20250515T182747Z
LAST-MODIFIED:20250515T182747Z
UID:82307-1750613400-1750613400@www.minneapolisparks.org
SUMMARY:Emerson Avenue
DESCRIPTION:Rhythm & Blues
URL:https://www.minneapolisparks.org/event-calendar/emerson-avenue/
LOCATION:Lake Harriet Bandshell\, Minneapolis\, MN\, United States
CATEGORIES:Music & Movies in the Parks,Music in the Parks
GEO:44.927901;-93.3082473
END:VEVENT
BEGIN:VEVENT
DTSTART;TZID=America/Chicago:20250622T193000
DTEND;TZID=America/Chicago:20250622T193000
DTSTAMP:20260420T203901
CREATED:20250515T154438Z
LAST-MODIFIED:20250515T154438Z
UID:82286-1750620600-1750620600@www.minneapolisparks.org
SUMMARY:Barb Ryman
DESCRIPTION:Indie Folk
URL:https://www.minneapolisparks.org/event-calendar/barb-ryman-2/
LOCATION:Lake Harriet Bandshell\, Minneapolis\, MN\, United States
CATEGORIES:Music & Movies in the Parks,Music in the Parks
GEO:44.927901;-93.3082473
END:VEVENT
BEGIN:VEVENT
DTSTART;TZID=America/Chicago:20250623T193000
DTEND;TZID=America/Chicago:20250623T193000
DTSTAMP:20260420T203901
CREATED:20250515T182858Z
LAST-MODIFIED:20250515T182858Z
UID:82309-1750707000-1750707000@www.minneapolisparks.org
SUMMARY:Minnesota Freedom Band
DESCRIPTION:Big Band
URL:https://www.minneapolisparks.org/event-calendar/minnesota-freedom-band-7/
LOCATION:Lake Harriet Bandshell\, Minneapolis\, MN\, United States
CATEGORIES:Music & Movies in the Parks,Music in the Parks
GEO:44.927901;-93.3082473
END:VEVENT
BEGIN:VEVENT
DTSTART;TZID=America/Chicago:20250624T120000
DTEND;TZID=America/Chicago:20250624T120000
DTSTAMP:20260420T203901
CREATED:20250515T211643Z
LAST-MODIFIED:20250515T211730Z
UID:82488-1750766400-1750766400@www.minneapolisparks.org
SUMMARY:RJ Vocal
DESCRIPTION:Indie Pop
URL:https://www.minneapolisparks.org/event-calendar/rj-vocal/
LOCATION:Minnehaha Bandstand\, Minneapolis\, MN\, United States
CATEGORIES:Music & Movies in the Parks,Music in the Parks
GEO:44.9161006;-93.2109865
END:VEVENT
BEGIN:VEVENT
DTSTART;TZID=America/Chicago:20250624T190000
DTEND;TZID=America/Chicago:20250624T190000
DTSTAMP:20260420T203901
CREATED:20250515T212858Z
LAST-MODIFIED:20250515T212858Z
UID:82509-1750791600-1750791600@www.minneapolisparks.org
SUMMARY:The Hamm Sammies
DESCRIPTION:Country
URL:https://www.minneapolisparks.org/event-calendar/the-hamm-sammies/
LOCATION:Father Hennepin\, Minneapolis\, MN\, United States
CATEGORIES:Music & Movies in the Parks,Music in the Parks
GEO:44.9826582;-93.2513335
END:VEVENT
BEGIN:VEVENT
DTSTART;TZID=America/Chicago:20250624T190000
DTEND;TZID=America/Chicago:20250624T190000
DTSTAMP:20260420T203901
CREATED:20250516T192714Z
LAST-MODIFIED:20250516T192714Z
UID:82639-1750791600-1750791600@www.minneapolisparks.org
SUMMARY:Listen to Girls
DESCRIPTION:Folk
URL:https://www.minneapolisparks.org/event-calendar/listen-to-girls/
LOCATION:Bryant Square Park\, 3101 Bryant Ave S\, Minneapolis\, MN\, 55408\, United States
CATEGORIES:Music & Movies in the Parks,Music in the Parks
GEO:44.9461045;-93.2903539
X-APPLE-STRUCTURED-LOCATION;VALUE=URI;X-ADDRESS=Bryant Square Park 3101 Bryant Ave S Minneapolis MN 55408 United States;X-APPLE-RADIUS=500;X-TITLE=3101 Bryant Ave S:geo:-93.2903539,44.9461045
END:VEVENT
BEGIN:VEVENT
DTSTART;TZID=America/Chicago:20250625T120000
DTEND;TZID=America/Chicago:20250625T120000
DTSTAMP:20260420T203901
CREATED:20250516T183129Z
LAST-MODIFIED:20250516T183129Z
UID:82573-1750852800-1750852800@www.minneapolisparks.org
SUMMARY:Celestial Being
DESCRIPTION:Soul
URL:https://www.minneapolisparks.org/event-calendar/celestial-being/
LOCATION:The Commons\, 425 Portland Ave South\, Minneapolis\, MN\, 55488\, United States
CATEGORIES:Music & Movies in the Parks,Music in the Parks
GEO:44.9766971;-93.2628904
X-APPLE-STRUCTURED-LOCATION;VALUE=URI;X-ADDRESS=The Commons 425 Portland Ave South Minneapolis MN 55488 United States;X-APPLE-RADIUS=500;X-TITLE=425 Portland Ave South:geo:-93.2628904,44.9766971
END:VEVENT
BEGIN:VEVENT
DTSTART;TZID=America/Chicago:20250625T160000
DTEND;TZID=America/Chicago:20250625T190000
DTSTAMP:20260420T203901
CREATED:20250616T212825Z
LAST-MODIFIED:20250616T212825Z
UID:83514-1750867200-1750878000@www.minneapolisparks.org
SUMMARY:Twin Cities Mobile Jazz Project - Nokomis Main Beach
DESCRIPTION:
URL:https://www.minneapolisparks.org/event-calendar/twin-cities-mobile-jazz-project-nokomis-main-beach/
LOCATION:Lake Nokomis – Main Beach\, 4955 W Lake Nokomis Parkway\, Minneapolis\, MN\, 55417\, United States
CATEGORIES:Music & Movies in the Parks,Music in the Parks
GEO:44.9114979;-93.2431014
X-APPLE-STRUCTURED-LOCATION;VALUE=URI;X-ADDRESS=Lake Nokomis – Main Beach 4955 W Lake Nokomis Parkway Minneapolis MN 55417 United States;X-APPLE-RADIUS=500;X-TITLE=4955 W Lake Nokomis Parkway:geo:-93.2431014,44.9114979
END:VEVENT
BEGIN:VEVENT
DTSTART;TZID=America/Chicago:20250625T193000
DTEND;TZID=America/Chicago:20250625T193000
DTSTAMP:20260420T203901
CREATED:20250515T183012Z
LAST-MODIFIED:20250515T183012Z
UID:82311-1750879800-1750879800@www.minneapolisparks.org
SUMMARY:Tim Casey & The Martyrs
DESCRIPTION:Rock & Roll
URL:https://www.minneapolisparks.org/event-calendar/tim-casey-the-martyrs-5/
LOCATION:Lake Harriet Bandshell\, Minneapolis\, MN\, United States
CATEGORIES:Music & Movies in the Parks,Music in the Parks
GEO:44.927901;-93.3082473
END:VEVENT
BEGIN:VEVENT
DTSTART;TZID=America/Chicago:20250626T190000
DTEND;TZID=America/Chicago:20250626T190000
DTSTAMP:20260420T203901
CREATED:20250515T205421Z
LAST-MODIFIED:20250515T205421Z
UID:82446-1750964400-1750964400@www.minneapolisparks.org
SUMMARY:Olsen-Gillman Band
DESCRIPTION:Rock
URL:https://www.minneapolisparks.org/event-calendar/olsen-gillman-band/
LOCATION:Minnehaha Bandstand\, Minneapolis\, MN\, United States
CATEGORIES:Music & Movies in the Parks,Music in the Parks
GEO:44.9161006;-93.2109865
END:VEVENT
BEGIN:VEVENT
DTSTART;TZID=America/Chicago:20250626T190000
DTEND;TZID=America/Chicago:20250626T190000
DTSTAMP:20260420T203901
CREATED:20250516T183846Z
LAST-MODIFIED:20250516T183846Z
UID:82585-1750964400-1750964400@www.minneapolisparks.org
SUMMARY:Jack Werner
DESCRIPTION:Rock
URL:https://www.minneapolisparks.org/event-calendar/jack-werner-2/
LOCATION:The Commons\, 425 Portland Ave South\, Minneapolis\, MN\, 55488\, United States
CATEGORIES:Music & Movies in the Parks,Music in the Parks
GEO:44.9766971;-93.2628904
X-APPLE-STRUCTURED-LOCATION;VALUE=URI;X-ADDRESS=The Commons 425 Portland Ave South Minneapolis MN 55488 United States;X-APPLE-RADIUS=500;X-TITLE=425 Portland Ave South:geo:-93.2628904,44.9766971
END:VEVENT
BEGIN:VEVENT
DTSTART;TZID=America/Chicago:20250626T190000
DTEND;TZID=America/Chicago:20250626T190000
DTSTAMP:20260420T203901
CREATED:20250516T192829Z
LAST-MODIFIED:20250613T180200Z
UID:82641-1750964400-1750964400@www.minneapolisparks.org
SUMMARY:Mary Strand & the Garage
DESCRIPTION:Indie Rock
URL:https://www.minneapolisparks.org/event-calendar/listen-to-girls-2/
LOCATION:Bryant Square Park\, 3101 Bryant Ave S\, Minneapolis\, MN\, 55408\, United States
CATEGORIES:Music & Movies in the Parks,Music in the Parks
GEO:44.9461045;-93.2903539
X-APPLE-STRUCTURED-LOCATION;VALUE=URI;X-ADDRESS=Bryant Square Park 3101 Bryant Ave S Minneapolis MN 55408 United States;X-APPLE-RADIUS=500;X-TITLE=3101 Bryant Ave S:geo:-93.2903539,44.9461045
END:VEVENT
END:VCALENDAR