BEGIN:VCALENDAR
VERSION:2.0
PRODID:-//Minneapolis Park &amp; Recreation Board - ECPv6.15.20//NONSGML v1.0//EN
CALSCALE:GREGORIAN
METHOD:PUBLISH
X-ORIGINAL-URL:https://www.minneapolisparks.org
X-WR-CALDESC:Events for Minneapolis Park &amp; Recreation Board
REFRESH-INTERVAL;VALUE=DURATION:PT1H
X-Robots-Tag:noindex
X-PUBLISHED-TTL:PT1H
BEGIN:VTIMEZONE
TZID:America/Chicago
BEGIN:DAYLIGHT
TZOFFSETFROM:-0600
TZOFFSETTO:-0500
TZNAME:CDT
DTSTART:20210314T080000
END:DAYLIGHT
BEGIN:STANDARD
TZOFFSETFROM:-0500
TZOFFSETTO:-0600
TZNAME:CST
DTSTART:20211107T070000
END:STANDARD
BEGIN:DAYLIGHT
TZOFFSETFROM:-0600
TZOFFSETTO:-0500
TZNAME:CDT
DTSTART:20220313T080000
END:DAYLIGHT
BEGIN:STANDARD
TZOFFSETFROM:-0500
TZOFFSETTO:-0600
TZNAME:CST
DTSTART:20221106T070000
END:STANDARD
BEGIN:DAYLIGHT
TZOFFSETFROM:-0600
TZOFFSETTO:-0500
TZNAME:CDT
DTSTART:20230312T080000
END:DAYLIGHT
BEGIN:STANDARD
TZOFFSETFROM:-0500
TZOFFSETTO:-0600
TZNAME:CST
DTSTART:20231105T070000
END:STANDARD
END:VTIMEZONE
BEGIN:VEVENT
DTSTART;TZID=America/Chicago:20220712T183000
DTEND;TZID=America/Chicago:20220712T200000
DTSTAMP:20260421T061101
CREATED:20220421T181919Z
LAST-MODIFIED:20220421T181919Z
UID:57203-1657650600-1657656000@www.minneapolisparks.org
SUMMARY:Purple Queen
DESCRIPTION:Beautiful\, Spirit lifting and healing music!
URL:https://www.minneapolisparks.org/event-calendar/purple-queen/
LOCATION:Bryant Square Park\, 3101 Bryant Ave S\, Minneapolis\, MN\, 55408\, United States
CATEGORIES:Music & Movies in the Parks,Music in the Parks
GEO:44.9461045;-93.2903539
X-APPLE-STRUCTURED-LOCATION;VALUE=URI;X-ADDRESS=Bryant Square Park 3101 Bryant Ave S Minneapolis MN 55408 United States;X-APPLE-RADIUS=500;X-TITLE=3101 Bryant Ave S:geo:-93.2903539,44.9461045
END:VEVENT
BEGIN:VEVENT
DTSTART;TZID=America/Chicago:20220712T190000
DTEND;TZID=America/Chicago:20220712T203000
DTSTAMP:20260421T061101
CREATED:20220421T183347Z
LAST-MODIFIED:20220519T213422Z
UID:57242-1657652400-1657657800@www.minneapolisparks.org
SUMMARY:Wake Eddie
DESCRIPTION:Folk rock with creative energy
URL:https://www.minneapolisparks.org/event-calendar/wake-eddie/
LOCATION:Water Works at Mill Ruins Park\, 425 West River Parkway\, Minneapolis\, MN\, 55401\, United States
CATEGORIES:Music & Movies in the Parks,Music in the Parks
GEO:44.9811921;-93.2620982
X-APPLE-STRUCTURED-LOCATION;VALUE=URI;X-ADDRESS=Water Works at Mill Ruins Park 425 West River Parkway Minneapolis MN 55401 United States;X-APPLE-RADIUS=500;X-TITLE=425 West River Parkway:geo:-93.2620982,44.9811921
END:VEVENT
BEGIN:VEVENT
DTSTART;TZID=America/Chicago:20220712T211500
DTEND;TZID=America/Chicago:20220712T211500
DTSTAMP:20260421T061101
CREATED:20220331T175742Z
LAST-MODIFIED:20220602T210235Z
UID:56668-1657660500-1657660500@www.minneapolisparks.org
SUMMARY:Ice Cream Social and Outdoor Movie: Sing 2
DESCRIPTION:Join us under the stars for the showing of “Sing 2” as part of the music and movies program of the MPRB. Bring blankets\, chairs\, snacks and the family for a night out that is FREE! Join us prior at 7pm for games\, ice cream treats and more which will lead up to the movie night. Movie starts at dusk.
URL:https://www.minneapolisparks.org/event-calendar/outdoor-movie-and-ice-cream-social/
LOCATION:Waite Park\, 1810 34th Ave NE\, Minneapolis\, MN\, 55418\, United States
CATEGORIES:Events- All,Events- MPRB,Movies in the Parks,Music & Movies in the Parks
GEO:45.0301093;-93.23428
X-APPLE-STRUCTURED-LOCATION;VALUE=URI;X-ADDRESS=Waite Park 1810 34th Ave NE Minneapolis MN 55418 United States;X-APPLE-RADIUS=500;X-TITLE=1810 34th Ave NE:geo:-93.23428,45.0301093
END:VEVENT
BEGIN:VEVENT
DTSTART;TZID=America/Chicago:20220713T160000
DTEND;TZID=America/Chicago:20220713T180000
DTSTAMP:20260421T061101
CREATED:20220609T164154Z
LAST-MODIFIED:20220609T164221Z
UID:58610-1657728000-1657735200@www.minneapolisparks.org
SUMMARY:Cycling 101
DESCRIPTION:A youth-focused event that includes a Bike Rodeo\, where Park Police teach bike safety\, onsite bike repair tutorials and a live BMX demo and big air show. \nLocation: Perkins Hill Park
URL:https://www.minneapolisparks.org/event-calendar/cycling-101-2/
LOCATION:Minneapolis\, MN\, 55401\, United States
CATEGORIES:Events- All,Events- MPRB
GEO:44.9836543;-93.2693572
END:VEVENT
BEGIN:VEVENT
DTSTART;TZID=America/Chicago:20220713T160000
DTEND;TZID=America/Chicago:20220713T190000
DTSTAMP:20260421T061101
CREATED:20220711T172310Z
LAST-MODIFIED:20220711T181656Z
UID:59537-1657728000-1657738800@www.minneapolisparks.org
SUMMARY:Twin Cities Mobile Jazz Project
DESCRIPTION:
URL:https://www.minneapolisparks.org/event-calendar/twin-cities-mobile-jazz-project-16/
LOCATION:Sumner Field Park\, Minneapolis\, MN\, United States
CATEGORIES:Music & Movies in the Parks,Music in the Parks
GEO:44.9877604;-93.2920734
END:VEVENT
BEGIN:VEVENT
DTSTART;TZID=America/Chicago:20220713T190000
DTEND;TZID=America/Chicago:20220713T210000
DTSTAMP:20260421T061101
CREATED:20220629T160852Z
LAST-MODIFIED:20220629T160852Z
UID:59167-1657738800-1657746000@www.minneapolisparks.org
SUMMARY:Pop-Up Engagement for 28th St Tot Lot Park Project
DESCRIPTION:
URL:https://www.minneapolisparks.org/event-calendar/pop-up-engagement-for-28th-st-tot-lot-park-project/
LOCATION:Whittier Park\, 425 W 26th St\, Minneapolis\, MN\, 55404\, United States
CATEGORIES:Public Meetings
GEO:44.9551265;-93.2845291
X-APPLE-STRUCTURED-LOCATION;VALUE=URI;X-ADDRESS=Whittier Park 425 W 26th St Minneapolis MN 55404 United States;X-APPLE-RADIUS=500;X-TITLE=425 W 26th St:geo:-93.2845291,44.9551265
END:VEVENT
BEGIN:VEVENT
DTSTART;TZID=America/Chicago:20220713T211500
DTEND;TZID=America/Chicago:20220713T211500
DTSTAMP:20260421T061101
CREATED:20220523T171157Z
LAST-MODIFIED:20220602T210245Z
UID:57981-1657746900-1657746900@www.minneapolisparks.org
SUMMARY:Hidden Figures
DESCRIPTION:Rated PG
URL:https://www.minneapolisparks.org/event-calendar/hidden-figures-7/
LOCATION:The Commons\, 425 Portland Ave South\, Minneapolis\, MN\, 55488\, United States
CATEGORIES:Movies in the Parks,Music & Movies in the Parks
GEO:44.9766971;-93.2628904
X-APPLE-STRUCTURED-LOCATION;VALUE=URI;X-ADDRESS=The Commons 425 Portland Ave South Minneapolis MN 55488 United States;X-APPLE-RADIUS=500;X-TITLE=425 Portland Ave South:geo:-93.2628904,44.9766971
END:VEVENT
BEGIN:VEVENT
DTSTART;TZID=America/Chicago:20220714T163000
DTEND;TZID=America/Chicago:20220714T183000
DTSTAMP:20260421T061101
CREATED:20220606T173109Z
LAST-MODIFIED:20220701T150421Z
UID:58472-1657816200-1657823400@www.minneapolisparks.org
SUMMARY:Preferred Park Concept Open House (In Person) for Cedar-Isles Master Plan
DESCRIPTION:Discuss the Preferred Park Concept with MPRB staff. No formal presentation\, this event allows for informal discussion and Q&A.
URL:https://www.minneapolisparks.org/event-calendar/preferred-park-concept-open-house-in-person-for-cedar-isles-master-plan-2/
LOCATION:Cedar Lake South Beach\, 3500 Cedar Lake Parkway\, Minneapolis\, MN\, 55416\, United States
CATEGORIES:Public Meetings
GEO:44.9537231;-93.3204519
X-APPLE-STRUCTURED-LOCATION;VALUE=URI;X-ADDRESS=Cedar Lake South Beach 3500 Cedar Lake Parkway Minneapolis MN 55416 United States;X-APPLE-RADIUS=500;X-TITLE=3500 Cedar Lake Parkway:geo:-93.3204519,44.9537231
END:VEVENT
BEGIN:VEVENT
DTSTART;TZID=America/Chicago:20220714T170000
DTEND;TZID=America/Chicago:20220714T183000
DTSTAMP:20260421T061101
CREATED:20220421T175757Z
LAST-MODIFIED:20220519T212215Z
UID:57172-1657818000-1657823400@www.minneapolisparks.org
SUMMARY:Annie and the Bang Bang
DESCRIPTION:Dreamy folkpop to swampy psychedelic grooves
URL:https://www.minneapolisparks.org/event-calendar/annie-and-the-bang-bang-2/
LOCATION:The Commons\, 425 Portland Ave South\, Minneapolis\, MN\, 55488\, United States
CATEGORIES:Music & Movies in the Parks,Music in the Parks
GEO:44.9766971;-93.2628904
X-APPLE-STRUCTURED-LOCATION;VALUE=URI;X-ADDRESS=The Commons 425 Portland Ave South Minneapolis MN 55488 United States;X-APPLE-RADIUS=500;X-TITLE=425 Portland Ave South:geo:-93.2628904,44.9766971
END:VEVENT
BEGIN:VEVENT
DTSTART;TZID=America/Chicago:20220714T180000
DTEND;TZID=America/Chicago:20220714T200000
DTSTAMP:20260421T061101
CREATED:20220331T175004Z
LAST-MODIFIED:20220331T175004Z
UID:56664-1657821600-1657828800@www.minneapolisparks.org
SUMMARY:Ice Cream Social
DESCRIPTION:Windom S will be hosting an ICE CREAM Social. There will be ice cream\, music\, kids games and more. Upon registration for this program\, participants agree to follow MPRB requirements related to face coverings and physical distancing. Face coverings are required indoors at all MPRB facilities\, unless otherwise specified by MPRB as part of athletics protocol. Some youth programs\, including childcare and preschool require participants maintain physical distance.
URL:https://www.minneapolisparks.org/event-calendar/ice-cream-social-39/
LOCATION:Windom South Park\, Minneapolis\, MN\, United States
CATEGORIES:Events- All,Events- MPRB
GEO:44.896914;-93.280074
END:VEVENT
BEGIN:VEVENT
DTSTART;TZID=America/Chicago:20220714T180000
DTEND;TZID=America/Chicago:20220714T200000
DTSTAMP:20260421T061101
CREATED:20220331T183304Z
LAST-MODIFIED:20220331T183304Z
UID:56720-1657821600-1657828800@www.minneapolisparks.org
SUMMARY:Dickman Summer Picnic
DESCRIPTION:Join other residents from the St. Anthony West Neighborhood for a Community Picnic. We will have free food\, music entertainment\, special appearance from the 2nd Precinct and other Law Enforcement. This event is co-sponsored by St. Anthony West Neighborhood Organization.
URL:https://www.minneapolisparks.org/event-calendar/dickman-summer-picnic-3/
LOCATION:Dickman Park\, 614 Second St NE\, Minneapolis\, MN\, 55413\, United States
CATEGORIES:Events- All,Events- MPRB
GEO:44.9947597;-93.2636006
X-APPLE-STRUCTURED-LOCATION;VALUE=URI;X-ADDRESS=Dickman Park 614 Second St NE Minneapolis MN 55413 United States;X-APPLE-RADIUS=500;X-TITLE=614 Second St NE:geo:-93.2636006,44.9947597
END:VEVENT
BEGIN:VEVENT
DTSTART;TZID=America/Chicago:20220714T183000
DTEND;TZID=America/Chicago:20220714T183000
DTSTAMP:20260421T061101
CREATED:20220713T193623Z
LAST-MODIFIED:20220713T201302Z
UID:59570-1657823400-1657823400@www.minneapolisparks.org
SUMMARY:86'D Lullaby Concert
DESCRIPTION:Local band playing your favorite songs.
URL:https://www.minneapolisparks.org/event-calendar/86d-lullaby-concert/
LOCATION:Bryant Square Park\, 3101 Bryant Ave S\, Minneapolis\, MN\, 55408\, United States
CATEGORIES:Music & Movies in the Parks,Music in the Parks
GEO:44.9461045;-93.2903539
X-APPLE-STRUCTURED-LOCATION;VALUE=URI;X-ADDRESS=Bryant Square Park 3101 Bryant Ave S Minneapolis MN 55408 United States;X-APPLE-RADIUS=500;X-TITLE=3101 Bryant Ave S:geo:-93.2903539,44.9461045
END:VEVENT
BEGIN:VEVENT
DTSTART;TZID=America/Chicago:20220714T183000
DTEND;TZID=America/Chicago:20220714T200000
DTSTAMP:20260421T061101
CREATED:20220331T175203Z
LAST-MODIFIED:20220331T175203Z
UID:56665-1657823400-1657828800@www.minneapolisparks.org
SUMMARY:Ice Cream Social
DESCRIPTION:Bring the whole family to Pershing Park for a delightful evening of music\, face painting\, crafts\, bounce houses and free Sebastian Joe’s ice cream. Co-sponsored by the Fulton Neighborhood Association.
URL:https://www.minneapolisparks.org/event-calendar/ice-cream-social-40/
LOCATION:Pershing Park\, 3523 W 48th St\, Minneapolis\, MN\, 55410\, United States
CATEGORIES:Events- All,Events- MPRB
GEO:44.9158567;-93.3243725
X-APPLE-STRUCTURED-LOCATION;VALUE=URI;X-ADDRESS=Pershing Park 3523 W 48th St Minneapolis MN 55410 United States;X-APPLE-RADIUS=500;X-TITLE=3523 W 48th St:geo:-93.3243725,44.9158567
END:VEVENT
BEGIN:VEVENT
DTSTART;TZID=America/Chicago:20220714T190000
DTEND;TZID=America/Chicago:20220714T203000
DTSTAMP:20260421T061101
CREATED:20220421T185229Z
LAST-MODIFIED:20220421T185229Z
UID:57270-1657825200-1657830600@www.minneapolisparks.org
SUMMARY:Mumblin' Drew's Oldfangled Orchestrators
DESCRIPTION:Old Time String Band Jazz
URL:https://www.minneapolisparks.org/event-calendar/mumblin-drews-oldfangled-orchestrators/
LOCATION:Minnehaha Park\, Minneapolis\, MN\, United States
CATEGORIES:Music & Movies in the Parks,Music in the Parks
GEO:44.9161006;-93.2109865
END:VEVENT
BEGIN:VEVENT
DTSTART;TZID=America/Chicago:20220714T190000
DTEND;TZID=America/Chicago:20220714T210000
DTSTAMP:20260421T061101
CREATED:20220331T175518Z
LAST-MODIFIED:20220331T175518Z
UID:56667-1657825200-1657832400@www.minneapolisparks.org
SUMMARY:Ice Cream Social
DESCRIPTION:Come on down for an Ice Cream Social; a kickoff to fall youth sports and program registration at Waite Park. Feast on fabulous treats that tantalize your summer taste buds from the Waite Park Community Council. Learn what WPCC has going and mingle with your neighbors while the kids partake in fun activities.
URL:https://www.minneapolisparks.org/event-calendar/ice-cream-social-41/
LOCATION:Waite Park\, 1810 34th Ave NE\, Minneapolis\, MN\, 55418\, United States
CATEGORIES:Events- All,Events- MPRB
GEO:45.0301093;-93.23428
X-APPLE-STRUCTURED-LOCATION;VALUE=URI;X-ADDRESS=Waite Park 1810 34th Ave NE Minneapolis MN 55418 United States;X-APPLE-RADIUS=500;X-TITLE=1810 34th Ave NE:geo:-93.23428,45.0301093
END:VEVENT
BEGIN:VEVENT
DTSTART;TZID=America/Chicago:20220714T193000
DTEND;TZID=America/Chicago:20220714T210000
DTSTAMP:20260421T061101
CREATED:20220421T210217Z
LAST-MODIFIED:20220421T210217Z
UID:57341-1657827000-1657832400@www.minneapolisparks.org
SUMMARY:Josh Cleveland Band
DESCRIPTION:Original Americana Indie Rock Band
URL:https://www.minneapolisparks.org/event-calendar/josh-cleveland-band/
LOCATION:Lake Harriet Bandshell\, Minneapolis\, MN\, United States
CATEGORIES:Music & Movies in the Parks,Music in the Parks
GEO:44.927901;-93.3082473
END:VEVENT
BEGIN:VEVENT
DTSTART;TZID=America/Chicago:20220714T211500
DTEND;TZID=America/Chicago:20220714T211500
DTSTAMP:20260421T061101
CREATED:20220523T171239Z
LAST-MODIFIED:20220602T210252Z
UID:57984-1657833300-1657833300@www.minneapolisparks.org
SUMMARY:Clifford the Big Red Dog
DESCRIPTION:Rated PG
URL:https://www.minneapolisparks.org/event-calendar/clifford-the-big-red-dog/
LOCATION:Live on the Drive\, Victory Memorial Dr & 34th Ave N\, Minneapolis\, MN\, 55412\, United States
CATEGORIES:Movies in the Parks,Music & Movies in the Parks
GEO:45.0169269;-93.3190402
X-APPLE-STRUCTURED-LOCATION;VALUE=URI;X-ADDRESS=Live on the Drive Victory Memorial Dr & 34th Ave N Minneapolis MN 55412 United States;X-APPLE-RADIUS=500;X-TITLE=Victory Memorial Dr & 34th Ave N:geo:-93.3190402,45.0169269
END:VEVENT
BEGIN:VEVENT
DTSTART;TZID=America/Chicago:20220715T100000
DTEND;TZID=America/Chicago:20220717T170000
DTSTAMP:20260421T061101
CREATED:20220621T170945Z
LAST-MODIFIED:20220621T170945Z
UID:58880-1657879200-1658077200@www.minneapolisparks.org
SUMMARY:Minnehaha Falls Art Fair
DESCRIPTION:
URL:https://www.minneapolisparks.org/event-calendar/minnehaha-falls-art-fair-5/
LOCATION:Minnehaha Falls Area\, Minneapolis\, MN\, United States
CATEGORIES:Events- All,Events- Non-MPRB
GEO:44.977753;-93.2650108
END:VEVENT
BEGIN:VEVENT
DTSTART;TZID=America/Chicago:20220715T170000
DTEND;TZID=America/Chicago:20220715T200000
DTSTAMP:20260421T061101
CREATED:20220331T185749Z
LAST-MODIFIED:20220331T185749Z
UID:56736-1657904400-1657915200@www.minneapolisparks.org
SUMMARY:Webber-Camden Community BBQ
DESCRIPTION:Hey neighbors! We really hope to see you at the Webber-Camden community BBQ! FREE FOOD for folks. Burgers and hot dogs\, pulled pork\, coleslaw\, fresh fruit and meatless options for the veggie and vegan folks. Activities include a live DJ\, Bouncy house\, snow cones\, field games and water balloons. Come on by and enjoy a lovely evening in the park!Upon registration for this program\, participants agree to follow MPRB requirements related to face coverings and physical distancing. Face coverings are required indoors at all MPRB facilities\, unless otherwise specified by MPRB as part of athletics protocol. Some youth programs\, including childcare and preschool require participants to maintain physical distance.
URL:https://www.minneapolisparks.org/event-calendar/webber-camden-community-bbq/
LOCATION:Webber Park\, 4300 Webber Parkway\, Minneapolis\, MN\, 55412\, United States
CATEGORIES:Events- All,Events- MPRB
GEO:45.034522;-93.291918
X-APPLE-STRUCTURED-LOCATION;VALUE=URI;X-ADDRESS=Webber Park 4300 Webber Parkway Minneapolis MN 55412 United States;X-APPLE-RADIUS=500;X-TITLE=4300 Webber Parkway:geo:-93.291918,45.034522
END:VEVENT
BEGIN:VEVENT
DTSTART;TZID=America/Chicago:20220715T180000
DTEND;TZID=America/Chicago:20220715T230000
DTSTAMP:20260421T061101
CREATED:20220331T180809Z
LAST-MODIFIED:20220331T180809Z
UID:56693-1657908000-1657926000@www.minneapolisparks.org
SUMMARY:Fun and Movie Night
DESCRIPTION:Come on over to Painter Park for a fun night that will include: jumpy house\, food trucks\, a craft to make & take\, face painting\, caricurturist\, naturalist activities plus neighborhood information tables. \nThen stay for the Free movie in the park! Title: TBD
URL:https://www.minneapolisparks.org/event-calendar/fun-and-movie-night/
LOCATION:Painter Park\, 620 W 34th St\, Minneapolis\, MN\, 55408\, United States
CATEGORIES:Events- All,Events- MPRB
GEO:44.9416634;-93.2876806
X-APPLE-STRUCTURED-LOCATION;VALUE=URI;X-ADDRESS=Painter Park 620 W 34th St Minneapolis MN 55408 United States;X-APPLE-RADIUS=500;X-TITLE=620 W 34th St:geo:-93.2876806,44.9416634
END:VEVENT
BEGIN:VEVENT
DTSTART;TZID=America/Chicago:20220715T190000
DTEND;TZID=America/Chicago:20220715T203000
DTSTAMP:20260421T061101
CREATED:20220421T185242Z
LAST-MODIFIED:20220421T185242Z
UID:57271-1657911600-1657917000@www.minneapolisparks.org
SUMMARY:Trevor McSpadden & Mary Cutrufello
DESCRIPTION:Roots Rock & Country Crooning
URL:https://www.minneapolisparks.org/event-calendar/trevor-mcspadden-mary-cutrufello/
LOCATION:Minnehaha Park\, Minneapolis\, MN\, United States
CATEGORIES:Music & Movies in the Parks,Music in the Parks
GEO:44.9161006;-93.2109865
END:VEVENT
BEGIN:VEVENT
DTSTART;TZID=America/Chicago:20220715T190000
DTEND;TZID=America/Chicago:20220716T190000
DTSTAMP:20260421T061101
CREATED:20220621T170849Z
LAST-MODIFIED:20220621T170849Z
UID:58878-1657911600-1657998000@www.minneapolisparks.org
SUMMARY:20th Annual Dances at the Lake Festival
DESCRIPTION:
URL:https://www.minneapolisparks.org/event-calendar/20th-annual-dances-at-the-lake-festival/
LOCATION:Lyndale Park\, 1300 42nd St W\, Minneapolis\, MN\, 55409\, United States
CATEGORIES:Events- All,Events- Non-MPRB
GEO:44.9275251;-93.2953725
X-APPLE-STRUCTURED-LOCATION;VALUE=URI;X-ADDRESS=Lyndale Park 1300 42nd St W Minneapolis MN 55409 United States;X-APPLE-RADIUS=500;X-TITLE=1300 42nd St W:geo:-93.2953725,44.9275251
END:VEVENT
BEGIN:VEVENT
DTSTART;TZID=America/Chicago:20220715T193000
DTEND;TZID=America/Chicago:20220715T210000
DTSTAMP:20260421T061101
CREATED:20220421T210245Z
LAST-MODIFIED:20220421T210245Z
UID:57342-1657913400-1657918800@www.minneapolisparks.org
SUMMARY:Minnesota Sinfonia
DESCRIPTION:Classical. Pops children’s concert
URL:https://www.minneapolisparks.org/event-calendar/minnesota-sinfonia-11/
LOCATION:Lake Harriet Bandshell\, Minneapolis\, MN\, United States
CATEGORIES:Music & Movies in the Parks,Music in the Parks
GEO:44.927901;-93.3082473
END:VEVENT
BEGIN:VEVENT
DTSTART;TZID=America/Chicago:20220715T211000
DTEND;TZID=America/Chicago:20220715T211000
DTSTAMP:20260421T061101
CREATED:20220523T171324Z
LAST-MODIFIED:20220602T210407Z
UID:57986-1657919400-1657919400@www.minneapolisparks.org
SUMMARY:Encanto
DESCRIPTION:Rated PG
URL:https://www.minneapolisparks.org/event-calendar/encanto/
LOCATION:Corcoran Park\, 3334 20th Ave S\, Minneapolis\, MN\, 55407\, United States
CATEGORIES:Movies in the Parks,Music & Movies in the Parks
GEO:44.9417484;-93.2441925
X-APPLE-STRUCTURED-LOCATION;VALUE=URI;X-ADDRESS=Corcoran Park 3334 20th Ave S Minneapolis MN 55407 United States;X-APPLE-RADIUS=500;X-TITLE=3334 20th Ave S:geo:-93.2441925,44.9417484
END:VEVENT
BEGIN:VEVENT
DTSTART;TZID=America/Chicago:20220716T080000
DTEND;TZID=America/Chicago:20220716T080000
DTSTAMP:20260421T061101
CREATED:20220621T171053Z
LAST-MODIFIED:20220621T171053Z
UID:58882-1657958400-1657958400@www.minneapolisparks.org
SUMMARY:Doggie Walk
DESCRIPTION:
URL:https://www.minneapolisparks.org/event-calendar/doggie-walk-5/
LOCATION:Lake of the Isles\, Minneapolis\, MN\, United States
CATEGORIES:Events- All,Events- Non-MPRB
GEO:44.9583577;-93.3032469
END:VEVENT
BEGIN:VEVENT
DTSTART;TZID=America/Chicago:20220716T090000
DTEND;TZID=America/Chicago:20220716T110000
DTSTAMP:20260421T061101
CREATED:20220606T172955Z
LAST-MODIFIED:20220701T150515Z
UID:58470-1657962000-1657969200@www.minneapolisparks.org
SUMMARY:Preferred Park Concept Open House (In Person) for Cedar-Isles Master Plan
DESCRIPTION:Discuss the Preferred Park Concept with MPRB staff. No formal presentation\, this event allows for informal discussion and Q&A. \nMeeting location is near intersection of Lake of the Isles Parkway and Euclid Place.
URL:https://www.minneapolisparks.org/event-calendar/preferred-park-concept-open-house-in-person-for-cedar-isles-master-plan/
LOCATION:Lake of the Isles\, Minneapolis\, MN\, United States
CATEGORIES:Public Meetings
GEO:44.9583577;-93.3032469
END:VEVENT
BEGIN:VEVENT
DTSTART;TZID=America/Chicago:20220716T130000
DTEND;TZID=America/Chicago:20220716T130000
DTSTAMP:20260421T061101
CREATED:20220523T184246Z
LAST-MODIFIED:20220523T184246Z
UID:58074-1657976400-1657976400@www.minneapolisparks.org
SUMMARY:Chess Tournament at Water Works
DESCRIPTION:Come test your Chess skills\, all ages and abilities are welcome!\nParticipants will be divided by skill level.  All tournaments will be outside at the Water Works (425 West River Road).  Register at: https://www.twincitieschessclub.com/school/Registration.html
URL:https://www.minneapolisparks.org/event-calendar/chess-tournament-at-water-works/2022-07-16/
LOCATION:Water Works at Mill Ruins Park\, 425 West River Parkway\, Minneapolis\, MN\, 55401\, United States
CATEGORIES:Events- All
GEO:44.9811921;-93.2620982
X-APPLE-STRUCTURED-LOCATION;VALUE=URI;X-ADDRESS=Water Works at Mill Ruins Park 425 West River Parkway Minneapolis MN 55401 United States;X-APPLE-RADIUS=500;X-TITLE=425 West River Parkway:geo:-93.2620982,44.9811921
END:VEVENT
BEGIN:VEVENT
DTSTART;TZID=America/Chicago:20220716T193000
DTEND;TZID=America/Chicago:20220716T210000
DTSTAMP:20260421T061101
CREATED:20220422T183616Z
LAST-MODIFIED:20220701T192522Z
UID:57433-1657999800-1658005200@www.minneapolisparks.org
SUMMARY:Minneapolis Pops Orchestra
DESCRIPTION:
URL:https://www.minneapolisparks.org/event-calendar/mn-pops-orchestra-13/
LOCATION:Lake Harriet Bandshell\, Minneapolis\, MN\, United States
CATEGORIES:Music & Movies in the Parks,Music in the Parks
GEO:44.927901;-93.3082473
END:VEVENT
BEGIN:VEVENT
DTSTART;TZID=America/Chicago:20220716T211000
DTEND;TZID=America/Chicago:20220716T211000
DTSTAMP:20260421T061101
CREATED:20220523T171359Z
LAST-MODIFIED:20220602T210413Z
UID:57988-1658005800-1658005800@www.minneapolisparks.org
SUMMARY:The Bad Guys
DESCRIPTION:Rated PG
URL:https://www.minneapolisparks.org/event-calendar/the-bad-guys/
LOCATION:Lake Harriet\, Minneapolis\, MN\, United States
CATEGORIES:Movies in the Parks,Music & Movies in the Parks
GEO:44.927901;-93.3082473
END:VEVENT
BEGIN:VEVENT
DTSTART;TZID=America/Chicago:20220717T100000
DTEND;TZID=America/Chicago:20220717T100000
DTSTAMP:20260421T061101
CREATED:20220621T171255Z
LAST-MODIFIED:20220621T171255Z
UID:58884-1658052000-1658052000@www.minneapolisparks.org
SUMMARY:Twin Cities Beach Blast
DESCRIPTION:
URL:https://www.minneapolisparks.org/event-calendar/twin-cities-beach-blast-2/
LOCATION:Bde Maka Ska\, Bde Maka Ska\, Minneapolis\, MN\, 55416\, United States
CATEGORIES:Events- All,Events- Non-MPRB
GEO:44.9421047;-93.3207807
X-APPLE-STRUCTURED-LOCATION;VALUE=URI;X-ADDRESS=Bde Maka Ska Bde Maka Ska Minneapolis MN 55416 United States;X-APPLE-RADIUS=500;X-TITLE=Bde Maka Ska:geo:-93.3207807,44.9421047
END:VEVENT
END:VCALENDAR