BEGIN:VCALENDAR
VERSION:2.0
PRODID:-//Minneapolis Park &amp; Recreation Board - ECPv6.15.20//NONSGML v1.0//EN
CALSCALE:GREGORIAN
METHOD:PUBLISH
X-WR-CALNAME:Minneapolis Park &amp; Recreation Board
X-ORIGINAL-URL:https://www.minneapolisparks.org
X-WR-CALDESC:Events for Minneapolis Park &amp; Recreation Board
REFRESH-INTERVAL;VALUE=DURATION:PT1H
X-Robots-Tag:noindex
X-PUBLISHED-TTL:PT1H
BEGIN:VTIMEZONE
TZID:America/Chicago
BEGIN:DAYLIGHT
TZOFFSETFROM:-0600
TZOFFSETTO:-0500
TZNAME:CDT
DTSTART:20210314T080000
END:DAYLIGHT
BEGIN:STANDARD
TZOFFSETFROM:-0500
TZOFFSETTO:-0600
TZNAME:CST
DTSTART:20211107T070000
END:STANDARD
BEGIN:DAYLIGHT
TZOFFSETFROM:-0600
TZOFFSETTO:-0500
TZNAME:CDT
DTSTART:20220313T080000
END:DAYLIGHT
BEGIN:STANDARD
TZOFFSETFROM:-0500
TZOFFSETTO:-0600
TZNAME:CST
DTSTART:20221106T070000
END:STANDARD
BEGIN:DAYLIGHT
TZOFFSETFROM:-0600
TZOFFSETTO:-0500
TZNAME:CDT
DTSTART:20230312T080000
END:DAYLIGHT
BEGIN:STANDARD
TZOFFSETFROM:-0500
TZOFFSETTO:-0600
TZNAME:CST
DTSTART:20231105T070000
END:STANDARD
END:VTIMEZONE
BEGIN:VEVENT
DTSTART;TZID=America/Chicago:20220817T160000
DTEND;TZID=America/Chicago:20220817T190000
DTSTAMP:20260420T185832
CREATED:20220701T203125Z
LAST-MODIFIED:20220701T203125Z
UID:59415-1660752000-1660762800@www.minneapolisparks.org
SUMMARY:Twin Cities Mobile Jazz Project
DESCRIPTION:
URL:https://www.minneapolisparks.org/event-calendar/twin-cities-mobile-jazz-project-14/
LOCATION:Powderhorn Park\, 3400 15th Ave S\, Minneapolis\, MN\, 554107\, United States
CATEGORIES:Music & Movies in the Parks,Music in the Parks
GEO:44.9413282;-93.2547875
X-APPLE-STRUCTURED-LOCATION;VALUE=URI;X-ADDRESS=Powderhorn Park 3400 15th Ave S Minneapolis MN 554107 United States;X-APPLE-RADIUS=500;X-TITLE=3400 15th Ave S:geo:-93.2547875,44.9413282
END:VEVENT
BEGIN:VEVENT
DTSTART;TZID=America/Chicago:20220818T170000
DTEND;TZID=America/Chicago:20220818T183000
DTSTAMP:20260420T185832
CREATED:20220421T175858Z
LAST-MODIFIED:20220519T211951Z
UID:57177-1660842000-1660847400@www.minneapolisparks.org
SUMMARY:Samantha Grimes
DESCRIPTION:Acoustic / Singer Songwriter / Pop
URL:https://www.minneapolisparks.org/event-calendar/samantha-grimes-2/
LOCATION:The Commons\, 425 Portland Ave South\, Minneapolis\, MN\, 55488\, United States
CATEGORIES:Music & Movies in the Parks,Music in the Parks
GEO:44.9766971;-93.2628904
X-APPLE-STRUCTURED-LOCATION;VALUE=URI;X-ADDRESS=The Commons 425 Portland Ave South Minneapolis MN 55488 United States;X-APPLE-RADIUS=500;X-TITLE=425 Portland Ave South:geo:-93.2628904,44.9766971
END:VEVENT
BEGIN:VEVENT
DTSTART;TZID=America/Chicago:20220818T190000
DTEND;TZID=America/Chicago:20220818T203000
DTSTAMP:20260420T185832
CREATED:20220421T185651Z
LAST-MODIFIED:20220421T185651Z
UID:57280-1660849200-1660854600@www.minneapolisparks.org
SUMMARY:Six Still Standing
DESCRIPTION:5 decades of spirited rock
URL:https://www.minneapolisparks.org/event-calendar/six-still-standing-3/
LOCATION:Minnehaha Park\, Minneapolis\, MN\, United States
CATEGORIES:Music & Movies in the Parks,Music in the Parks
GEO:44.9161006;-93.2109865
END:VEVENT
BEGIN:VEVENT
DTSTART;TZID=America/Chicago:20220818T193000
DTEND;TZID=America/Chicago:20220818T210000
DTSTAMP:20260420T185832
CREATED:20220421T212032Z
LAST-MODIFIED:20220421T212032Z
UID:57363-1660851000-1660856400@www.minneapolisparks.org
SUMMARY:La Danse Fatale
DESCRIPTION:La Danse Fatale Ballet Company
URL:https://www.minneapolisparks.org/event-calendar/la-danse-fatale-4/
LOCATION:Lake Harriet Bandshell\, Minneapolis\, MN\, United States
CATEGORIES:Music & Movies in the Parks,Music in the Parks
GEO:44.927901;-93.3082473
END:VEVENT
BEGIN:VEVENT
DTSTART;TZID=America/Chicago:20220819T190000
DTEND;TZID=America/Chicago:20220819T203000
DTSTAMP:20260420T185832
CREATED:20220421T185707Z
LAST-MODIFIED:20220421T185707Z
UID:57281-1660935600-1660941000@www.minneapolisparks.org
SUMMARY:Edie Rae & The Blaze Kings
DESCRIPTION:Indie country pop original tunes
URL:https://www.minneapolisparks.org/event-calendar/edie-rae-the-blaze-kings/
LOCATION:Minnehaha Park\, Minneapolis\, MN\, United States
CATEGORIES:Music & Movies in the Parks,Music in the Parks
GEO:44.9161006;-93.2109865
END:VEVENT
BEGIN:VEVENT
DTSTART;TZID=America/Chicago:20220819T193000
DTEND;TZID=America/Chicago:20220819T210000
DTSTAMP:20260420T185832
CREATED:20220421T212710Z
LAST-MODIFIED:20220725T143043Z
UID:57399-1660937400-1660942800@www.minneapolisparks.org
SUMMARY:Star Tribune Music & Movies presented by Bridgewater Bank
DESCRIPTION:DJ Shannon Blowtorch\nPerformance by Band: Tina\nFollowed by movie: The Wiz \nSpecial thanks to our presenting sponsor\, Bridgewater Bank and our event sponsors Bell Museum and\nChanhassen Dinner Theatres.
URL:https://www.minneapolisparks.org/event-calendar/star-tribune-music-movies-presented-by-bridgewater-bank-3/
LOCATION:Lake Harriet Bandshell\, Minneapolis\, MN\, United States
CATEGORIES:Music & Movies in the Parks,Music in the Parks
GEO:44.927901;-93.3082473
END:VEVENT
BEGIN:VEVENT
DTSTART;TZID=America/Chicago:20220820T193000
DTEND;TZID=America/Chicago:20220820T210000
DTSTAMP:20260420T185832
CREATED:20220421T212817Z
LAST-MODIFIED:20220421T212817Z
UID:57400-1661023800-1661029200@www.minneapolisparks.org
SUMMARY:Dred I Dread
DESCRIPTION:Minneapolis Reggae Legends
URL:https://www.minneapolisparks.org/event-calendar/dred-i-dread-4/
LOCATION:Lake Harriet Bandshell\, Minneapolis\, MN\, United States
CATEGORIES:Music & Movies in the Parks,Music in the Parks
GEO:44.927901;-93.3082473
END:VEVENT
BEGIN:VEVENT
DTSTART;TZID=America/Chicago:20220821T140000
DTEND;TZID=America/Chicago:20220821T153000
DTSTAMP:20260420T185832
CREATED:20220421T213626Z
LAST-MODIFIED:20220421T213626Z
UID:57414-1661090400-1661095800@www.minneapolisparks.org
SUMMARY:Los Rebeldes
DESCRIPTION:Danceable music not usually heard
URL:https://www.minneapolisparks.org/event-calendar/los-rebeldes/
LOCATION:Lake Harriet Bandshell\, Minneapolis\, MN\, United States
CATEGORIES:Music & Movies in the Parks,Music in the Parks
GEO:44.927901;-93.3082473
END:VEVENT
BEGIN:VEVENT
DTSTART;TZID=America/Chicago:20220821T173000
DTEND;TZID=America/Chicago:20220821T190000
DTSTAMP:20260420T185832
CREATED:20220421T214149Z
LAST-MODIFIED:20220421T214149Z
UID:57422-1661103000-1661108400@www.minneapolisparks.org
SUMMARY:Rich Lewis Band
DESCRIPTION:Horn drivin’ vocal acoustic Americana
URL:https://www.minneapolisparks.org/event-calendar/rich-lewis-band-5/
LOCATION:Lake Harriet Bandshell\, Minneapolis\, MN\, United States
CATEGORIES:Music & Movies in the Parks,Music in the Parks
GEO:44.927901;-93.3082473
END:VEVENT
BEGIN:VEVENT
DTSTART;TZID=America/Chicago:20220822T193000
DTEND;TZID=America/Chicago:20220822T210000
DTSTAMP:20260420T185832
CREATED:20220421T212841Z
LAST-MODIFIED:20220421T212841Z
UID:57401-1661196600-1661202000@www.minneapolisparks.org
SUMMARY:No Limits the B-Side
DESCRIPTION:Best of yesterday music
URL:https://www.minneapolisparks.org/event-calendar/no-limits-the-b-side-2/
LOCATION:Lake Harriet Bandshell\, Minneapolis\, MN\, United States
CATEGORIES:Music & Movies in the Parks,Music in the Parks
GEO:44.927901;-93.3082473
END:VEVENT
BEGIN:VEVENT
DTSTART;TZID=America/Chicago:20220823T190000
DTEND;TZID=America/Chicago:20220823T203000
DTSTAMP:20260420T185832
CREATED:20220519T212846Z
LAST-MODIFIED:20220519T212846Z
UID:57890-1661281200-1661286600@www.minneapolisparks.org
SUMMARY:The Gefroh Brothers Concert
DESCRIPTION:
URL:https://www.minneapolisparks.org/event-calendar/the-gefroh-brothers-concert/
LOCATION:Water Works at Mill Ruins Park\, 425 West River Parkway\, Minneapolis\, MN\, 55401\, United States
CATEGORIES:Music & Movies in the Parks,Music in the Parks
GEO:44.9811921;-93.2620982
X-APPLE-STRUCTURED-LOCATION;VALUE=URI;X-ADDRESS=Water Works at Mill Ruins Park 425 West River Parkway Minneapolis MN 55401 United States;X-APPLE-RADIUS=500;X-TITLE=425 West River Parkway:geo:-93.2620982,44.9811921
END:VEVENT
BEGIN:VEVENT
DTSTART;TZID=America/Chicago:20220825T170000
DTEND;TZID=America/Chicago:20220825T183000
DTSTAMP:20260420T185832
CREATED:20220421T175922Z
LAST-MODIFIED:20220519T211928Z
UID:57178-1661446800-1661452200@www.minneapolisparks.org
SUMMARY:Greg Herriges
DESCRIPTION:Eclectic mix of original and traditional world music
URL:https://www.minneapolisparks.org/event-calendar/greg-herriges/
LOCATION:The Commons\, 425 Portland Ave South\, Minneapolis\, MN\, 55488\, United States
CATEGORIES:Music & Movies in the Parks,Music in the Parks
GEO:44.9766971;-93.2628904
X-APPLE-STRUCTURED-LOCATION;VALUE=URI;X-ADDRESS=The Commons 425 Portland Ave South Minneapolis MN 55488 United States;X-APPLE-RADIUS=500;X-TITLE=425 Portland Ave South:geo:-93.2628904,44.9766971
END:VEVENT
BEGIN:VEVENT
DTSTART;TZID=America/Chicago:20220825T190000
DTEND;TZID=America/Chicago:20220825T203000
DTSTAMP:20260420T185832
CREATED:20220421T185731Z
LAST-MODIFIED:20220421T185731Z
UID:57282-1661454000-1661459400@www.minneapolisparks.org
SUMMARY:B & The Sting
DESCRIPTION:Roots rock\, reggae and LOVE!
URL:https://www.minneapolisparks.org/event-calendar/b-the-sting-3/
LOCATION:Minnehaha Park\, Minneapolis\, MN\, United States
CATEGORIES:Music & Movies in the Parks,Music in the Parks
GEO:44.9161006;-93.2109865
END:VEVENT
BEGIN:VEVENT
DTSTART;TZID=America/Chicago:20220825T193000
DTEND;TZID=America/Chicago:20220825T210000
DTSTAMP:20260420T185832
CREATED:20220421T212909Z
LAST-MODIFIED:20220421T212909Z
UID:57402-1661455800-1661461200@www.minneapolisparks.org
SUMMARY:Papa Bleu
DESCRIPTION:Heavy soul
URL:https://www.minneapolisparks.org/event-calendar/papa-bleu/
LOCATION:Lake Harriet Bandshell\, Minneapolis\, MN\, United States
CATEGORIES:Music & Movies in the Parks,Music in the Parks
GEO:44.927901;-93.3082473
END:VEVENT
BEGIN:VEVENT
DTSTART;TZID=America/Chicago:20220826T190000
DTEND;TZID=America/Chicago:20220826T203000
DTSTAMP:20260420T185832
CREATED:20220421T184900Z
LAST-MODIFIED:20220421T184900Z
UID:57284-1661540400-1661545800@www.minneapolisparks.org
SUMMARY:Maria and the Coins
DESCRIPTION:Singer-songwriter driven Pop-Rock
URL:https://www.minneapolisparks.org/event-calendar/maria-and-the-coins-3/
LOCATION:Minnehaha Park\, Minneapolis\, MN\, United States
CATEGORIES:Music & Movies in the Parks,Music in the Parks
GEO:44.9161006;-93.2109865
END:VEVENT
BEGIN:VEVENT
DTSTART;TZID=America/Chicago:20220826T193000
DTEND;TZID=America/Chicago:20220826T210000
DTSTAMP:20260420T185832
CREATED:20220421T212933Z
LAST-MODIFIED:20220725T143210Z
UID:57403-1661542200-1661547600@www.minneapolisparks.org
SUMMARY:Star Tribune Music & Movies presented by Bridgewater Bank
DESCRIPTION:DJ Shannon Blowtorch\nPerformance by Band: Turn Turn Turn\nFollowed by movie: Soul \nSpecial thanks to our presenting sponsor\, Bridgewater Bank and our event sponsors Bell Museum and\nChanhassen Dinner Theatres.
URL:https://www.minneapolisparks.org/event-calendar/star-tribune-music-movies-presented-by-bridgewater-bank-4/
LOCATION:Lake Harriet Bandshell\, Minneapolis\, MN\, United States
CATEGORIES:Music & Movies in the Parks,Music in the Parks
GEO:44.927901;-93.3082473
END:VEVENT
BEGIN:VEVENT
DTSTART;TZID=America/Chicago:20220827T193000
DTEND;TZID=America/Chicago:20220827T210000
DTSTAMP:20260420T185832
CREATED:20220421T213041Z
LAST-MODIFIED:20220421T213041Z
UID:57404-1661628600-1661634000@www.minneapolisparks.org
SUMMARY:Star Tribune Music & Movies presented by Bridgewater Bank (Rain Date)
DESCRIPTION:Music in the Park date that is reserved in case of postponement of a show due to rain
URL:https://www.minneapolisparks.org/event-calendar/star-tribune-music-movies-presented-by-bridgewater-bank-rain-date/
LOCATION:Lake Harriet Bandshell\, Minneapolis\, MN\, United States
CATEGORIES:Music & Movies in the Parks,Music in the Parks
GEO:44.927901;-93.3082473
END:VEVENT
BEGIN:VEVENT
DTSTART;TZID=America/Chicago:20220828T140000
DTEND;TZID=America/Chicago:20220828T153000
DTSTAMP:20260420T185832
CREATED:20220421T213604Z
LAST-MODIFIED:20220421T213604Z
UID:57413-1661695200-1661700600@www.minneapolisparks.org
SUMMARY:Westwind Swing Band
DESCRIPTION:Westwind Swing Band
URL:https://www.minneapolisparks.org/event-calendar/westwind-swing-band-2/
LOCATION:Lake Harriet Bandshell\, Minneapolis\, MN\, United States
CATEGORIES:Music & Movies in the Parks,Music in the Parks
GEO:44.927901;-93.3082473
END:VEVENT
BEGIN:VEVENT
DTSTART;TZID=America/Chicago:20220828T173000
DTEND;TZID=America/Chicago:20220828T190000
DTSTAMP:20260420T185832
CREATED:20220421T214215Z
LAST-MODIFIED:20220421T214215Z
UID:57421-1661707800-1661713200@www.minneapolisparks.org
SUMMARY:KGB (Kendra Glenn Band)
DESCRIPTION:Soulful\, entertaining crowd-pleasing\, high-energy band
URL:https://www.minneapolisparks.org/event-calendar/kgb-kendra-glenn-band/
LOCATION:Lake Harriet Bandshell\, Minneapolis\, MN\, United States
CATEGORIES:Music & Movies in the Parks,Music in the Parks
GEO:44.927901;-93.3082473
END:VEVENT
BEGIN:VEVENT
DTSTART;TZID=America/Chicago:20220829T193000
DTEND;TZID=America/Chicago:20220829T210000
DTSTAMP:20260420T185832
CREATED:20220421T213101Z
LAST-MODIFIED:20220421T213101Z
UID:57405-1661801400-1661806800@www.minneapolisparks.org
SUMMARY:Atomic Beat
DESCRIPTION:80s New Wave and Rock
URL:https://www.minneapolisparks.org/event-calendar/atomic-beat/
LOCATION:Lake Harriet Bandshell\, Minneapolis\, MN\, United States
CATEGORIES:Music & Movies in the Parks,Music in the Parks
GEO:44.927901;-93.3082473
END:VEVENT
BEGIN:VEVENT
DTSTART;TZID=America/Chicago:20220830T190000
DTEND;TZID=America/Chicago:20220830T203000
DTSTAMP:20260420T185832
CREATED:20220421T183306Z
LAST-MODIFIED:20220421T183306Z
UID:57245-1661886000-1661891400@www.minneapolisparks.org
SUMMARY:The Gefroh Brothers
DESCRIPTION:Acoustic\, pop\, rock\, indie
URL:https://www.minneapolisparks.org/event-calendar/the-gefroh-brothers/
LOCATION:Water Works at Mill Ruins Park\, 425 West River Parkway\, Minneapolis\, MN\, 55401\, United States
CATEGORIES:Music & Movies in the Parks,Music in the Parks
GEO:44.9811921;-93.2620982
X-APPLE-STRUCTURED-LOCATION;VALUE=URI;X-ADDRESS=Water Works at Mill Ruins Park 425 West River Parkway Minneapolis MN 55401 United States;X-APPLE-RADIUS=500;X-TITLE=425 West River Parkway:geo:-93.2620982,44.9811921
END:VEVENT
BEGIN:VEVENT
DTSTART;TZID=America/Chicago:20220901T170000
DTEND;TZID=America/Chicago:20220901T183000
DTSTAMP:20260420T185832
CREATED:20220421T175943Z
LAST-MODIFIED:20220519T211154Z
UID:57179-1662051600-1662057000@www.minneapolisparks.org
SUMMARY:Dee Bomb
DESCRIPTION:Independent hip hop artist & producer
URL:https://www.minneapolisparks.org/event-calendar/dee-bomb/
LOCATION:The Commons\, 425 Portland Ave South\, Minneapolis\, MN\, 55488\, United States
CATEGORIES:Music & Movies in the Parks,Music in the Parks
GEO:44.9766971;-93.2628904
X-APPLE-STRUCTURED-LOCATION;VALUE=URI;X-ADDRESS=The Commons 425 Portland Ave South Minneapolis MN 55488 United States;X-APPLE-RADIUS=500;X-TITLE=425 Portland Ave South:geo:-93.2628904,44.9766971
END:VEVENT
BEGIN:VEVENT
DTSTART;TZID=America/Chicago:20220901T190000
DTEND;TZID=America/Chicago:20220901T203000
DTSTAMP:20260420T185832
CREATED:20220421T184831Z
LAST-MODIFIED:20220421T184831Z
UID:57285-1662058800-1662064200@www.minneapolisparks.org
SUMMARY:Hypoxic Punks
DESCRIPTION:Folk rock with environmental emphasis
URL:https://www.minneapolisparks.org/event-calendar/hypoxic-punks/
LOCATION:Minnehaha Park\, Minneapolis\, MN\, United States
CATEGORIES:Music & Movies in the Parks,Music in the Parks
GEO:44.9161006;-93.2109865
END:VEVENT
BEGIN:VEVENT
DTSTART;TZID=America/Chicago:20220901T193000
DTEND;TZID=America/Chicago:20220901T210000
DTSTAMP:20260420T185832
CREATED:20220421T211241Z
LAST-MODIFIED:20220421T211241Z
UID:57354-1662060600-1662066000@www.minneapolisparks.org
SUMMARY:Tom\, Dick & Harry
DESCRIPTION:Fun. Alternative\, rockin’ originals/covers
URL:https://www.minneapolisparks.org/event-calendar/tom-dick-harry/
LOCATION:Lake Harriet Bandshell\, Minneapolis\, MN\, United States
CATEGORIES:Music & Movies in the Parks,Music in the Parks
GEO:44.927901;-93.3082473
END:VEVENT
BEGIN:VEVENT
DTSTART;TZID=America/Chicago:20220902T190000
DTEND;TZID=America/Chicago:20220902T203000
DTSTAMP:20260420T185832
CREATED:20220421T184806Z
LAST-MODIFIED:20220421T184806Z
UID:57286-1662145200-1662150600@www.minneapolisparks.org
SUMMARY:Kung Fu Hippies
DESCRIPTION:Feel-good hippie rock
URL:https://www.minneapolisparks.org/event-calendar/kung-fu-hippies-3/
LOCATION:Minnehaha Park\, Minneapolis\, MN\, United States
CATEGORIES:Music & Movies in the Parks,Music in the Parks
GEO:44.9161006;-93.2109865
END:VEVENT
BEGIN:VEVENT
DTSTART;TZID=America/Chicago:20220902T193000
DTEND;TZID=America/Chicago:20220902T210000
DTSTAMP:20260420T185832
CREATED:20220421T211458Z
LAST-MODIFIED:20220421T211458Z
UID:57353-1662147000-1662152400@www.minneapolisparks.org
SUMMARY:Jim Pellinger
DESCRIPTION:Solo acoustic singer-songwriter
URL:https://www.minneapolisparks.org/event-calendar/jim-pellinger-2/
LOCATION:Lake Harriet Bandshell\, Minneapolis\, MN\, United States
CATEGORIES:Music & Movies in the Parks,Music in the Parks
GEO:44.927901;-93.3082473
END:VEVENT
BEGIN:VEVENT
DTSTART;TZID=America/Chicago:20220903T193000
DTEND;TZID=America/Chicago:20220903T210000
DTSTAMP:20260420T185832
CREATED:20220421T211513Z
LAST-MODIFIED:20220421T211513Z
UID:57352-1662233400-1662238800@www.minneapolisparks.org
SUMMARY:Blue Groove
DESCRIPTION:Fun\, contemporary local bluegrass band
URL:https://www.minneapolisparks.org/event-calendar/blue-groove/
LOCATION:Lake Harriet Bandshell\, Minneapolis\, MN\, United States
CATEGORIES:Music & Movies in the Parks,Music in the Parks
GEO:44.927901;-93.3082473
END:VEVENT
BEGIN:VEVENT
DTSTART;TZID=America/Chicago:20220904T140000
DTEND;TZID=America/Chicago:20220904T153000
DTSTAMP:20260420T185832
CREATED:20220421T212207Z
LAST-MODIFIED:20220421T212207Z
UID:57393-1662300000-1662305400@www.minneapolisparks.org
SUMMARY:The Jolly Pops
DESCRIPTION:Happy Dads Playing Family Music
URL:https://www.minneapolisparks.org/event-calendar/the-jolly-pops-2/
LOCATION:Lake Harriet Bandshell\, Minneapolis\, MN\, United States
CATEGORIES:Music & Movies in the Parks,Music in the Parks
GEO:44.927901;-93.3082473
END:VEVENT
BEGIN:VEVENT
DTSTART;TZID=America/Chicago:20220904T173000
DTEND;TZID=America/Chicago:20220904T190000
DTSTAMP:20260420T185832
CREATED:20220421T212321Z
LAST-MODIFIED:20220421T212321Z
UID:57395-1662312600-1662318000@www.minneapolisparks.org
SUMMARY:Dan Chouinard and Ann Reed
DESCRIPTION:Sing Along
URL:https://www.minneapolisparks.org/event-calendar/dan-chouinard-and-ann-reed/
LOCATION:Lake Harriet Bandshell\, Minneapolis\, MN\, United States
CATEGORIES:Music & Movies in the Parks,Music in the Parks
GEO:44.927901;-93.3082473
END:VEVENT
BEGIN:VEVENT
DTSTART;TZID=America/Chicago:20220905T173000
DTEND;TZID=America/Chicago:20220905T190000
DTSTAMP:20260420T185832
CREATED:20220421T212337Z
LAST-MODIFIED:20220421T212337Z
UID:57394-1662399000-1662404400@www.minneapolisparks.org
SUMMARY:Socaholix
DESCRIPTION:A high energy Caribbean dance band
URL:https://www.minneapolisparks.org/event-calendar/socaholix-3/
LOCATION:Lake Harriet Bandshell\, Minneapolis\, MN\, United States
CATEGORIES:Music & Movies in the Parks,Music in the Parks
GEO:44.927901;-93.3082473
END:VEVENT
END:VCALENDAR