BEGIN:VCALENDAR
VERSION:2.0
PRODID:-//Minneapolis Park &amp; Recreation Board - ECPv6.15.20//NONSGML v1.0//EN
CALSCALE:GREGORIAN
METHOD:PUBLISH
X-ORIGINAL-URL:https://www.minneapolisparks.org
X-WR-CALDESC:Events for Minneapolis Park &amp; Recreation Board
REFRESH-INTERVAL;VALUE=DURATION:PT1H
X-Robots-Tag:noindex
X-PUBLISHED-TTL:PT1H
BEGIN:VTIMEZONE
TZID:America/Chicago
BEGIN:DAYLIGHT
TZOFFSETFROM:-0600
TZOFFSETTO:-0500
TZNAME:CDT
DTSTART:20210314T080000
END:DAYLIGHT
BEGIN:STANDARD
TZOFFSETFROM:-0500
TZOFFSETTO:-0600
TZNAME:CST
DTSTART:20211107T070000
END:STANDARD
BEGIN:DAYLIGHT
TZOFFSETFROM:-0600
TZOFFSETTO:-0500
TZNAME:CDT
DTSTART:20220313T080000
END:DAYLIGHT
BEGIN:STANDARD
TZOFFSETFROM:-0500
TZOFFSETTO:-0600
TZNAME:CST
DTSTART:20221106T070000
END:STANDARD
BEGIN:DAYLIGHT
TZOFFSETFROM:-0600
TZOFFSETTO:-0500
TZNAME:CDT
DTSTART:20230312T080000
END:DAYLIGHT
BEGIN:STANDARD
TZOFFSETFROM:-0500
TZOFFSETTO:-0600
TZNAME:CST
DTSTART:20231105T070000
END:STANDARD
END:VTIMEZONE
BEGIN:VEVENT
DTSTART;TZID=America/Chicago:20220704T103000
DTEND;TZID=America/Chicago:20220704T120000
DTSTAMP:20260421T110459
CREATED:20220628T174857Z
LAST-MODIFIED:20220628T174857Z
UID:59137-1656930600-1656936000@www.minneapolisparks.org
SUMMARY:July Fourth Event
DESCRIPTION:Roundabouts Concert\nCaricature Artists
URL:https://www.minneapolisparks.org/event-calendar/july-fourth-event/
LOCATION:Lake Harriet\, Minneapolis\, MN\, United States
CATEGORIES:Events- All,Events- MPRB
GEO:44.927901;-93.3082473
END:VEVENT
BEGIN:VEVENT
DTSTART;TZID=America/Chicago:20220704T130000
DTEND;TZID=America/Chicago:20220704T150000
DTSTAMP:20260421T110459
CREATED:20220628T174946Z
LAST-MODIFIED:20220628T174946Z
UID:59139-1656939600-1656946800@www.minneapolisparks.org
SUMMARY:Lake Nokomis July Fourth Event
DESCRIPTION:Kids DJ\nYard Games\nBalloon Artists
URL:https://www.minneapolisparks.org/event-calendar/lake-nokomis-july-fourth-event/
LOCATION:Lake Nokomis\, Minneapolis\, MN\, United States
CATEGORIES:Events- All,Events- MPRB
GEO:44.9114979;-93.2431014
END:VEVENT
BEGIN:VEVENT
DTSTART;TZID=America/Chicago:20220704T130000
DTEND;TZID=America/Chicago:20220704T150000
DTSTAMP:20260421T110459
CREATED:20220628T175116Z
LAST-MODIFIED:20220628T175116Z
UID:59143-1656939600-1656946800@www.minneapolisparks.org
SUMMARY:Victory Park July Fourth Event
DESCRIPTION:Balloon Artists\nStrolling Magician\nFamily Lawn Games
URL:https://www.minneapolisparks.org/event-calendar/victory-park-july-fourth-event/
LOCATION:Minneapolis\, MN\, 55401\, United States
CATEGORIES:Events- All,Events- MPRB
GEO:44.9836543;-93.2693572
END:VEVENT
BEGIN:VEVENT
DTSTART;TZID=America/Chicago:20220704T150000
DTEND;TZID=America/Chicago:20220704T170000
DTSTAMP:20260421T110459
CREATED:20220628T175035Z
LAST-MODIFIED:20220628T175035Z
UID:59141-1656946800-1656954000@www.minneapolisparks.org
SUMMARY:Logan Park July Fourth Event
DESCRIPTION:Balloon Artists\nComedy Show\nCaricature Artist
URL:https://www.minneapolisparks.org/event-calendar/logan-park-july-fourth-event/
LOCATION:Logan Park\, 690 13th Ave NE\, Minneapolis\, MN\, 55413\, United States
CATEGORIES:Events- All,Events- MPRB
GEO:45.0006735;-93.2568797
X-APPLE-STRUCTURED-LOCATION;VALUE=URI;X-ADDRESS=Logan Park 690 13th Ave NE Minneapolis MN 55413 United States;X-APPLE-RADIUS=500;X-TITLE=690 13th Ave NE:geo:-93.2568797,45.0006735
END:VEVENT
BEGIN:VEVENT
DTSTART;TZID=America/Chicago:20220704T190000
DTEND;TZID=America/Chicago:20220704T203000
DTSTAMP:20260421T110459
CREATED:20220519T213707Z
LAST-MODIFIED:20220519T213707Z
UID:57909-1656961200-1656966600@www.minneapolisparks.org
SUMMARY:Opera Under the Stars
DESCRIPTION:
URL:https://www.minneapolisparks.org/event-calendar/opera-under-the-stars-2/
LOCATION:Water Works at Mill Ruins Park\, 425 West River Parkway\, Minneapolis\, MN\, 55401\, United States
CATEGORIES:Music & Movies in the Parks,Music in the Parks
GEO:44.9811921;-93.2620982
X-APPLE-STRUCTURED-LOCATION;VALUE=URI;X-ADDRESS=Water Works at Mill Ruins Park 425 West River Parkway Minneapolis MN 55401 United States;X-APPLE-RADIUS=500;X-TITLE=425 West River Parkway:geo:-93.2620982,44.9811921
END:VEVENT
BEGIN:VEVENT
DTSTART;TZID=America/Chicago:20220705T183000
DTEND;TZID=America/Chicago:20220705T200000
DTSTAMP:20260421T110459
CREATED:20220421T181941Z
LAST-MODIFIED:20220421T181941Z
UID:57201-1657045800-1657051200@www.minneapolisparks.org
SUMMARY:Cindy Lawson
DESCRIPTION:Shimmery retro pop and rock
URL:https://www.minneapolisparks.org/event-calendar/cindy-lawson-2/
LOCATION:Bryant Square Park\, 3101 Bryant Ave S\, Minneapolis\, MN\, 55408\, United States
CATEGORIES:Music & Movies in the Parks,Music in the Parks
GEO:44.9461045;-93.2903539
X-APPLE-STRUCTURED-LOCATION;VALUE=URI;X-ADDRESS=Bryant Square Park 3101 Bryant Ave S Minneapolis MN 55408 United States;X-APPLE-RADIUS=500;X-TITLE=3101 Bryant Ave S:geo:-93.2903539,44.9461045
END:VEVENT
BEGIN:VEVENT
DTSTART;TZID=America/Chicago:20220705T211500
DTEND;TZID=America/Chicago:20220705T211500
DTSTAMP:20260421T110459
CREATED:20220523T170611Z
LAST-MODIFIED:20220602T210134Z
UID:57965-1657055700-1657055700@www.minneapolisparks.org
SUMMARY:The Mitchells vs the Machines
DESCRIPTION:Rated PG
URL:https://www.minneapolisparks.org/event-calendar/the-mitchells-vs-the-machines/
LOCATION:Lyndale Park Gardens\, 1300 42nd St W\, Minneapolis\, MN\, 55409\, United States
CATEGORIES:Movies in the Parks,Music & Movies in the Parks
GEO:44.9275251;-93.2953725
X-APPLE-STRUCTURED-LOCATION;VALUE=URI;X-ADDRESS=Lyndale Park Gardens 1300 42nd St W Minneapolis MN 55409 United States;X-APPLE-RADIUS=500;X-TITLE=1300 42nd St W:geo:-93.2953725,44.9275251
END:VEVENT
BEGIN:VEVENT
DTSTART;TZID=America/Chicago:20220706T160000
DTEND;TZID=America/Chicago:20220706T190000
DTSTAMP:20260421T110459
CREATED:20220701T202742Z
LAST-MODIFIED:20220701T202742Z
UID:59404-1657123200-1657134000@www.minneapolisparks.org
SUMMARY:Twin Cities Mobile Jazz Project
DESCRIPTION:
URL:https://www.minneapolisparks.org/event-calendar/twin-cities-mobile-jazz-project-9/
LOCATION:Logan Park\, 690 13th Ave NE\, Minneapolis\, MN\, 55413\, United States
CATEGORIES:Music & Movies in the Parks,Music in the Parks
GEO:45.0006735;-93.2568797
X-APPLE-STRUCTURED-LOCATION;VALUE=URI;X-ADDRESS=Logan Park 690 13th Ave NE Minneapolis MN 55413 United States;X-APPLE-RADIUS=500;X-TITLE=690 13th Ave NE:geo:-93.2568797,45.0006735
END:VEVENT
BEGIN:VEVENT
DTSTART;TZID=America/Chicago:20220706T211500
DTEND;TZID=America/Chicago:20220706T211500
DTSTAMP:20260421T110459
CREATED:20220523T170726Z
LAST-MODIFIED:20220602T210139Z
UID:57967-1657142100-1657142100@www.minneapolisparks.org
SUMMARY:Edward Scissorhands
DESCRIPTION:Rated PG-13
URL:https://www.minneapolisparks.org/event-calendar/edward-scissorhands/
LOCATION:The Commons\, 425 Portland Ave South\, Minneapolis\, MN\, 55488\, United States
CATEGORIES:Movies in the Parks,Music & Movies in the Parks
GEO:44.9766971;-93.2628904
X-APPLE-STRUCTURED-LOCATION;VALUE=URI;X-ADDRESS=The Commons 425 Portland Ave South Minneapolis MN 55488 United States;X-APPLE-RADIUS=500;X-TITLE=425 Portland Ave South:geo:-93.2628904,44.9766971
END:VEVENT
BEGIN:VEVENT
DTSTART;TZID=America/Chicago:20220707T170000
DTEND;TZID=America/Chicago:20220707T183000
DTSTAMP:20260421T110459
CREATED:20220421T175738Z
LAST-MODIFIED:20220519T212232Z
UID:57171-1657213200-1657218600@www.minneapolisparks.org
SUMMARY:Maryann and the Money Makers
DESCRIPTION:Foot-tapping jazz
URL:https://www.minneapolisparks.org/event-calendar/maryann-and-the-money-makers/
LOCATION:The Commons\, 425 Portland Ave South\, Minneapolis\, MN\, 55488\, United States
CATEGORIES:Music & Movies in the Parks,Music in the Parks
GEO:44.9766971;-93.2628904
X-APPLE-STRUCTURED-LOCATION;VALUE=URI;X-ADDRESS=The Commons 425 Portland Ave South Minneapolis MN 55488 United States;X-APPLE-RADIUS=500;X-TITLE=425 Portland Ave South:geo:-93.2628904,44.9766971
END:VEVENT
BEGIN:VEVENT
DTSTART;TZID=America/Chicago:20220707T183000
DTEND;TZID=America/Chicago:20220707T200000
DTSTAMP:20260421T110459
CREATED:20220421T181931Z
LAST-MODIFIED:20220525T185320Z
UID:57202-1657218600-1657224000@www.minneapolisparks.org
SUMMARY:Karaoke Night
DESCRIPTION:Bring your best karaoke performance!
URL:https://www.minneapolisparks.org/event-calendar/karaoke-night/
LOCATION:Bryant Square Park\, 3101 Bryant Ave S\, Minneapolis\, MN\, 55408\, United States
CATEGORIES:Music & Movies in the Parks,Music in the Parks
GEO:44.9461045;-93.2903539
X-APPLE-STRUCTURED-LOCATION;VALUE=URI;X-ADDRESS=Bryant Square Park 3101 Bryant Ave S Minneapolis MN 55408 United States;X-APPLE-RADIUS=500;X-TITLE=3101 Bryant Ave S:geo:-93.2903539,44.9461045
END:VEVENT
BEGIN:VEVENT
DTSTART;TZID=America/Chicago:20220707T190000
DTEND;TZID=America/Chicago:20220707T190000
DTSTAMP:20260421T110459
CREATED:20220621T163102Z
LAST-MODIFIED:20220621T163102Z
UID:58876-1657220400-1657220400@www.minneapolisparks.org
SUMMARY:Live on the Drive
DESCRIPTION:
URL:https://www.minneapolisparks.org/event-calendar/live-on-the-drive-10/
LOCATION:Victory Memorial Drive\, Victory Memorial Drive\, Minneapolis\, MN\, United States
CATEGORIES:Events- All,Events- Non-MPRB
GEO:45.0311986;-93.3193329
X-APPLE-STRUCTURED-LOCATION;VALUE=URI;X-ADDRESS=Victory Memorial Drive Victory Memorial Drive Minneapolis MN United States;X-APPLE-RADIUS=500;X-TITLE=Victory Memorial Drive:geo:-93.3193329,45.0311986
END:VEVENT
BEGIN:VEVENT
DTSTART;TZID=America/Chicago:20220707T190000
DTEND;TZID=America/Chicago:20220707T203000
DTSTAMP:20260421T110459
CREATED:20220421T185148Z
LAST-MODIFIED:20220421T185148Z
UID:57268-1657220400-1657225800@www.minneapolisparks.org
SUMMARY:The Way Back Yard Boys
DESCRIPTION:Three part harmony fiddle music
URL:https://www.minneapolisparks.org/event-calendar/the-way-back-yard-boys/
LOCATION:Minnehaha Park\, Minneapolis\, MN\, United States
CATEGORIES:Music & Movies in the Parks,Music in the Parks
GEO:44.9161006;-93.2109865
END:VEVENT
BEGIN:VEVENT
DTSTART;TZID=America/Chicago:20220707T193000
DTEND;TZID=America/Chicago:20220707T210000
DTSTAMP:20260421T110459
CREATED:20220421T210002Z
LAST-MODIFIED:20220421T210002Z
UID:57337-1657222200-1657227600@www.minneapolisparks.org
SUMMARY:Jaspar Lepak
DESCRIPTION:Heartfelt folk Americana
URL:https://www.minneapolisparks.org/event-calendar/jaspar-lepak-4/
LOCATION:Lake Harriet Bandshell\, Minneapolis\, MN\, United States
CATEGORIES:Music & Movies in the Parks,Music in the Parks
GEO:44.927901;-93.3082473
END:VEVENT
BEGIN:VEVENT
DTSTART;TZID=America/Chicago:20220708T190000
DTEND;TZID=America/Chicago:20220708T203000
DTSTAMP:20260421T110459
CREATED:20220421T185206Z
LAST-MODIFIED:20220506T184129Z
UID:57269-1657306800-1657312200@www.minneapolisparks.org
SUMMARY:Andy Ulseth and Special Guest Laura Hugo
DESCRIPTION:Celebratory folk rock from Minneapolis
URL:https://www.minneapolisparks.org/event-calendar/andy-ulseth/
LOCATION:Minnehaha Park\, Minneapolis\, MN\, United States
CATEGORIES:Music & Movies in the Parks,Music in the Parks
GEO:44.9161006;-93.2109865
END:VEVENT
BEGIN:VEVENT
DTSTART;TZID=America/Chicago:20220708T193000
DTEND;TZID=America/Chicago:20220708T210000
DTSTAMP:20260421T110459
CREATED:20220421T210045Z
LAST-MODIFIED:20220622T195128Z
UID:57338-1657308600-1657314000@www.minneapolisparks.org
SUMMARY:Minnesota Orchestra
DESCRIPTION:Classical favorites performed by the Grammy-award winning Minnesota Orchestra.
URL:https://www.minneapolisparks.org/event-calendar/mn-orchestra/
LOCATION:Lake Harriet Bandshell\, Minneapolis\, MN\, United States
CATEGORIES:Music & Movies in the Parks,Music in the Parks
GEO:44.927901;-93.3082473
END:VEVENT
BEGIN:VEVENT
DTSTART;TZID=America/Chicago:20220708T211500
DTEND;TZID=America/Chicago:20220708T211500
DTSTAMP:20260421T110459
CREATED:20220331T175323Z
LAST-MODIFIED:20220602T210215Z
UID:56666-1657314900-1657314900@www.minneapolisparks.org
SUMMARY:Ice Cream Social and Movie in the Park: American Underdog
DESCRIPTION:Summer is in full swing\, come down and grab some free ice cream. Inflatables for kids and ice cream for all. Donations are accepted and will proceed Hiawatha School Park athletics. Finish the night off with a movie in the park. Movie: American Underdog; The Kurt Warner Story. Movie starts at dusk.
URL:https://www.minneapolisparks.org/event-calendar/ice-cream-social-and-movie-in-the-park-5/
LOCATION:Hiawatha School Park\, 4305 E 42nd St\, Minneapolis\, MN\, 55406\, United States
CATEGORIES:Events- All,Events- MPRB,Movies in the Parks,Music & Movies in the Parks
GEO:44.9264488;-93.2112783
X-APPLE-STRUCTURED-LOCATION;VALUE=URI;X-ADDRESS=Hiawatha School Park 4305 E 42nd St Minneapolis MN 55406 United States;X-APPLE-RADIUS=500;X-TITLE=4305 E 42nd St:geo:-93.2112783,44.9264488
END:VEVENT
BEGIN:VEVENT
DTSTART;TZID=America/Chicago:20220709T173000
DTEND;TZID=America/Chicago:20220709T173000
DTSTAMP:20260421T110459
CREATED:20220523T185341Z
LAST-MODIFIED:20220525T185503Z
UID:58090-1657387800-1657387800@www.minneapolisparks.org
SUMMARY:MacPhail at Water Works presents Sounds of Summer
DESCRIPTION:MacPhail at Water Works presents Sounds of Summer with performances by MacPhail faculty and students. A variety of ages\, styles\, and instruments will make this an afternoon to remember. Moving into evening\, the event culminates with a special concert by Nachito Herrara and his trio described by the Star Tribune as “explosive. Crowd-pleasing. Rhythmically intense. Romantic. Dynamic. Jaw-droppingly good.”
URL:https://www.minneapolisparks.org/event-calendar/macphail-at-water-works-presents-sounds-of-summer/
LOCATION:Water Works at Mill Ruins Park\, 425 West River Parkway\, Minneapolis\, MN\, 55401\, United States
CATEGORIES:Music & Movies in the Parks,Music in the Parks
GEO:44.9811921;-93.2620982
X-APPLE-STRUCTURED-LOCATION;VALUE=URI;X-ADDRESS=Water Works at Mill Ruins Park 425 West River Parkway Minneapolis MN 55401 United States;X-APPLE-RADIUS=500;X-TITLE=425 West River Parkway:geo:-93.2620982,44.9811921
END:VEVENT
BEGIN:VEVENT
DTSTART;TZID=America/Chicago:20220709T173000
DTEND;TZID=America/Chicago:20220709T200000
DTSTAMP:20260421T110459
CREATED:20220519T213604Z
LAST-MODIFIED:20220519T213604Z
UID:57906-1657387800-1657396800@www.minneapolisparks.org
SUMMARY:MacPhail Faculty Concert
DESCRIPTION:
URL:https://www.minneapolisparks.org/event-calendar/macphail-faculty-concert/
LOCATION:Water Works at Mill Ruins Park\, 425 West River Parkway\, Minneapolis\, MN\, 55401\, United States
CATEGORIES:Music & Movies in the Parks,Music in the Parks
GEO:44.9811921;-93.2620982
X-APPLE-STRUCTURED-LOCATION;VALUE=URI;X-ADDRESS=Water Works at Mill Ruins Park 425 West River Parkway Minneapolis MN 55401 United States;X-APPLE-RADIUS=500;X-TITLE=425 West River Parkway:geo:-93.2620982,44.9811921
END:VEVENT
BEGIN:VEVENT
DTSTART;TZID=America/Chicago:20220709T193000
DTEND;TZID=America/Chicago:20220709T210000
DTSTAMP:20260421T110459
CREATED:20220421T210108Z
LAST-MODIFIED:20220603T194556Z
UID:57339-1657395000-1657400400@www.minneapolisparks.org
SUMMARY:Minneapolis Pops Orchestra
DESCRIPTION:
URL:https://www.minneapolisparks.org/event-calendar/mn-pops-orchestra-9/
LOCATION:Lake Harriet Bandshell\, Minneapolis\, MN\, United States
CATEGORIES:Music & Movies in the Parks,Music in the Parks
GEO:44.927901;-93.3082473
END:VEVENT
BEGIN:VEVENT
DTSTART;TZID=America/Chicago:20220709T211500
DTEND;TZID=America/Chicago:20220709T211500
DTSTAMP:20260421T110459
CREATED:20220331T172758Z
LAST-MODIFIED:20220602T210220Z
UID:56648-1657401300-1657401300@www.minneapolisparks.org
SUMMARY:Young Frankenstein
DESCRIPTION:“Young Frankenstein\,” Brooks’s 1974 homage to the Golden Age of monster movies\, features a large ensemble cast including Leachman\, Garr\, Gene Wilder\, Peter Boyle\, Marty Feldman\, Madeline Kahn\, Kenneth Mars and Gene Hackman. It earned Oscar® nominations for Adapted Screenplay (Wilder\, Brooks) and Sound (Richard Portman\, Gene Cantamessa). Special games\, MIA Art\, beer\, pizza and ice cream for sale. Movie begins at dusk. Activities start at 7:30pm
URL:https://www.minneapolisparks.org/event-calendar/outdoor-movie-in-the-park-young-frankenstein/
LOCATION:Lake Nokomis Community Center\, 2401 E Minnehaha Parkway\, Minneapolis\, MN\, 55417\, United States
CATEGORIES:Events- All,Events- MPRB,Movies in the Parks,Music & Movies in the Parks
GEO:44.9157107;-93.2366016
X-APPLE-STRUCTURED-LOCATION;VALUE=URI;X-ADDRESS=Lake Nokomis Community Center 2401 E Minnehaha Parkway Minneapolis MN 55417 United States;X-APPLE-RADIUS=500;X-TITLE=2401 E Minnehaha Parkway:geo:-93.2366016,44.9157107
END:VEVENT
BEGIN:VEVENT
DTSTART;TZID=America/Chicago:20220710T140000
DTEND;TZID=America/Chicago:20220710T153000
DTSTAMP:20260421T110459
CREATED:20220422T183321Z
LAST-MODIFIED:20220701T192508Z
UID:57431-1657461600-1657467000@www.minneapolisparks.org
SUMMARY:Sesay
DESCRIPTION:Raw\, unique\, rhythmic\, musical & entertaining
URL:https://www.minneapolisparks.org/event-calendar/sesay-3/
LOCATION:Lake Harriet Bandshell\, Minneapolis\, MN\, United States
CATEGORIES:Music & Movies in the Parks,Music in the Parks
GEO:44.927901;-93.3082473
END:VEVENT
BEGIN:VEVENT
DTSTART;TZID=America/Chicago:20220710T173000
DTEND;TZID=America/Chicago:20220710T190000
DTSTAMP:20260421T110459
CREATED:20220422T185041Z
LAST-MODIFIED:20220701T192502Z
UID:57439-1657474200-1657479600@www.minneapolisparks.org
SUMMARY:Minneapolis Pops Orchestra
DESCRIPTION:
URL:https://www.minneapolisparks.org/event-calendar/mn-pops-orchestra-15/
LOCATION:Lake Harriet Bandshell\, Minneapolis\, MN\, United States
CATEGORIES:Music & Movies in the Parks,Music in the Parks
GEO:44.927901;-93.3082473
END:VEVENT
BEGIN:VEVENT
DTSTART;TZID=America/Chicago:20220711T160000
DTEND;TZID=America/Chicago:20220711T233000
DTSTAMP:20260421T110459
CREATED:20220701T184105Z
LAST-MODIFIED:20220701T184105Z
UID:59395-1657555200-1657582200@www.minneapolisparks.org
SUMMARY:Northeast Summer Celebration
DESCRIPTION:Big party at Northeast Park July 11\, 4-11 pm! Celebrate 25 years of NE/SE Soccer\, youth baseball game honors Twins legends\, dedicate the new playground\, plus Movie in the Park\, “Field of Dreams” at dusk! \nActivities Schedule\n4-8 pm: Pop-Up Park activity trailer and staff will be onsite\n4-8 pm: Book Buggy gives away free books for youth and families\n5:30-8 pm: Free face painting\n5:45 pm: New playground dedication ceremony\n6-8 pm: Balloon Artist\n6:15-8:30 pm: NE/SE Soccer games\n6:30-8:30 pm: RBI Baseball game\n9:15-11 pm: Special Movie in the Park outdoor screening of “Field of Dreams”
URL:https://www.minneapolisparks.org/event-calendar/northeast-summer-celebration/
LOCATION:Northeast Park\, 1530 Johnson St NE\, Minneapolis\, MN\, 55413\, United States
CATEGORIES:Events- All,Events- MPRB
GEO:45.0039194;-93.2379239
X-APPLE-STRUCTURED-LOCATION;VALUE=URI;X-ADDRESS=Northeast Park 1530 Johnson St NE Minneapolis MN 55413 United States;X-APPLE-RADIUS=500;X-TITLE=1530 Johnson St NE:geo:-93.2379239,45.0039194
END:VEVENT
BEGIN:VEVENT
DTSTART;TZID=America/Chicago:20220711T190000
DTEND;TZID=America/Chicago:20220711T190000
DTSTAMP:20260421T110459
CREATED:20220519T213507Z
LAST-MODIFIED:20220519T213507Z
UID:57903-1657566000-1657566000@www.minneapolisparks.org
SUMMARY:Nanilo Sings
DESCRIPTION:
URL:https://www.minneapolisparks.org/event-calendar/nanilo-sings/
LOCATION:Water Works at Mill Ruins Park\, 425 West River Parkway\, Minneapolis\, MN\, 55401\, United States
CATEGORIES:Music & Movies in the Parks,Music in the Parks
GEO:44.9811921;-93.2620982
X-APPLE-STRUCTURED-LOCATION;VALUE=URI;X-ADDRESS=Water Works at Mill Ruins Park 425 West River Parkway Minneapolis MN 55401 United States;X-APPLE-RADIUS=500;X-TITLE=425 West River Parkway:geo:-93.2620982,44.9811921
END:VEVENT
BEGIN:VEVENT
DTSTART;TZID=America/Chicago:20220711T190000
DTEND;TZID=America/Chicago:20220711T190000
DTSTAMP:20260421T110459
CREATED:20220523T185032Z
LAST-MODIFIED:20220525T185610Z
UID:58084-1657566000-1657566000@www.minneapolisparks.org
SUMMARY:Nanilo Sings
DESCRIPTION:Nanilo is a duo of women singing songs of diaspora. Nanilo traces musical lines to tradition from Jewish and Eastern European roots. Singing entirely in the songs’ original languages\, including Yiddish\, Russian\, Ladino\, Hebrew\, and more\, the duo showcases the way music has moved through generations of immigrants arriving to North America. With the tight harmonies of a family band and the accompaniment of a banjo\, fiddle\, and drum\, Nanilo brings you onto a familiar front porch — if your front porch were in Grajevo or Breznitsa
URL:https://www.minneapolisparks.org/event-calendar/nanilo-sings-2/
LOCATION:Water Works at Mill Ruins Park\, 425 West River Parkway\, Minneapolis\, MN\, 55401\, United States
CATEGORIES:Music & Movies in the Parks,Music in the Parks
GEO:44.9811921;-93.2620982
X-APPLE-STRUCTURED-LOCATION;VALUE=URI;X-ADDRESS=Water Works at Mill Ruins Park 425 West River Parkway Minneapolis MN 55401 United States;X-APPLE-RADIUS=500;X-TITLE=425 West River Parkway:geo:-93.2620982,44.9811921
END:VEVENT
BEGIN:VEVENT
DTSTART;TZID=America/Chicago:20220711T193000
DTEND;TZID=America/Chicago:20220711T210000
DTSTAMP:20260421T110459
CREATED:20220421T210136Z
LAST-MODIFIED:20220421T210136Z
UID:57340-1657567800-1657573200@www.minneapolisparks.org
SUMMARY:Percolators Band
DESCRIPTION:Engaging 60’s rock\, harmony\, FUN
URL:https://www.minneapolisparks.org/event-calendar/percolators-band-6/
LOCATION:Lake Harriet Bandshell\, Minneapolis\, MN\, United States
CATEGORIES:Music & Movies in the Parks,Music in the Parks
GEO:44.927901;-93.3082473
END:VEVENT
BEGIN:VEVENT
DTSTART;TZID=America/Chicago:20220711T211500
DTEND;TZID=America/Chicago:20220711T211500
DTSTAMP:20260421T110459
CREATED:20220523T171025Z
LAST-MODIFIED:20220602T210226Z
UID:57977-1657574100-1657574100@www.minneapolisparks.org
SUMMARY:Field of Dreams
DESCRIPTION:Rated PG
URL:https://www.minneapolisparks.org/event-calendar/field-of-dreams/
LOCATION:Northeast Park\, 1530 Johnson St NE\, Minneapolis\, MN\, 55413\, United States
CATEGORIES:Movies in the Parks,Music & Movies in the Parks
GEO:45.0039194;-93.2379239
X-APPLE-STRUCTURED-LOCATION;VALUE=URI;X-ADDRESS=Northeast Park 1530 Johnson St NE Minneapolis MN 55413 United States;X-APPLE-RADIUS=500;X-TITLE=1530 Johnson St NE:geo:-93.2379239,45.0039194
END:VEVENT
BEGIN:VEVENT
DTSTART;TZID=America/Chicago:20220712T180000
DTEND;TZID=America/Chicago:20220712T200000
DTSTAMP:20260421T110459
CREATED:20220606T173254Z
LAST-MODIFIED:20220606T173254Z
UID:58474-1657648800-1657656000@www.minneapolisparks.org
SUMMARY:Water Quality Community Advisory Committee (CAC) Subcommittee Meeting #4\, Cedar-Isles Master Plan
DESCRIPTION:Water Quality experts with EOR and the design team from Ten x Ten will present their Water Quality findings developed from the CAC Water Quality Goals and how they informed the Preferred Park Concept. CAC discussion to follow. 15 minutes will be reserved for public comment at the end. \nVirtual on Zoom (https://us06web.zoom.us/j/84502876650)
URL:https://www.minneapolisparks.org/event-calendar/water-quality-community-advisory-committee-cac-subcommittee-meeting-4-cedar-isles-master-plan/
LOCATION:Virtual Program
CATEGORIES:Events- MPRB,Public Meetings
END:VEVENT
BEGIN:VEVENT
DTSTART;TZID=America/Chicago:20220712T183000
DTEND;TZID=America/Chicago:20220712T183000
DTSTAMP:20260421T110459
CREATED:20220621T163007Z
LAST-MODIFIED:20220621T163007Z
UID:58874-1657650600-1657650600@www.minneapolisparks.org
SUMMARY:Summer Revival Night
DESCRIPTION:
URL:https://www.minneapolisparks.org/event-calendar/summer-revival-night-3/
LOCATION:Minnehaha Bandstand\, Minneapolis\, MN\, United States
CATEGORIES:Events- All,Events- Non-MPRB
GEO:44.9161006;-93.2109865
END:VEVENT
END:VCALENDAR