BEGIN:VCALENDAR
VERSION:2.0
PRODID:-//Minneapolis Park &amp; Recreation Board - ECPv6.15.20//NONSGML v1.0//EN
CALSCALE:GREGORIAN
METHOD:PUBLISH
X-WR-CALNAME:Minneapolis Park &amp; Recreation Board
X-ORIGINAL-URL:https://www.minneapolisparks.org
X-WR-CALDESC:Events for Minneapolis Park &amp; Recreation Board
REFRESH-INTERVAL;VALUE=DURATION:PT1H
X-Robots-Tag:noindex
X-PUBLISHED-TTL:PT1H
BEGIN:VTIMEZONE
TZID:America/Chicago
BEGIN:DAYLIGHT
TZOFFSETFROM:-0600
TZOFFSETTO:-0500
TZNAME:CDT
DTSTART:20220313T080000
END:DAYLIGHT
BEGIN:STANDARD
TZOFFSETFROM:-0500
TZOFFSETTO:-0600
TZNAME:CST
DTSTART:20221106T070000
END:STANDARD
BEGIN:DAYLIGHT
TZOFFSETFROM:-0600
TZOFFSETTO:-0500
TZNAME:CDT
DTSTART:20230312T080000
END:DAYLIGHT
BEGIN:STANDARD
TZOFFSETFROM:-0500
TZOFFSETTO:-0600
TZNAME:CST
DTSTART:20231105T070000
END:STANDARD
BEGIN:DAYLIGHT
TZOFFSETFROM:-0600
TZOFFSETTO:-0500
TZNAME:CDT
DTSTART:20240310T080000
END:DAYLIGHT
BEGIN:STANDARD
TZOFFSETFROM:-0500
TZOFFSETTO:-0600
TZNAME:CST
DTSTART:20241103T070000
END:STANDARD
END:VTIMEZONE
BEGIN:VEVENT
DTSTART;TZID=America/Chicago:20230408T100000
DTEND;TZID=America/Chicago:20230408T120000
DTSTAMP:20260419T124521
CREATED:20230307T223527Z
LAST-MODIFIED:20230307T223527Z
UID:63983-1680948000-1680955200@www.minneapolisparks.org
SUMMARY:Waite Park Egg Hunt
DESCRIPTION:Join us as we jump into Spring in collaboration with Waite Park Church. Outside activities on the field. Treats\, music\, crafts and fun! For complete details and info please go to: https://www.waiteparkchurch.org/egghunt. Register online or at 9:30am at the park. Activities from 10am to 12pm.
URL:https://www.minneapolisparks.org/event-calendar/waite-park-egg-hunt/
LOCATION:Waite Park\, 1810 34th Ave NE\, Minneapolis\, MN\, 55418\, United States
CATEGORIES:Events- All,Events- MPRB
GEO:45.0301093;-93.23428
X-APPLE-STRUCTURED-LOCATION;VALUE=URI;X-ADDRESS=Waite Park 1810 34th Ave NE Minneapolis MN 55418 United States;X-APPLE-RADIUS=500;X-TITLE=1810 34th Ave NE:geo:-93.23428,45.0301093
END:VEVENT
BEGIN:VEVENT
DTSTART;TZID=America/Chicago:20230408T120000
DTEND;TZID=America/Chicago:20230408T140000
DTSTAMP:20260419T124521
CREATED:20230223T163915Z
LAST-MODIFIED:20230223T163915Z
UID:63691-1680955200-1680962400@www.minneapolisparks.org
SUMMARY:Bunny Party and Egg Hunt
DESCRIPTION:Bunny Party and Egg Hunt. Celebrate the beginning of spring at Windom Park. Come on down for some treats and fun entertainment. We will have games\, Bounce House\, children’s egg hunt and more! Ages 7-12.
URL:https://www.minneapolisparks.org/event-calendar/bunny-party-and-egg-hunt-6/
LOCATION:Windom Northeast Park\, 2251 NE Hayes St\, Minneapolis\, MN\, 55418\, United States
CATEGORIES:Events- All,Events- MPRB
GEO:45.0112229;-93.2342613
X-APPLE-STRUCTURED-LOCATION;VALUE=URI;X-ADDRESS=Windom Northeast Park 2251 NE Hayes St Minneapolis MN 55418 United States;X-APPLE-RADIUS=500;X-TITLE=2251 NE Hayes St:geo:-93.2342613,45.0112229
END:VEVENT
BEGIN:VEVENT
DTSTART;TZID=America/Chicago:20230408T120000
DTEND;TZID=America/Chicago:20230408T140000
DTSTAMP:20260419T124521
CREATED:20230223T164042Z
LAST-MODIFIED:20230223T164042Z
UID:63693-1680955200-1680962400@www.minneapolisparks.org
SUMMARY:Spring Egg Hunt at Farview Park
DESCRIPTION:Spring into some fun and come and join Farview Park and Hawthorne Neighborhood in our 5th Annual Spring Egg Hunt. There will be fun springtime activities\, games\, giveaways\, food\, and an exciting egg hunt. This event is for all ages but activities are designed for ages 1 – 12. All families are welcome and pre-registration is not necessary. See you there!
URL:https://www.minneapolisparks.org/event-calendar/spring-egg-hunt-at-farview-park/
LOCATION:Farview Park\, 621 N 29th Ave\, Minneapolis\, MN\, 55411\, United States
CATEGORIES:Events- All,Events- MPRB
GEO:45.0076966;-93.286445
X-APPLE-STRUCTURED-LOCATION;VALUE=URI;X-ADDRESS=Farview Park 621 N 29th Ave Minneapolis MN 55411 United States;X-APPLE-RADIUS=500;X-TITLE=621 N 29th Ave:geo:-93.286445,45.0076966
END:VEVENT
BEGIN:VEVENT
DTSTART;TZID=America/Chicago:20230414T163000
DTEND;TZID=America/Chicago:20230414T180000
DTSTAMP:20260419T124521
CREATED:20230223T165223Z
LAST-MODIFIED:20230223T165223Z
UID:63697-1681489800-1681495200@www.minneapolisparks.org
SUMMARY:Stewart Park Egg Hunt
DESCRIPTION:Bring your family and join us for a fun evening outside with your friends. Bring a basket to collect eggs\, design your own eggs\, do some fun arts and crafts\, play games and earn prizes.
URL:https://www.minneapolisparks.org/event-calendar/stewart-park-egg-hunt-2/
LOCATION:Stewart Park\, 2700 12th Ave. S\, Minneapolis\, MN\, 5540\, United States
CATEGORIES:Events- All,Events- MPRB
GEO:44.9547289;-93.2589262
X-APPLE-STRUCTURED-LOCATION;VALUE=URI;X-ADDRESS=Stewart Park 2700 12th Ave. S Minneapolis MN 5540 United States;X-APPLE-RADIUS=500;X-TITLE=2700 12th Ave. S:geo:-93.2589262,44.9547289
END:VEVENT
BEGIN:VEVENT
DTSTART;TZID=America/Chicago:20230419T170000
DTEND;TZID=America/Chicago:20230419T190000
DTSTAMP:20260419T124521
CREATED:20230223T165339Z
LAST-MODIFIED:20230223T165339Z
UID:63699-1681923600-1681930800@www.minneapolisparks.org
SUMMARY:Community Bonding Event April at Pershing Park
DESCRIPTION:Come and meet your neighbors and neighborhood youth. Tour Pershing Recreation Center and get to know the staff and new Director. Each month will feature a theme and have events and crafts that coordinate to the theme.
URL:https://www.minneapolisparks.org/event-calendar/community-bonding-event-april-at-pershing-park/
LOCATION:Pershing Park\, 3523 W 48th St\, Minneapolis\, MN\, 55410\, United States
CATEGORIES:Events- All,Events- MPRB
GEO:44.9158567;-93.3243725
X-APPLE-STRUCTURED-LOCATION;VALUE=URI;X-ADDRESS=Pershing Park 3523 W 48th St Minneapolis MN 55410 United States;X-APPLE-RADIUS=500;X-TITLE=3523 W 48th St:geo:-93.3243725,44.9158567
END:VEVENT
BEGIN:VEVENT
DTSTART;TZID=America/Chicago:20230422T090000
DTEND;TZID=America/Chicago:20230422T090000
DTSTAMP:20260419T124521
CREATED:20230125T164618Z
LAST-MODIFIED:20230125T164618Z
UID:63010-1682154000-1682154000@www.minneapolisparks.org
SUMMARY:Bee Run/Walk & River Clean-Up
DESCRIPTION:
URL:https://www.minneapolisparks.org/event-calendar/bee-run-walk-river-clean-up/
LOCATION:Boom Island\, 724 Sibley St NE\, Minneapolis\, MN\, 55413\, United States
CATEGORIES:Events- All,Events- Non-MPRB
GEO:44.9920367;-93.3036741
X-APPLE-STRUCTURED-LOCATION;VALUE=URI;X-ADDRESS=Boom Island 724 Sibley St NE Minneapolis MN 55413 United States;X-APPLE-RADIUS=500;X-TITLE=724 Sibley St NE:geo:-93.3036741,44.9920367
END:VEVENT
BEGIN:VEVENT
DTSTART;TZID=America/Chicago:20230422T093000
DTEND;TZID=America/Chicago:20230422T120000
DTSTAMP:20260419T124521
CREATED:20230404T181929Z
LAST-MODIFIED:20230404T181929Z
UID:64514-1682155800-1682164800@www.minneapolisparks.org
SUMMARY:2023 Earth Day Cleanup
DESCRIPTION:https://www.minneapolisparks.org/activities__events/events/earth_day_cleanup/
URL:https://www.minneapolisparks.org/event-calendar/2023-earth-day-cleanup/
LOCATION:Locations throughout Minneapolis\, Minneapolis\, MN\, 55401\, United States
CATEGORIES:Events- All,Events- MPRB
GEO:44.9706756;-93.331518
END:VEVENT
BEGIN:VEVENT
DTSTART;TZID=America/Chicago:20230428T160000
DTEND;TZID=America/Chicago:20230428T200000
DTSTAMP:20260419T124521
CREATED:20230404T172030Z
LAST-MODIFIED:20230404T172030Z
UID:64425-1682697600-1682712000@www.minneapolisparks.org
SUMMARY:Arbor Day
DESCRIPTION:The 2023 Minneapolis Arbor Day Celebration brings an entertaining evening in appreciation of trees to Windom Northeast Park on Friday\, April 28\, 4-8 pm!
URL:https://www.minneapolisparks.org/event-calendar/arbor-day-4/
LOCATION:Windom Northeast Park\, 2251 NE Hayes St\, Minneapolis\, MN\, 55418\, United States
CATEGORIES:Events- All,Events- Non-MPRB
GEO:45.0112229;-93.2342613
X-APPLE-STRUCTURED-LOCATION;VALUE=URI;X-ADDRESS=Windom Northeast Park 2251 NE Hayes St Minneapolis MN 55418 United States;X-APPLE-RADIUS=500;X-TITLE=2251 NE Hayes St:geo:-93.2342613,45.0112229
END:VEVENT
BEGIN:VEVENT
DTSTART;TZID=America/Chicago:20230429T090000
DTEND;TZID=America/Chicago:20230429T090000
DTSTAMP:20260419T124521
CREATED:20230125T164703Z
LAST-MODIFIED:20230125T164703Z
UID:63012-1682758800-1682758800@www.minneapolisparks.org
SUMMARY:Get In Gear
DESCRIPTION:
URL:https://www.minneapolisparks.org/event-calendar/get-in-gear/
LOCATION:Minnehaha Park\, Minneapolis\, MN\, United States
CATEGORIES:Events- All,Events- Non-MPRB
GEO:44.9161006;-93.2109865
END:VEVENT
BEGIN:VEVENT
DTSTART;TZID=America/Chicago:20230506T080000
DTEND;TZID=America/Chicago:20230506T080000
DTSTAMP:20260419T124521
CREATED:20230404T172155Z
LAST-MODIFIED:20230404T172155Z
UID:64424-1683360000-1683360000@www.minneapolisparks.org
SUMMARY:Trail Classic
DESCRIPTION:
URL:https://www.minneapolisparks.org/event-calendar/trail-classic/
LOCATION:Theodore Wirth Park\, Theodore Wirth Parkway\, Golden Valley\, MN\, 55422\, United States
CATEGORIES:Events- All,Events- Non-MPRB
GEO:44.9609095;-93.3246285
X-APPLE-STRUCTURED-LOCATION;VALUE=URI;X-ADDRESS=Theodore Wirth Park Theodore Wirth Parkway Golden Valley MN 55422 United States;X-APPLE-RADIUS=500;X-TITLE=Theodore Wirth Parkway:geo:-93.3246285,44.9609095
END:VEVENT
BEGIN:VEVENT
DTSTART;TZID=America/Chicago:20230506T090000
DTEND;TZID=America/Chicago:20230506T090000
DTSTAMP:20260419T124521
CREATED:20230404T172227Z
LAST-MODIFIED:20230404T172227Z
UID:64428-1683363600-1683363600@www.minneapolisparks.org
SUMMARY:Minneapolis Great Strides
DESCRIPTION:
URL:https://www.minneapolisparks.org/event-calendar/minneapolis-great-strides/
LOCATION:Bde Maka Ska\, Bde Maka Ska\, Minneapolis\, MN\, 55416\, United States
CATEGORIES:Events- All,Events- Non-MPRB
GEO:44.9421047;-93.3207807
X-APPLE-STRUCTURED-LOCATION;VALUE=URI;X-ADDRESS=Bde Maka Ska Bde Maka Ska Minneapolis MN 55416 United States;X-APPLE-RADIUS=500;X-TITLE=Bde Maka Ska:geo:-93.3207807,44.9421047
END:VEVENT
BEGIN:VEVENT
DTSTART;TZID=America/Chicago:20230506T110000
DTEND;TZID=America/Chicago:20230506T110000
DTSTAMP:20260419T124521
CREATED:20230404T172309Z
LAST-MODIFIED:20230404T172707Z
UID:64430-1683370800-1683370800@www.minneapolisparks.org
SUMMARY:Minnehaha Duck Race
DESCRIPTION:
URL:https://www.minneapolisparks.org/event-calendar/minnehaha-duck-race/
LOCATION:Minnehaha Creek\, Bloomington Ave & E Minnehaha Pkwy\, Minneapolis\, 55417
CATEGORIES:Events- All,Events- Non-MPRB
END:VEVENT
BEGIN:VEVENT
DTSTART;TZID=America/Chicago:20230507T093000
DTEND;TZID=America/Chicago:20230507T093000
DTSTAMP:20260419T124521
CREATED:20230404T172801Z
LAST-MODIFIED:20230404T172801Z
UID:64433-1683451800-1683451800@www.minneapolisparks.org
SUMMARY:Walk MS: Twin Cities
DESCRIPTION:
URL:https://www.minneapolisparks.org/event-calendar/walk-ms-twin-cities-2/
LOCATION:Minnehaha Park\, Minneapolis\, MN\, United States
CATEGORIES:Events- All,Events- Non-MPRB
GEO:44.9161006;-93.2109865
END:VEVENT
BEGIN:VEVENT
DTSTART;TZID=America/Chicago:20230513T060000
DTEND;TZID=America/Chicago:20230513T060000
DTSTAMP:20260419T124521
CREATED:20230404T172842Z
LAST-MODIFIED:20230404T172842Z
UID:64435-1683957600-1683957600@www.minneapolisparks.org
SUMMARY:Bike MS: Twin Cities Ride
DESCRIPTION:
URL:https://www.minneapolisparks.org/event-calendar/bike-ms-twin-cities-ride/
LOCATION:Grand Rounds\, Grand Rounds Scenic Byway System\, Minneapolis\, MN\, United States
CATEGORIES:Events- All,Events- Non-MPRB
GEO:44.972472;-93.3218622
X-APPLE-STRUCTURED-LOCATION;VALUE=URI;X-ADDRESS=Grand Rounds Grand Rounds Scenic Byway System Minneapolis MN United States;X-APPLE-RADIUS=500;X-TITLE=Grand Rounds Scenic Byway System:geo:-93.3218622,44.972472
END:VEVENT
BEGIN:VEVENT
DTSTART;TZID=America/Chicago:20230513T090000
DTEND;TZID=America/Chicago:20230513T090000
DTSTAMP:20260419T124521
CREATED:20230404T172917Z
LAST-MODIFIED:20230404T172917Z
UID:64437-1683968400-1683968400@www.minneapolisparks.org
SUMMARY:Abria 10K\, 5K\, Walk & Fun Run
DESCRIPTION:
URL:https://www.minneapolisparks.org/event-calendar/abria-10k-5k-walk-fun-run/
LOCATION:Lake Harriet\, Minneapolis\, MN\, United States
CATEGORIES:Events- All,Events- Non-MPRB
GEO:44.927901;-93.3082473
END:VEVENT
BEGIN:VEVENT
DTSTART;TZID=America/Chicago:20230513T100000
DTEND;TZID=America/Chicago:20230513T190000
DTSTAMP:20260419T124521
CREATED:20230512T140414Z
LAST-MODIFIED:20230512T140414Z
UID:65674-1683972000-1684004400@www.minneapolisparks.org
SUMMARY:Doors Open Minneapolis
DESCRIPTION:Doors Open Minneapolis \nMay 13-14 \n10am-7pm \nTour the Theodore Wirth Home and Administration Building on Saturday and Sunday. Tour the Ard Godfrey House and Reverend Dr. Martin Luther King Jr Park on Saturday only. See details
URL:https://www.minneapolisparks.org/event-calendar/doors-open-minneapolis/2023-05-13/
LOCATION:Multiple Locations\, Minneapolis\, MN\, 55401\, United States
CATEGORIES:Events- All,Events- MPRB
END:VEVENT
BEGIN:VEVENT
DTSTART;TZID=America/Chicago:20230517T140000
DTEND;TZID=America/Chicago:20230517T140000
DTSTAMP:20260419T124521
CREATED:20230404T172951Z
LAST-MODIFIED:20230404T172951Z
UID:64439-1684332000-1684332000@www.minneapolisparks.org
SUMMARY:Downtown Dash
DESCRIPTION:
URL:https://www.minneapolisparks.org/event-calendar/downtown-dash-6/
LOCATION:Mill Ruins\, 102 Portland Ave S\, Minneapolis\, MN\, 55401\, United States
CATEGORIES:Events- All,Events- Non-MPRB
GEO:44.980031;-93.2601744
X-APPLE-STRUCTURED-LOCATION;VALUE=URI;X-ADDRESS=Mill Ruins 102 Portland Ave S Minneapolis MN 55401 United States;X-APPLE-RADIUS=500;X-TITLE=102 Portland Ave S:geo:-93.2601744,44.980031
END:VEVENT
BEGIN:VEVENT
DTSTART;TZID=America/Chicago:20230517T170000
DTEND;TZID=America/Chicago:20230517T190000
DTSTAMP:20260419T124521
CREATED:20230307T223732Z
LAST-MODIFIED:20230307T223732Z
UID:63985-1684342800-1684350000@www.minneapolisparks.org
SUMMARY:Community Bonding Event May at Pershing Park
DESCRIPTION:Come and meet your neighbors and neighborhood youth. Tour Pershing Recreation Center and get to know the staff and new Director. Each month will feature a theme and have events and crafts that coordinate to the theme.
URL:https://www.minneapolisparks.org/event-calendar/community-bonding-event-may-at-pershing-park-2/
LOCATION:Pershing Park\, 3523 W 48th St\, Minneapolis\, MN\, 55410\, United States
CATEGORIES:Events- All,Events- MPRB
GEO:44.9158567;-93.3243725
X-APPLE-STRUCTURED-LOCATION;VALUE=URI;X-ADDRESS=Pershing Park 3523 W 48th St Minneapolis MN 55410 United States;X-APPLE-RADIUS=500;X-TITLE=3523 W 48th St:geo:-93.3243725,44.9158567
END:VEVENT
BEGIN:VEVENT
DTSTART;TZID=America/Chicago:20230520T080000
DTEND;TZID=America/Chicago:20230520T080000
DTSTAMP:20260419T124521
CREATED:20230404T173023Z
LAST-MODIFIED:20230404T173023Z
UID:64441-1684569600-1684569600@www.minneapolisparks.org
SUMMARY:Women Run The Cities
DESCRIPTION:
URL:https://www.minneapolisparks.org/event-calendar/women-run-the-cities-7/
LOCATION:Minnehaha Park\, Minneapolis\, MN\, United States
CATEGORIES:Events- All,Events- Non-MPRB
GEO:44.9161006;-93.2109865
END:VEVENT
BEGIN:VEVENT
DTSTART;TZID=America/Chicago:20230520T093000
DTEND;TZID=America/Chicago:20230520T093000
DTSTAMP:20260419T124521
CREATED:20230404T173053Z
LAST-MODIFIED:20230404T173053Z
UID:64443-1684575000-1684575000@www.minneapolisparks.org
SUMMARY:Twin Cities Heart Walk
DESCRIPTION:
URL:https://www.minneapolisparks.org/event-calendar/twin-cities-heart-walk-5/
LOCATION:Loring Park\, Loring Park\, Minneapolis\, MN\, 55403\, United States
CATEGORIES:Events- All,Events- Non-MPRB
GEO:44.9649915;-93.2854596
X-APPLE-STRUCTURED-LOCATION;VALUE=URI;X-ADDRESS=Loring Park Loring Park Minneapolis MN 55403 United States;X-APPLE-RADIUS=500;X-TITLE=Loring Park:geo:-93.2854596,44.9649915
END:VEVENT
BEGIN:VEVENT
DTSTART;TZID=America/Chicago:20230521T080000
DTEND;TZID=America/Chicago:20230521T080000
DTSTAMP:20260419T124521
CREATED:20230404T173206Z
LAST-MODIFIED:20230404T173206Z
UID:64447-1684656000-1684656000@www.minneapolisparks.org
SUMMARY:CityTrail Loppet
DESCRIPTION:
URL:https://www.minneapolisparks.org/event-calendar/citytrail-loppet/
LOCATION:Minneapolis Sculpture Garden\, 726 Vineland Place\, Minneapolis\, MN\, 55403\, United States
CATEGORIES:Events- All,Events- Non-MPRB
GEO:44.9695492;-93.2897225
X-APPLE-STRUCTURED-LOCATION;VALUE=URI;X-ADDRESS=Minneapolis Sculpture Garden 726 Vineland Place Minneapolis MN 55403 United States;X-APPLE-RADIUS=500;X-TITLE=726 Vineland Place:geo:-93.2897225,44.9695492
END:VEVENT
BEGIN:VEVENT
DTSTART;TZID=America/Chicago:20230521T083000
DTEND;TZID=America/Chicago:20230521T130000
DTSTAMP:20260419T124521
CREATED:20230404T173134Z
LAST-MODIFIED:20230404T173330Z
UID:64445-1684657800-1684674000@www.minneapolisparks.org
SUMMARY:Kingfield Farmers Market
DESCRIPTION:
URL:https://www.minneapolisparks.org/event-calendar/kingfield-farmers-market/2023-05-21/
LOCATION:Rev. Dr. Martin Luther King\, Jr. Park\, 4055 Nicollet Ave S\, Minneapolis\, MN\, 55409\, United States
CATEGORIES:Events- All,Events- Non-MPRB
GEO:44.9292348;-93.2773221
X-APPLE-STRUCTURED-LOCATION;VALUE=URI;X-ADDRESS=Rev. Dr. Martin Luther King Jr. Park 4055 Nicollet Ave S Minneapolis MN 55409 United States;X-APPLE-RADIUS=500;X-TITLE=4055 Nicollet Ave S:geo:-93.2773221,44.9292348
END:VEVENT
BEGIN:VEVENT
DTSTART;TZID=America/Chicago:20230529T083000
DTEND;TZID=America/Chicago:20230529T083000
DTSTAMP:20260419T124521
CREATED:20230404T173431Z
LAST-MODIFIED:20230404T173431Z
UID:64449-1685349000-1685349000@www.minneapolisparks.org
SUMMARY:Brian Kraft Memorial 5K
DESCRIPTION:
URL:https://www.minneapolisparks.org/event-calendar/brian-kraft-memorial-5k/
LOCATION:Lake Nokomis\, Minneapolis\, MN\, United States
CATEGORIES:Events- All,Events- Non-MPRB
GEO:44.9114979;-93.2431014
END:VEVENT
BEGIN:VEVENT
DTSTART;TZID=America/Chicago:20230529T173000
DTEND;TZID=America/Chicago:20230529T173000
DTSTAMP:20260419T124521
CREATED:20230504T192433Z
LAST-MODIFIED:20230504T192433Z
UID:65347-1685381400-1685381400@www.minneapolisparks.org
SUMMARY:Maria and the Coins
DESCRIPTION:Singer-Songwriter driven Pop-Rock
URL:https://www.minneapolisparks.org/event-calendar/maria-and-the-coins-4/
LOCATION:Lake Harriet Bandshell\, Minneapolis\, MN\, United States
CATEGORIES:Events- All,Events- MPRB,Music & Movies in the Parks,Music in the Parks
GEO:44.927901;-93.3082473
END:VEVENT
BEGIN:VEVENT
DTSTART;TZID=America/Chicago:20230529T193000
DTEND;TZID=America/Chicago:20230529T193000
DTSTAMP:20260419T124521
CREATED:20230504T192513Z
LAST-MODIFIED:20230504T192513Z
UID:65349-1685388600-1685388600@www.minneapolisparks.org
SUMMARY:Big Mike & The Funktion
DESCRIPTION:60’s/70’s Dance\, Rock\, Funk and FUN!!!
URL:https://www.minneapolisparks.org/event-calendar/big-mike-the-funktion/
LOCATION:Lake Harriet Bandshell\, Minneapolis\, MN\, United States
CATEGORIES:Events- All,Events- MPRB,Music & Movies in the Parks,Music in the Parks
GEO:44.927901;-93.3082473
END:VEVENT
BEGIN:VEVENT
DTSTART;TZID=America/Chicago:20230531T120000
DTEND;TZID=America/Chicago:20230531T120000
DTSTAMP:20260419T124521
CREATED:20230420T194733Z
LAST-MODIFIED:20230420T194733Z
UID:64929-1685534400-1685534400@www.minneapolisparks.org
SUMMARY:Matt Jennings Electric Trio
DESCRIPTION:International Fusion – Flamenco Surf Rock
URL:https://www.minneapolisparks.org/event-calendar/matt-jennings-electric-trio-2/
LOCATION:The Commons\, 425 Portland Ave South\, Minneapolis\, MN\, 55488\, United States
CATEGORIES:Events- All,Events- MPRB,Music & Movies in the Parks,Music in the Parks
GEO:44.9766971;-93.2628904
X-APPLE-STRUCTURED-LOCATION;VALUE=URI;X-ADDRESS=The Commons 425 Portland Ave South Minneapolis MN 55488 United States;X-APPLE-RADIUS=500;X-TITLE=425 Portland Ave South:geo:-93.2628904,44.9766971
END:VEVENT
BEGIN:VEVENT
DTSTART;TZID=America/Chicago:20230531T193000
DTEND;TZID=America/Chicago:20230531T193000
DTSTAMP:20260419T124521
CREATED:20230504T192545Z
LAST-MODIFIED:20230504T192545Z
UID:65351-1685561400-1685561400@www.minneapolisparks.org
SUMMARY:Linden Hills Chamber Orchestra
DESCRIPTION:Festive\, fun orchestral pops concert
URL:https://www.minneapolisparks.org/event-calendar/linden-hills-chamber-orchestra-6/
LOCATION:Lake Harriet Bandshell\, Minneapolis\, MN\, United States
CATEGORIES:Events- All,Events- MPRB,Music & Movies in the Parks,Music in the Parks
GEO:44.927901;-93.3082473
END:VEVENT
BEGIN:VEVENT
DTSTART;TZID=America/Chicago:20230601T190000
DTEND;TZID=America/Chicago:20230601T190000
DTSTAMP:20260419T124521
CREATED:20230504T190339Z
LAST-MODIFIED:20230504T190339Z
UID:65291-1685646000-1685646000@www.minneapolisparks.org
SUMMARY:South High Community Band
DESCRIPTION:Family Friendly Jazz & Concert Band
URL:https://www.minneapolisparks.org/event-calendar/south-high-community-band-4/
LOCATION:Minnehaha Bandstand\, Minneapolis\, MN\, United States
CATEGORIES:Events- All,Events- MPRB,Music in the Parks
GEO:44.9161006;-93.2109865
END:VEVENT
BEGIN:VEVENT
DTSTART;TZID=America/Chicago:20230601T204500
DTEND;TZID=America/Chicago:20230601T204500
DTSTAMP:20260419T124521
CREATED:20230517T175432Z
LAST-MODIFIED:20230517T175432Z
UID:65749-1685652300-1685652300@www.minneapolisparks.org
SUMMARY:Sonic the Hedgehog 2
DESCRIPTION:PG. Audio & Sub: Eng/Span
URL:https://www.minneapolisparks.org/event-calendar/sonic-the-hedgehog-2/
LOCATION:Waite Park\, 1810 34th Ave NE\, Minneapolis\, MN\, 55418\, United States
CATEGORIES:Events- All,Events- MPRB,Movies in the Parks,Music & Movies in the Parks
GEO:45.0301093;-93.23428
X-APPLE-STRUCTURED-LOCATION;VALUE=URI;X-ADDRESS=Waite Park 1810 34th Ave NE Minneapolis MN 55418 United States;X-APPLE-RADIUS=500;X-TITLE=1810 34th Ave NE:geo:-93.23428,45.0301093
END:VEVENT
BEGIN:VEVENT
DTSTART;TZID=America/Chicago:20230602T100000
DTEND;TZID=America/Chicago:20230602T140000
DTSTAMP:20260419T124521
CREATED:20230508T155346Z
LAST-MODIFIED:20230508T155346Z
UID:65380-1685700000-1685714400@www.minneapolisparks.org
SUMMARY:Water Works Minneapolis Park Market
DESCRIPTION:Minneapolis Park Markets are a new initiative to create a sense of community and enhance and support neighborhood health and prosperity through fresh foods\, handmade goods\, and opportunities for small businesses and entrepreneurs.
URL:https://www.minneapolisparks.org/event-calendar/water-works-minneapolis-park-market/2023-06-02/
LOCATION:Water Works at Mill Ruins Park\, 425 West River Parkway\, Minneapolis\, MN\, 55401\, United States
CATEGORIES:Events- All,Events- MPRB
GEO:44.9811921;-93.2620982
X-APPLE-STRUCTURED-LOCATION;VALUE=URI;X-ADDRESS=Water Works at Mill Ruins Park 425 West River Parkway Minneapolis MN 55401 United States;X-APPLE-RADIUS=500;X-TITLE=425 West River Parkway:geo:-93.2620982,44.9811921
END:VEVENT
END:VCALENDAR