BEGIN:VCALENDAR
VERSION:2.0
PRODID:-//Minneapolis Park &amp; Recreation Board - ECPv6.15.20//NONSGML v1.0//EN
CALSCALE:GREGORIAN
METHOD:PUBLISH
X-ORIGINAL-URL:https://www.minneapolisparks.org
X-WR-CALDESC:Events for Minneapolis Park &amp; Recreation Board
REFRESH-INTERVAL;VALUE=DURATION:PT1H
X-Robots-Tag:noindex
X-PUBLISHED-TTL:PT1H
BEGIN:VTIMEZONE
TZID:America/Chicago
BEGIN:DAYLIGHT
TZOFFSETFROM:-0600
TZOFFSETTO:-0500
TZNAME:CDT
DTSTART:20210314T080000
END:DAYLIGHT
BEGIN:STANDARD
TZOFFSETFROM:-0500
TZOFFSETTO:-0600
TZNAME:CST
DTSTART:20211107T070000
END:STANDARD
BEGIN:DAYLIGHT
TZOFFSETFROM:-0600
TZOFFSETTO:-0500
TZNAME:CDT
DTSTART:20220313T080000
END:DAYLIGHT
BEGIN:STANDARD
TZOFFSETFROM:-0500
TZOFFSETTO:-0600
TZNAME:CST
DTSTART:20221106T070000
END:STANDARD
BEGIN:DAYLIGHT
TZOFFSETFROM:-0600
TZOFFSETTO:-0500
TZNAME:CDT
DTSTART:20230312T080000
END:DAYLIGHT
BEGIN:STANDARD
TZOFFSETFROM:-0500
TZOFFSETTO:-0600
TZNAME:CST
DTSTART:20231105T070000
END:STANDARD
END:VTIMEZONE
BEGIN:VEVENT
DTSTART;TZID=America/Chicago:20220611T211500
DTEND;TZID=America/Chicago:20220611T211500
DTSTAMP:20260421T175129
CREATED:20220523T175825Z
LAST-MODIFIED:20220602T205609Z
UID:58030-1654982100-1654982100@www.minneapolisparks.org
SUMMARY:Encanto
DESCRIPTION:Movie starts at dusk
URL:https://www.minneapolisparks.org/event-calendar/movie-in-the-park-encanto/
LOCATION:Bossen Field Park\, 5701 S 28th Ave\, Minneapolis\, MN\, 55417\, United States
CATEGORIES:Movies in the Parks,Music & Movies in the Parks
GEO:44.9000248;-93.2320042
X-APPLE-STRUCTURED-LOCATION;VALUE=URI;X-ADDRESS=Bossen Field Park 5701 S 28th Ave Minneapolis MN 55417 United States;X-APPLE-RADIUS=500;X-TITLE=5701 S 28th Ave:geo:-93.2320042,44.9000248
END:VEVENT
BEGIN:VEVENT
DTSTART;TZID=America/Chicago:20220612T140000
DTEND;TZID=America/Chicago:20220612T153000
DTSTAMP:20260421T175129
CREATED:20220421T173443Z
LAST-MODIFIED:20220421T173443Z
UID:57129-1655042400-1655047800@www.minneapolisparks.org
SUMMARY:Capri Big Band
DESCRIPTION:Big band swing music
URL:https://www.minneapolisparks.org/event-calendar/capri-big-band-4/
LOCATION:Lake Harriet Bandshell\, Minneapolis\, MN\, United States
CATEGORIES:Music & Movies in the Parks,Music in the Parks
GEO:44.927901;-93.3082473
END:VEVENT
BEGIN:VEVENT
DTSTART;TZID=America/Chicago:20220612T173000
DTEND;TZID=America/Chicago:20220612T190000
DTSTAMP:20260421T175130
CREATED:20220421T173621Z
LAST-MODIFIED:20220421T173621Z
UID:57130-1655055000-1655060400@www.minneapolisparks.org
SUMMARY:Star of the North Concert Band
DESCRIPTION:Adult\, Community Concert Band
URL:https://www.minneapolisparks.org/event-calendar/star-of-the-north-concert-band/
LOCATION:Lake Harriet Bandshell\, Minneapolis\, MN\, United States
CATEGORIES:Music & Movies in the Parks,Music in the Parks
GEO:44.927901;-93.3082473
END:VEVENT
BEGIN:VEVENT
DTSTART;TZID=America/Chicago:20220613T193000
DTEND;TZID=America/Chicago:20220613T210000
DTSTAMP:20260421T175130
CREATED:20220421T173641Z
LAST-MODIFIED:20220421T173641Z
UID:57131-1655148600-1655154000@www.minneapolisparks.org
SUMMARY:Paul Barry Blues Band
DESCRIPTION:Chicago & West Coast Jump Blues
URL:https://www.minneapolisparks.org/event-calendar/paul-barry-blues-band-2/
LOCATION:Lake Harriet Bandshell\, Minneapolis\, MN\, United States
CATEGORIES:Music & Movies in the Parks,Music in the Parks
GEO:44.927901;-93.3082473
END:VEVENT
BEGIN:VEVENT
DTSTART;TZID=America/Chicago:20220613T211500
DTEND;TZID=America/Chicago:20220613T211500
DTSTAMP:20260421T175130
CREATED:20220523T180425Z
LAST-MODIFIED:20220602T205615Z
UID:58032-1655154900-1655154900@www.minneapolisparks.org
SUMMARY:Ghostbusters: Afterlife
DESCRIPTION:Movie starts at dusk
URL:https://www.minneapolisparks.org/event-calendar/ghostbusters-afterlife/
LOCATION:Lyndale Farmstead Park\, 3900 Bryant Ave S\, Minneapolis\, MN\, 55409\, United States
CATEGORIES:Movies in the Parks,Music & Movies in the Parks
GEO:44.9321181;-93.2914154
X-APPLE-STRUCTURED-LOCATION;VALUE=URI;X-ADDRESS=Lyndale Farmstead Park 3900 Bryant Ave S Minneapolis MN 55409 United States;X-APPLE-RADIUS=500;X-TITLE=3900 Bryant Ave S:geo:-93.2914154,44.9321181
END:VEVENT
BEGIN:VEVENT
DTSTART;TZID=America/Chicago:20220613T211500
DTEND;TZID=America/Chicago:20220613T211500
DTSTAMP:20260421T175130
CREATED:20220606T211156Z
LAST-MODIFIED:20220613T144149Z
UID:58499-1655154900-1655154900@www.minneapolisparks.org
SUMMARY:Encanto
DESCRIPTION:Movies begin at dusk
URL:https://www.minneapolisparks.org/event-calendar/encanto-4/
LOCATION:Sumner Field Park\, Minneapolis\, MN\, United States
CATEGORIES:Movies in the Parks,Music & Movies in the Parks
GEO:44.9877604;-93.2920734
END:VEVENT
BEGIN:VEVENT
DTSTART;TZID=America/Chicago:20220614T183000
DTEND;TZID=America/Chicago:20220614T200000
DTSTAMP:20260421T175130
CREATED:20220421T182055Z
LAST-MODIFIED:20220525T181039Z
UID:57213-1655231400-1655236800@www.minneapolisparks.org
SUMMARY:Kodj
DESCRIPTION:Unique\, vibey\, melodic\, energetic\, fun
URL:https://www.minneapolisparks.org/event-calendar/kodj/
LOCATION:Bryant Square Park\, 3101 Bryant Ave S\, Minneapolis\, MN\, 55408\, United States
CATEGORIES:Music & Movies in the Parks,Music in the Parks
GEO:44.9461045;-93.2903539
X-APPLE-STRUCTURED-LOCATION;VALUE=URI;X-ADDRESS=Bryant Square Park 3101 Bryant Ave S Minneapolis MN 55408 United States;X-APPLE-RADIUS=500;X-TITLE=3101 Bryant Ave S:geo:-93.2903539,44.9461045
END:VEVENT
BEGIN:VEVENT
DTSTART;TZID=America/Chicago:20220614T190000
DTEND;TZID=America/Chicago:20220614T203000
DTSTAMP:20260421T175130
CREATED:20220421T183118Z
LAST-MODIFIED:20220519T212609Z
UID:57240-1655233200-1655238600@www.minneapolisparks.org
SUMMARY:Bluedog
DESCRIPTION:Original Native American blues
URL:https://www.minneapolisparks.org/event-calendar/bluedog-5/
LOCATION:Water Works at Mill Ruins Park\, 425 West River Parkway\, Minneapolis\, MN\, 55401\, United States
CATEGORIES:Music & Movies in the Parks,Music in the Parks
GEO:44.9811921;-93.2620982
X-APPLE-STRUCTURED-LOCATION;VALUE=URI;X-ADDRESS=Water Works at Mill Ruins Park 425 West River Parkway Minneapolis MN 55401 United States;X-APPLE-RADIUS=500;X-TITLE=425 West River Parkway:geo:-93.2620982,44.9811921
END:VEVENT
BEGIN:VEVENT
DTSTART;TZID=America/Chicago:20220614T211500
DTEND;TZID=America/Chicago:20220614T211500
DTSTAMP:20260421T175130
CREATED:20220523T180510Z
LAST-MODIFIED:20220606T203950Z
UID:58034-1655241300-1655241300@www.minneapolisparks.org
SUMMARY:Chaos Walking
DESCRIPTION:Movie starts at dusk
URL:https://www.minneapolisparks.org/event-calendar/spirit-untamed/
LOCATION:Pearl Park\, 414 E Diamond Lake Road\, Minneapolis\, MN\, 55419\, United States
CATEGORIES:Movies in the Parks,Music & Movies in the Parks
GEO:44.904403;-93.268818
X-APPLE-STRUCTURED-LOCATION;VALUE=URI;X-ADDRESS=Pearl Park 414 E Diamond Lake Road Minneapolis MN 55419 United States;X-APPLE-RADIUS=500;X-TITLE=414 E Diamond Lake Road:geo:-93.268818,44.904403
END:VEVENT
BEGIN:VEVENT
DTSTART;TZID=America/Chicago:20220615T160000
DTEND;TZID=America/Chicago:20220615T200000
DTSTAMP:20260421T175130
CREATED:20220609T163641Z
LAST-MODIFIED:20220609T163650Z
UID:58604-1655308800-1655323200@www.minneapolisparks.org
SUMMARY:Bike Mechanics 101
DESCRIPTION:Problem with your bike? Mechanics 101 is a drop-in program where riders can stop by and ask questions\, use tools and get bike maintenance tips. \nLocation: Midtown Greenway Trail and James Ave. S
URL:https://www.minneapolisparks.org/event-calendar/bike-mechanics-101/
LOCATION:Minneapolis\, MN\, 55401\, United States
CATEGORIES:Events- All,Events- MPRB
GEO:44.9836543;-93.2693572
END:VEVENT
BEGIN:VEVENT
DTSTART;TZID=America/Chicago:20220615T170000
DTEND;TZID=America/Chicago:20220615T170000
DTSTAMP:20260421T175130
CREATED:20220125T144459Z
LAST-MODIFIED:20220125T144857Z
UID:54599-1655312400-1655312400@www.minneapolisparks.org
SUMMARY:Board Meeting
DESCRIPTION:
URL:https://www.minneapolisparks.org/event-calendar/board-meeting-86-2022-06-22/
LOCATION:Mary Merrill Minneapolis Park & Recreation Board Headquarters\, 2117 West River Road N\, Minneapolis\, MN\, 55411\, United States
CATEGORIES:Public Meetings
GEO:45.0008334;-93.2780339
X-APPLE-STRUCTURED-LOCATION;VALUE=URI;X-ADDRESS=Mary Merrill Minneapolis Park & Recreation Board Headquarters 2117 West River Road N Minneapolis MN 55411 United States;X-APPLE-RADIUS=500;X-TITLE=2117 West River Road N:geo:-93.2780339,45.0008334
END:VEVENT
BEGIN:VEVENT
DTSTART;TZID=America/Chicago:20220615T190000
DTEND;TZID=America/Chicago:20220615T190000
DTSTAMP:20260421T175130
CREATED:20220607T184809Z
LAST-MODIFIED:20220614T164434Z
UID:58504-1655319600-1655319600@www.minneapolisparks.org
SUMMARY:Public Hearing for the McRae Park Playground Concept Plan & Amendment to McRae Master Plan
DESCRIPTION:The purpose of the Public Hearing is to hear public comments on the McRae Park project design concept and amend part of McRae Park Master Plan.
URL:https://www.minneapolisparks.org/event-calendar/public-hearing-for-mcrae-park-playground-plan/
LOCATION:Mary Merrill Minneapolis Park & Recreation Board Headquarters Board Room\, 2117 West River Road N\, Minneapolis\, MN\, 55411\, United States
CATEGORIES:Public Meetings
GEO:45.0008334;-93.2780339
X-APPLE-STRUCTURED-LOCATION;VALUE=URI;X-ADDRESS=Mary Merrill Minneapolis Park & Recreation Board Headquarters Board Room 2117 West River Road N Minneapolis MN 55411 United States;X-APPLE-RADIUS=500;X-TITLE=2117 West River Road N:geo:-93.2780339,45.0008334
END:VEVENT
BEGIN:VEVENT
DTSTART;TZID=America/Chicago:20220615T211500
DTEND;TZID=America/Chicago:20220615T211500
DTSTAMP:20260421T175130
CREATED:20220523T180834Z
LAST-MODIFIED:20220602T205629Z
UID:58036-1655327700-1655327700@www.minneapolisparks.org
SUMMARY:School of Rock
DESCRIPTION:Movie starts at dusk
URL:https://www.minneapolisparks.org/event-calendar/school-of-rock-2/
LOCATION:The Commons\, 425 Portland Ave South\, Minneapolis\, MN\, 55488\, United States
CATEGORIES:Movies in the Parks,Music & Movies in the Parks
GEO:44.9766971;-93.2628904
X-APPLE-STRUCTURED-LOCATION;VALUE=URI;X-ADDRESS=The Commons 425 Portland Ave South Minneapolis MN 55488 United States;X-APPLE-RADIUS=500;X-TITLE=425 Portland Ave South:geo:-93.2628904,44.9766971
END:VEVENT
BEGIN:VEVENT
DTSTART;TZID=America/Chicago:20220616T110000
DTEND;TZID=America/Chicago:20220616T130000
DTSTAMP:20260421T175130
CREATED:20220331T183117Z
LAST-MODIFIED:20220331T183117Z
UID:56716-1655377200-1655384400@www.minneapolisparks.org
SUMMARY:Summer Picnic Series
DESCRIPTION:Once a month we’ll get together to enjoy conversation and a box lunch in the beautiful outdoor setting of Powderhorn Park. Upon registration for this program\, participants agree to follow MPRB requirements related to face coverings and physical distancing. Face coverings are required indoors at all MPRB facilities\, unless otherwise specified by MPRB as part of athletics protocol. \nNote: In case of inclement weather\, lunch will be held indoors.
URL:https://www.minneapolisparks.org/event-calendar/summer-picnic-series/2022-06-16/
LOCATION:Powderhorn Park\, 3400 15th Ave S\, Minneapolis\, MN\, 554107\, United States
CATEGORIES:Events- All,Events- MPRB
GEO:44.9413282;-93.2547875
X-APPLE-STRUCTURED-LOCATION;VALUE=URI;X-ADDRESS=Powderhorn Park 3400 15th Ave S Minneapolis MN 554107 United States;X-APPLE-RADIUS=500;X-TITLE=3400 15th Ave S:geo:-93.2547875,44.9413282
END:VEVENT
BEGIN:VEVENT
DTSTART;TZID=America/Chicago:20220616T170000
DTEND;TZID=America/Chicago:20220616T183000
DTSTAMP:20260421T175130
CREATED:20220421T175659Z
LAST-MODIFIED:20220519T212339Z
UID:57168-1655398800-1655404200@www.minneapolisparks.org
SUMMARY:Cindy Lawson
DESCRIPTION:Deeply personal pop delights
URL:https://www.minneapolisparks.org/event-calendar/cindy-lawson/
LOCATION:The Commons\, 425 Portland Ave South\, Minneapolis\, MN\, 55488\, United States
CATEGORIES:Music & Movies in the Parks,Music in the Parks
GEO:44.9766971;-93.2628904
X-APPLE-STRUCTURED-LOCATION;VALUE=URI;X-ADDRESS=The Commons 425 Portland Ave South Minneapolis MN 55488 United States;X-APPLE-RADIUS=500;X-TITLE=425 Portland Ave South:geo:-93.2628904,44.9766971
END:VEVENT
BEGIN:VEVENT
DTSTART;TZID=America/Chicago:20220616T170000
DTEND;TZID=America/Chicago:20220616T200000
DTSTAMP:20260421T175130
CREATED:20220331T173655Z
LAST-MODIFIED:20220331T173655Z
UID:56658-1655398800-1655409600@www.minneapolisparks.org
SUMMARY:Summer Kick-Off BBQ
DESCRIPTION:MPRB will be hosting a Summer Kick-Off BBQ complete with free food and drinks\, games\, activities and more! Join your neighbors for this wonderful event!
URL:https://www.minneapolisparks.org/event-calendar/summer-kick-off-bbq/
LOCATION:Elliot Park\, 1000 E 14th St\, Minneapolis\, MN\, 55404\, United States
CATEGORIES:Events- All,Events- MPRB
GEO:44.9693872;-93.2597211
X-APPLE-STRUCTURED-LOCATION;VALUE=URI;X-ADDRESS=Elliot Park 1000 E 14th St Minneapolis MN 55404 United States;X-APPLE-RADIUS=500;X-TITLE=1000 E 14th St:geo:-93.2597211,44.9693872
END:VEVENT
BEGIN:VEVENT
DTSTART;TZID=America/Chicago:20220616T183000
DTEND;TZID=America/Chicago:20220616T200000
DTSTAMP:20260421T175130
CREATED:20220331T173242Z
LAST-MODIFIED:20220331T173439Z
UID:56652-1655404200-1655409600@www.minneapolisparks.org
SUMMARY:Kick-Off Celebration for Summer Concert Series
DESCRIPTION:Join us for the kickoff celebration for the summer concert series at Bryant Square Park! Bring a lawn chair and grab your friends to join us for this summer event.
URL:https://www.minneapolisparks.org/event-calendar/kickoff-celebration-for-summer-concert-series-4/
LOCATION:Bryant Square Park\, 3101 Bryant Ave S\, Minneapolis\, MN\, 55408\, United States
CATEGORIES:Events- All,Events- MPRB
GEO:44.9461045;-93.2903539
X-APPLE-STRUCTURED-LOCATION;VALUE=URI;X-ADDRESS=Bryant Square Park 3101 Bryant Ave S Minneapolis MN 55408 United States;X-APPLE-RADIUS=500;X-TITLE=3101 Bryant Ave S:geo:-93.2903539,44.9461045
END:VEVENT
BEGIN:VEVENT
DTSTART;TZID=America/Chicago:20220616T183000
DTEND;TZID=America/Chicago:20220616T200000
DTSTAMP:20260421T175130
CREATED:20220421T182044Z
LAST-MODIFIED:20220421T182044Z
UID:57196-1655404200-1655409600@www.minneapolisparks.org
SUMMARY:Wynn Rivers
DESCRIPTION:Alternative Americana Singer/Songwriter
URL:https://www.minneapolisparks.org/event-calendar/wynn-rivers/
LOCATION:Bryant Square Park\, 3101 Bryant Ave S\, Minneapolis\, MN\, 55408\, United States
CATEGORIES:Music & Movies in the Parks,Music in the Parks
GEO:44.9461045;-93.2903539
X-APPLE-STRUCTURED-LOCATION;VALUE=URI;X-ADDRESS=Bryant Square Park 3101 Bryant Ave S Minneapolis MN 55408 United States;X-APPLE-RADIUS=500;X-TITLE=3101 Bryant Ave S:geo:-93.2903539,44.9461045
END:VEVENT
BEGIN:VEVENT
DTSTART;TZID=America/Chicago:20220616T183000
DTEND;TZID=America/Chicago:20220616T203000
DTSTAMP:20260421T175130
CREATED:20220331T173530Z
LAST-MODIFIED:20220331T173530Z
UID:56655-1655404200-1655411400@www.minneapolisparks.org
SUMMARY:Summer Kick-Off
DESCRIPTION:Celebrate summer at the annual Summer Kick-Off with music\, playground games\, crafts\, MPRB Naturalist Program table\, a face painter and more. Bring a picnic supper and enjoy a fine summer evening in the park! No registration required to participate in this activity.
URL:https://www.minneapolisparks.org/event-calendar/summer-kick-off-4/
LOCATION:Lyndale Farmstead Park\, 3900 Bryant Ave S\, Minneapolis\, MN\, 55409\, United States
CATEGORIES:Events- All,Events- MPRB
GEO:44.9321181;-93.2914154
X-APPLE-STRUCTURED-LOCATION;VALUE=URI;X-ADDRESS=Lyndale Farmstead Park 3900 Bryant Ave S Minneapolis MN 55409 United States;X-APPLE-RADIUS=500;X-TITLE=3900 Bryant Ave S:geo:-93.2914154,44.9321181
END:VEVENT
BEGIN:VEVENT
DTSTART;TZID=America/Chicago:20220616T190000
DTEND;TZID=America/Chicago:20220616T203000
DTSTAMP:20260421T175130
CREATED:20220421T185007Z
LAST-MODIFIED:20220421T185007Z
UID:57262-1655406000-1655411400@www.minneapolisparks.org
SUMMARY:The Wrong Omar
DESCRIPTION:Songs\, stories and rock-n-roll aphorisms
URL:https://www.minneapolisparks.org/event-calendar/the-wrong-omar/
LOCATION:Minnehaha Park\, Minneapolis\, MN\, United States
CATEGORIES:Music & Movies in the Parks,Music in the Parks
GEO:44.9161006;-93.2109865
END:VEVENT
BEGIN:VEVENT
DTSTART;TZID=America/Chicago:20220616T193000
DTEND;TZID=America/Chicago:20220616T210000
DTSTAMP:20260421T175130
CREATED:20220421T173828Z
LAST-MODIFIED:20220421T173828Z
UID:57132-1655407800-1655413200@www.minneapolisparks.org
SUMMARY:Liam Gerard
DESCRIPTION:Melodic and lyrically driven alternative
URL:https://www.minneapolisparks.org/event-calendar/liam-gerard-5/
LOCATION:Lake Harriet Bandshell\, Minneapolis\, MN\, United States
CATEGORIES:Music & Movies in the Parks,Music in the Parks
GEO:44.927901;-93.3082473
END:VEVENT
BEGIN:VEVENT
DTSTART;TZID=America/Chicago:20220616T211500
DTEND;TZID=America/Chicago:20220616T211500
DTSTAMP:20260421T175130
CREATED:20220331T181334Z
LAST-MODIFIED:20220602T205636Z
UID:56683-1655414100-1655414100@www.minneapolisparks.org
SUMMARY:Spider-Man: No Way Home
DESCRIPTION:Enjoy an evening in the park while watching an outdoor movie. This year we will be showing family favorite – Spider-Man No Way Home. Be sure to bring your lawn chairs and blanket. Movie begins at dusk. Upon registration for this program\, participants agree to follow MPRB requirements related to face coverings and physical distancing. Face coverings are required indoors at all MPRB facilities\, unless otherwise specified by MPRB as part of athletics protocol.
URL:https://www.minneapolisparks.org/event-calendar/movie-in-the-park-4/
LOCATION:Lyndale Farmstead Park\, 3900 Bryant Ave S\, Minneapolis\, MN\, 55409\, United States
CATEGORIES:Events- All,Events- MPRB,Movies in the Parks,Music & Movies in the Parks
GEO:44.9321181;-93.2914154
X-APPLE-STRUCTURED-LOCATION;VALUE=URI;X-ADDRESS=Lyndale Farmstead Park 3900 Bryant Ave S Minneapolis MN 55409 United States;X-APPLE-RADIUS=500;X-TITLE=3900 Bryant Ave S:geo:-93.2914154,44.9321181
END:VEVENT
BEGIN:VEVENT
DTSTART;TZID=America/Chicago:20220617T173000
DTEND;TZID=America/Chicago:20220617T193000
DTSTAMP:20260421T175130
CREATED:20220331T184509Z
LAST-MODIFIED:20220331T184509Z
UID:56729-1655487000-1655494200@www.minneapolisparks.org
SUMMARY:Harrison Juneteenth Celebration
DESCRIPTION:Harrison Recreation Center and Harrison Neighborhood collaborate and host an outdoor Juneteenth celebration with music\, dancing\, activities\, and food. Bring your family and friends and celebrate with us.
URL:https://www.minneapolisparks.org/event-calendar/harrison-juneteenth-celebration/
LOCATION:Harrison Park\, 503 N Irving Ave\, Minneapolis\, MN\, 55405\, United States
CATEGORIES:Events- All,Events- MPRB
GEO:44.9827416;-93.2996079
X-APPLE-STRUCTURED-LOCATION;VALUE=URI;X-ADDRESS=Harrison Park 503 N Irving Ave Minneapolis MN 55405 United States;X-APPLE-RADIUS=500;X-TITLE=503 N Irving Ave:geo:-93.2996079,44.9827416
END:VEVENT
BEGIN:VEVENT
DTSTART;TZID=America/Chicago:20220617T180000
DTEND;TZID=America/Chicago:20220617T200000
DTSTAMP:20260421T175130
CREATED:20220331T184358Z
LAST-MODIFIED:20220331T184358Z
UID:56727-1655488800-1655496000@www.minneapolisparks.org
SUMMARY:Creekview Juneteenth Celebration
DESCRIPTION:Shingle Creek Neighborhood & Creekview Recreation Center collaborate and host an outdoor Juneteenth celebration with music\, dancing\, activities\, and food. Come on down to celebrate with us.
URL:https://www.minneapolisparks.org/event-calendar/creekview-juneteenth-celebration/
LOCATION:Creekview Park\, 5001 Humboldt Ave N\, Minneapolis\, MN\, 55430\, United States
CATEGORIES:Events- All,Events- MPRB
GEO:45.0452068;-93.301536
X-APPLE-STRUCTURED-LOCATION;VALUE=URI;X-ADDRESS=Creekview Park 5001 Humboldt Ave N Minneapolis MN 55430 United States;X-APPLE-RADIUS=500;X-TITLE=5001 Humboldt Ave N:geo:-93.301536,45.0452068
END:VEVENT
BEGIN:VEVENT
DTSTART;TZID=America/Chicago:20220617T190000
DTEND;TZID=America/Chicago:20220617T203000
DTSTAMP:20260421T175130
CREATED:20220421T185014Z
LAST-MODIFIED:20220421T185014Z
UID:57263-1655492400-1655497800@www.minneapolisparks.org
SUMMARY:Cabin Fever
DESCRIPTION:80’s & 90’s acoustic pop/rock
URL:https://www.minneapolisparks.org/event-calendar/cabin-fever/
LOCATION:Minnehaha Park\, Minneapolis\, MN\, United States
CATEGORIES:Music & Movies in the Parks,Music in the Parks
GEO:44.9161006;-93.2109865
END:VEVENT
BEGIN:VEVENT
DTSTART;TZID=America/Chicago:20220617T193000
DTEND;TZID=America/Chicago:20220617T210000
DTSTAMP:20260421T175130
CREATED:20220421T173903Z
LAST-MODIFIED:20220506T183633Z
UID:57133-1655494200-1655499600@www.minneapolisparks.org
SUMMARY:Prairie Fire Lady Choir
DESCRIPTION:Rock and Roll acapella group
URL:https://www.minneapolisparks.org/event-calendar/priarie-fire-lady-choir/
LOCATION:Lake Harriet Bandshell\, Minneapolis\, MN\, United States
CATEGORIES:Music & Movies in the Parks,Music in the Parks
GEO:44.927901;-93.3082473
END:VEVENT
BEGIN:VEVENT
DTSTART;TZID=America/Chicago:20220617T211500
DTEND;TZID=America/Chicago:20220617T211500
DTSTAMP:20260421T175130
CREATED:20220523T181350Z
LAST-MODIFIED:20220602T205806Z
UID:58040-1655500500-1655500500@www.minneapolisparks.org
SUMMARY:Summer of Soul
DESCRIPTION:Movie starts at dusk
URL:https://www.minneapolisparks.org/event-calendar/summer-of-soul/
LOCATION:Creekview Park\, 5001 Humboldt Ave N\, Minneapolis\, MN\, 55430\, United States
CATEGORIES:Movies in the Parks,Music & Movies in the Parks
GEO:45.0452068;-93.301536
X-APPLE-STRUCTURED-LOCATION;VALUE=URI;X-ADDRESS=Creekview Park 5001 Humboldt Ave N Minneapolis MN 55430 United States;X-APPLE-RADIUS=500;X-TITLE=5001 Humboldt Ave N:geo:-93.301536,45.0452068
END:VEVENT
BEGIN:VEVENT
DTSTART;TZID=America/Chicago:20220618T120000
DTEND;TZID=America/Chicago:20220618T180000
DTSTAMP:20260421T175130
CREATED:20220621T161109Z
LAST-MODIFIED:20220621T161109Z
UID:58837-1655553600-1655575200@www.minneapolisparks.org
SUMMARY:Juneteenth
DESCRIPTION:Juneteenth Event\nJune 18\, 12-6 pm\, Bethune Park\, 1304 N 10th Ave. \nFood Trucks\, Stage Entertainment\, Kids’ Activities\, Vendors\, Exhibitors\n \nEntertainment:\n\nDJ Dime\nBrooklyn Park Lions Drum and Dance Group \nNiles\nLegacy Arts Group\nJovonta Patton\nCornisha Garmon\nJerome Treadwell\nChase & Ovation 
URL:https://www.minneapolisparks.org/event-calendar/juneteenth-2/
LOCATION:Bethune Park\, 1304 N 10th Ave\, Minneapolis\, MN\, 55411\, United States
CATEGORIES:Events- All,Events- MPRB
GEO:44.9881507;-93.2957644
X-APPLE-STRUCTURED-LOCATION;VALUE=URI;X-ADDRESS=Bethune Park 1304 N 10th Ave Minneapolis MN 55411 United States;X-APPLE-RADIUS=500;X-TITLE=1304 N 10th Ave:geo:-93.2957644,44.9881507
END:VEVENT
BEGIN:VEVENT
DTSTART;TZID=America/Chicago:20220618T193000
DTEND;TZID=America/Chicago:20220618T210000
DTSTAMP:20260421T175130
CREATED:20220421T174134Z
LAST-MODIFIED:20220421T174134Z
UID:57134-1655580600-1655586000@www.minneapolisparks.org
SUMMARY:Twin Cities Mobile Jazz Project
DESCRIPTION:Music\, unity\, and creative education
URL:https://www.minneapolisparks.org/event-calendar/twin-cities-mobile-jazz-project-8/
LOCATION:Lake Harriet Bandshell\, Minneapolis\, MN\, United States
CATEGORIES:Music & Movies in the Parks,Music in the Parks
GEO:44.927901;-93.3082473
END:VEVENT
BEGIN:VEVENT
DTSTART;TZID=America/Chicago:20220619T140000
DTEND;TZID=America/Chicago:20220619T153000
DTSTAMP:20260421T175130
CREATED:20220421T174210Z
LAST-MODIFIED:20220421T174210Z
UID:57135-1655647200-1655652600@www.minneapolisparks.org
SUMMARY:Cantus
DESCRIPTION:Engaging men’s vocal ensemble
URL:https://www.minneapolisparks.org/event-calendar/cantus-5/
LOCATION:Lake Harriet Bandshell\, Minneapolis\, MN\, United States
CATEGORIES:Music & Movies in the Parks,Music in the Parks
GEO:44.927901;-93.3082473
END:VEVENT
END:VCALENDAR