BEGIN:VCALENDAR
VERSION:2.0
PRODID:-//Minneapolis Park &amp; Recreation Board - ECPv6.15.20//NONSGML v1.0//EN
CALSCALE:GREGORIAN
METHOD:PUBLISH
X-ORIGINAL-URL:https://www.minneapolisparks.org
X-WR-CALDESC:Events for Minneapolis Park &amp; Recreation Board
REFRESH-INTERVAL;VALUE=DURATION:PT1H
X-Robots-Tag:noindex
X-PUBLISHED-TTL:PT1H
BEGIN:VTIMEZONE
TZID:America/Chicago
BEGIN:DAYLIGHT
TZOFFSETFROM:-0600
TZOFFSETTO:-0500
TZNAME:CDT
DTSTART:20210314T080000
END:DAYLIGHT
BEGIN:STANDARD
TZOFFSETFROM:-0500
TZOFFSETTO:-0600
TZNAME:CST
DTSTART:20211107T070000
END:STANDARD
BEGIN:DAYLIGHT
TZOFFSETFROM:-0600
TZOFFSETTO:-0500
TZNAME:CDT
DTSTART:20220313T080000
END:DAYLIGHT
BEGIN:STANDARD
TZOFFSETFROM:-0500
TZOFFSETTO:-0600
TZNAME:CST
DTSTART:20221106T070000
END:STANDARD
BEGIN:DAYLIGHT
TZOFFSETFROM:-0600
TZOFFSETTO:-0500
TZNAME:CDT
DTSTART:20230312T080000
END:DAYLIGHT
BEGIN:STANDARD
TZOFFSETFROM:-0500
TZOFFSETTO:-0600
TZNAME:CST
DTSTART:20231105T070000
END:STANDARD
END:VTIMEZONE
BEGIN:VEVENT
DTSTART;TZID=America/Chicago:20220601T203000
DTEND;TZID=America/Chicago:20220601T203000
DTSTAMP:20260421T192552
CREATED:20220523T171503Z
LAST-MODIFIED:20220526T190519Z
UID:57971-1654115400-1654115400@www.minneapolisparks.org
SUMMARY:Ratatouille
DESCRIPTION:Movie starts at dusk
URL:https://www.minneapolisparks.org/event-calendar/movie-in-the-park-ratatouille/
LOCATION:The Commons\, 425 Portland Ave South\, Minneapolis\, MN\, 55488\, United States
CATEGORIES:Movies in the Parks,Music & Movies in the Parks
GEO:44.9766971;-93.2628904
X-APPLE-STRUCTURED-LOCATION;VALUE=URI;X-ADDRESS=The Commons 425 Portland Ave South Minneapolis MN 55488 United States;X-APPLE-RADIUS=500;X-TITLE=425 Portland Ave South:geo:-93.2628904,44.9766971
END:VEVENT
BEGIN:VEVENT
DTSTART;TZID=America/Chicago:20220602T170000
DTEND;TZID=America/Chicago:20220602T183000
DTSTAMP:20260421T192552
CREATED:20220421T175553Z
LAST-MODIFIED:20220519T212419Z
UID:57166-1654189200-1654194600@www.minneapolisparks.org
SUMMARY:Pavel Jany
DESCRIPTION:Acoustic jazz with international flair
URL:https://www.minneapolisparks.org/event-calendar/pavel-jany/
LOCATION:The Commons\, 425 Portland Ave South\, Minneapolis\, MN\, 55488\, United States
CATEGORIES:Music & Movies in the Parks,Music in the Parks
GEO:44.9766971;-93.2628904
X-APPLE-STRUCTURED-LOCATION;VALUE=URI;X-ADDRESS=The Commons 425 Portland Ave South Minneapolis MN 55488 United States;X-APPLE-RADIUS=500;X-TITLE=425 Portland Ave South:geo:-93.2628904,44.9766971
END:VEVENT
BEGIN:VEVENT
DTSTART;TZID=America/Chicago:20220602T190000
DTEND;TZID=America/Chicago:20220602T203000
DTSTAMP:20260421T192552
CREATED:20220421T184948Z
LAST-MODIFIED:20220428T215736Z
UID:57259-1654196400-1654201800@www.minneapolisparks.org
SUMMARY:Homeward Bound
DESCRIPTION:Upper midwestern roots music ensemble
URL:https://www.minneapolisparks.org/event-calendar/homeward-bound-2/
LOCATION:Minnehaha Park\, Minneapolis\, MN\, United States
CATEGORIES:Music & Movies in the Parks,Music in the Parks
GEO:44.9161006;-93.2109865
END:VEVENT
BEGIN:VEVENT
DTSTART;TZID=America/Chicago:20220602T193000
DTEND;TZID=America/Chicago:20220602T213000
DTSTAMP:20260421T192552
CREATED:20220419T211051Z
LAST-MODIFIED:20220419T211051Z
UID:57085-1654198200-1654205400@www.minneapolisparks.org
SUMMARY:Linden Hills Chamber Orchestra
DESCRIPTION:Orchestral\, Patriotic\, Showtune Medleys
URL:https://www.minneapolisparks.org/event-calendar/linden-hills-chamber-orchestra-5/
LOCATION:Lake Harriet Bandshell\, Minneapolis\, MN\, United States
CATEGORIES:Music & Movies in the Parks,Music in the Parks
GEO:44.927901;-93.3082473
END:VEVENT
BEGIN:VEVENT
DTSTART;TZID=America/Chicago:20220602T200000
DTEND;TZID=America/Chicago:20220602T200000
DTSTAMP:20260421T192552
CREATED:20220523T171842Z
LAST-MODIFIED:20220601T195900Z
UID:57995-1654200000-1654200000@www.minneapolisparks.org
SUMMARY:The Sandlot
DESCRIPTION:Movie starts at dusk
URL:https://www.minneapolisparks.org/event-calendar/movie-in-the-park-the-sandlot/
LOCATION:Audubon Park\, 1320 29th Ave NE\, Minneapolis\, MN\, 55418\, United States
CATEGORIES:Movies in the Parks,Music & Movies in the Parks
GEO:45.0200505;-93.2397463
X-APPLE-STRUCTURED-LOCATION;VALUE=URI;X-ADDRESS=Audubon Park 1320 29th Ave NE Minneapolis MN 55418 United States;X-APPLE-RADIUS=500;X-TITLE=1320 29th Ave NE:geo:-93.2397463,45.0200505
END:VEVENT
BEGIN:VEVENT
DTSTART;TZID=America/Chicago:20220603T190000
DTEND;TZID=America/Chicago:20220603T203000
DTSTAMP:20260421T192552
CREATED:20220421T184940Z
LAST-MODIFIED:20220428T215715Z
UID:57258-1654282800-1654288200@www.minneapolisparks.org
SUMMARY:South High Community Band
DESCRIPTION:Family-Friendly Fun Band Music
URL:https://www.minneapolisparks.org/event-calendar/south-high-community-band-3/
LOCATION:Minnehaha Park\, Minneapolis\, MN\, United States
CATEGORIES:Music & Movies in the Parks,Music in the Parks
GEO:44.9161006;-93.2109865
END:VEVENT
BEGIN:VEVENT
DTSTART;TZID=America/Chicago:20220603T193000
DTEND;TZID=America/Chicago:20220603T210000
DTSTAMP:20260421T192552
CREATED:20220421T171738Z
LAST-MODIFIED:20220421T172029Z
UID:57121-1654284600-1654290000@www.minneapolisparks.org
SUMMARY:Emerson Avenue Band
DESCRIPTION:High Energy Horn Dance Band
URL:https://www.minneapolisparks.org/event-calendar/music-in-the-park-emerson-avenue/
LOCATION:Lake Harriet\, Minneapolis\, MN\, United States
CATEGORIES:Music & Movies in the Parks,Music in the Parks
GEO:44.927901;-93.3082473
END:VEVENT
BEGIN:VEVENT
DTSTART;TZID=America/Chicago:20220603T210500
DTEND;TZID=America/Chicago:20220603T210500
DTSTAMP:20260421T192552
CREATED:20220523T172055Z
LAST-MODIFIED:20220602T205202Z
UID:58008-1654290300-1654290300@www.minneapolisparks.org
SUMMARY:Back to the Future
DESCRIPTION:Movie starts at dusk
URL:https://www.minneapolisparks.org/event-calendar/movie-in-the-park-back-to-the-future/
LOCATION:Armatage Park\, 2500 W 57th St\, Minneapolis\, MN\, 55410\, United States
CATEGORIES:Movies in the Parks,Music & Movies in the Parks
GEO:44.9007399;-93.3112736
X-APPLE-STRUCTURED-LOCATION;VALUE=URI;X-ADDRESS=Armatage Park 2500 W 57th St Minneapolis MN 55410 United States;X-APPLE-RADIUS=500;X-TITLE=2500 W 57th St:geo:-93.3112736,44.9007399
END:VEVENT
BEGIN:VEVENT
DTSTART;TZID=America/Chicago:20220604T193000
DTEND;TZID=America/Chicago:20220604T210000
DTSTAMP:20260421T192552
CREATED:20220421T172317Z
LAST-MODIFIED:20220421T172329Z
UID:57123-1654371000-1654376400@www.minneapolisparks.org
SUMMARY:Dan Israel
DESCRIPTION:Jangly\, spirited folk-rock
URL:https://www.minneapolisparks.org/event-calendar/dan-israel-5/
LOCATION:Lake Harriet Bandshell\, Minneapolis\, MN\, United States
CATEGORIES:Music & Movies in the Parks,Music in the Parks
GEO:44.927901;-93.3082473
END:VEVENT
BEGIN:VEVENT
DTSTART;TZID=America/Chicago:20220604T210500
DTEND;TZID=America/Chicago:20220604T210500
DTSTAMP:20260421T192552
CREATED:20220523T172256Z
LAST-MODIFIED:20220602T205342Z
UID:58016-1654376700-1654376700@www.minneapolisparks.org
SUMMARY:Harry Potter and the Sorcerer's Stone
DESCRIPTION:Movie starts at dusk
URL:https://www.minneapolisparks.org/event-calendar/movie-in-the-park-harry-potter-and-the-sorcerers-stone/
LOCATION:Lake Harriet\, Minneapolis\, MN\, United States
CATEGORIES:Movies in the Parks,Music & Movies in the Parks
GEO:44.927901;-93.3082473
END:VEVENT
BEGIN:VEVENT
DTSTART;TZID=America/Chicago:20220605T140000
DTEND;TZID=America/Chicago:20220605T153000
DTSTAMP:20260421T192552
CREATED:20220421T172435Z
LAST-MODIFIED:20220421T172435Z
UID:57124-1654437600-1654443000@www.minneapolisparks.org
SUMMARY:Sawyer's Dream
DESCRIPTION:Americana Powerhouse vocal Harmony Band
URL:https://www.minneapolisparks.org/event-calendar/sawyers-dream-4/
LOCATION:Lake Harriet Bandshell\, Minneapolis\, MN\, United States
CATEGORIES:Music & Movies in the Parks,Music in the Parks
GEO:44.927901;-93.3082473
END:VEVENT
BEGIN:VEVENT
DTSTART;TZID=America/Chicago:20220605T173000
DTEND;TZID=America/Chicago:20220605T190000
DTSTAMP:20260421T192552
CREATED:20220421T173003Z
LAST-MODIFIED:20220421T173003Z
UID:57125-1654450200-1654455600@www.minneapolisparks.org
SUMMARY:Issues (Tribute to Fleetwood Mac)
DESCRIPTION:Minnesota’s Tribute to Fleetwood Mac
URL:https://www.minneapolisparks.org/event-calendar/issues-tribute-to-fleetwood-mac/
LOCATION:Lake Harriet Bandshell\, Minneapolis\, MN\, United States
CATEGORIES:Music & Movies in the Parks,Music in the Parks
GEO:44.927901;-93.3082473
END:VEVENT
BEGIN:VEVENT
DTSTART;TZID=America/Chicago:20220606T190000
DTEND;TZID=America/Chicago:20220606T190000
DTSTAMP:20260421T192552
CREATED:20220523T184445Z
LAST-MODIFIED:20220525T181420Z
UID:58078-1654542000-1654542000@www.minneapolisparks.org
SUMMARY:Opera Under the Stars at Water Works
DESCRIPTION:A full gowns and glamour concert at Water Works at Mill Ruins Park (425 West River Road). Join the Overdressed Duo and their fabulous guest artists for a show with all the opera and music theater hits!
URL:https://www.minneapolisparks.org/event-calendar/opera-under-the-stars-at-water-works/2022-06-06/
LOCATION:Water Works at Mill Ruins Park\, 425 West River Parkway\, Minneapolis\, MN\, 55401\, United States
CATEGORIES:Music & Movies in the Parks,Music in the Parks
GEO:44.9811921;-93.2620982
X-APPLE-STRUCTURED-LOCATION;VALUE=URI;X-ADDRESS=Water Works at Mill Ruins Park 425 West River Parkway Minneapolis MN 55401 United States;X-APPLE-RADIUS=500;X-TITLE=425 West River Parkway:geo:-93.2620982,44.9811921
END:VEVENT
BEGIN:VEVENT
DTSTART;TZID=America/Chicago:20220606T190000
DTEND;TZID=America/Chicago:20220606T203000
DTSTAMP:20260421T192552
CREATED:20220421T182931Z
LAST-MODIFIED:20220421T182931Z
UID:57235-1654542000-1654547400@www.minneapolisparks.org
SUMMARY:Tjärnblom
DESCRIPTION:Scandinavian with a Minnesota Twist
URL:https://www.minneapolisparks.org/event-calendar/tjarnblom-3/
LOCATION:Nicollet Island Park\, 40 Power St\, Minneapolis\, MN\, 55401\, United States
CATEGORIES:Music & Movies in the Parks,Music in the Parks
GEO:44.9847316;-93.2600873
X-APPLE-STRUCTURED-LOCATION;VALUE=URI;X-ADDRESS=Nicollet Island Park 40 Power St Minneapolis MN 55401 United States;X-APPLE-RADIUS=500;X-TITLE=40 Power St:geo:-93.2600873,44.9847316
END:VEVENT
BEGIN:VEVENT
DTSTART;TZID=America/Chicago:20220606T190000
DTEND;TZID=America/Chicago:20220606T203000
DTSTAMP:20260421T192552
CREATED:20220519T213935Z
LAST-MODIFIED:20220519T213935Z
UID:57914-1654542000-1654547400@www.minneapolisparks.org
SUMMARY:Opera Under the Stars
DESCRIPTION:
URL:https://www.minneapolisparks.org/event-calendar/opera-under-the-stars-3/
LOCATION:Water Works at Mill Ruins Park\, 425 West River Parkway\, Minneapolis\, MN\, 55401\, United States
CATEGORIES:Music & Movies in the Parks,Music in the Parks
GEO:44.9811921;-93.2620982
X-APPLE-STRUCTURED-LOCATION;VALUE=URI;X-ADDRESS=Water Works at Mill Ruins Park 425 West River Parkway Minneapolis MN 55401 United States;X-APPLE-RADIUS=500;X-TITLE=425 West River Parkway:geo:-93.2620982,44.9811921
END:VEVENT
BEGIN:VEVENT
DTSTART;TZID=America/Chicago:20220606T193000
DTEND;TZID=America/Chicago:20220606T210000
DTSTAMP:20260421T192552
CREATED:20220421T173044Z
LAST-MODIFIED:20220421T173044Z
UID:57126-1654543800-1654549200@www.minneapolisparks.org
SUMMARY:Ragged but Right
DESCRIPTION:The music of the Jerry Garcia Band
URL:https://www.minneapolisparks.org/event-calendar/ragged-but-right-2/
LOCATION:Lake Harriet Bandshell\, Minneapolis\, MN\, United States
CATEGORIES:Music & Movies in the Parks,Music in the Parks
GEO:44.927901;-93.3082473
END:VEVENT
BEGIN:VEVENT
DTSTART;TZID=America/Chicago:20220607T183000
DTEND;TZID=America/Chicago:20220607T200000
DTSTAMP:20260421T192552
CREATED:20220421T182124Z
LAST-MODIFIED:20220525T181259Z
UID:57214-1654626600-1654632000@www.minneapolisparks.org
SUMMARY:Wookiefoot
DESCRIPTION:Bryant Square Park Kick-Off Celebration featuring Wookiefoot: Trans-Cosmic Tribadelic Space Carnival
URL:https://www.minneapolisparks.org/event-calendar/wookiefoot/
LOCATION:Bryant Square Park\, 3101 Bryant Ave S\, Minneapolis\, MN\, 55408\, United States
CATEGORIES:Music & Movies in the Parks,Music in the Parks
GEO:44.9461045;-93.2903539
X-APPLE-STRUCTURED-LOCATION;VALUE=URI;X-ADDRESS=Bryant Square Park 3101 Bryant Ave S Minneapolis MN 55408 United States;X-APPLE-RADIUS=500;X-TITLE=3101 Bryant Ave S:geo:-93.2903539,44.9461045
END:VEVENT
BEGIN:VEVENT
DTSTART;TZID=America/Chicago:20220607T211500
DTEND;TZID=America/Chicago:20220607T211500
DTSTAMP:20260421T192552
CREATED:20220523T172914Z
LAST-MODIFIED:20220602T205414Z
UID:58022-1654636500-1654636500@www.minneapolisparks.org
SUMMARY:Asian Movie Night
DESCRIPTION:Movie starts at dusk
URL:https://www.minneapolisparks.org/event-calendar/asian-movie-night/
LOCATION:Minnehaha Park\, Minneapolis\, MN\, United States
CATEGORIES:Movies in the Parks,Music & Movies in the Parks
GEO:44.9161006;-93.2109865
END:VEVENT
BEGIN:VEVENT
DTSTART;TZID=America/Chicago:20220608T170000
DTEND;TZID=America/Chicago:20220608T210000
DTSTAMP:20260421T192552
CREATED:20220602T144710Z
LAST-MODIFIED:20220602T144745Z
UID:58341-1654707600-1654722000@www.minneapolisparks.org
SUMMARY:Committee of the Whole Board Meeting
DESCRIPTION:View agenda and details
URL:https://www.minneapolisparks.org/event-calendar/committee-of-the-whole-board-meeting/
LOCATION:Powderhorn Recreation Center\, Minneapolis\, MN\, United States
CATEGORIES:Public Meetings
GEO:44.9413282;-93.2547875
END:VEVENT
BEGIN:VEVENT
DTSTART;TZID=America/Chicago:20220608T211500
DTEND;TZID=America/Chicago:20220608T211500
DTSTAMP:20260421T192552
CREATED:20220523T173608Z
LAST-MODIFIED:20220602T205430Z
UID:58024-1654722900-1654722900@www.minneapolisparks.org
SUMMARY:The Princess Bride
DESCRIPTION:Movie starts at dusk
URL:https://www.minneapolisparks.org/event-calendar/movie-in-the-park-the-princess-bride/
LOCATION:The Commons\, 425 Portland Ave South\, Minneapolis\, MN\, 55488\, United States
CATEGORIES:Movies in the Parks,Music & Movies in the Parks
GEO:44.9766971;-93.2628904
X-APPLE-STRUCTURED-LOCATION;VALUE=URI;X-ADDRESS=The Commons 425 Portland Ave South Minneapolis MN 55488 United States;X-APPLE-RADIUS=500;X-TITLE=425 Portland Ave South:geo:-93.2628904,44.9766971
END:VEVENT
BEGIN:VEVENT
DTSTART;TZID=America/Chicago:20220609T170000
DTEND;TZID=America/Chicago:20220609T183000
DTSTAMP:20260421T192552
CREATED:20220421T175650Z
LAST-MODIFIED:20220519T212401Z
UID:57167-1654794000-1654799400@www.minneapolisparks.org
SUMMARY:Kovan Baldwin
DESCRIPTION:R&B\, soul\, and pop
URL:https://www.minneapolisparks.org/event-calendar/kovan-baldwin/
LOCATION:The Commons\, 425 Portland Ave South\, Minneapolis\, MN\, 55488\, United States
CATEGORIES:Music & Movies in the Parks,Music in the Parks
GEO:44.9766971;-93.2628904
X-APPLE-STRUCTURED-LOCATION;VALUE=URI;X-ADDRESS=The Commons 425 Portland Ave South Minneapolis MN 55488 United States;X-APPLE-RADIUS=500;X-TITLE=425 Portland Ave South:geo:-93.2628904,44.9766971
END:VEVENT
BEGIN:VEVENT
DTSTART;TZID=America/Chicago:20220609T183000
DTEND;TZID=America/Chicago:20220609T200000
DTSTAMP:20260421T192552
CREATED:20220421T182112Z
LAST-MODIFIED:20220525T180659Z
UID:57195-1654799400-1654804800@www.minneapolisparks.org
SUMMARY:Single Cell
DESCRIPTION:Free improvisation\, new meets old
URL:https://www.minneapolisparks.org/event-calendar/singlecell/
LOCATION:Bryant Square Park\, 3101 Bryant Ave S\, Minneapolis\, MN\, 55408\, United States
CATEGORIES:Music & Movies in the Parks,Music in the Parks
GEO:44.9461045;-93.2903539
X-APPLE-STRUCTURED-LOCATION;VALUE=URI;X-ADDRESS=Bryant Square Park 3101 Bryant Ave S Minneapolis MN 55408 United States;X-APPLE-RADIUS=500;X-TITLE=3101 Bryant Ave S:geo:-93.2903539,44.9461045
END:VEVENT
BEGIN:VEVENT
DTSTART;TZID=America/Chicago:20220609T190000
DTEND;TZID=America/Chicago:20220609T203000
DTSTAMP:20260421T192552
CREATED:20220421T184955Z
LAST-MODIFIED:20220421T184955Z
UID:57260-1654801200-1654806600@www.minneapolisparks.org
SUMMARY:Jake Nelson
DESCRIPTION:Fun\, Variety\, Up Beat\, Originals\, Covers
URL:https://www.minneapolisparks.org/event-calendar/jake-nelson/
LOCATION:Minnehaha Park\, Minneapolis\, MN\, United States
CATEGORIES:Music & Movies in the Parks,Music in the Parks
GEO:44.9161006;-93.2109865
END:VEVENT
BEGIN:VEVENT
DTSTART;TZID=America/Chicago:20220609T193000
DTEND;TZID=America/Chicago:20220609T210000
DTSTAMP:20260421T192552
CREATED:20220421T173202Z
LAST-MODIFIED:20220421T173202Z
UID:57127-1654803000-1654808400@www.minneapolisparks.org
SUMMARY:Kashimana and The Mamas Ignite Collective
DESCRIPTION:Deliciously soulful acoustic pop
URL:https://www.minneapolisparks.org/event-calendar/kashimana-and-the-mamas-ignite-collective/
LOCATION:Lake Harriet Bandshell\, Minneapolis\, MN\, United States
CATEGORIES:Music & Movies in the Parks,Music in the Parks
GEO:44.927901;-93.3082473
END:VEVENT
BEGIN:VEVENT
DTSTART;TZID=America/Chicago:20220609T211500
DTEND;TZID=America/Chicago:20220609T211500
DTSTAMP:20260421T192552
CREATED:20220523T174300Z
LAST-MODIFIED:20220602T205450Z
UID:58026-1654809300-1654809300@www.minneapolisparks.org
SUMMARY:Cruella
DESCRIPTION:Movie starts at dusk \n\n\n\nLive on the Drive at Victory Memorial Drive\n\n\n\n\n\n\n34th Ave N & Victory Memorial Dr
URL:https://www.minneapolisparks.org/event-calendar/movie-in-the-park-cruella/
LOCATION:Victory Memorial Drive\, Victory Memorial Drive\, Minneapolis\, MN\, United States
CATEGORIES:Movies in the Parks,Music & Movies in the Parks
GEO:45.0311986;-93.3193329
X-APPLE-STRUCTURED-LOCATION;VALUE=URI;X-ADDRESS=Victory Memorial Drive Victory Memorial Drive Minneapolis MN United States;X-APPLE-RADIUS=500;X-TITLE=Victory Memorial Drive:geo:-93.3193329,45.0311986
END:VEVENT
BEGIN:VEVENT
DTSTART;TZID=America/Chicago:20220610T190000
DTEND;TZID=America/Chicago:20220610T203000
DTSTAMP:20260421T192552
CREATED:20220421T185001Z
LAST-MODIFIED:20220421T185001Z
UID:57261-1654887600-1654893000@www.minneapolisparks.org
SUMMARY:The Fox & Beggar Theater Presents: "The Lonesome Spectacular!"
DESCRIPTION:A new Circus-ish Show About a Lot of Things
URL:https://www.minneapolisparks.org/event-calendar/the-fox-beggar-theater-presents-the-lonesome-spectacular/
LOCATION:Minnehaha Park\, Minneapolis\, MN\, United States
CATEGORIES:Music & Movies in the Parks,Music in the Parks
GEO:44.9161006;-93.2109865
END:VEVENT
BEGIN:VEVENT
DTSTART;TZID=America/Chicago:20220610T193000
DTEND;TZID=America/Chicago:20220610T210000
DTSTAMP:20260421T192552
CREATED:20220421T173246Z
LAST-MODIFIED:20220603T194710Z
UID:57128-1654889400-1654894800@www.minneapolisparks.org
SUMMARY:TEA2 Architects presents: Belfast Cowboys
DESCRIPTION:Rock\, soul\, and Van Morrison
URL:https://www.minneapolisparks.org/event-calendar/the-belfast-cowboys-3/
LOCATION:Lake Harriet Bandshell\, Minneapolis\, MN\, United States
CATEGORIES:Music & Movies in the Parks,Music in the Parks
GEO:44.927901;-93.3082473
END:VEVENT
BEGIN:VEVENT
DTSTART;TZID=America/Chicago:20220610T211500
DTEND;TZID=America/Chicago:20220610T211500
DTSTAMP:20260421T192552
CREATED:20220519T214203Z
LAST-MODIFIED:20220602T205602Z
UID:57918-1654895700-1654895700@www.minneapolisparks.org
SUMMARY:Twin Cities Black Film Festival Presents: I’m in Love with a Church Girl
DESCRIPTION:
URL:https://www.minneapolisparks.org/event-calendar/twin-cities-black-film-festival-presents-im-in-love-with-a-church-girl/
LOCATION:Minneapolis\, MN\, 55401\, United States
CATEGORIES:Movies in the Parks,Music & Movies in the Parks,Music in the Parks
GEO:44.9836543;-93.2693572
END:VEVENT
BEGIN:VEVENT
DTSTART;TZID=America/Chicago:20220611T100000
DTEND;TZID=America/Chicago:20220611T100000
DTSTAMP:20260421T192552
CREATED:20220523T184741Z
LAST-MODIFIED:20220525T181342Z
UID:58082-1654941600-1654941600@www.minneapolisparks.org
SUMMARY:MacPhail KidsFest! at Water Works
DESCRIPTION:MacPhail at Water Works presents KidsFest! Join us for music and movement for the whole family. There will be two performances (10:15 and 11:15) with a craft table and instrument exploration.
URL:https://www.minneapolisparks.org/event-calendar/macphail-kidsfest-at-water-works/
LOCATION:Water Works at Mill Ruins Park\, 425 West River Parkway\, Minneapolis\, MN\, 55401\, United States
CATEGORIES:Music & Movies in the Parks,Music in the Parks
GEO:44.9811921;-93.2620982
X-APPLE-STRUCTURED-LOCATION;VALUE=URI;X-ADDRESS=Water Works at Mill Ruins Park 425 West River Parkway Minneapolis MN 55401 United States;X-APPLE-RADIUS=500;X-TITLE=425 West River Parkway:geo:-93.2620982,44.9811921
END:VEVENT
BEGIN:VEVENT
DTSTART;TZID=America/Chicago:20220611T100000
DTEND;TZID=America/Chicago:20220611T120000
DTSTAMP:20260421T192552
CREATED:20220519T213847Z
LAST-MODIFIED:20220519T213847Z
UID:57912-1654941600-1654948800@www.minneapolisparks.org
SUMMARY:MacPhail KidsFest
DESCRIPTION:
URL:https://www.minneapolisparks.org/event-calendar/macphail-kidsfest/
LOCATION:Water Works at Mill Ruins Park\, 425 West River Parkway\, Minneapolis\, MN\, 55401\, United States
CATEGORIES:Music & Movies in the Parks,Music in the Parks
GEO:44.9811921;-93.2620982
X-APPLE-STRUCTURED-LOCATION;VALUE=URI;X-ADDRESS=Water Works at Mill Ruins Park 425 West River Parkway Minneapolis MN 55401 United States;X-APPLE-RADIUS=500;X-TITLE=425 West River Parkway:geo:-93.2620982,44.9811921
END:VEVENT
END:VCALENDAR