BEGIN:VCALENDAR
VERSION:2.0
PRODID:-//Minneapolis Park &amp; Recreation Board - ECPv6.15.20//NONSGML v1.0//EN
CALSCALE:GREGORIAN
METHOD:PUBLISH
X-ORIGINAL-URL:https://www.minneapolisparks.org
X-WR-CALDESC:Events for Minneapolis Park &amp; Recreation Board
REFRESH-INTERVAL;VALUE=DURATION:PT1H
X-Robots-Tag:noindex
X-PUBLISHED-TTL:PT1H
BEGIN:VTIMEZONE
TZID:America/Chicago
BEGIN:DAYLIGHT
TZOFFSETFROM:-0600
TZOFFSETTO:-0500
TZNAME:CDT
DTSTART:20210314T080000
END:DAYLIGHT
BEGIN:STANDARD
TZOFFSETFROM:-0500
TZOFFSETTO:-0600
TZNAME:CST
DTSTART:20211107T070000
END:STANDARD
BEGIN:DAYLIGHT
TZOFFSETFROM:-0600
TZOFFSETTO:-0500
TZNAME:CDT
DTSTART:20220313T080000
END:DAYLIGHT
BEGIN:STANDARD
TZOFFSETFROM:-0500
TZOFFSETTO:-0600
TZNAME:CST
DTSTART:20221106T070000
END:STANDARD
BEGIN:DAYLIGHT
TZOFFSETFROM:-0600
TZOFFSETTO:-0500
TZNAME:CDT
DTSTART:20230312T080000
END:DAYLIGHT
BEGIN:STANDARD
TZOFFSETFROM:-0500
TZOFFSETTO:-0600
TZNAME:CST
DTSTART:20231105T070000
END:STANDARD
END:VTIMEZONE
BEGIN:VEVENT
DTSTART;TZID=America/Chicago:20220507T090000
DTEND;TZID=America/Chicago:20220507T090000
DTSTAMP:20260421T210732
CREATED:20220325T165413Z
LAST-MODIFIED:20220325T165413Z
UID:56470-1651914000-1651914000@www.minneapolisparks.org
SUMMARY:Great Strides Walk
DESCRIPTION:
URL:https://www.minneapolisparks.org/event-calendar/great-strides-walk/
LOCATION:Bde Maka Ska\, Bde Maka Ska\, Minneapolis\, MN\, 55416\, United States
CATEGORIES:Events- All,Events- Non-MPRB
GEO:44.9421047;-93.3207807
X-APPLE-STRUCTURED-LOCATION;VALUE=URI;X-ADDRESS=Bde Maka Ska Bde Maka Ska Minneapolis MN 55416 United States;X-APPLE-RADIUS=500;X-TITLE=Bde Maka Ska:geo:-93.3207807,44.9421047
END:VEVENT
BEGIN:VEVENT
DTSTART;TZID=America/Chicago:20220507T090000
DTEND;TZID=America/Chicago:20220507T090000
DTSTAMP:20260421T210732
CREATED:20220325T165808Z
LAST-MODIFIED:20220325T165808Z
UID:56475-1651914000-1651914000@www.minneapolisparks.org
SUMMARY:Abria Run 5K/10K
DESCRIPTION:
URL:https://www.minneapolisparks.org/event-calendar/abria-run-5k-10k/
LOCATION:Lake Harriet\, Minneapolis\, MN\, United States
CATEGORIES:Events- All,Events- Non-MPRB
GEO:44.927901;-93.3082473
END:VEVENT
BEGIN:VEVENT
DTSTART;TZID=America/Chicago:20220507T120000
DTEND;TZID=America/Chicago:20220507T120000
DTSTAMP:20260421T210732
CREATED:20220325T165710Z
LAST-MODIFIED:20220325T165710Z
UID:56472-1651924800-1651924800@www.minneapolisparks.org
SUMMARY:Duck Race & Creek Cleanup
DESCRIPTION:
URL:https://www.minneapolisparks.org/event-calendar/duck-race-creek-cleanup/
LOCATION:Minnehaha Creek Park\, 51st Street West & West Minnehaha Parkway\, Minneapolis\, MN\, 55419\, United States
CATEGORIES:Events- All,Events- Non-MPRB
GEO:44.9106579;-93.298474
X-APPLE-STRUCTURED-LOCATION;VALUE=URI;X-ADDRESS=Minnehaha Creek Park 51st Street West & West Minnehaha Parkway Minneapolis MN 55419 United States;X-APPLE-RADIUS=500;X-TITLE=51st Street West & West Minnehaha Parkway:geo:-93.298474,44.9106579
END:VEVENT
BEGIN:VEVENT
DTSTART;TZID=America/Chicago:20220514T120000
DTEND;TZID=America/Chicago:20220514T120000
DTSTAMP:20260421T210732
CREATED:20220325T170256Z
LAST-MODIFIED:20220325T170256Z
UID:56477-1652529600-1652529600@www.minneapolisparks.org
SUMMARY:Sounds Garden & Nature Workshop
DESCRIPTION:
URL:https://www.minneapolisparks.org/event-calendar/sounds-garden-nature-workshop/
LOCATION:Riverside Park\, 2820 S Eighth St\, Minneapolis\, MN\, 55454\, United States
CATEGORIES:Events- All,Events- Non-MPRB
GEO:44.9663544;-93.2317421
X-APPLE-STRUCTURED-LOCATION;VALUE=URI;X-ADDRESS=Riverside Park 2820 S Eighth St Minneapolis MN 55454 United States;X-APPLE-RADIUS=500;X-TITLE=2820 S Eighth St:geo:-93.2317421,44.9663544
END:VEVENT
BEGIN:VEVENT
DTSTART;TZID=America/Chicago:20220514T150000
DTEND;TZID=America/Chicago:20220514T160000
DTSTAMP:20260421T210732
CREATED:20220510T195823Z
LAST-MODIFIED:20220511T192324Z
UID:57744-1652540400-1652544000@www.minneapolisparks.org
SUMMARY:Ole Olson Park to 26th Ave N Trail Connection - On-Site Tour
DESCRIPTION:Join the project team for an on-site tour of the park.
URL:https://www.minneapolisparks.org/event-calendar/ole-olson-park-to-26th-ave-n-trail-connection-on-site-tour/
LOCATION:Ole Olsen Park\, 2325 West River Road N\, Minneapolis\, MN\, 55411\, United States
CATEGORIES:Events- All,Public Meetings
END:VEVENT
BEGIN:VEVENT
DTSTART;TZID=America/Chicago:20220515T060000
DTEND;TZID=America/Chicago:20220515T060000
DTSTAMP:20260421T210732
CREATED:20220325T170706Z
LAST-MODIFIED:20220325T170706Z
UID:56484-1652594400-1652594400@www.minneapolisparks.org
SUMMARY:MS Bike Ride
DESCRIPTION:
URL:https://www.minneapolisparks.org/event-calendar/ms-bike-ride-5/
LOCATION:Boom Island\, 724 Sibley St NE\, Minneapolis\, MN\, 55413\, United States
CATEGORIES:Events- All,Events- Non-MPRB
GEO:44.9920367;-93.3036741
X-APPLE-STRUCTURED-LOCATION;VALUE=URI;X-ADDRESS=Boom Island 724 Sibley St NE Minneapolis MN 55413 United States;X-APPLE-RADIUS=500;X-TITLE=724 Sibley St NE:geo:-93.3036741,44.9920367
END:VEVENT
BEGIN:VEVENT
DTSTART;TZID=America/Chicago:20220515T100000
DTEND;TZID=America/Chicago:20220515T100000
DTSTAMP:20260421T210732
CREATED:20220325T170451Z
LAST-MODIFIED:20220325T170451Z
UID:56480-1652608800-1652608800@www.minneapolisparks.org
SUMMARY:Walk to End HIV
DESCRIPTION:
URL:https://www.minneapolisparks.org/event-calendar/walk-to-end-hiv/
LOCATION:Minnehaha Park\, Minneapolis\, MN\, United States
CATEGORIES:Events- All,Events- Non-MPRB
GEO:44.9161006;-93.2109865
END:VEVENT
BEGIN:VEVENT
DTSTART;TZID=America/Chicago:20220515T130000
DTEND;TZID=America/Chicago:20220515T160000
DTSTAMP:20260421T210732
CREATED:20220325T170605Z
LAST-MODIFIED:20220427T193405Z
UID:56482-1652619600-1652630400@www.minneapolisparks.org
SUMMARY:Dandelion Day Celebration
DESCRIPTION:Dandelion Day celebrates Harriet Godfrey’s introduction of dandelion seeds to the St. Anthony Falls area. Learn how to make dandelion necklaces\, bracelets\, and crowns\, just as she did as a child. \nAdmission is FREE\, but donations are welcome. Reservations necessary and available on Eventbrite. You can also call The Woman’s Club Front Desk at 612-813-5300. \nSee the flyer below for more information:\n\nDandelion Day 2022 [PDF]
URL:https://www.minneapolisparks.org/event-calendar/dandelion-day-celebration-2/
LOCATION:Ard Godfrey House\, 28 University Ave SE\, Minneapolis\, MN\, 55414\, United States
CATEGORIES:Events- All,Events- Non-MPRB
GEO:44.986577;-93.2557019
X-APPLE-STRUCTURED-LOCATION;VALUE=URI;X-ADDRESS=Ard Godfrey House 28 University Ave SE Minneapolis MN 55414 United States;X-APPLE-RADIUS=500;X-TITLE=28 University Ave SE:geo:-93.2557019,44.986577
END:VEVENT
BEGIN:VEVENT
DTSTART;TZID=America/Chicago:20220516T160000
DTEND;TZID=America/Chicago:20220516T180000
DTSTAMP:20260421T210732
CREATED:20220425T201611Z
LAST-MODIFIED:20220602T180851Z
UID:57517-1652716800-1652724000@www.minneapolisparks.org
SUMMARY:In-Person Open House: North Commons Park Improvements
DESCRIPTION:Everyone is invited to attend in-person and virtual Open Houses hosted by MPRB and the FIHÀN Design+Architecture team: Community members of all ages can weigh in on ideas and options\, provide feedback\, and get answers to their questions. The design team hopes to hear from the public about what kinds of activities are most important in the building\, waterpark and playground\, and how to make those spaces welcoming for the Northside community.
URL:https://www.minneapolisparks.org/event-calendar/in-person-open-house-north-commons-park-improvements/2022-05-16/
LOCATION:North Commons Community Center\, 1801 James Ave N\, Minneapolis\, MN\, 55411\, United States
CATEGORIES:Events- All,Public Meetings
GEO:44.9972515;-93.3011657
X-APPLE-STRUCTURED-LOCATION;VALUE=URI;X-ADDRESS=North Commons Community Center 1801 James Ave N Minneapolis MN 55411 United States;X-APPLE-RADIUS=500;X-TITLE=1801 James Ave N:geo:-93.3011657,44.9972515
END:VEVENT
BEGIN:VEVENT
DTSTART;TZID=America/Chicago:20220518T123000
DTEND;TZID=America/Chicago:20220518T123000
DTSTAMP:20260421T210732
CREATED:20220325T170801Z
LAST-MODIFIED:20220325T170801Z
UID:56486-1652877000-1652877000@www.minneapolisparks.org
SUMMARY:Downtown Dash
DESCRIPTION:
URL:https://www.minneapolisparks.org/event-calendar/downtown-dash-5/
LOCATION:Mill Ruins\, 102 Portland Ave S\, Minneapolis\, MN\, 55401\, United States
CATEGORIES:Events- All,Events- Non-MPRB
GEO:44.980031;-93.2601744
X-APPLE-STRUCTURED-LOCATION;VALUE=URI;X-ADDRESS=Mill Ruins 102 Portland Ave S Minneapolis MN 55401 United States;X-APPLE-RADIUS=500;X-TITLE=102 Portland Ave S:geo:-93.2601744,44.980031
END:VEVENT
BEGIN:VEVENT
DTSTART;TZID=America/Chicago:20220518T170000
DTEND;TZID=America/Chicago:20220518T170000
DTSTAMP:20260421T210732
CREATED:20220125T144459Z
LAST-MODIFIED:20220125T144938Z
UID:54597-1652893200-1652893200@www.minneapolisparks.org
SUMMARY:Board Meeting
DESCRIPTION:
URL:https://www.minneapolisparks.org/event-calendar/board-meeting-86-2022-05-25/
LOCATION:Mary Merrill Minneapolis Park & Recreation Board Headquarters\, 2117 West River Road N\, Minneapolis\, MN\, 55411\, United States
CATEGORIES:Public Meetings
GEO:45.0008334;-93.2780339
X-APPLE-STRUCTURED-LOCATION;VALUE=URI;X-ADDRESS=Mary Merrill Minneapolis Park & Recreation Board Headquarters 2117 West River Road N Minneapolis MN 55411 United States;X-APPLE-RADIUS=500;X-TITLE=2117 West River Road N:geo:-93.2780339,45.0008334
END:VEVENT
BEGIN:VEVENT
DTSTART;TZID=America/Chicago:20220519T170000
DTEND;TZID=America/Chicago:20220519T170000
DTSTAMP:20260421T210732
CREATED:20220325T170903Z
LAST-MODIFIED:20220325T170903Z
UID:56488-1652979600-1652979600@www.minneapolisparks.org
SUMMARY:Veecon NFT Welcome Concert
DESCRIPTION:
URL:https://www.minneapolisparks.org/event-calendar/veecon-nft-welcome-concert/
LOCATION:The Commons\, 425 Portland Ave South\, Minneapolis\, MN\, 55488\, United States
CATEGORIES:Events- All,Events- Non-MPRB
GEO:44.9766971;-93.2628904
X-APPLE-STRUCTURED-LOCATION;VALUE=URI;X-ADDRESS=The Commons 425 Portland Ave South Minneapolis MN 55488 United States;X-APPLE-RADIUS=500;X-TITLE=425 Portland Ave South:geo:-93.2628904,44.9766971
END:VEVENT
BEGIN:VEVENT
DTSTART;TZID=America/Chicago:20220520T120000
DTEND;TZID=America/Chicago:20220522T120000
DTSTAMP:20260421T210732
CREATED:20220325T171022Z
LAST-MODIFIED:20220325T171059Z
UID:56490-1653048000-1653220800@www.minneapolisparks.org
SUMMARY:Justice for George
DESCRIPTION:
URL:https://www.minneapolisparks.org/event-calendar/justice-for-george/
LOCATION:Phelps Field Park\, 701 E 39th St\, Minneapolis\, MN\, 55407\, United States
CATEGORIES:Events- All,Events- Non-MPRB
GEO:44.9320116;-93.2633132
X-APPLE-STRUCTURED-LOCATION;VALUE=URI;X-ADDRESS=Phelps Field Park 701 E 39th St Minneapolis MN 55407 United States;X-APPLE-RADIUS=500;X-TITLE=701 E 39th St:geo:-93.2633132,44.9320116
END:VEVENT
BEGIN:VEVENT
DTSTART;TZID=America/Chicago:20220521T081500
DTEND;TZID=America/Chicago:20220521T081500
DTSTAMP:20260421T210732
CREATED:20220325T171530Z
LAST-MODIFIED:20220325T171530Z
UID:56500-1653120900-1653120900@www.minneapolisparks.org
SUMMARY:Women Run the Cities
DESCRIPTION:
URL:https://www.minneapolisparks.org/event-calendar/women-run-the-cities-6/
LOCATION:Minnehaha Park\, Minneapolis\, MN\, United States
CATEGORIES:Events- All,Events- Non-MPRB
GEO:44.9161006;-93.2109865
END:VEVENT
BEGIN:VEVENT
DTSTART;TZID=America/Chicago:20220521T090000
DTEND;TZID=America/Chicago:20220521T090000
DTSTAMP:20260421T210732
CREATED:20220325T171257Z
LAST-MODIFIED:20220325T171257Z
UID:56494-1653123600-1653123600@www.minneapolisparks.org
SUMMARY:TC Pride Rainbow Run
DESCRIPTION:
URL:https://www.minneapolisparks.org/event-calendar/tc-pride-rainbow-run-6/
LOCATION:Boom Island\, 724 Sibley St NE\, Minneapolis\, MN\, 55413\, United States
CATEGORIES:Events- All,Events- Non-MPRB
GEO:44.9920367;-93.3036741
X-APPLE-STRUCTURED-LOCATION;VALUE=URI;X-ADDRESS=Boom Island 724 Sibley St NE Minneapolis MN 55413 United States;X-APPLE-RADIUS=500;X-TITLE=724 Sibley St NE:geo:-93.3036741,44.9920367
END:VEVENT
BEGIN:VEVENT
DTSTART;TZID=America/Chicago:20220521T093000
DTEND;TZID=America/Chicago:20220521T093000
DTSTAMP:20260421T210732
CREATED:20220325T171346Z
LAST-MODIFIED:20220325T171346Z
UID:56496-1653125400-1653125400@www.minneapolisparks.org
SUMMARY:Twin Cities Heart Walk
DESCRIPTION:
URL:https://www.minneapolisparks.org/event-calendar/twin-cities-heart-walk-4/
LOCATION:Loring Park\, Loring Park\, Minneapolis\, MN\, 55403\, United States
CATEGORIES:Events- All,Events- Non-MPRB
GEO:44.9649915;-93.2854596
X-APPLE-STRUCTURED-LOCATION;VALUE=URI;X-ADDRESS=Loring Park Loring Park Minneapolis MN 55403 United States;X-APPLE-RADIUS=500;X-TITLE=Loring Park:geo:-93.2854596,44.9649915
END:VEVENT
BEGIN:VEVENT
DTSTART;TZID=America/Chicago:20220521T093000
DTEND;TZID=America/Chicago:20220521T093000
DTSTAMP:20260421T210732
CREATED:20220325T171428Z
LAST-MODIFIED:20220325T171428Z
UID:56498-1653125400-1653125400@www.minneapolisparks.org
SUMMARY:FNVW Walkathon for Peace
DESCRIPTION:
URL:https://www.minneapolisparks.org/event-calendar/fnvw-walkathon-for-peace/
LOCATION:Lake Nokomis\, Minneapolis\, MN\, United States
CATEGORIES:Events- All,Events- Non-MPRB
GEO:44.9114979;-93.2431014
END:VEVENT
BEGIN:VEVENT
DTSTART;TZID=America/Chicago:20220521T113000
DTEND;TZID=America/Chicago:20220521T113000
DTSTAMP:20260421T210732
CREATED:20220325T171153Z
LAST-MODIFIED:20220325T171153Z
UID:56492-1653132600-1653132600@www.minneapolisparks.org
SUMMARY:TC Pride OUTventure
DESCRIPTION:
URL:https://www.minneapolisparks.org/event-calendar/tc-pride-outventure/
LOCATION:Boom Island\, 724 Sibley St NE\, Minneapolis\, MN\, 55413\, United States
CATEGORIES:Events- All,Events- Non-MPRB
GEO:44.9920367;-93.3036741
X-APPLE-STRUCTURED-LOCATION;VALUE=URI;X-ADDRESS=Boom Island 724 Sibley St NE Minneapolis MN 55413 United States;X-APPLE-RADIUS=500;X-TITLE=724 Sibley St NE:geo:-93.3036741,44.9920367
END:VEVENT
BEGIN:VEVENT
DTSTART;TZID=America/Chicago:20220521T130000
DTEND;TZID=America/Chicago:20220521T170000
DTSTAMP:20260421T210732
CREATED:20220317T172111Z
LAST-MODIFIED:20220317T172111Z
UID:56378-1653138000-1653152400@www.minneapolisparks.org
SUMMARY:Youthline: Summer Bike Bash
DESCRIPTION:Take a trip over to one of the biggest parks in Minneapolis\, Powderhorn Park! We will get the chance to meet other youthline staff and participants\, ride bikes on their trails\, fish in the Powderhorn pond\, play group games\, and kick off summer the right way. Upon registration for this program\, participants agree to follow MPRB requirements related to face coverings and physical distancing. Face coverings are required indoors at all MPRB facilities\, unless otherwise specified by MPRB as part of athletics protocol.
URL:https://www.minneapolisparks.org/event-calendar/youthline-summer-bike-bash/
LOCATION:Farview Park Recreation Center\, 621 N 29th Ave\, Minneapolis\, MN\, 55411\, United States
CATEGORIES:Events- All,Events- MPRB
GEO:45.0076966;-93.286445
X-APPLE-STRUCTURED-LOCATION;VALUE=URI;X-ADDRESS=Farview Park Recreation Center 621 N 29th Ave Minneapolis MN 55411 United States;X-APPLE-RADIUS=500;X-TITLE=621 N 29th Ave:geo:-93.286445,45.0076966
END:VEVENT
BEGIN:VEVENT
DTSTART;TZID=America/Chicago:20220522T090000
DTEND;TZID=America/Chicago:20220522T090000
DTSTAMP:20260421T210732
CREATED:20220325T171616Z
LAST-MODIFIED:20220325T171616Z
UID:56502-1653210000-1653210000@www.minneapolisparks.org
SUMMARY:MN Head & Neck Cancer Walk
DESCRIPTION:
URL:https://www.minneapolisparks.org/event-calendar/mn-head-neck-cancer-walk/
LOCATION:Bde Maka Ska\, Bde Maka Ska\, Minneapolis\, MN\, 55416\, United States
CATEGORIES:Events- All,Events- Non-MPRB
GEO:44.9421047;-93.3207807
X-APPLE-STRUCTURED-LOCATION;VALUE=URI;X-ADDRESS=Bde Maka Ska Bde Maka Ska Minneapolis MN 55416 United States;X-APPLE-RADIUS=500;X-TITLE=Bde Maka Ska:geo:-93.3207807,44.9421047
END:VEVENT
BEGIN:VEVENT
DTSTART;TZID=America/Chicago:20220522T090000
DTEND;TZID=America/Chicago:20220522T090000
DTSTAMP:20260421T210732
CREATED:20220325T171715Z
LAST-MODIFIED:20220325T171715Z
UID:56504-1653210000-1653210000@www.minneapolisparks.org
SUMMARY:City Trail Loppet
DESCRIPTION:
URL:https://www.minneapolisparks.org/event-calendar/city-trail-loppet-3/
LOCATION:Parade Park\, 400 Kenwood Parkway\, Minneapolis\, MN\, 55403\, United States
CATEGORIES:Events- All,Events- Non-MPRB
GEO:44.971026;-93.293093
X-APPLE-STRUCTURED-LOCATION;VALUE=URI;X-ADDRESS=Parade Park 400 Kenwood Parkway Minneapolis MN 55403 United States;X-APPLE-RADIUS=500;X-TITLE=400 Kenwood Parkway:geo:-93.293093,44.971026
END:VEVENT
BEGIN:VEVENT
DTSTART;TZID=America/Chicago:20220522T090000
DTEND;TZID=America/Chicago:20220522T103000
DTSTAMP:20260421T210732
CREATED:20220325T171802Z
LAST-MODIFIED:20220325T171802Z
UID:56506-1653210000-1653215400@www.minneapolisparks.org
SUMMARY:Summer Worship
DESCRIPTION:
URL:https://www.minneapolisparks.org/event-calendar/summer-worship/
LOCATION:Minnehaha Bandstand\, Minneapolis\, MN\, United States
CATEGORIES:Events- All,Events- Non-MPRB
GEO:44.9161006;-93.2109865
END:VEVENT
BEGIN:VEVENT
DTSTART;TZID=America/Chicago:20220523T120000
DTEND;TZID=America/Chicago:20220523T133000
DTSTAMP:20260421T210732
CREATED:20220425T201831Z
LAST-MODIFIED:20220425T201831Z
UID:57520-1653307200-1653312600@www.minneapolisparks.org
SUMMARY:Virtual Open House: North Commons Park Improvements
DESCRIPTION:Everyone is invited to attend in-person and virtual Open Houses hosted by MPRB and the FIHÀN Design+Architecture team: Community members of all ages can weigh in on ideas and options\, provide feedback\, and get answers to their questions. The design team hopes to hear from the public about what kinds of activities are most important in the building\, waterpark and playground\, and how to make those spaces welcoming for the Northside community. \n\n Zoom Link
URL:https://www.minneapolisparks.org/event-calendar/virtual-open-house-north-commons-park-improvements/
LOCATION:Virtual Program
CATEGORIES:Events- All,Public Meetings
END:VEVENT
BEGIN:VEVENT
DTSTART;TZID=America/Chicago:20220523T184500
DTEND;TZID=America/Chicago:20220523T184500
DTSTAMP:20260421T210732
CREATED:20220325T171937Z
LAST-MODIFIED:20220325T171937Z
UID:56508-1653331500-1653331500@www.minneapolisparks.org
SUMMARY:Southwest Concert Series
DESCRIPTION:
URL:https://www.minneapolisparks.org/event-calendar/southwest-concert-series/2022-05-23/
LOCATION:Lake Harriet Bandshell\, Minneapolis\, MN\, United States
CATEGORIES:Events- All,Events- Non-MPRB
GEO:44.927901;-93.3082473
END:VEVENT
BEGIN:VEVENT
DTSTART;TZID=America/Chicago:20220527T080000
DTEND;TZID=America/Chicago:20220527T080000
DTSTAMP:20260421T210732
CREATED:20220325T172035Z
LAST-MODIFIED:20220325T172035Z
UID:56513-1653638400-1653638400@www.minneapolisparks.org
SUMMARY:Bde Maka Ska Canoe Nations Gathering
DESCRIPTION:
URL:https://www.minneapolisparks.org/event-calendar/bde-maka-ska-canoe-nations-gathering-2/
LOCATION:Bde Maka Ska\, Bde Maka Ska\, Minneapolis\, MN\, 55416\, United States
CATEGORIES:Events- All,Events- Non-MPRB
GEO:44.9421047;-93.3207807
X-APPLE-STRUCTURED-LOCATION;VALUE=URI;X-ADDRESS=Bde Maka Ska Bde Maka Ska Minneapolis MN 55416 United States;X-APPLE-RADIUS=500;X-TITLE=Bde Maka Ska:geo:-93.3207807,44.9421047
END:VEVENT
BEGIN:VEVENT
DTSTART;TZID=America/Chicago:20220528T103000
DTEND;TZID=America/Chicago:20220528T103000
DTSTAMP:20260421T210732
CREATED:20220325T172116Z
LAST-MODIFIED:20220325T172116Z
UID:56515-1653733800-1653733800@www.minneapolisparks.org
SUMMARY:Walk Against Weapons of War
DESCRIPTION:
URL:https://www.minneapolisparks.org/event-calendar/walk-against-weapons-of-war/
LOCATION:Lake Nokomis\, Minneapolis\, MN\, United States
CATEGORIES:Events- All,Events- Non-MPRB
GEO:44.9114979;-93.2431014
END:VEVENT
BEGIN:VEVENT
DTSTART;TZID=America/Chicago:20220530T170000
DTEND;TZID=America/Chicago:20220530T210000
DTSTAMP:20260421T210732
CREATED:20220324T185735Z
LAST-MODIFIED:20220405T180508Z
UID:56447-1653930000-1653944400@www.minneapolisparks.org
SUMMARY:Minneapolis Music in the Parks Kick-Off
DESCRIPTION:Minneapolis Parks is excited to kick-off the 2022 Music in the Parks Season on Memorial Day: Monday\, May 30 with a double header at the Lake Harriet Bandshell featuring local bands “Top Shelf” from 5:30-7 pm and “Big Mike’s Retro Soul & The Westside Horns” from 7:30-9 pm.  Come enjoy live music\, food trucks\, beer and pick up your 2022 Music and Movies in the Parks schedule.  See you there!
URL:https://www.minneapolisparks.org/event-calendar/minneapolis-music-in-the-parks-kick-off/
LOCATION:Lake Harriet Bandshell\, Minneapolis\, MN\, United States
CATEGORIES:Events- MPRB,Music & Movies in the Parks,Music in the Parks
GEO:44.927901;-93.3082473
END:VEVENT
BEGIN:VEVENT
DTSTART;TZID=America/Chicago:20220530T173000
DTEND;TZID=America/Chicago:20220530T193000
DTSTAMP:20260421T210732
CREATED:20220419T210453Z
LAST-MODIFIED:20220421T170726Z
UID:57081-1653931800-1653939000@www.minneapolisparks.org
SUMMARY:Top Shelf
DESCRIPTION:Pop\, Rock & Country Favorites
URL:https://www.minneapolisparks.org/event-calendar/top-shelf/
LOCATION:Lake Harriet Bandshell\, Minneapolis\, MN\, United States
CATEGORIES:Music & Movies in the Parks,Music in the Parks
GEO:44.927901;-93.3082473
END:VEVENT
BEGIN:VEVENT
DTSTART;TZID=America/Chicago:20220530T193000
DTEND;TZID=America/Chicago:20220530T213000
DTSTAMP:20260421T210732
CREATED:20220419T210603Z
LAST-MODIFIED:20220419T210603Z
UID:57083-1653939000-1653946200@www.minneapolisparks.org
SUMMARY:Big Mike's Retro Soul & The Westside Horns
DESCRIPTION:Everything 60’s and 70’s
URL:https://www.minneapolisparks.org/event-calendar/big-mikes-retro-soul-the-westside-horns/
LOCATION:Lake Harriet Bandshell\, Minneapolis\, MN\, United States
CATEGORIES:Music & Movies in the Parks,Music in the Parks
GEO:44.927901;-93.3082473
END:VEVENT
BEGIN:VEVENT
DTSTART;TZID=America/Chicago:20220601T170000
DTEND;TZID=America/Chicago:20220601T170000
DTSTAMP:20260421T210732
CREATED:20220125T144459Z
LAST-MODIFIED:20220125T144907Z
UID:54598-1654102800-1654102800@www.minneapolisparks.org
SUMMARY:Board Meeting
DESCRIPTION:
URL:https://www.minneapolisparks.org/event-calendar/board-meeting-86-2022-06-08/
LOCATION:Mary Merrill Minneapolis Park & Recreation Board Headquarters\, 2117 West River Road N\, Minneapolis\, MN\, 55411\, United States
CATEGORIES:Public Meetings
GEO:45.0008334;-93.2780339
X-APPLE-STRUCTURED-LOCATION;VALUE=URI;X-ADDRESS=Mary Merrill Minneapolis Park & Recreation Board Headquarters 2117 West River Road N Minneapolis MN 55411 United States;X-APPLE-RADIUS=500;X-TITLE=2117 West River Road N:geo:-93.2780339,45.0008334
END:VEVENT
END:VCALENDAR