BEGIN:VCALENDAR
VERSION:2.0
PRODID:-//Minneapolis Park &amp; Recreation Board - ECPv6.15.20//NONSGML v1.0//EN
CALSCALE:GREGORIAN
METHOD:PUBLISH
X-WR-CALNAME:Minneapolis Park &amp; Recreation Board
X-ORIGINAL-URL:https://www.minneapolisparks.org
X-WR-CALDESC:Events for Minneapolis Park &amp; Recreation Board
REFRESH-INTERVAL;VALUE=DURATION:PT1H
X-Robots-Tag:noindex
X-PUBLISHED-TTL:PT1H
BEGIN:VTIMEZONE
TZID:America/Chicago
BEGIN:DAYLIGHT
TZOFFSETFROM:-0600
TZOFFSETTO:-0500
TZNAME:CDT
DTSTART:20200308T080000
END:DAYLIGHT
BEGIN:STANDARD
TZOFFSETFROM:-0500
TZOFFSETTO:-0600
TZNAME:CST
DTSTART:20201101T070000
END:STANDARD
BEGIN:DAYLIGHT
TZOFFSETFROM:-0600
TZOFFSETTO:-0500
TZNAME:CDT
DTSTART:20210314T080000
END:DAYLIGHT
BEGIN:STANDARD
TZOFFSETFROM:-0500
TZOFFSETTO:-0600
TZNAME:CST
DTSTART:20211107T070000
END:STANDARD
BEGIN:DAYLIGHT
TZOFFSETFROM:-0600
TZOFFSETTO:-0500
TZNAME:CDT
DTSTART:20220313T080000
END:DAYLIGHT
BEGIN:STANDARD
TZOFFSETFROM:-0500
TZOFFSETTO:-0600
TZNAME:CST
DTSTART:20221106T070000
END:STANDARD
BEGIN:DAYLIGHT
TZOFFSETFROM:-0600
TZOFFSETTO:-0500
TZNAME:CDT
DTSTART:20230312T080000
END:DAYLIGHT
BEGIN:STANDARD
TZOFFSETFROM:-0500
TZOFFSETTO:-0600
TZNAME:CST
DTSTART:20231105T070000
END:STANDARD
END:VTIMEZONE
BEGIN:VEVENT
DTSTART;TZID=America/Chicago:20210819T193000
DTEND;TZID=America/Chicago:20210819T193000
DTSTAMP:20260421T093707
CREATED:20210702T212644Z
LAST-MODIFIED:20210702T212644Z
UID:50044-1629401400-1629401400@www.minneapolisparks.org
SUMMARY:La Danse Fatale
DESCRIPTION:La Danse Fatale Ballet Company
URL:https://www.minneapolisparks.org/event-calendar/la-danse-fatale-3/
LOCATION:Lake Harriet Bandshell\, Minneapolis\, MN\, United States
CATEGORIES:Events- All,Music & Movies in the Parks,Music in the Parks
GEO:44.927901;-93.3082473
END:VEVENT
BEGIN:VEVENT
DTSTART;VALUE=DATE:20210820
DTEND;VALUE=DATE:20210821
DTSTAMP:20260421T093707
CREATED:20210702T213444Z
LAST-MODIFIED:20210702T213444Z
UID:50064-1629417600-1629503999@www.minneapolisparks.org
SUMMARY:Rich Mattson and the Northstars
DESCRIPTION:original roots rock band
URL:https://www.minneapolisparks.org/event-calendar/rich-mattson-and-the-northstars-3/
LOCATION:Minnehaha Falls\, Minnehaha Falls\, Minneapolis\, MN\, 55417\, United States
CATEGORIES:Events- All,Music & Movies in the Parks,Music in the Parks
GEO:44.9153307;-93.2110006
X-APPLE-STRUCTURED-LOCATION;VALUE=URI;X-ADDRESS=Minnehaha Falls Minnehaha Falls Minneapolis MN 55417 United States;X-APPLE-RADIUS=500;X-TITLE=Minnehaha Falls:geo:-93.2110006,44.9153307
END:VEVENT
BEGIN:VEVENT
DTSTART;TZID=America/Chicago:20210820T193000
DTEND;TZID=America/Chicago:20210820T193000
DTSTAMP:20260421T093707
CREATED:20210702T212843Z
LAST-MODIFIED:20210802T191722Z
UID:50045-1629487800-1629487800@www.minneapolisparks.org
SUMMARY:Star Tribune Presents: Faith Boblett  and DJ Truckstache
DESCRIPTION:
URL:https://www.minneapolisparks.org/event-calendar/star-tribune-6/
LOCATION:Lake Harriet Bandshell\, Minneapolis\, MN\, United States
CATEGORIES:Events- All,Music & Movies in the Parks,Music in the Parks
GEO:44.927901;-93.3082473
END:VEVENT
BEGIN:VEVENT
DTSTART;TZID=America/Chicago:20210821T193000
DTEND;TZID=America/Chicago:20210821T193000
DTSTAMP:20260421T093707
CREATED:20210702T212843Z
LAST-MODIFIED:20210702T212843Z
UID:50046-1629574200-1629574200@www.minneapolisparks.org
SUMMARY:New Primitives
DESCRIPTION:Reggae\, World\, Funk\, American Music
URL:https://www.minneapolisparks.org/event-calendar/new-primitives-4/
LOCATION:Lake Harriet Bandshell\, Minneapolis\, MN\, United States
CATEGORIES:Events- All,Music & Movies in the Parks,Music in the Parks
GEO:44.927901;-93.3082473
END:VEVENT
BEGIN:VEVENT
DTSTART;TZID=America/Chicago:20210822T140000
DTEND;TZID=America/Chicago:20210822T140000
DTSTAMP:20260421T093707
CREATED:20210702T212843Z
LAST-MODIFIED:20210702T212843Z
UID:50047-1629640800-1629640800@www.minneapolisparks.org
SUMMARY:Lady Spruce
DESCRIPTION:original folk with strings + tabla
URL:https://www.minneapolisparks.org/event-calendar/lady-spruce/
LOCATION:Lake Harriet Bandshell\, Minneapolis\, MN\, United States
CATEGORIES:Events- All,Music & Movies in the Parks,Music in the Parks
GEO:44.927901;-93.3082473
END:VEVENT
BEGIN:VEVENT
DTSTART;TZID=America/Chicago:20210822T173000
DTEND;TZID=America/Chicago:20210822T173000
DTSTAMP:20260421T093707
CREATED:20210702T212843Z
LAST-MODIFIED:20210702T212843Z
UID:50048-1629653400-1629653400@www.minneapolisparks.org
SUMMARY:Sweet Rhubarb
DESCRIPTION:eclectic folk pop\, voal harmony
URL:https://www.minneapolisparks.org/event-calendar/sweet-rhubarb/
LOCATION:Lake Harriet Bandshell\, Minneapolis\, MN\, United States
CATEGORIES:Events- All,Music & Movies in the Parks,Music in the Parks
GEO:44.927901;-93.3082473
END:VEVENT
BEGIN:VEVENT
DTSTART;TZID=America/Chicago:20210823T193000
DTEND;TZID=America/Chicago:20210823T193000
DTSTAMP:20260421T093707
CREATED:20210702T212844Z
LAST-MODIFIED:20210702T212844Z
UID:50049-1629747000-1629747000@www.minneapolisparks.org
SUMMARY:Jaspar Lepak
DESCRIPTION:heartfelft folk/americanca singer-songwriter
URL:https://www.minneapolisparks.org/event-calendar/jaspar-lepak-3/
LOCATION:Lake Harriet Bandshell\, Minneapolis\, MN\, United States
CATEGORIES:Events- All,Music & Movies in the Parks,Music in the Parks
GEO:44.927901;-93.3082473
END:VEVENT
BEGIN:VEVENT
DTSTART;VALUE=DATE:20210824
DTEND;VALUE=DATE:20210825
DTSTAMP:20260421T093708
CREATED:20210702T213243Z
LAST-MODIFIED:20210702T213243Z
UID:50058-1629763200-1629849599@www.minneapolisparks.org
SUMMARY:The Prizefighters
DESCRIPTION:vintage ska\, rocksteady\, and reggae
URL:https://www.minneapolisparks.org/event-calendar/the-prizefighters/
LOCATION:MN
CATEGORIES:Events- All,Music & Movies in the Parks,Music in the Parks
END:VEVENT
BEGIN:VEVENT
DTSTART;VALUE=DATE:20210826
DTEND;VALUE=DATE:20210827
DTSTAMP:20260421T093708
CREATED:20210702T213643Z
LAST-MODIFIED:20210702T213643Z
UID:50065-1629936000-1630022399@www.minneapolisparks.org
SUMMARY:Brooklyn Big Band
DESCRIPTION:18 piece swing big band
URL:https://www.minneapolisparks.org/event-calendar/brooklyn-big-band-2/
LOCATION:Minnehaha Falls\, Minnehaha Falls\, Minneapolis\, MN\, 55417\, United States
CATEGORIES:Events- All,Music & Movies in the Parks,Music in the Parks
GEO:44.9153307;-93.2110006
X-APPLE-STRUCTURED-LOCATION;VALUE=URI;X-ADDRESS=Minnehaha Falls Minnehaha Falls Minneapolis MN 55417 United States;X-APPLE-RADIUS=500;X-TITLE=Minnehaha Falls:geo:-93.2110006,44.9153307
END:VEVENT
BEGIN:VEVENT
DTSTART;TZID=America/Chicago:20210826T193000
DTEND;TZID=America/Chicago:20210826T210000
DTSTAMP:20260421T093708
CREATED:20210819T181813Z
LAST-MODIFIED:20210819T181813Z
UID:51077-1630006200-1630011600@www.minneapolisparks.org
SUMMARY:The Music of Fleetwood Mac
DESCRIPTION:
URL:https://www.minneapolisparks.org/event-calendar/the-music-of-fleetwood-mac/
LOCATION:Lake Harriet Bandshell\, Minneapolis\, MN\, United States
CATEGORIES:Events- MPRB,Music & Movies in the Parks,Music in the Parks
GEO:44.927901;-93.3082473
END:VEVENT
BEGIN:VEVENT
DTSTART;VALUE=DATE:20210827
DTEND;VALUE=DATE:20210828
DTSTAMP:20260421T093708
CREATED:20210702T213644Z
LAST-MODIFIED:20210802T191507Z
UID:50066-1630022400-1630108799@www.minneapolisparks.org
SUMMARY:TBD
DESCRIPTION:
URL:https://www.minneapolisparks.org/event-calendar/the-foxgloves/
LOCATION:Minnehaha Falls\, Minnehaha Falls\, Minneapolis\, MN\, 55417\, United States
CATEGORIES:Events- All,Music & Movies in the Parks,Music in the Parks
GEO:44.9153307;-93.2110006
X-APPLE-STRUCTURED-LOCATION;VALUE=URI;X-ADDRESS=Minnehaha Falls Minnehaha Falls Minneapolis MN 55417 United States;X-APPLE-RADIUS=500;X-TITLE=Minnehaha Falls:geo:-93.2110006,44.9153307
END:VEVENT
BEGIN:VEVENT
DTSTART;TZID=America/Chicago:20210827T193000
DTEND;TZID=America/Chicago:20210827T193000
DTSTAMP:20260421T093708
CREATED:20210702T213043Z
LAST-MODIFIED:20210802T191630Z
UID:50051-1630092600-1630092600@www.minneapolisparks.org
SUMMARY:Star Tribune Presents: Matt Wilson & His Orchestra and DJ Truckstache
DESCRIPTION:
URL:https://www.minneapolisparks.org/event-calendar/star-tribune-7/
LOCATION:Lake Harriet Bandshell\, Minneapolis\, MN\, United States
CATEGORIES:Events- All,Music & Movies in the Parks,Music in the Parks
GEO:44.927901;-93.3082473
END:VEVENT
BEGIN:VEVENT
DTSTART;TZID=America/Chicago:20210829T140000
DTEND;TZID=America/Chicago:20210829T140000
DTSTAMP:20260421T093708
CREATED:20210702T213043Z
LAST-MODIFIED:20210702T213043Z
UID:50052-1630245600-1630245600@www.minneapolisparks.org
SUMMARY:Nyttu Chongo
DESCRIPTION:african traditional music for healing
URL:https://www.minneapolisparks.org/event-calendar/nyttu-chongo/
LOCATION:Lake Harriet Bandshell\, Minneapolis\, MN\, United States
CATEGORIES:Events- All,Music & Movies in the Parks,Music in the Parks
GEO:44.927901;-93.3082473
END:VEVENT
BEGIN:VEVENT
DTSTART;TZID=America/Chicago:20210829T173000
DTEND;TZID=America/Chicago:20210829T173000
DTSTAMP:20260421T093708
CREATED:20210702T213043Z
LAST-MODIFIED:20210702T213043Z
UID:50053-1630258200-1630258200@www.minneapolisparks.org
SUMMARY:Minnesota Mandolin Orchestra
DESCRIPTION:contemporary and mandolin-heyday music
URL:https://www.minneapolisparks.org/event-calendar/minnesota-mandolin-orchestra-4/
LOCATION:Lake Harriet Bandshell\, Minneapolis\, MN\, United States
CATEGORIES:Events- All,Music & Movies in the Parks,Music in the Parks
GEO:44.927901;-93.3082473
END:VEVENT
BEGIN:VEVENT
DTSTART;TZID=America/Chicago:20210830T193000
DTEND;TZID=America/Chicago:20210830T193000
DTSTAMP:20260421T093708
CREATED:20210702T213044Z
LAST-MODIFIED:20210702T213044Z
UID:50054-1630351800-1630351800@www.minneapolisparks.org
SUMMARY:Bluedog
DESCRIPTION:native american blues and rock
URL:https://www.minneapolisparks.org/event-calendar/bluedog-4/
LOCATION:Lake Harriet Bandshell\, Minneapolis\, MN\, United States
CATEGORIES:Events- All,Music & Movies in the Parks,Music in the Parks
GEO:44.927901;-93.3082473
END:VEVENT
BEGIN:VEVENT
DTSTART;VALUE=DATE:20210902
DTEND;VALUE=DATE:20210903
DTSTAMP:20260421T093708
CREATED:20210702T214505Z
LAST-MODIFIED:20210702T214505Z
UID:50080-1630540800-1630627199@www.minneapolisparks.org
SUMMARY:River City Jazz Orchestra
DESCRIPTION:contemporary & traditional big band jazz
URL:https://www.minneapolisparks.org/event-calendar/river-city-jazz-orchestra-3/
LOCATION:Minnehaha Falls\, Minnehaha Falls\, Minneapolis\, MN\, 55417\, United States
CATEGORIES:Events- All,Music & Movies in the Parks,Music in the Parks
GEO:44.9153307;-93.2110006
X-APPLE-STRUCTURED-LOCATION;VALUE=URI;X-ADDRESS=Minnehaha Falls Minnehaha Falls Minneapolis MN 55417 United States;X-APPLE-RADIUS=500;X-TITLE=Minnehaha Falls:geo:-93.2110006,44.9153307
END:VEVENT
BEGIN:VEVENT
DTSTART;TZID=America/Chicago:20210902T173000
DTEND;TZID=America/Chicago:20210902T183000
DTSTAMP:20260421T093708
CREATED:20210820T150250Z
LAST-MODIFIED:20210820T150250Z
UID:51096-1630603800-1630607400@www.minneapolisparks.org
SUMMARY:Mike Dreams
DESCRIPTION:
URL:https://www.minneapolisparks.org/event-calendar/mike-dreams-2/
LOCATION:The Commons\, 425 Portland Ave South\, Minneapolis\, MN\, 55488\, United States
CATEGORIES:Events- MPRB,Music & Movies in the Parks,Music in the Parks
GEO:44.9766971;-93.2628904
X-APPLE-STRUCTURED-LOCATION;VALUE=URI;X-ADDRESS=The Commons 425 Portland Ave South Minneapolis MN 55488 United States;X-APPLE-RADIUS=500;X-TITLE=425 Portland Ave South:geo:-93.2628904,44.9766971
END:VEVENT
BEGIN:VEVENT
DTSTART;TZID=America/Chicago:20210902T193000
DTEND;TZID=America/Chicago:20210902T193000
DTSTAMP:20260421T093708
CREATED:20210702T214501Z
LAST-MODIFIED:20210830T150056Z
UID:50073-1630611000-1630611000@www.minneapolisparks.org
SUMMARY:Bend in the River Big Band
DESCRIPTION:Big Band Swing
URL:https://www.minneapolisparks.org/event-calendar/bend-in-the-river-big-band-3/
LOCATION:Lake Harriet Bandshell\, Minneapolis\, MN\, United States
CATEGORIES:Events- All,Music & Movies in the Parks,Music in the Parks
GEO:44.927901;-93.3082473
END:VEVENT
BEGIN:VEVENT
DTSTART;VALUE=DATE:20210903
DTEND;VALUE=DATE:20210904
DTSTAMP:20260421T093708
CREATED:20210702T214505Z
LAST-MODIFIED:20210702T214505Z
UID:50081-1630627200-1630713599@www.minneapolisparks.org
SUMMARY:Zoë Says Go
DESCRIPTION:songs of wonder and struggle
URL:https://www.minneapolisparks.org/event-calendar/zoe-says-go/
LOCATION:Minnehaha Falls\, Minnehaha Falls\, Minneapolis\, MN\, 55417\, United States
CATEGORIES:Events- All,Music & Movies in the Parks,Music in the Parks
GEO:44.9153307;-93.2110006
X-APPLE-STRUCTURED-LOCATION;VALUE=URI;X-ADDRESS=Minnehaha Falls Minnehaha Falls Minneapolis MN 55417 United States;X-APPLE-RADIUS=500;X-TITLE=Minnehaha Falls:geo:-93.2110006,44.9153307
END:VEVENT
BEGIN:VEVENT
DTSTART;TZID=America/Chicago:20210903T193000
DTEND;TZID=America/Chicago:20210903T193000
DTSTAMP:20260421T093708
CREATED:20210702T214501Z
LAST-MODIFIED:20210702T214501Z
UID:50074-1630697400-1630697400@www.minneapolisparks.org
SUMMARY:Dred I Dred
DESCRIPTION:minneapolis reggae legends
URL:https://www.minneapolisparks.org/event-calendar/dred-i-dred/
LOCATION:Lake Harriet Bandshell\, Minneapolis\, MN\, United States
CATEGORIES:Events- All,Music & Movies in the Parks,Music in the Parks
GEO:44.927901;-93.3082473
END:VEVENT
BEGIN:VEVENT
DTSTART;TZID=America/Chicago:20210904T193000
DTEND;TZID=America/Chicago:20210904T193000
DTSTAMP:20260421T093708
CREATED:20210702T214501Z
LAST-MODIFIED:20210702T214501Z
UID:50075-1630783800-1630783800@www.minneapolisparks.org
SUMMARY:Dan Israel
DESCRIPTION:jangly\, spirited folk-rock
URL:https://www.minneapolisparks.org/event-calendar/dan-israel-4/
LOCATION:Lake Harriet Bandshell\, Minneapolis\, MN\, United States
CATEGORIES:Events- All,Music & Movies in the Parks,Music in the Parks
GEO:44.927901;-93.3082473
END:VEVENT
BEGIN:VEVENT
DTSTART;TZID=America/Chicago:20210905T140000
DTEND;TZID=America/Chicago:20210905T140000
DTSTAMP:20260421T093708
CREATED:20210702T214501Z
LAST-MODIFIED:20210830T151620Z
UID:50076-1630850400-1630850400@www.minneapolisparks.org
SUMMARY:Heavy for the Hawk
DESCRIPTION:Eclectic\, fun\, six-piece cover band.
URL:https://www.minneapolisparks.org/event-calendar/minnesota-philharmonic-orchestra-3/
LOCATION:Lake Harriet Bandshell\, Minneapolis\, MN\, United States
CATEGORIES:Events- All,Music & Movies in the Parks,Music in the Parks
GEO:44.927901;-93.3082473
END:VEVENT
BEGIN:VEVENT
DTSTART;TZID=America/Chicago:20210905T173000
DTEND;TZID=America/Chicago:20210905T173000
DTSTAMP:20260421T093708
CREATED:20210702T214501Z
LAST-MODIFIED:20210702T214501Z
UID:50077-1630863000-1630863000@www.minneapolisparks.org
SUMMARY:The Pan-handlers Steel Drum Band
DESCRIPTION:instrumental covers on steel pan
URL:https://www.minneapolisparks.org/event-calendar/the-pan-handlers-steel-drum-band/
LOCATION:Lake Harriet Bandshell\, Minneapolis\, MN\, United States
CATEGORIES:Events- All,Music & Movies in the Parks,Music in the Parks
GEO:44.927901;-93.3082473
END:VEVENT
BEGIN:VEVENT
DTSTART;TZID=America/Chicago:20210906T173000
DTEND;TZID=America/Chicago:20210906T173000
DTSTAMP:20260421T093708
CREATED:20210702T214505Z
LAST-MODIFIED:20210702T214505Z
UID:50078-1630949400-1630949400@www.minneapolisparks.org
SUMMARY:Funktion Junktion
DESCRIPTION:a musical tribute to the 70’s
URL:https://www.minneapolisparks.org/event-calendar/funktion-junktion-2/
LOCATION:Lake Harriet Bandshell\, Minneapolis\, MN\, United States
CATEGORIES:Events- All,Music & Movies in the Parks,Music in the Parks
GEO:44.927901;-93.3082473
END:VEVENT
BEGIN:VEVENT
DTSTART;TZID=America/Chicago:20210906T193000
DTEND;TZID=America/Chicago:20210906T193000
DTSTAMP:20260421T093708
CREATED:20210702T214505Z
LAST-MODIFIED:20210702T214505Z
UID:50079-1630956600-1630956600@www.minneapolisparks.org
SUMMARY:Socaholix
DESCRIPTION:high energy caribbean dance music
URL:https://www.minneapolisparks.org/event-calendar/socaholix-2/
LOCATION:Lake Harriet Bandshell\, Minneapolis\, MN\, United States
CATEGORIES:Events- All,Music & Movies in the Parks,Music in the Parks
GEO:44.927901;-93.3082473
END:VEVENT
BEGIN:VEVENT
DTSTART;TZID=America/Chicago:20210909T173000
DTEND;TZID=America/Chicago:20210909T183000
DTSTAMP:20260421T093708
CREATED:20210820T150416Z
LAST-MODIFIED:20210820T150416Z
UID:51099-1631208600-1631212200@www.minneapolisparks.org
SUMMARY:Shahidi
DESCRIPTION:
URL:https://www.minneapolisparks.org/event-calendar/shahidi-2/
LOCATION:The Commons\, 425 Portland Ave South\, Minneapolis\, MN\, 55488\, United States
CATEGORIES:Events- MPRB,Music & Movies in the Parks,Music in the Parks
GEO:44.9766971;-93.2628904
X-APPLE-STRUCTURED-LOCATION;VALUE=URI;X-ADDRESS=The Commons 425 Portland Ave South Minneapolis MN 55488 United States;X-APPLE-RADIUS=500;X-TITLE=425 Portland Ave South:geo:-93.2628904,44.9766971
END:VEVENT
BEGIN:VEVENT
DTSTART;TZID=America/Chicago:20210916T173000
DTEND;TZID=America/Chicago:20210916T183000
DTSTAMP:20260421T093708
CREATED:20210820T151122Z
LAST-MODIFIED:20210820T151122Z
UID:51101-1631813400-1631817000@www.minneapolisparks.org
SUMMARY:The Foxgloves
DESCRIPTION:
URL:https://www.minneapolisparks.org/event-calendar/the-foxgloves-2/
LOCATION:The Commons\, 425 Portland Ave South\, Minneapolis\, MN\, 55488\, United States
CATEGORIES:Events- MPRB,Music & Movies in the Parks,Music in the Parks
GEO:44.9766971;-93.2628904
X-APPLE-STRUCTURED-LOCATION;VALUE=URI;X-ADDRESS=The Commons 425 Portland Ave South Minneapolis MN 55488 United States;X-APPLE-RADIUS=500;X-TITLE=425 Portland Ave South:geo:-93.2628904,44.9766971
END:VEVENT
BEGIN:VEVENT
DTSTART;TZID=America/Chicago:20210923T173000
DTEND;TZID=America/Chicago:20210923T183000
DTSTAMP:20260421T093708
CREATED:20210820T151317Z
LAST-MODIFIED:20210820T151317Z
UID:51103-1632418200-1632421800@www.minneapolisparks.org
SUMMARY:Samantha Grimes
DESCRIPTION:
URL:https://www.minneapolisparks.org/event-calendar/samantha-grimes/
LOCATION:The Commons\, 425 Portland Ave South\, Minneapolis\, MN\, 55488\, United States
CATEGORIES:Events- MPRB,Music & Movies in the Parks,Music in the Parks
GEO:44.9766971;-93.2628904
X-APPLE-STRUCTURED-LOCATION;VALUE=URI;X-ADDRESS=The Commons 425 Portland Ave South Minneapolis MN 55488 United States;X-APPLE-RADIUS=500;X-TITLE=425 Portland Ave South:geo:-93.2628904,44.9766971
END:VEVENT
BEGIN:VEVENT
DTSTART;TZID=America/Chicago:20210930T173000
DTEND;TZID=America/Chicago:20210930T183000
DTSTAMP:20260421T093708
CREATED:20210820T151432Z
LAST-MODIFIED:20210820T151432Z
UID:51105-1633023000-1633026600@www.minneapolisparks.org
SUMMARY:Royalty Nashia
DESCRIPTION:
URL:https://www.minneapolisparks.org/event-calendar/royalty-nashia/
LOCATION:The Commons\, 425 Portland Ave South\, Minneapolis\, MN\, 55488\, United States
CATEGORIES:Events- MPRB,Music & Movies in the Parks,Music in the Parks
GEO:44.9766971;-93.2628904
X-APPLE-STRUCTURED-LOCATION;VALUE=URI;X-ADDRESS=The Commons 425 Portland Ave South Minneapolis MN 55488 United States;X-APPLE-RADIUS=500;X-TITLE=425 Portland Ave South:geo:-93.2628904,44.9766971
END:VEVENT
BEGIN:VEVENT
DTSTART;TZID=America/Chicago:20220530T170000
DTEND;TZID=America/Chicago:20220530T210000
DTSTAMP:20260421T093708
CREATED:20220324T185735Z
LAST-MODIFIED:20220405T180508Z
UID:56447-1653930000-1653944400@www.minneapolisparks.org
SUMMARY:Minneapolis Music in the Parks Kick-Off
DESCRIPTION:Minneapolis Parks is excited to kick-off the 2022 Music in the Parks Season on Memorial Day: Monday\, May 30 with a double header at the Lake Harriet Bandshell featuring local bands “Top Shelf” from 5:30-7 pm and “Big Mike’s Retro Soul & The Westside Horns” from 7:30-9 pm.  Come enjoy live music\, food trucks\, beer and pick up your 2022 Music and Movies in the Parks schedule.  See you there!
URL:https://www.minneapolisparks.org/event-calendar/minneapolis-music-in-the-parks-kick-off/
LOCATION:Lake Harriet Bandshell\, Minneapolis\, MN\, United States
CATEGORIES:Events- MPRB,Music & Movies in the Parks,Music in the Parks
GEO:44.927901;-93.3082473
END:VEVENT
END:VCALENDAR