BEGIN:VCALENDAR
VERSION:2.0
PRODID:-//Minneapolis Park &amp; Recreation Board - ECPv6.15.20//NONSGML v1.0//EN
CALSCALE:GREGORIAN
METHOD:PUBLISH
X-WR-CALNAME:Minneapolis Park &amp; Recreation Board
X-ORIGINAL-URL:https://www.minneapolisparks.org
X-WR-CALDESC:Events for Minneapolis Park &amp; Recreation Board
REFRESH-INTERVAL;VALUE=DURATION:PT1H
X-Robots-Tag:noindex
X-PUBLISHED-TTL:PT1H
BEGIN:VTIMEZONE
TZID:America/Chicago
BEGIN:DAYLIGHT
TZOFFSETFROM:-0600
TZOFFSETTO:-0500
TZNAME:CDT
DTSTART:20210314T080000
END:DAYLIGHT
BEGIN:STANDARD
TZOFFSETFROM:-0500
TZOFFSETTO:-0600
TZNAME:CST
DTSTART:20211107T070000
END:STANDARD
BEGIN:DAYLIGHT
TZOFFSETFROM:-0600
TZOFFSETTO:-0500
TZNAME:CDT
DTSTART:20220313T080000
END:DAYLIGHT
BEGIN:STANDARD
TZOFFSETFROM:-0500
TZOFFSETTO:-0600
TZNAME:CST
DTSTART:20221106T070000
END:STANDARD
BEGIN:DAYLIGHT
TZOFFSETFROM:-0600
TZOFFSETTO:-0500
TZNAME:CDT
DTSTART:20230312T080000
END:DAYLIGHT
BEGIN:STANDARD
TZOFFSETFROM:-0500
TZOFFSETTO:-0600
TZNAME:CST
DTSTART:20231105T070000
END:STANDARD
END:VTIMEZONE
BEGIN:VEVENT
DTSTART;TZID=America/Chicago:20220820T100000
DTEND;TZID=America/Chicago:20220821T170000
DTSTAMP:20260419T190146
CREATED:20220622T174301Z
LAST-MODIFIED:20220622T174301Z
UID:58964-1660989600-1661101200@www.minneapolisparks.org
SUMMARY:Slavic Experience Event
DESCRIPTION:People of Slavic heritage include those whose families once emigrated from countries like Poland\, Ukraine\, Czech Republic\, Russia\, Slovakia\, Belarus\, Slovenia\, Macedonia\, Bulgaria\, Bosnia and Herzegovina\, Croatia\, Montenegro\, and Serbia\, as well as other Eastern European nations.\n\nThe purpose and mission of SLAVIC EXPERIENCE is to create a welcoming space for people of Slavic heritage to commemorate\, celebrate\, and share the richness and diversity of Slavic traditions and customs with the greater Twin Cities community.
URL:https://www.minneapolisparks.org/event-calendar/slavic-experience-event/
LOCATION:Boom Island\, 724 Sibley St NE\, Minneapolis\, MN\, 55413\, United States
CATEGORIES:Events- All,Events- Non-MPRB
GEO:44.9920367;-93.3036741
X-APPLE-STRUCTURED-LOCATION;VALUE=URI;X-ADDRESS=Boom Island 724 Sibley St NE Minneapolis MN 55413 United States;X-APPLE-RADIUS=500;X-TITLE=724 Sibley St NE:geo:-93.3036741,44.9920367
END:VEVENT
BEGIN:VEVENT
DTSTART;TZID=America/Chicago:20220822T202500
DTEND;TZID=America/Chicago:20220822T202500
DTSTAMP:20260419T190146
CREATED:20220331T181450Z
LAST-MODIFIED:20220602T211431Z
UID:56684-1661199900-1661199900@www.minneapolisparks.org
SUMMARY:Luca
DESCRIPTION:Movie Luca will be playing. The movie will start at dusk.
URL:https://www.minneapolisparks.org/event-calendar/movie-in-the-park-5/
LOCATION:Luxton Park\, 112 Williams Ave SE\, Minneapolis\, MN\, 55414\, United States
CATEGORIES:Events- All,Movies in the Parks,Music & Movies in the Parks
GEO:44.9682716;-93.2193098
X-APPLE-STRUCTURED-LOCATION;VALUE=URI;X-ADDRESS=Luxton Park 112 Williams Ave SE Minneapolis MN 55414 United States;X-APPLE-RADIUS=500;X-TITLE=112 Williams Ave SE:geo:-93.2193098,44.9682716
END:VEVENT
BEGIN:VEVENT
DTSTART;TZID=America/Chicago:20220826T170000
DTEND;TZID=America/Chicago:20220826T200000
DTSTAMP:20260419T190146
CREATED:20220609T165036Z
LAST-MODIFIED:20220609T165036Z
UID:58622-1661533200-1661544000@www.minneapolisparks.org
SUMMARY:Cycle the Summer's End of Summer Party
DESCRIPTION:Join us for an end-of-summer party complete with a bike parade\, food trucks\, beer tent\, BMX Big Air Show\, live music and much more. \nLocation: Lake Nokomis Main Beach Parking Lot
URL:https://www.minneapolisparks.org/event-calendar/cycle-the-summers-end-of-summer-party/
LOCATION:Lake Nokomis – Main Beach\, 4955 W Lake Nokomis Parkway\, Minneapolis\, MN\, 55417\, United States
CATEGORIES:Events- All,Events- MPRB
GEO:44.9114979;-93.2431014
X-APPLE-STRUCTURED-LOCATION;VALUE=URI;X-ADDRESS=Lake Nokomis – Main Beach 4955 W Lake Nokomis Parkway Minneapolis MN 55417 United States;X-APPLE-RADIUS=500;X-TITLE=4955 W Lake Nokomis Parkway:geo:-93.2431014,44.9114979
END:VEVENT
BEGIN:VEVENT
DTSTART;TZID=America/Chicago:20220827T080000
DTEND;TZID=America/Chicago:20220827T080000
DTSTAMP:20260419T190146
CREATED:20220622T174436Z
LAST-MODIFIED:20220622T174436Z
UID:58965-1661587200-1661587200@www.minneapolisparks.org
SUMMARY:F45 Playoffs
DESCRIPTION:
URL:https://www.minneapolisparks.org/event-calendar/f45-playoffs/
LOCATION:The Commons\, 425 Portland Ave South\, Minneapolis\, MN\, 55488\, United States
CATEGORIES:Events- All,Events- Non-MPRB
GEO:44.9766971;-93.2628904
X-APPLE-STRUCTURED-LOCATION;VALUE=URI;X-ADDRESS=The Commons 425 Portland Ave South Minneapolis MN 55488 United States;X-APPLE-RADIUS=500;X-TITLE=425 Portland Ave South:geo:-93.2628904,44.9766971
END:VEVENT
BEGIN:VEVENT
DTSTART;TZID=America/Chicago:20220827T110000
DTEND;TZID=America/Chicago:20220827T160000
DTSTAMP:20260419T190146
CREATED:20220331T182653Z
LAST-MODIFIED:20220331T182653Z
UID:56691-1661598000-1661616000@www.minneapolisparks.org
SUMMARY:Back to School BBQ
DESCRIPTION:School is almost back in session! Come on by Painter Park to get your new backpack and fill it with some needed school supplies. But that’s not all- there will also be a bouncy house\, games of chance\, BBQ and Ice Cream food Trucks.
URL:https://www.minneapolisparks.org/event-calendar/back-to-school-bbq/
LOCATION:Painter Park\, 620 W 34th St\, Minneapolis\, MN\, 55408\, United States
CATEGORIES:Events- All,Events- MPRB
GEO:44.9416634;-93.2876806
X-APPLE-STRUCTURED-LOCATION;VALUE=URI;X-ADDRESS=Painter Park 620 W 34th St Minneapolis MN 55408 United States;X-APPLE-RADIUS=500;X-TITLE=620 W 34th St:geo:-93.2876806,44.9416634
END:VEVENT
BEGIN:VEVENT
DTSTART;TZID=America/Chicago:20220827T130000
DTEND;TZID=America/Chicago:20220827T160000
DTSTAMP:20260419T190146
CREATED:20220331T182553Z
LAST-MODIFIED:20220331T182553Z
UID:56712-1661605200-1661616000@www.minneapolisparks.org
SUMMARY:Community BBQ and Back to School Event
DESCRIPTION:Hey neighbors! Hopewell Foundation is partnering with us to throw a community BBQ and back to school event. Free food for folks. Activities include bouncy house\, snow cones\, field games and games with musical instruments. Come on by and enjoy a lovely afternoon in the park and learn about Hopewell Foundation! Upon registration for this program\, participants agree to follow MPRB requirements related to face coverings and physical distancing. Face coverings are required indoors at all MPRB facilities\, unless otherwise specified by MPRB as part of athletics protocol. Some youth programs\, including childcare and preschool require participants to maintain physical distance.
URL:https://www.minneapolisparks.org/event-calendar/community-bbq-and-back-to-school-event/
LOCATION:Webber Park\, 4300 Webber Parkway\, Minneapolis\, MN\, 55412\, United States
CATEGORIES:Events- All,Events- MPRB
GEO:45.034522;-93.291918
X-APPLE-STRUCTURED-LOCATION;VALUE=URI;X-ADDRESS=Webber Park 4300 Webber Parkway Minneapolis MN 55412 United States;X-APPLE-RADIUS=500;X-TITLE=4300 Webber Parkway:geo:-93.291918,45.034522
END:VEVENT
BEGIN:VEVENT
DTSTART;TZID=America/Chicago:20220827T170000
DTEND;TZID=America/Chicago:20220827T170000
DTSTAMP:20260419T190146
CREATED:20220622T174701Z
LAST-MODIFIED:20220622T174701Z
UID:58967-1661619600-1661619600@www.minneapolisparks.org
SUMMARY:MPRB Bike Celebration
DESCRIPTION:
URL:https://www.minneapolisparks.org/event-calendar/mprb-bike-celebration/
LOCATION:Lake Nokomis\, Minneapolis\, MN\, United States
CATEGORIES:Events- All,Events- MPRB
GEO:44.9114979;-93.2431014
END:VEVENT
BEGIN:VEVENT
DTSTART;TZID=America/Chicago:20220828T080000
DTEND;TZID=America/Chicago:20220828T080000
DTSTAMP:20260419T190146
CREATED:20220622T174734Z
LAST-MODIFIED:20220622T174734Z
UID:58968-1661673600-1661673600@www.minneapolisparks.org
SUMMARY:MPRB Chain of Lakes Open Swim
DESCRIPTION:
URL:https://www.minneapolisparks.org/event-calendar/mprb-chain-of-lakes-open-swim/
LOCATION:Bde Maka Ska\, Bde Maka Ska\, Minneapolis\, MN\, 55416\, United States
CATEGORIES:Events- All,Events- MPRB
GEO:44.9421047;-93.3207807
X-APPLE-STRUCTURED-LOCATION;VALUE=URI;X-ADDRESS=Bde Maka Ska Bde Maka Ska Minneapolis MN 55416 United States;X-APPLE-RADIUS=500;X-TITLE=Bde Maka Ska:geo:-93.3207807,44.9421047
END:VEVENT
BEGIN:VEVENT
DTSTART;TZID=America/Chicago:20220828T150000
DTEND;TZID=America/Chicago:20220828T150000
DTSTAMP:20260419T190146
CREATED:20220622T174849Z
LAST-MODIFIED:20220622T174849Z
UID:58969-1661698800-1661698800@www.minneapolisparks.org
SUMMARY:Hidden Acoustics
DESCRIPTION:
URL:https://www.minneapolisparks.org/event-calendar/hidden-acoustics-4/
LOCATION:Cedar Lake East Beach\, 2000 Upton Ave S\, Minneapolis\, MN\, 55405\, United States
CATEGORIES:Events- All,Events- Non-MPRB
GEO:44.9735559;-93.3147246
X-APPLE-STRUCTURED-LOCATION;VALUE=URI;X-ADDRESS=Cedar Lake East Beach 2000 Upton Ave S Minneapolis MN 55405 United States;X-APPLE-RADIUS=500;X-TITLE=2000 Upton Ave S:geo:-93.3147246,44.9735559
END:VEVENT
BEGIN:VEVENT
DTSTART;TZID=America/Chicago:20220901T180000
DTEND;TZID=America/Chicago:20220901T200000
DTSTAMP:20260419T190146
CREATED:20220331T182436Z
LAST-MODIFIED:20220331T182436Z
UID:56711-1662055200-1662062400@www.minneapolisparks.org
SUMMARY:North Commons Park Back To School Event
DESCRIPTION:North Commons Park is collaborating with Bay Laurel Fund in hosting a Back To School event September 1\, 2022. There will be free school supplies\, barbers for free hair cuts\, games & prizes\, live DJ and Free food. All community and families are welcome
URL:https://www.minneapolisparks.org/event-calendar/north-commons-park-back-to-school-event/
LOCATION:North Commons Park\, 1801 James Ave N\, Minneapolis\, MN\, 55411\, United States
CATEGORIES:Events- All,Events- MPRB
GEO:44.9972515;-93.3011657
X-APPLE-STRUCTURED-LOCATION;VALUE=URI;X-ADDRESS=North Commons Park 1801 James Ave N Minneapolis MN 55411 United States;X-APPLE-RADIUS=500;X-TITLE=1801 James Ave N:geo:-93.3011657,44.9972515
END:VEVENT
BEGIN:VEVENT
DTSTART;TZID=America/Chicago:20220902T200500
DTEND;TZID=America/Chicago:20220902T200500
DTSTAMP:20260419T190146
CREATED:20220331T172508Z
LAST-MODIFIED:20220602T211753Z
UID:56644-1662149100-1662149100@www.minneapolisparks.org
SUMMARY:PAW Patrol: The Movie
DESCRIPTION:Join us on the baseball fields for our annual movie in the park! Bring a chair or blanket. Movie begins at dusk.
URL:https://www.minneapolisparks.org/event-calendar/outdoor-movie-in-the-park-paw-patrol/
LOCATION:Kenny Park\, West 58th Street 1328\, Minneapolis\, Minnesota\, 55419\, United States
CATEGORIES:Events- All,Movies in the Parks,Music & Movies in the Parks
GEO:44.8987202;-93.2974398
X-APPLE-STRUCTURED-LOCATION;VALUE=URI;X-ADDRESS=Kenny Park West 58th Street 1328 Minneapolis Minnesota 55419 United States;X-APPLE-RADIUS=500;X-TITLE=West 58th Street 1328:geo:-93.2974398,44.8987202
END:VEVENT
BEGIN:VEVENT
DTSTART;TZID=America/Chicago:20220903T100000
DTEND;TZID=America/Chicago:20220903T100000
DTSTAMP:20260419T190146
CREATED:20220721T140931Z
LAST-MODIFIED:20220721T140931Z
UID:59832-1662199200-1662199200@www.minneapolisparks.org
SUMMARY:Free First Saturday
DESCRIPTION:Join us at the Walker on the first Saturday of the month to explore the galleries\, make art\, and get creative with your family! Check the calendar for more details about each month’s programming. \nPlus\, our popular family activities continue online! Enjoy new performances\, art-making activities\, kids’ films\, and interactive workshops every day—all designed for you and your family to do from home. Activities are available in English and Spanish. \nFree First Saturdays are still free! Gallery admission tickets are available on-site on the event day from the Main Lobby desk; quantities are limited. On Free First Saturdays\, we require visitors over age 2 to wear face masks inside the building to support the safety and comfort of families and attendees. We ask that you continue to maintain a minimum distance of 6 feet away from people not in your household group
URL:https://www.minneapolisparks.org/event-calendar/free-first-saturday-4/
LOCATION:Minneapolis Sculpture Garden\, 726 Vineland Place\, Minneapolis\, MN\, 55403\, United States
CATEGORIES:Events- All,Events- Non-MPRB
GEO:44.9695492;-93.2897225
X-APPLE-STRUCTURED-LOCATION;VALUE=URI;X-ADDRESS=Minneapolis Sculpture Garden 726 Vineland Place Minneapolis MN 55403 United States;X-APPLE-RADIUS=500;X-TITLE=726 Vineland Place:geo:-93.2897225,44.9695492
END:VEVENT
BEGIN:VEVENT
DTSTART;TZID=America/Chicago:20220904T090000
DTEND;TZID=America/Chicago:20220904T090000
DTSTAMP:20260419T190146
CREATED:20220622T175352Z
LAST-MODIFIED:20220622T175352Z
UID:58971-1662282000-1662282000@www.minneapolisparks.org
SUMMARY:Be The Change
DESCRIPTION:
URL:https://www.minneapolisparks.org/event-calendar/be-the-change/
LOCATION:Theodore Wirth Parkway\, Theodore Wirth Parkway\, Minneapolis\, MN\, United States
CATEGORIES:Events- All,Events- Non-MPRB
GEO:44.991447;-93.3232573
X-APPLE-STRUCTURED-LOCATION;VALUE=URI;X-ADDRESS=Theodore Wirth Parkway Theodore Wirth Parkway Minneapolis MN United States;X-APPLE-RADIUS=500;X-TITLE=Theodore Wirth Parkway:geo:-93.3232573,44.991447
END:VEVENT
BEGIN:VEVENT
DTSTART;TZID=America/Chicago:20220908T073000
DTEND;TZID=America/Chicago:20220908T073000
DTSTAMP:20260419T190146
CREATED:20220622T175530Z
LAST-MODIFIED:20220622T175530Z
UID:58972-1662622200-1662622200@www.minneapolisparks.org
SUMMARY:Sunrise on the Mississippi
DESCRIPTION:
URL:https://www.minneapolisparks.org/event-calendar/sunrise-on-the-mississippi-5/
LOCATION:Boom Island\, 724 Sibley St NE\, Minneapolis\, MN\, 55413\, United States
CATEGORIES:Events- All,Events- Non-MPRB
GEO:44.9920367;-93.3036741
X-APPLE-STRUCTURED-LOCATION;VALUE=URI;X-ADDRESS=Boom Island 724 Sibley St NE Minneapolis MN 55413 United States;X-APPLE-RADIUS=500;X-TITLE=724 Sibley St NE:geo:-93.3036741,44.9920367
END:VEVENT
BEGIN:VEVENT
DTSTART;TZID=America/Chicago:20220910T083000
DTEND;TZID=America/Chicago:20220910T083000
DTSTAMP:20260419T190146
CREATED:20220622T175646Z
LAST-MODIFIED:20220622T175646Z
UID:58973-1662798600-1662798600@www.minneapolisparks.org
SUMMARY:ZERO Prostate Cancer 5K Run
DESCRIPTION:
URL:https://www.minneapolisparks.org/event-calendar/zero-prostate-cancer-5k-run/
LOCATION:Lake Nokomis\, Minneapolis\, MN\, United States
CATEGORIES:Events- All,Events- Non-MPRB
GEO:44.9114979;-93.2431014
END:VEVENT
BEGIN:VEVENT
DTSTART;TZID=America/Chicago:20220910T100000
DTEND;TZID=America/Chicago:20220910T180000
DTSTAMP:20260419T190146
CREATED:20220622T180315Z
LAST-MODIFIED:20220622T180315Z
UID:58974-1662804000-1662832800@www.minneapolisparks.org
SUMMARY:Twin Cities Pagan Pride Fall Festival
DESCRIPTION:The Twin Cities Pagan Pride Fall Festival is a free fall event\, open to the public\, that offers education about Paganism to the larger community. In keeping with Pagan Pride International‘s guidelines\, Twin Cities Pagan Pride has offered a fall event since 1998 that includes a ritual focusing on the harvest\, along with other rituals\, a food and charity drive\, introductory programming and discussions\, vendors\, and entertainment. We’re excited to continue to focus on public education in an outdoor site that has tons of walkthrough traffic. \nWhere:\nMinnehaha Falls Park\, in the area in between the Falls and the bandshell. There are both paid and free parking options in the area (the link includes map and parking details.) The park is not far from the 46th Street light rail station and a wide variety of bus lines (and you can find out more from the Metro Transit site.) \n\nThe event is free and open to the public.\nWe encourage donations for our food shelf partner and charity donations.\nWe also appreciate donations to help with the cost of the event!\n\nWhat to know:\nWe’ll have awesome music and ritual events\, as well as one space for simple programming aimed at educating and informing those unfamiliar with Paganism. There will also be community organizations\, vendors and food.
URL:https://www.minneapolisparks.org/event-calendar/twin-cities-pagan-pride-fall-festival-5/
LOCATION:Minnehaha Bandstand\, Minneapolis\, MN\, United States
CATEGORIES:Events- All,Events- Non-MPRB
GEO:44.9161006;-93.2109865
END:VEVENT
BEGIN:VEVENT
DTSTART;TZID=America/Chicago:20220911T080000
DTEND;TZID=America/Chicago:20220911T080000
DTSTAMP:20260419T190146
CREATED:20220622T181226Z
LAST-MODIFIED:20220622T181226Z
UID:58996-1662883200-1662883200@www.minneapolisparks.org
SUMMARY:Jeff Winter City of Lakes Half Marathon
DESCRIPTION:Run the scenic parkways around Lake Harriet and Bde Maka Ska! \nThe Jeff Winter City of Lakes Half Marathon provides a great stand-alone challenge or a perfect training test for those running Twin Cities Marathon or other fall marathons. \nRace Start Line will be at Beard’s Plaisance\, which is just south of 45th Street and the tennis courts. Parking in the area is limited. Please plan accordingly.
URL:https://www.minneapolisparks.org/event-calendar/jeff-winter-city-of-lakes-half-marathon-2/
LOCATION:Beard’s Plaisance\, 4525 Upton Ave S\, Minneapolis\, MN\, 55410\, United States
CATEGORIES:Events- All,Events- Non-MPRB
GEO:44.9735559;-93.3147246
X-APPLE-STRUCTURED-LOCATION;VALUE=URI;X-ADDRESS=Beard’s Plaisance 4525 Upton Ave S Minneapolis MN 55410 United States;X-APPLE-RADIUS=500;X-TITLE=4525 Upton Ave S:geo:-93.3147246,44.9735559
END:VEVENT
BEGIN:VEVENT
DTSTART;TZID=America/Chicago:20220911T110000
DTEND;TZID=America/Chicago:20220911T110000
DTSTAMP:20260419T190146
CREATED:20220622T180800Z
LAST-MODIFIED:20220622T180800Z
UID:58977-1662894000-1662894000@www.minneapolisparks.org
SUMMARY:7th Annual Finish The Run
DESCRIPTION:What: 5k Run/2-mile Walk \nWhen: Sunday September 11\, starting at 11 a.m.\nPlease show up 30-45 minutes early for pre-registration \nWhere: Boom Island Park\, NE Minneapolis \nCost: $35—Early Bird Registration fee through July 31st\, 2022 \nWhat you’ll get:\nA Finish The Run t-shirt\, food and drink at the finish line\, music and festivities before\, during and after
URL:https://www.minneapolisparks.org/event-calendar/7th-annual-finish-the-run/
LOCATION:Boom Island\, 724 Sibley St NE\, Minneapolis\, MN\, 55413\, United States
CATEGORIES:Events- All,Events- Non-MPRB
GEO:44.9920367;-93.3036741
X-APPLE-STRUCTURED-LOCATION;VALUE=URI;X-ADDRESS=Boom Island 724 Sibley St NE Minneapolis MN 55413 United States;X-APPLE-RADIUS=500;X-TITLE=724 Sibley St NE:geo:-93.3036741,44.9920367
END:VEVENT
BEGIN:VEVENT
DTSTART;TZID=America/Chicago:20220911T120000
DTEND;TZID=America/Chicago:20220911T120000
DTSTAMP:20260419T190146
CREATED:20220622T180518Z
LAST-MODIFIED:20220622T180518Z
UID:58975-1662897600-1662897600@www.minneapolisparks.org
SUMMARY:Longfellow River Gorge Festival
DESCRIPTION:
URL:https://www.minneapolisparks.org/event-calendar/longfellow-river-gorge-festival/
LOCATION:Mississippi Gorge Regional Park\, 3349 W River Pkwy\, Minneapolis\, MN\, 55406\, United States
CATEGORIES:Events- All,Events- Non-MPRB
END:VEVENT
BEGIN:VEVENT
DTSTART;TZID=America/Chicago:20220911T170000
DTEND;TZID=America/Chicago:20220911T170000
DTSTAMP:20260419T190146
CREATED:20220622T180621Z
LAST-MODIFIED:20220622T180621Z
UID:58976-1662915600-1662915600@www.minneapolisparks.org
SUMMARY:9/11 Tribute
DESCRIPTION:
URL:https://www.minneapolisparks.org/event-calendar/9-11-tribute-4/
LOCATION:Lake Harriet\, Minneapolis\, MN\, United States
CATEGORIES:Events- All,Events- Non-MPRB
GEO:44.927901;-93.3082473
END:VEVENT
BEGIN:VEVENT
DTSTART;TZID=America/Chicago:20220917T090000
DTEND;TZID=America/Chicago:20220917T090000
DTSTAMP:20260419T190146
CREATED:20220622T181910Z
LAST-MODIFIED:20220622T181910Z
UID:58997-1663405200-1663405200@www.minneapolisparks.org
SUMMARY:Bellyrama
DESCRIPTION:
URL:https://www.minneapolisparks.org/event-calendar/bellyrama-3/
LOCATION:Lyndale Park Peace Garden\, 4124 Roseway Road\, Minneapolis\, MN\, 55409\, United States
CATEGORIES:Events- All,Events- Non-MPRB
END:VEVENT
BEGIN:VEVENT
DTSTART;TZID=America/Chicago:20220917T090000
DTEND;TZID=America/Chicago:20220917T090000
DTSTAMP:20260419T190146
CREATED:20220622T182128Z
LAST-MODIFIED:20220622T182204Z
UID:58998-1663405200-1663405200@www.minneapolisparks.org
SUMMARY:Made in the Shade
DESCRIPTION:Homeward Bound’s 17th Annual Made in the Shade \nWe’re so excited to see everyone this year as Made in the Shade returns as an in-person event! We will once again be meeting at the foot of Lake Bde Maka Ska\, and we will also have a Facebook live broadcast of the event for those who are unable to attend! \nYour continued support of this event means so much to the individuals. The money the houses raise goes directly to providing the individuals we serve with the means to attend community or sporting events\, purchase a much needed item at their house; funds to share an outing with their peers or whatever they like to do to enjoy their time together!    \nThank you again to everyone who supported Homeward Bound in this event!
URL:https://www.minneapolisparks.org/event-calendar/made-in-the-shade/
LOCATION:Bde Maka Ska\, Bde Maka Ska\, Minneapolis\, MN\, 55416\, United States
CATEGORIES:Events- All,Events- Non-MPRB
GEO:44.9421047;-93.3207807
X-APPLE-STRUCTURED-LOCATION;VALUE=URI;X-ADDRESS=Bde Maka Ska Bde Maka Ska Minneapolis MN 55416 United States;X-APPLE-RADIUS=500;X-TITLE=Bde Maka Ska:geo:-93.3207807,44.9421047
END:VEVENT
BEGIN:VEVENT
DTSTART;TZID=America/Chicago:20220917T090000
DTEND;TZID=America/Chicago:20220918T090000
DTSTAMP:20260419T190146
CREATED:20220622T182641Z
LAST-MODIFIED:20220622T182641Z
UID:59000-1663405200-1663491600@www.minneapolisparks.org
SUMMARY:Loppet Field Day & Surly Brewing Co. Trail Loppet
DESCRIPTION:The Loppet Field Day on Saturday is a fun-filled day of both competitive and non-competitive events for all ages and abilities. The day will start with a timed 5K trail run/walk and be followed by an untimed 1 mile and 0.5 mile trail run\, before concluding with a variety of fun “trail and field” games and challenges. \n\nField Day 5K\nField Day 1 mile\nField Day 0.5 mile\nField Day Adventure Challenge Info Sheet\, Field Day Activities Map\n\nOur most popular trail running event of the season\, the Surly Brewing Co. Trail Loppet on Sunday is a day of rugged\, urban trail running in Minneapolis’s largest regional park. The Half Marathon and Half-Half (6-8 miles) races in Theodore Wirth Park are the ultimate urban trail running experience\, and all participants will be greeted after the race with music and a free Surly Brewing Co. beer (with a valid ID). \n\nHalf Marathon\nHalf-Half (6-8 miles)
URL:https://www.minneapolisparks.org/event-calendar/loppet-field-day-surly-brewing-co-trail-loppet/
LOCATION:Theodore Wirth Park\, Theodore Wirth Parkway\, Golden Valley\, MN\, 55422\, United States
CATEGORIES:Events- All,Events- Non-MPRB
GEO:44.9609095;-93.3246285
X-APPLE-STRUCTURED-LOCATION;VALUE=URI;X-ADDRESS=Theodore Wirth Park Theodore Wirth Parkway Golden Valley MN 55422 United States;X-APPLE-RADIUS=500;X-TITLE=Theodore Wirth Parkway:geo:-93.3246285,44.9609095
END:VEVENT
BEGIN:VEVENT
DTSTART;TZID=America/Chicago:20220917T170000
DTEND;TZID=America/Chicago:20220917T170000
DTSTAMP:20260419T190146
CREATED:20220622T182333Z
LAST-MODIFIED:20220622T182333Z
UID:58999-1663434000-1663434000@www.minneapolisparks.org
SUMMARY:Avant Garden
DESCRIPTION:The Walker Art Center’s annual benefit returns! Meet us in the Minneapolis Sculpture Garden for a celebration with all the spectacular sights and sounds that you’ve come to expect from this late summer tradition: heavenly food\, craft cocktails\, a show-stopping art auction\, and sensational entertainment and dancing. \nProceeds support the Walker’s mission to empower people to experience the transformative possibilities of the art and ideas of our time and to imagine the world in new ways. \nTickets are now on sale.
URL:https://www.minneapolisparks.org/event-calendar/avant-garden/
LOCATION:Minneapolis Sculpture Garden\, 726 Vineland Place\, Minneapolis\, MN\, 55403\, United States
CATEGORIES:Events- All,Events- Non-MPRB
GEO:44.9695492;-93.2897225
X-APPLE-STRUCTURED-LOCATION;VALUE=URI;X-ADDRESS=Minneapolis Sculpture Garden 726 Vineland Place Minneapolis MN 55403 United States;X-APPLE-RADIUS=500;X-TITLE=726 Vineland Place:geo:-93.2897225,44.9695492
END:VEVENT
BEGIN:VEVENT
DTSTART;TZID=America/Chicago:20220918T090000
DTEND;TZID=America/Chicago:20220918T090000
DTSTAMP:20260419T190146
CREATED:20220622T182728Z
LAST-MODIFIED:20220622T182728Z
UID:59001-1663491600-1663491600@www.minneapolisparks.org
SUMMARY:Summer Worship
DESCRIPTION:
URL:https://www.minneapolisparks.org/event-calendar/summer-worship-2/
LOCATION:Minnehaha Bandstand\, Minneapolis\, MN\, United States
CATEGORIES:Events- All,Events- Non-MPRB
GEO:44.9161006;-93.2109865
END:VEVENT
BEGIN:VEVENT
DTSTART;TZID=America/Chicago:20220924T090000
DTEND;TZID=America/Chicago:20220924T090000
DTSTAMP:20260419T190146
CREATED:20220622T182934Z
LAST-MODIFIED:20220622T182934Z
UID:59002-1664010000-1664010000@www.minneapolisparks.org
SUMMARY:16th Annual Twin Cities Vision Walk
DESCRIPTION:Date\nSaturday\, September 24\, 2022 \n\nLocation\nLake Harriet Bandshell \nSchedule\n9:00am Registration\n10:00am Stage Presentation\n10:30am Walk Begins
URL:https://www.minneapolisparks.org/event-calendar/16th-annual-twin-cities-vision-walk/
LOCATION:Lake Harriet Bandshell\, Minneapolis\, MN\, United States
CATEGORIES:Events- All,Events- Non-MPRB
GEO:44.927901;-93.3082473
END:VEVENT
BEGIN:VEVENT
DTSTART;TZID=America/Chicago:20220924T110000
DTEND;TZID=America/Chicago:20220924T110000
DTSTAMP:20260419T190146
CREATED:20220622T183129Z
LAST-MODIFIED:20220622T183129Z
UID:59003-1664017200-1664017200@www.minneapolisparks.org
SUMMARY:NAMIWalks Minnesota
DESCRIPTION:On your feet\, participants! Join us as we step into NAMIWalks Your Way 2022\, which promises to be our most meaningful event ever. It’s a new day for mental health and we will embrace it together on September 24 at Minnehaha Park.  \nYou won’t want to miss it — a vibrant gathering where inspiration can shine on all of us. \nWe’ll cheer each other on while raising our voices to be heard\, united in our commitment to raise awareness of our cause\, funds to drive NAMI’s free\, top-rated programs\, and build community in every sense of the word. \nNAMIWalks Your Way will be here before you know it\, so register today! Let’s open up doors for everyone from every walk of life to have access to the mental health resources and community they deserve.
URL:https://www.minneapolisparks.org/event-calendar/namiwalks-minnesota/
LOCATION:Minnehaha Park\, Minneapolis\, MN\, United States
CATEGORIES:Events- All,Events- Non-MPRB
GEO:44.9161006;-93.2109865
END:VEVENT
BEGIN:VEVENT
DTSTART;TZID=America/Chicago:20220924T180000
DTEND;TZID=America/Chicago:20220924T180000
DTSTAMP:20260419T190146
CREATED:20220622T183328Z
LAST-MODIFIED:20220622T183328Z
UID:59004-1664042400-1664042400@www.minneapolisparks.org
SUMMARY:TEDx Minneapolis
DESCRIPTION:In the spirit of ideas worth spreading\, TEDx is a program of local\, self-organized events that bring people together to share a TED-like experience. At a TEDx event\, TEDTalks video and live speakers combine to spark deep discussion and connection in a small group. These local\, self-organized events are branded TEDx\, where x = independently organized TED event. The TED Conference provides general guidance for the TEDx program\, but individual TEDx events are self-organized (subject to certain rules and regulations).
URL:https://www.minneapolisparks.org/event-calendar/tedx-minneapolis/
LOCATION:The Commons\, 425 Portland Ave South\, Minneapolis\, MN\, 55488\, United States
CATEGORIES:Events- All,Events- Non-MPRB
GEO:44.9766971;-93.2628904
X-APPLE-STRUCTURED-LOCATION;VALUE=URI;X-ADDRESS=The Commons 425 Portland Ave South Minneapolis MN 55488 United States;X-APPLE-RADIUS=500;X-TITLE=425 Portland Ave South:geo:-93.2628904,44.9766971
END:VEVENT
BEGIN:VEVENT
DTSTART;TZID=America/Chicago:20220925T090000
DTEND;TZID=America/Chicago:20220925T090000
DTSTAMP:20260419T190146
CREATED:20220622T183443Z
LAST-MODIFIED:20220622T183443Z
UID:59005-1664096400-1664096400@www.minneapolisparks.org
SUMMARY:Summer Worship
DESCRIPTION:
URL:https://www.minneapolisparks.org/event-calendar/summer-worship-3/
LOCATION:Minnehaha Bandstand\, Minneapolis\, MN\, United States
CATEGORIES:Events- All,Events- Non-MPRB
GEO:44.9161006;-93.2109865
END:VEVENT
BEGIN:VEVENT
DTSTART;TZID=America/Chicago:20220930T200000
DTEND;TZID=America/Chicago:20220930T220000
DTSTAMP:20260419T190146
CREATED:20220928T141922Z
LAST-MODIFIED:20220928T141922Z
UID:60713-1664568000-1664575200@www.minneapolisparks.org
SUMMARY:Planets in the Park
DESCRIPTION:Have you ever wanted to see the Rings of Saturn? Or view the Moons of Jupiter? Here’s you chance. We will have telescopes\, amateur astronomers\, red flash lights\, star wheels and a Q and A time. We will view stars\, the moon and more!
URL:https://www.minneapolisparks.org/event-calendar/planets-in-the-park/
LOCATION:Pershing Park\, 3523 W 48th St\, Minneapolis\, MN\, 55410\, United States
CATEGORIES:Events- All
GEO:44.9158567;-93.3243725
X-APPLE-STRUCTURED-LOCATION;VALUE=URI;X-ADDRESS=Pershing Park 3523 W 48th St Minneapolis MN 55410 United States;X-APPLE-RADIUS=500;X-TITLE=3523 W 48th St:geo:-93.3243725,44.9158567
END:VEVENT
END:VCALENDAR