BEGIN:VCALENDAR
VERSION:2.0
PRODID:-//Minneapolis Park &amp; Recreation Board - ECPv6.15.20//NONSGML v1.0//EN
CALSCALE:GREGORIAN
METHOD:PUBLISH
X-ORIGINAL-URL:https://www.minneapolisparks.org
X-WR-CALDESC:Events for Minneapolis Park &amp; Recreation Board
REFRESH-INTERVAL;VALUE=DURATION:PT1H
X-Robots-Tag:noindex
X-PUBLISHED-TTL:PT1H
BEGIN:VTIMEZONE
TZID:America/Chicago
BEGIN:DAYLIGHT
TZOFFSETFROM:-0600
TZOFFSETTO:-0500
TZNAME:CDT
DTSTART:20210314T080000
END:DAYLIGHT
BEGIN:STANDARD
TZOFFSETFROM:-0500
TZOFFSETTO:-0600
TZNAME:CST
DTSTART:20211107T070000
END:STANDARD
BEGIN:DAYLIGHT
TZOFFSETFROM:-0600
TZOFFSETTO:-0500
TZNAME:CDT
DTSTART:20220313T080000
END:DAYLIGHT
BEGIN:STANDARD
TZOFFSETFROM:-0500
TZOFFSETTO:-0600
TZNAME:CST
DTSTART:20221106T070000
END:STANDARD
BEGIN:DAYLIGHT
TZOFFSETFROM:-0600
TZOFFSETTO:-0500
TZNAME:CDT
DTSTART:20230312T080000
END:DAYLIGHT
BEGIN:STANDARD
TZOFFSETFROM:-0500
TZOFFSETTO:-0600
TZNAME:CST
DTSTART:20231105T070000
END:STANDARD
END:VTIMEZONE
BEGIN:VEVENT
DTSTART;TZID=America/Chicago:20220122T120000
DTEND;TZID=America/Chicago:20220122T160000
DTSTAMP:20260422T002955
CREATED:20220110T224759Z
LAST-MODIFIED:20220110T224759Z
UID:54083-1642852800-1642867200@www.minneapolisparks.org
SUMMARY:Lake Harriet Winter Kite Festival
DESCRIPTION:NEW! In 2022\, a Shuttle will be provided to Lake Harriet from the Executive Building parking lot on the West side of Bde Maka Ska:\n3033 Excelsior Blvd\,\nMinneapolis\, MN 55416 \nPLEASE NOTE: There will be no parking on either side of Linden Hills Blvd from W 43rd Street to W 40th Street on event day (January 22).  Please plan accordingly and use the shuttle from the Calhoun Executive Center.
URL:https://www.minneapolisparks.org/event-calendar/lake-harriet-winter-kite-festival-2/
LOCATION:Lake Harriet\, Minneapolis\, MN\, United States
CATEGORIES:Events- All,Events- MPRB
GEO:44.927901;-93.3082473
END:VEVENT
BEGIN:VEVENT
DTSTART;TZID=America/Chicago:20220122T120000
DTEND;TZID=America/Chicago:20220122T160000
DTSTAMP:20260422T002955
CREATED:20220125T175620Z
LAST-MODIFIED:20220125T175620Z
UID:54646-1642852800-1642867200@www.minneapolisparks.org
SUMMARY:Lake Harriet Winter Kite Festival
DESCRIPTION:NEW! In 2022\, a Shuttle will be provided to Lake Harriet from the Executive Building parking lot on the West side of Bde Maka Ska:\n3033 Excelsior Blvd\,\nMinneapolis\, MN 55416 \nPLEASE NOTE: There will be no parking on either side of Linden Hills Blvd from W 43rd Street to W 40th Street on event day (January 22).  Please plan accordingly and use the shuttle from the Calhoun Executive Center.
URL:https://www.minneapolisparks.org/event-calendar/lake-harriet-winter-kite-festival-3/
LOCATION:Lake Harriet\, Minneapolis\, MN\, United States
CATEGORIES:Events- All,Events- MPRB
GEO:44.927901;-93.3082473
END:VEVENT
BEGIN:VEVENT
DTSTART;TZID=America/Chicago:20220122T130000
DTEND;TZID=America/Chicago:20220122T143000
DTSTAMP:20260422T002955
CREATED:20211203T192101Z
LAST-MODIFIED:20211203T192101Z
UID:53360-1642856400-1642861800@www.minneapolisparks.org
SUMMARY:Cedar-Isles Master Plan Open House for Initial Park Concepts (In Person)
DESCRIPTION:Review\, discuss ideas\, give feedback\, and ask questions about draft park concepts for the Cedar Lake-Lake of the Isles Master Plan project area. The open house will be in person and held outside.
URL:https://www.minneapolisparks.org/event-calendar/cedar-isles-master-plan-open-house-for-initial-park-concepts-in-person-2/
LOCATION:Lake of the Isles Ice Rink\, 2500 Lake of the Isles Pkwy E\, Minneapolis\, MN\, 55405\, United States
CATEGORIES:Events- All,Events- MPRB,Public Meetings
GEO:44.9551658;-93.3071257
X-APPLE-STRUCTURED-LOCATION;VALUE=URI;X-ADDRESS=Lake of the Isles Ice Rink 2500 Lake of the Isles Pkwy E Minneapolis MN 55405 United States;X-APPLE-RADIUS=500;X-TITLE=2500 Lake of the Isles Pkwy E:geo:-93.3071257,44.9551658
END:VEVENT
BEGIN:VEVENT
DTSTART;TZID=America/Chicago:20220127T180000
DTEND;TZID=America/Chicago:20220127T190000
DTSTAMP:20260422T002955
CREATED:20220121T194854Z
LAST-MODIFIED:20220125T202334Z
UID:54460-1643306400-1643310000@www.minneapolisparks.org
SUMMARY:Community Advisory Committee (CAC) Meeting #7\, Continued
DESCRIPTION:Zoom: https://us06web.zoom.us/j/84871775586\n\n\nCAC members will pick up the discussion of prominent Water Quality topics that was rudely interrupted on January 11th. There will be no presentation\, however\, content and meeting notes from the January 11th CAC Meeting #7 will be posted by EOD Friday 1/21 (under Get Involved tab). Discussion will be limited to CAC members until the last 10 minutes\, which is set aside for public comments.
URL:https://www.minneapolisparks.org/event-calendar/community-advisory-committee-cac-meeting-7-continued/
LOCATION:Minneapolis\, MN\, 55401\, United States
CATEGORIES:Public Meetings
GEO:44.9836543;-93.2693572
END:VEVENT
BEGIN:VEVENT
DTSTART;VALUE=DATE:20220128
DTEND;VALUE=DATE:20220129
DTSTAMP:20260422T002955
CREATED:20191216T183244Z
LAST-MODIFIED:20220125T152350Z
UID:39598-1643328000-1643414399@www.minneapolisparks.org
SUMMARY:Legislative Breakfast
DESCRIPTION:
URL:https://www.minneapolisparks.org/event-calendar/committee-of-the-whole-legislative-breakfast/
LOCATION:Virtual Program
CATEGORIES:Public Meetings
END:VEVENT
BEGIN:VEVENT
DTSTART;TZID=America/Chicago:20220128T080000
DTEND;TZID=America/Chicago:20220128T080000
DTSTAMP:20260422T002955
CREATED:20220126T195652Z
LAST-MODIFIED:20220126T195652Z
UID:54770-1643356800-1643356800@www.minneapolisparks.org
SUMMARY:Pond Hockey
DESCRIPTION:
URL:https://www.minneapolisparks.org/event-calendar/pond-hockey-18/2022-01-28/
LOCATION:Lake Nokomis\, Minneapolis\, MN\, United States
CATEGORIES:Events- All,Events- Non-MPRB
GEO:44.9114979;-93.2431014
END:VEVENT
BEGIN:VEVENT
DTSTART;TZID=America/Chicago:20220128T180000
DTEND;TZID=America/Chicago:20220128T193000
DTSTAMP:20260422T002955
CREATED:20220125T220741Z
LAST-MODIFIED:20220125T220836Z
UID:54680-1643392800-1643398200@www.minneapolisparks.org
SUMMARY:Fire & Ice Family Skating Party
DESCRIPTION:Join us at Armatage Park for our annual Fire & Ice Family Skating party! Grab your mittens and hat for this outdoor neighborhood celebration. Enjoy a night with your family and friends skating or keep warm with hot chocolate and bonfire. No registration required\, just come on down!
URL:https://www.minneapolisparks.org/event-calendar/fire-ice-family-skating-party-10/
LOCATION:Armatage Park\, 2500 W 57th St\, Minneapolis\, MN\, 55410\, United States
CATEGORIES:Events- All,Events- MPRB
GEO:44.9007399;-93.3112736
X-APPLE-STRUCTURED-LOCATION;VALUE=URI;X-ADDRESS=Armatage Park 2500 W 57th St Minneapolis MN 55410 United States;X-APPLE-RADIUS=500;X-TITLE=2500 W 57th St:geo:-93.3112736,44.9007399
END:VEVENT
BEGIN:VEVENT
DTSTART;TZID=America/Chicago:20220202T170000
DTEND;TZID=America/Chicago:20220202T170000
DTSTAMP:20260422T002955
CREATED:20220120T003103Z
LAST-MODIFIED:20220120T003142Z
UID:54396-1643821200-1643821200@www.minneapolisparks.org
SUMMARY:Board Meeting
DESCRIPTION:View Details
URL:https://www.minneapolisparks.org/event-calendar/board-meeting-84/
LOCATION:Virtual Program
CATEGORIES:Public Meetings
END:VEVENT
BEGIN:VEVENT
DTSTART;TZID=America/Chicago:20220202T183000
DTEND;TZID=America/Chicago:20220202T183000
DTSTAMP:20260422T002955
CREATED:20220120T204835Z
LAST-MODIFIED:20220125T202444Z
UID:54429-1643826600-1643826600@www.minneapolisparks.org
SUMMARY:Public Hearing for Pickleball Plan Amendments
DESCRIPTION:Meeting to be held digitally. \nPublic hearing for amendments to the Loring Park portion of the Downtown Service Area Master Plan\, the Nokomis-Hiawatha Regional Park Master Plan\, and the Minnehaha Parkway Regional Trail Master Plan to allow for implementation of pickleball courts.
URL:https://www.minneapolisparks.org/event-calendar/public-hearing-for-pickleball-plan-amendments/
LOCATION:Minneapolis\, MN\, 55401\, United States
CATEGORIES:Public Meetings
GEO:44.9836543;-93.2693572
END:VEVENT
BEGIN:VEVENT
DTSTART;TZID=America/Chicago:20220204T180000
DTEND;TZID=America/Chicago:20220204T200000
DTSTAMP:20260422T002955
CREATED:20220125T221055Z
LAST-MODIFIED:20220125T221055Z
UID:54685-1643997600-1644004800@www.minneapolisparks.org
SUMMARY:Fire and Ice Festival
DESCRIPTION:Grab your mittens and hats for this outdoor celebration. Enjoy a MN Night ice skating with family and friends. There will be complimentary hot chocolate\, a fire to warm yourself by and roasted marshmallows and a few more fun activities.
URL:https://www.minneapolisparks.org/event-calendar/fire-and-ice-festival-6/
LOCATION:Matthews Park\, 2318 29th Ave S\, Minneapolis\, MN\, 55406\, United States
CATEGORIES:Events- All,Events- MPRB
GEO:44.958293;-93.231444
X-APPLE-STRUCTURED-LOCATION;VALUE=URI;X-ADDRESS=Matthews Park 2318 29th Ave S Minneapolis MN 55406 United States;X-APPLE-RADIUS=500;X-TITLE=2318 29th Ave S:geo:-93.231444,44.958293
END:VEVENT
BEGIN:VEVENT
DTSTART;TZID=America/Chicago:20220205T080000
DTEND;TZID=America/Chicago:20220205T080000
DTSTAMP:20260422T002955
CREATED:20220126T195825Z
LAST-MODIFIED:20220126T195825Z
UID:54774-1644048000-1644048000@www.minneapolisparks.org
SUMMARY:Ski Loppet Festival
DESCRIPTION:
URL:https://www.minneapolisparks.org/event-calendar/ski-loppet-festival/2022-02-05/
LOCATION:Theodore Wirth Park\, Theodore Wirth Parkway\, Golden Valley\, MN\, 55422\, United States
CATEGORIES:Events- All,Events- Non-MPRB
GEO:44.9609095;-93.3246285
X-APPLE-STRUCTURED-LOCATION;VALUE=URI;X-ADDRESS=Theodore Wirth Park Theodore Wirth Parkway Golden Valley MN 55422 United States;X-APPLE-RADIUS=500;X-TITLE=Theodore Wirth Parkway:geo:-93.3246285,44.9609095
END:VEVENT
BEGIN:VEVENT
DTSTART;TZID=America/Chicago:20220205T150000
DTEND;TZID=America/Chicago:20220205T150000
DTSTAMP:20260422T002955
CREATED:20220126T195929Z
LAST-MODIFIED:20220126T195929Z
UID:54777-1644073200-1644073200@www.minneapolisparks.org
SUMMARY:Luminary
DESCRIPTION:
URL:https://www.minneapolisparks.org/event-calendar/luminary/
LOCATION:Lake of the Isles\, Minneapolis\, MN\, United States
CATEGORIES:Events- All,Events- Non-MPRB
GEO:44.9583577;-93.3032469
END:VEVENT
BEGIN:VEVENT
DTSTART;TZID=America/Chicago:20220205T170000
DTEND;TZID=America/Chicago:20220205T200000
DTSTAMP:20260422T002955
CREATED:20220125T221857Z
LAST-MODIFIED:20220125T221857Z
UID:54698-1644080400-1644091200@www.minneapolisparks.org
SUMMARY:Tangletown Winterfest
DESCRIPTION:Join your community outside for this exciting event. There will be sledding\, snow painting\, and a fire twirling show at 6:30pm. Bonfires will keep us warm as we enjoy each other’s company. Upon registration for this program\, participants agree to follow MPRB requirements related to face coverings and physical distancing. Face coverings are required indoors at all MPRB facilities\, unless otherwise specified by MPRB as part of athletics protocol.
URL:https://www.minneapolisparks.org/event-calendar/tangletown-winterfest/
LOCATION:Fuller Park\, 4800 Grand Ave S\, Minneapolis\, MN\, 55419\, United States
CATEGORIES:Events- All,Events- MPRB
GEO:44.9157593;-93.2848109
X-APPLE-STRUCTURED-LOCATION;VALUE=URI;X-ADDRESS=Fuller Park 4800 Grand Ave S Minneapolis MN 55419 United States;X-APPLE-RADIUS=500;X-TITLE=4800 Grand Ave S:geo:-93.2848109,44.9157593
END:VEVENT
BEGIN:VEVENT
DTSTART;TZID=America/Chicago:20220205T180000
DTEND;TZID=America/Chicago:20220205T200000
DTSTAMP:20260422T002955
CREATED:20220125T220952Z
LAST-MODIFIED:20220125T220952Z
UID:54683-1644084000-1644091200@www.minneapolisparks.org
SUMMARY:Fire and Ice
DESCRIPTION:Winter solstice is celebrated at our Fire and Ice Festival as a time for reflection\, renewal\, peace\, and a time for the glistening snow to purify our air and leave a clean slate. Activities will include a recreational fire\, horse drawn hayrides\, music\, crafts\, and concessions.
URL:https://www.minneapolisparks.org/event-calendar/fire-and-ice-5/
LOCATION:Luxton Park\, 112 Williams Ave SE\, Minneapolis\, MN\, 55414\, United States
CATEGORIES:Events- All,Events- MPRB
GEO:44.9682716;-93.2193098
X-APPLE-STRUCTURED-LOCATION;VALUE=URI;X-ADDRESS=Luxton Park 112 Williams Ave SE Minneapolis MN 55414 United States;X-APPLE-RADIUS=500;X-TITLE=112 Williams Ave SE:geo:-93.2193098,44.9682716
END:VEVENT
BEGIN:VEVENT
DTSTART;TZID=America/Chicago:20220207T180000
DTEND;TZID=America/Chicago:20220207T193000
DTSTAMP:20260422T002955
CREATED:20220121T194155Z
LAST-MODIFIED:20220125T202434Z
UID:54434-1644256800-1644262200@www.minneapolisparks.org
SUMMARY:RESCHEDULED: Cedar-Isles Master Plan Open House for Initial Park Concepts (Virtual)
DESCRIPTION:Zoom: https://us06web.zoom.us/j/82518194818\n\n\nReview\, discuss ideas\, give feedback\, and ask questions about draft park concepts for the Cedar Lake-Lake of the Isles Master Plan project area. The open house will be virtual and held on Zoom.
URL:https://www.minneapolisparks.org/event-calendar/rescheduled-cedar-isles-master-plan-open-house-for-initial-park-concepts-virtual/
LOCATION:Virtual Program
CATEGORIES:Public Meetings
END:VEVENT
BEGIN:VEVENT
DTSTART;TZID=America/Chicago:20220208T183000
DTEND;TZID=America/Chicago:20220208T200000
DTSTAMP:20260422T002955
CREATED:20220120T205247Z
LAST-MODIFIED:20220125T202428Z
UID:54431-1644345000-1644350400@www.minneapolisparks.org
SUMMARY:Pickleball Design Workshop
DESCRIPTION:Workshop allowing MPRB to draw on the expertise of avid pickleball players to ensure the best possible design of pickleball-specific courts.
URL:https://www.minneapolisparks.org/event-calendar/pickleball-design-workshop/
LOCATION:Virtual Program
CATEGORIES:Public Meetings
END:VEVENT
BEGIN:VEVENT
DTSTART;TZID=America/Chicago:20220214T100000
DTEND;TZID=America/Chicago:20220214T113000
DTSTAMP:20260422T002955
CREATED:20220125T222028Z
LAST-MODIFIED:20220125T222028Z
UID:54700-1644832800-1644838200@www.minneapolisparks.org
SUMMARY:Toddler Valentine's Day Party
DESCRIPTION:A special Valentine’s day party for young children and their parents. Event is FREE to attend and is for children under 6-years-old. Games\, music and more will be offered for a fun celebration! Pre-registration is required.
URL:https://www.minneapolisparks.org/event-calendar/toddler-valentines-day-party/
LOCATION:Webber Park\, 4300 Webber Parkway\, Minneapolis\, MN\, 55412\, United States
CATEGORIES:Events- All,Events- MPRB
GEO:45.034522;-93.291918
X-APPLE-STRUCTURED-LOCATION;VALUE=URI;X-ADDRESS=Webber Park 4300 Webber Parkway Minneapolis MN 55412 United States;X-APPLE-RADIUS=500;X-TITLE=4300 Webber Parkway:geo:-93.291918,45.034522
END:VEVENT
BEGIN:VEVENT
DTSTART;TZID=America/Chicago:20220216T170000
DTEND;TZID=America/Chicago:20220216T170000
DTSTAMP:20260422T002955
CREATED:20220120T003247Z
LAST-MODIFIED:20220120T003247Z
UID:54399-1645030800-1645030800@www.minneapolisparks.org
SUMMARY:Board Meeting
DESCRIPTION:View Details
URL:https://www.minneapolisparks.org/event-calendar/board-meeting-85/
LOCATION:Virtual Program
CATEGORIES:Public Meetings
END:VEVENT
BEGIN:VEVENT
DTSTART;TZID=America/Chicago:20220217T150000
DTEND;TZID=America/Chicago:20220217T180000
DTSTAMP:20260422T002955
CREATED:20220215T202344Z
LAST-MODIFIED:20220215T202344Z
UID:55470-1645110000-1645120800@www.minneapolisparks.org
SUMMARY:Open House at Corcoran Recreation Center
DESCRIPTION:Join us at the Open House events in February and March 2022 to share your feedback on the proposed plans. \n\n\n\nMeeting Location (Facility Name and Address):\nCorcoran Recreation Center \, 3334 20th Ave S\, Minneapolis\, MN 55407
URL:https://www.minneapolisparks.org/event-calendar/open-house-at-corcoran-recreation-center/2022-02-17/
LOCATION:Corcoran Park\, 3334 20th Ave S\, Minneapolis\, MN\, 55407\, United States
CATEGORIES:Public Meetings
GEO:44.9417484;-93.2441925
X-APPLE-STRUCTURED-LOCATION;VALUE=URI;X-ADDRESS=Corcoran Park 3334 20th Ave S Minneapolis MN 55407 United States;X-APPLE-RADIUS=500;X-TITLE=3334 20th Ave S:geo:-93.2441925,44.9417484
END:VEVENT
BEGIN:VEVENT
DTSTART;TZID=America/Chicago:20220217T170000
DTEND;TZID=America/Chicago:20220217T190000
DTSTAMP:20260422T002955
CREATED:20220125T221526Z
LAST-MODIFIED:20220125T221526Z
UID:54694-1645117200-1645124400@www.minneapolisparks.org
SUMMARY:Open House - Audubon Park
DESCRIPTION:Audubon Park will host an Open House\, Thursday February 17th from 5pm-7pm. Bring the whole family for to see the new renovations\, meet the staff\, vote on a new park mascot\, sledding\, bonfire\, hot coco\, and more!
URL:https://www.minneapolisparks.org/event-calendar/open-house-audubon-park/
LOCATION:Audubon Park\, 1320 29th Ave NE\, Minneapolis\, MN\, 55418\, United States
CATEGORIES:Events- All,Events- MPRB
GEO:45.0200505;-93.2397463
X-APPLE-STRUCTURED-LOCATION;VALUE=URI;X-ADDRESS=Audubon Park 1320 29th Ave NE Minneapolis MN 55418 United States;X-APPLE-RADIUS=500;X-TITLE=1320 29th Ave NE:geo:-93.2397463,45.0200505
END:VEVENT
BEGIN:VEVENT
DTSTART;TZID=America/Chicago:20220217T180000
DTEND;TZID=America/Chicago:20220217T190000
DTSTAMP:20260422T002955
CREATED:20220126T205135Z
LAST-MODIFIED:20220214T173308Z
UID:54795-1645120800-1645124400@www.minneapolisparks.org
SUMMARY:Hall & Farwell Park Improvements Draft Concept Plan Open House
DESCRIPTION:The Minneapolis Park and Recreation Board (MPRB) is hosting a virtual open house to share the draft concept plans for improvements at Farwell and Hall Parks. MPRB staff and the consultant design team will share concept plans for both parks and gather feedback. If you cannot attend\, please feel free to contact the MPRB project manager with any feedback. Comments will be gathered from February 11th to the 25th. The link to the Zoom meeting and the meeting agenda will be available on the website the day before the meeting. \n\nDraft Concept Plan Open House Invite Flyer [PDF]\nHall Park Draft Concept Plan [PDF]\nFarwell Park Draft Concept Plan [PDF]
URL:https://www.minneapolisparks.org/event-calendar/virtual-open-house-draft-concept-plans-for-farwell-and-hall-park/
LOCATION:Virtual Program
CATEGORIES:Public Meetings
END:VEVENT
BEGIN:VEVENT
DTSTART;TZID=America/Chicago:20220218T160000
DTEND;TZID=America/Chicago:20220218T190000
DTSTAMP:20260422T002955
CREATED:20220125T221741Z
LAST-MODIFIED:20220125T221741Z
UID:54696-1645200000-1645210800@www.minneapolisparks.org
SUMMARY:Senior Bingo!
DESCRIPTION:B-I-N-G-O! Come to Webber Park for an afternoon of fellowship and fun at our senior bingo. Come\, play\, and win fun prizes!Upon registration for this program\, participants agree to follow MPRB requirements related to face coverings and physical distancing. Face coverings are required indoors at all MPRB facilities\, unless otherwise specified by MPRB as part of athletics protocol. Some youth programs\, including childcare and preschool require participants to maintain physical distance.
URL:https://www.minneapolisparks.org/event-calendar/senior-bingo-2/
LOCATION:Webber Park\, 4300 Webber Parkway\, Minneapolis\, MN\, 55412\, United States
CATEGORIES:Events- All,Events- MPRB
GEO:45.034522;-93.291918
X-APPLE-STRUCTURED-LOCATION;VALUE=URI;X-ADDRESS=Webber Park 4300 Webber Parkway Minneapolis MN 55412 United States;X-APPLE-RADIUS=500;X-TITLE=4300 Webber Parkway:geo:-93.291918,45.034522
END:VEVENT
BEGIN:VEVENT
DTSTART;TZID=America/Chicago:20220223T170000
DTEND;TZID=America/Chicago:20220223T170000
DTSTAMP:20260422T002955
CREATED:20220218T193612Z
LAST-MODIFIED:20220218T193706Z
UID:55588-1645635600-1645635600@www.minneapolisparks.org
SUMMARY:Committee of the Whole
DESCRIPTION:Location now confirmed for 2/23: \nCommittee of the Whole – Committee Meeting\n2/23/2022 at 5:00 PM\nCarl W. Kroening Nature Center\n4900 Mississippi Court\, Minneapolis\, MN 55430 \nThere is no 2/28 Committee of the Whole Meeting
URL:https://www.minneapolisparks.org/event-calendar/committee-of-the-whole-8/
LOCATION:Carl W. Kroening Nature Center\, 4900 Mississippi Court\, Minneapolis\, MN\, 55430\, United States
CATEGORIES:Public Meetings
GEO:45.0480936;-93.2831006
X-APPLE-STRUCTURED-LOCATION;VALUE=URI;X-ADDRESS=Carl W. Kroening Nature Center 4900 Mississippi Court Minneapolis MN 55430 United States;X-APPLE-RADIUS=500;X-TITLE=4900 Mississippi Court:geo:-93.2831006,45.0480936
END:VEVENT
BEGIN:VEVENT
DTSTART;TZID=America/Chicago:20220224T180000
DTEND;TZID=America/Chicago:20220224T193000
DTSTAMP:20260422T002955
CREATED:20220211T195402Z
LAST-MODIFIED:20220211T195402Z
UID:55295-1645725600-1645731000@www.minneapolisparks.org
SUMMARY:26th Avenue North Overlook to Ole Olson Park Trail Connection - First Online Public Meeting
DESCRIPTION:Zoom meeting: https://us06web.zoom.us/j/85900622695\n\n\nIt’s an online meeting with a presentation and time for questions and feedback. The presentation will be recorded and posted online after the meeting.
URL:https://www.minneapolisparks.org/event-calendar/26th-avenue-north-overlook-to-ole-olson-park-trail-connection-first-online-public-meeting/
LOCATION:Virtual Program
CATEGORIES:Public Meetings
END:VEVENT
BEGIN:VEVENT
DTSTART;TZID=America/Chicago:20220226T103000
DTEND;TZID=America/Chicago:20220226T130000
DTSTAMP:20260422T002955
CREATED:20220224T214605Z
LAST-MODIFIED:20220224T214605Z
UID:55761-1645871400-1645880400@www.minneapolisparks.org
SUMMARY:Celebrate Black History Month
DESCRIPTION:Join us as we celebrate Black History Month. \nActivities include arts and crafts\, cookie making\, treats to go and much more.
URL:https://www.minneapolisparks.org/event-calendar/celebrate-black-history-month/
LOCATION:Harrison Park\, 503 N Irving Ave\, Minneapolis\, MN\, 55405\, United States
CATEGORIES:Events- All,Events- MPRB
GEO:44.9827416;-93.2996079
X-APPLE-STRUCTURED-LOCATION;VALUE=URI;X-ADDRESS=Harrison Park 503 N Irving Ave Minneapolis MN 55405 United States;X-APPLE-RADIUS=500;X-TITLE=503 N Irving Ave:geo:-93.2996079,44.9827416
END:VEVENT
BEGIN:VEVENT
DTSTART;TZID=America/Chicago:20220226T130000
DTEND;TZID=America/Chicago:20220226T143000
DTSTAMP:20260422T002955
CREATED:20220211T182822Z
LAST-MODIFIED:20220211T210408Z
UID:55282-1645880400-1645885800@www.minneapolisparks.org
SUMMARY:Cedar-Isles Master Plan Open House for Initial Park Concepts (In Person)
DESCRIPTION:Review\, discuss ideas\, give feedback\, and ask questions about draft park concepts for the Cedar Lake-Lake of the Isles Master Plan project area. The open house will be in person and held outside. \nLocation: Intersection of W. Lake of the Isles Parkway and E Bde Maka Ska Parkway (Lake Side)
URL:https://www.minneapolisparks.org/event-calendar/cedar-isles-master-plan-open-house-for-initial-park-concepts-in-person-3/
LOCATION:MN
CATEGORIES:Public Meetings
END:VEVENT
BEGIN:VEVENT
DTSTART;TZID=America/Chicago:20220228T080000
DTEND;TZID=America/Chicago:20220228T080000
DTSTAMP:20260422T002955
CREATED:20220120T003601Z
LAST-MODIFIED:20220120T003601Z
UID:54401-1646035200-1646035200@www.minneapolisparks.org
SUMMARY:Committee of the Whole Meeting
DESCRIPTION:
URL:https://www.minneapolisparks.org/event-calendar/committee-of-the-whole-meeting-12/
LOCATION:Virtual Program
CATEGORIES:Public Meetings
END:VEVENT
BEGIN:VEVENT
DTSTART;TZID=America/Chicago:20220302T170000
DTEND;TZID=America/Chicago:20220302T170000
DTSTAMP:20260422T002955
CREATED:20220125T144459Z
LAST-MODIFIED:20220125T144459Z
UID:54590-1646240400-1646240400@www.minneapolisparks.org
SUMMARY:Board Meeting
DESCRIPTION:
URL:https://www.minneapolisparks.org/event-calendar/board-meeting-86/2022-03-02/
LOCATION:Mary Merrill Minneapolis Park & Recreation Board Headquarters\, 2117 West River Road N\, Minneapolis\, MN\, 55411\, United States
CATEGORIES:Public Meetings
GEO:45.0008334;-93.2780339
X-APPLE-STRUCTURED-LOCATION;VALUE=URI;X-ADDRESS=Mary Merrill Minneapolis Park & Recreation Board Headquarters 2117 West River Road N Minneapolis MN 55411 United States;X-APPLE-RADIUS=500;X-TITLE=2117 West River Road N:geo:-93.2780339,45.0008334
END:VEVENT
BEGIN:VEVENT
DTSTART;TZID=America/Chicago:20220303T160000
DTEND;TZID=America/Chicago:20220303T180000
DTSTAMP:20260422T002955
CREATED:20220223T173750Z
LAST-MODIFIED:20220223T173843Z
UID:55701-1646323200-1646330400@www.minneapolisparks.org
SUMMARY:Proposed Design Concepts for Sibley Park Wading Pool and Playground
DESCRIPTION:Proposed concept plans to improve and expand the play area and wading pool at Sibley Park.
URL:https://www.minneapolisparks.org/event-calendar/proposed-design-concepts-for-the-wading-pool-and-playground/2022-03-03/
LOCATION:Sibley Recreation Center\, Minneapolis\, MN\, United States
CATEGORIES:Public Meetings
GEO:44.9310545;-93.2444172
END:VEVENT
BEGIN:VEVENT
DTSTART;TZID=America/Chicago:20220305T080000
DTEND;TZID=America/Chicago:20220305T080000
DTSTAMP:20260422T002955
CREATED:20220126T201428Z
LAST-MODIFIED:20220126T201428Z
UID:54779-1646467200-1646467200@www.minneapolisparks.org
SUMMARY:Minneapolis Polar Plunge & 5K
DESCRIPTION:
URL:https://www.minneapolisparks.org/event-calendar/minneapolis-polar-plunge-5k/
LOCATION:Bde Maka Ska\, Bde Maka Ska\, Minneapolis\, MN\, 55416\, United States
CATEGORIES:Events- All,Events- Non-MPRB
GEO:44.9421047;-93.3207807
X-APPLE-STRUCTURED-LOCATION;VALUE=URI;X-ADDRESS=Bde Maka Ska Bde Maka Ska Minneapolis MN 55416 United States;X-APPLE-RADIUS=500;X-TITLE=Bde Maka Ska:geo:-93.3207807,44.9421047
END:VEVENT
END:VCALENDAR