BEGIN:VCALENDAR
VERSION:2.0
PRODID:-//Minneapolis Park &amp; Recreation Board - ECPv6.15.20//NONSGML v1.0//EN
CALSCALE:GREGORIAN
METHOD:PUBLISH
X-WR-CALNAME:Minneapolis Park &amp; Recreation Board
X-ORIGINAL-URL:https://www.minneapolisparks.org
X-WR-CALDESC:Events for Minneapolis Park &amp; Recreation Board
REFRESH-INTERVAL;VALUE=DURATION:PT1H
X-Robots-Tag:noindex
X-PUBLISHED-TTL:PT1H
BEGIN:VTIMEZONE
TZID:America/Chicago
BEGIN:DAYLIGHT
TZOFFSETFROM:-0600
TZOFFSETTO:-0500
TZNAME:CDT
DTSTART:20210314T080000
END:DAYLIGHT
BEGIN:STANDARD
TZOFFSETFROM:-0500
TZOFFSETTO:-0600
TZNAME:CST
DTSTART:20211107T070000
END:STANDARD
BEGIN:DAYLIGHT
TZOFFSETFROM:-0600
TZOFFSETTO:-0500
TZNAME:CDT
DTSTART:20220313T080000
END:DAYLIGHT
BEGIN:STANDARD
TZOFFSETFROM:-0500
TZOFFSETTO:-0600
TZNAME:CST
DTSTART:20221106T070000
END:STANDARD
BEGIN:DAYLIGHT
TZOFFSETFROM:-0600
TZOFFSETTO:-0500
TZNAME:CDT
DTSTART:20230312T080000
END:DAYLIGHT
BEGIN:STANDARD
TZOFFSETFROM:-0500
TZOFFSETTO:-0600
TZNAME:CST
DTSTART:20231105T070000
END:STANDARD
END:VTIMEZONE
BEGIN:VEVENT
DTSTART;TZID=America/Chicago:20220724T160000
DTEND;TZID=America/Chicago:20220727T170000
DTSTAMP:20260419T203704
CREATED:20220621T173125Z
LAST-MODIFIED:20220621T173125Z
UID:58896-1658678400-1658941200@www.minneapolisparks.org
SUMMARY:ELCA Youth Gathering
DESCRIPTION:
URL:https://www.minneapolisparks.org/event-calendar/elca-youth-gathering/
LOCATION:North Commons Park\, 1801 James Ave N\, Minneapolis\, MN\, 55411\, United States
CATEGORIES:Events- All,Events- Non-MPRB
GEO:44.9972515;-93.3011657
X-APPLE-STRUCTURED-LOCATION;VALUE=URI;X-ADDRESS=North Commons Park 1801 James Ave N Minneapolis MN 55411 United States;X-APPLE-RADIUS=500;X-TITLE=1801 James Ave N:geo:-93.3011657,44.9972515
END:VEVENT
BEGIN:VEVENT
DTSTART;TZID=America/Chicago:20220725T210500
DTEND;TZID=America/Chicago:20220725T210500
DTSTAMP:20260419T203704
CREATED:20220331T181124Z
LAST-MODIFIED:20220602T210619Z
UID:56696-1658783100-1658783100@www.minneapolisparks.org
SUMMARY:Jumanji: The Next Level
DESCRIPTION:Enjoy an evening in the park while watching an outdoor movie. This year we will be showing family favorite – Jumanji: The Next Level. Be sure to bring your lawn chairs and blanket. Movie begins at dusk. Upon registration for this program\, participants agree to follow MPRB requirements related to face coverings and physical distancing. Face coverings are required indoors at all MPRB facilities\, unless otherwise specified by MPRB as part of athletics protocol.
URL:https://www.minneapolisparks.org/event-calendar/movie-in-the-park-2/
LOCATION:Longfellow Park\, 3435 36th Ave S\, Minneapolis\, MN\, 55406\, United States
CATEGORIES:Events- All,Events- MPRB,Movies in the Parks,Music & Movies in the Parks
GEO:44.9400906;-93.2199535
X-APPLE-STRUCTURED-LOCATION;VALUE=URI;X-ADDRESS=Longfellow Park 3435 36th Ave S Minneapolis MN 55406 United States;X-APPLE-RADIUS=500;X-TITLE=3435 36th Ave S:geo:-93.2199535,44.9400906
END:VEVENT
BEGIN:VEVENT
DTSTART;TZID=America/Chicago:20220727T160000
DTEND;TZID=America/Chicago:20220727T200000
DTSTAMP:20260419T203704
CREATED:20220609T164454Z
LAST-MODIFIED:20220609T164454Z
UID:58614-1658937600-1658952000@www.minneapolisparks.org
SUMMARY:Cycling 101
DESCRIPTION:A youth-focused event that includes a Bike Rodeo\, where Park Police teach bike safety\, onsite bike repair tutorials and a live BMX demo and big air show.
URL:https://www.minneapolisparks.org/event-calendar/cycling-101-3/
LOCATION:Lake Nokomis Community Center\, 2401 E Minnehaha Parkway\, Minneapolis\, MN\, 55417\, United States
CATEGORIES:Events- All,Events- MPRB
GEO:44.9157107;-93.2366016
X-APPLE-STRUCTURED-LOCATION;VALUE=URI;X-ADDRESS=Lake Nokomis Community Center 2401 E Minnehaha Parkway Minneapolis MN 55417 United States;X-APPLE-RADIUS=500;X-TITLE=2401 E Minnehaha Parkway:geo:-93.2366016,44.9157107
END:VEVENT
BEGIN:VEVENT
DTSTART;TZID=America/Chicago:20220728T173000
DTEND;TZID=America/Chicago:20220728T203000
DTSTAMP:20260419T203704
CREATED:20220331T183419Z
LAST-MODIFIED:20220331T183859Z
UID:56721-1659029400-1659040200@www.minneapolisparks.org
SUMMARY:Picnic in the Park
DESCRIPTION:The annual Picnic in the Park is a fun filled evening with something for everyone. This event features live a band\, carnival games and a DJ for the kids\, and an awesome line up of food trucks and concessions. In addition\, there will be neighborhood resource booths\, door prize drawings and much more fun for all ages. This will be one of the best community events of the summer – don’t you dare miss it! \n\nNotes: Upon registration for this program\, participants agree to follow MPRB requirements related to face coverings and physical distancing. Face coverings are required indoors at all MPRB facilities\, unless otherwise specified by MPRB as part of athletics protocol.
URL:https://www.minneapolisparks.org/event-calendar/picnic-in-the-park-4/
LOCATION:Pearl Park\, 414 E Diamond Lake Road\, Minneapolis\, MN\, 55419\, United States
CATEGORIES:Events- All,Events- MPRB
GEO:44.904403;-93.268818
X-APPLE-STRUCTURED-LOCATION;VALUE=URI;X-ADDRESS=Pearl Park 414 E Diamond Lake Road Minneapolis MN 55419 United States;X-APPLE-RADIUS=500;X-TITLE=414 E Diamond Lake Road:geo:-93.268818,44.904403
END:VEVENT
BEGIN:VEVENT
DTSTART;TZID=America/Chicago:20220728T193000
DTEND;TZID=America/Chicago:20220728T210000
DTSTAMP:20260419T203704
CREATED:20220331T180624Z
LAST-MODIFIED:20220331T180624Z
UID:56681-1659036600-1659042000@www.minneapolisparks.org
SUMMARY:Corn Feed and Movie in the Park
DESCRIPTION:Calling all ages to an evening of fun\, food\, and entertainment! Enjoy farm fresh Minnesota grown corn on the cob. This event features family friendly entertainment including a DJ\, a moonwalk\, carnival games\, and Art in the Park. Concession sales from the corn on the cob and other food vendors will benefit Sibley youth sports programs. Stay for the Movie in the Park! Upon registration for this program\, participants agree to follow MPRB requirements related to face coverings and physical distancing. Face coverings are required indoors at all MPRB facilities\, unless otherwise specified by MPRB as part of athletics protocol.
URL:https://www.minneapolisparks.org/event-calendar/corn-feed-and-movie-in-the-park/
LOCATION:Sibley Park\, 1900 E 40th St\, Minneapolis\, MN\, 55407\, United States
CATEGORIES:Events- All,Events- MPRB
GEO:44.9310545;-93.2444172
X-APPLE-STRUCTURED-LOCATION;VALUE=URI;X-ADDRESS=Sibley Park 1900 E 40th St Minneapolis MN 55407 United States;X-APPLE-RADIUS=500;X-TITLE=1900 E 40th St:geo:-93.2444172,44.9310545
END:VEVENT
BEGIN:VEVENT
DTSTART;TZID=America/Chicago:20220729T210000
DTEND;TZID=America/Chicago:20220729T210000
DTSTAMP:20260419T203704
CREATED:20220331T181617Z
LAST-MODIFIED:20220602T210728Z
UID:56685-1659128400-1659128400@www.minneapolisparks.org
SUMMARY:Sing 2
DESCRIPTION:Enjoy an evening in the park while watching an outdoor movie. This year we will be showing Sing 2. Be sure to bring your lawn chairs and blanket. Movie begins at dusk.
URL:https://www.minneapolisparks.org/event-calendar/movie-in-the-park-6/
LOCATION:Lake Hiawatha Park\, 2701 E 44th St\, Minneapolis\, MN\, 55406\, United States
CATEGORIES:Events- All,Events- MPRB,Movies in the Parks,Music & Movies in the Parks
GEO:44.9231192;-93.2337349
X-APPLE-STRUCTURED-LOCATION;VALUE=URI;X-ADDRESS=Lake Hiawatha Park 2701 E 44th St Minneapolis MN 55406 United States;X-APPLE-RADIUS=500;X-TITLE=2701 E 44th St:geo:-93.2337349,44.9231192
END:VEVENT
BEGIN:VEVENT
DTSTART;TZID=America/Chicago:20220730T080000
DTEND;TZID=America/Chicago:20220730T080000
DTSTAMP:20260419T203704
CREATED:20220621T173206Z
LAST-MODIFIED:20220621T173206Z
UID:58898-1659168000-1659168000@www.minneapolisparks.org
SUMMARY:10\,000 Lakes Wake Surf Open
DESCRIPTION:
URL:https://www.minneapolisparks.org/event-calendar/10000-lakes-wake-surf-open-5/
LOCATION:West River Road\, Minneapolis\, MN\, United States
CATEGORIES:Events- All,Events- Non-MPRB
GEO:44.9990888;-93.277474
END:VEVENT
BEGIN:VEVENT
DTSTART;TZID=America/Chicago:20220730T090000
DTEND;TZID=America/Chicago:20220730T090000
DTSTAMP:20260419T203704
CREATED:20220621T173304Z
LAST-MODIFIED:20220621T173304Z
UID:58900-1659171600-1659171600@www.minneapolisparks.org
SUMMARY:Autism 5K
DESCRIPTION:
URL:https://www.minneapolisparks.org/event-calendar/autism-5k-5/
LOCATION:Bde Maka Ska\, Bde Maka Ska\, Minneapolis\, MN\, 55416\, United States
CATEGORIES:Events- All,Events- Non-MPRB
GEO:44.9421047;-93.3207807
X-APPLE-STRUCTURED-LOCATION;VALUE=URI;X-ADDRESS=Bde Maka Ska Bde Maka Ska Minneapolis MN 55416 United States;X-APPLE-RADIUS=500;X-TITLE=Bde Maka Ska:geo:-93.3207807,44.9421047
END:VEVENT
BEGIN:VEVENT
DTSTART;TZID=America/Chicago:20220730T100000
DTEND;TZID=America/Chicago:20220731T170000
DTSTAMP:20260419T203704
CREATED:20220621T173404Z
LAST-MODIFIED:20220621T173404Z
UID:58902-1659175200-1659286800@www.minneapolisparks.org
SUMMARY:Loring Park Art Festival
DESCRIPTION:
URL:https://www.minneapolisparks.org/event-calendar/loring-park-art-festival-8/
LOCATION:Loring Park\, Loring Park\, Minneapolis\, MN\, 55403\, United States
CATEGORIES:Events- All,Events- Non-MPRB
GEO:44.9649915;-93.2854596
X-APPLE-STRUCTURED-LOCATION;VALUE=URI;X-ADDRESS=Loring Park Loring Park Minneapolis MN 55403 United States;X-APPLE-RADIUS=500;X-TITLE=Loring Park:geo:-93.2854596,44.9649915
END:VEVENT
BEGIN:VEVENT
DTSTART;TZID=America/Chicago:20220731T150000
DTEND;TZID=America/Chicago:20220731T150000
DTSTAMP:20260419T203704
CREATED:20220621T173509Z
LAST-MODIFIED:20220621T173509Z
UID:58904-1659279600-1659279600@www.minneapolisparks.org
SUMMARY:Hidden Acoustics
DESCRIPTION:
URL:https://www.minneapolisparks.org/event-calendar/hidden-acoustics-2/
LOCATION:Cedar Lake East Beach\, 2000 Upton Ave S\, Minneapolis\, MN\, 55405\, United States
CATEGORIES:Events- All,Events- Non-MPRB
GEO:44.9735559;-93.3147246
X-APPLE-STRUCTURED-LOCATION;VALUE=URI;X-ADDRESS=Cedar Lake East Beach 2000 Upton Ave S Minneapolis MN 55405 United States;X-APPLE-RADIUS=500;X-TITLE=2000 Upton Ave S:geo:-93.3147246,44.9735559
END:VEVENT
BEGIN:VEVENT
DTSTART;TZID=America/Chicago:20220802T170000
DTEND;TZID=America/Chicago:20220802T193000
DTSTAMP:20260419T203704
CREATED:20220331T184022Z
LAST-MODIFIED:20220331T184022Z
UID:56725-1659459600-1659468600@www.minneapolisparks.org
SUMMARY:National Night Out 2022
DESCRIPTION:Elliot Rec Center\, in collaboration with other neighborhood partners\, will be providing a fun and safe event for National Night Out 2022. We will have food\, music\, and games for the youth! Join your neighbors for this annual event!
URL:https://www.minneapolisparks.org/event-calendar/national-night-out-2022/
LOCATION:Elliot Park\, 1000 E 14th St\, Minneapolis\, MN\, 55404\, United States
CATEGORIES:Events- All,Events- MPRB
GEO:44.9693872;-93.2597211
X-APPLE-STRUCTURED-LOCATION;VALUE=URI;X-ADDRESS=Elliot Park 1000 E 14th St Minneapolis MN 55404 United States;X-APPLE-RADIUS=500;X-TITLE=1000 E 14th St:geo:-93.2597211,44.9693872
END:VEVENT
BEGIN:VEVENT
DTSTART;TZID=America/Chicago:20220802T180000
DTEND;TZID=America/Chicago:20220802T180000
DTSTAMP:20260419T203704
CREATED:20220621T180845Z
LAST-MODIFIED:20220621T180845Z
UID:58908-1659463200-1659463200@www.minneapolisparks.org
SUMMARY:Minnesota Wild Street Hockey Series
DESCRIPTION:
URL:https://www.minneapolisparks.org/event-calendar/minnesota-wild-street-hockey-series/
LOCATION:Parade Park\, 400 Kenwood Parkway\, Minneapolis\, MN\, 55403\, United States
CATEGORIES:Events- All,Events- Non-MPRB
GEO:44.971026;-93.293093
X-APPLE-STRUCTURED-LOCATION;VALUE=URI;X-ADDRESS=Parade Park 400 Kenwood Parkway Minneapolis MN 55403 United States;X-APPLE-RADIUS=500;X-TITLE=400 Kenwood Parkway:geo:-93.293093,44.971026
END:VEVENT
BEGIN:VEVENT
DTSTART;TZID=America/Chicago:20220803T160000
DTEND;TZID=America/Chicago:20220803T180000
DTSTAMP:20260419T203704
CREATED:20220609T164557Z
LAST-MODIFIED:20220609T164557Z
UID:58616-1659542400-1659549600@www.minneapolisparks.org
SUMMARY:Bike Mechanics 101
DESCRIPTION:Problem with your bike? Mechanics 101 is a drop-in program where riders can stop by and ask questions\, use tools and get bike maintenance tips.
URL:https://www.minneapolisparks.org/event-calendar/bike-mechanics-101-4/
LOCATION:Lake Nokomis Community Center\, 2401 E Minnehaha Parkway\, Minneapolis\, MN\, 55417\, United States
CATEGORIES:Events- All,Events- MPRB
GEO:44.9157107;-93.2366016
X-APPLE-STRUCTURED-LOCATION;VALUE=URI;X-ADDRESS=Lake Nokomis Community Center 2401 E Minnehaha Parkway Minneapolis MN 55417 United States;X-APPLE-RADIUS=500;X-TITLE=2401 E Minnehaha Parkway:geo:-93.2366016,44.9157107
END:VEVENT
BEGIN:VEVENT
DTSTART;TZID=America/Chicago:20220806T070000
DTEND;TZID=America/Chicago:20220806T070000
DTSTAMP:20260419T203704
CREATED:20220622T171649Z
LAST-MODIFIED:20220622T171649Z
UID:58942-1659769200-1659769200@www.minneapolisparks.org
SUMMARY:APA Convention 5K
DESCRIPTION:
URL:https://www.minneapolisparks.org/event-calendar/apa-convention-5k/
LOCATION:Loring Park\, Loring Park\, Minneapolis\, MN\, 55403\, United States
CATEGORIES:Events- All,Events- Non-MPRB
GEO:44.9649915;-93.2854596
X-APPLE-STRUCTURED-LOCATION;VALUE=URI;X-ADDRESS=Loring Park Loring Park Minneapolis MN 55403 United States;X-APPLE-RADIUS=500;X-TITLE=Loring Park:geo:-93.2854596,44.9649915
END:VEVENT
BEGIN:VEVENT
DTSTART;TZID=America/Chicago:20220806T080000
DTEND;TZID=America/Chicago:20220806T080000
DTSTAMP:20260419T203704
CREATED:20220622T171751Z
LAST-MODIFIED:20220622T171751Z
UID:58944-1659772800-1659772800@www.minneapolisparks.org
SUMMARY:Emotions In Motion
DESCRIPTION:
URL:https://www.minneapolisparks.org/event-calendar/emotions-in-motion/
LOCATION:Lake Harriet\, Minneapolis\, MN\, United States
CATEGORIES:Events- All,Events- Non-MPRB
GEO:44.927901;-93.3082473
END:VEVENT
BEGIN:VEVENT
DTSTART;TZID=America/Chicago:20220806T093000
DTEND;TZID=America/Chicago:20220806T093000
DTSTAMP:20260419T203704
CREATED:20220621T182613Z
LAST-MODIFIED:20220621T182613Z
UID:58915-1659778200-1659778200@www.minneapolisparks.org
SUMMARY:AFDV Fun Run/Walk
DESCRIPTION:
URL:https://www.minneapolisparks.org/event-calendar/afdv-fun-run-walk-3/
LOCATION:Bde Maka Ska\, Bde Maka Ska\, Minneapolis\, MN\, 55416\, United States
CATEGORIES:Events- All,Events- Non-MPRB
GEO:44.9421047;-93.3207807
X-APPLE-STRUCTURED-LOCATION;VALUE=URI;X-ADDRESS=Bde Maka Ska Bde Maka Ska Minneapolis MN 55416 United States;X-APPLE-RADIUS=500;X-TITLE=Bde Maka Ska:geo:-93.3207807,44.9421047
END:VEVENT
BEGIN:VEVENT
DTSTART;TZID=America/Chicago:20220806T100000
DTEND;TZID=America/Chicago:20220806T100000
DTSTAMP:20260419T203704
CREATED:20220621T181422Z
LAST-MODIFIED:20220622T175136Z
UID:58913-1659780000-1659780000@www.minneapolisparks.org
SUMMARY:Free First Saturday
DESCRIPTION:Join us at the Walker on the first Saturday of the month to explore the galleries\, make art\, and get creative with your family! Check the calendar for more details about each month’s programming. \nPlus\, our popular family activities continue online! Enjoy new performances\, art-making activities\, kids’ films\, and interactive workshops every day—all designed for you and your family to do from home. Activities are available in English and Spanish. \nFree First Saturdays are still free! Gallery admission tickets are available on-site on the event day from the Main Lobby desk; quantities are limited. On Free First Saturdays\, we require visitors over age 2 to wear face masks inside the building to support the safety and comfort of families and attendees. We ask that you continue to maintain a minimum distance of 6 feet away from people not in your household group
URL:https://www.minneapolisparks.org/event-calendar/free-first-saturday-2/
LOCATION:Minneapolis Sculpture Garden\, 726 Vineland Place\, Minneapolis\, MN\, 55403\, United States
CATEGORIES:Events- All,Events- Non-MPRB
GEO:44.9695492;-93.2897225
X-APPLE-STRUCTURED-LOCATION;VALUE=URI;X-ADDRESS=Minneapolis Sculpture Garden 726 Vineland Place Minneapolis MN 55403 United States;X-APPLE-RADIUS=500;X-TITLE=726 Vineland Place:geo:-93.2897225,44.9695492
END:VEVENT
BEGIN:VEVENT
DTSTART;TZID=America/Chicago:20220808T183000
DTEND;TZID=America/Chicago:20220808T183000
DTSTAMP:20260419T203704
CREATED:20220622T171852Z
LAST-MODIFIED:20220721T140119Z
UID:58946-1659983400-1659983400@www.minneapolisparks.org
SUMMARY:MLS All-Star Concert - Khalid
DESCRIPTION:MLS All-Star Concert – Khalid\nAugust 8 @ 6:30pm
URL:https://www.minneapolisparks.org/event-calendar/mls-all-star-concert/
LOCATION:The Commons\, 425 Portland Ave South\, Minneapolis\, MN\, 55488\, United States
CATEGORIES:Events- All,Events- Non-MPRB
GEO:44.9766971;-93.2628904
X-APPLE-STRUCTURED-LOCATION;VALUE=URI;X-ADDRESS=The Commons 425 Portland Ave South Minneapolis MN 55488 United States;X-APPLE-RADIUS=500;X-TITLE=425 Portland Ave South:geo:-93.2628904,44.9766971
END:VEVENT
BEGIN:VEVENT
DTSTART;TZID=America/Chicago:20220809T183000
DTEND;TZID=America/Chicago:20220809T183000
DTSTAMP:20260419T203704
CREATED:20220622T172556Z
LAST-MODIFIED:20220622T172556Z
UID:58949-1660069800-1660069800@www.minneapolisparks.org
SUMMARY:Summer Revival Night
DESCRIPTION:
URL:https://www.minneapolisparks.org/event-calendar/summer-revival-night-4/
LOCATION:Minnehaha Bandstand\, Minneapolis\, MN\, United States
CATEGORIES:Events- All,Events- Non-MPRB
GEO:44.9161006;-93.2109865
END:VEVENT
BEGIN:VEVENT
DTSTART;TZID=America/Chicago:20220810T160000
DTEND;TZID=America/Chicago:20220810T180000
DTSTAMP:20260419T203704
CREATED:20220609T164645Z
LAST-MODIFIED:20220609T164645Z
UID:58618-1660147200-1660154400@www.minneapolisparks.org
SUMMARY:Cycling 101
DESCRIPTION:A youth-focused event that includes a Bike Rodeo\, where Park Police teach bike safety\, onsite bike repair tutorials and a live BMX demo and big air show.
URL:https://www.minneapolisparks.org/event-calendar/cycling-101-4/
LOCATION:Matthews Park\, 2318 29th Ave S\, Minneapolis\, MN\, 55406\, United States
CATEGORIES:Events- All,Events- MPRB
GEO:44.958293;-93.231444
X-APPLE-STRUCTURED-LOCATION;VALUE=URI;X-ADDRESS=Matthews Park 2318 29th Ave S Minneapolis MN 55406 United States;X-APPLE-RADIUS=500;X-TITLE=2318 29th Ave S:geo:-93.231444,44.958293
END:VEVENT
BEGIN:VEVENT
DTSTART;TZID=America/Chicago:20220810T180000
DTEND;TZID=America/Chicago:20220810T180000
DTSTAMP:20260419T203704
CREATED:20220622T172520Z
LAST-MODIFIED:20220721T140404Z
UID:58948-1660154400-1660154400@www.minneapolisparks.org
SUMMARY:EGAA Fun Run
DESCRIPTION:
URL:https://www.minneapolisparks.org/event-calendar/egaa-fun-run/
LOCATION:Lake Harriet\, Minneapolis\, MN\, United States
CATEGORIES:Events- All,Events- Non-MPRB
GEO:44.927901;-93.3082473
END:VEVENT
BEGIN:VEVENT
DTSTART;TZID=America/Chicago:20220813T073000
DTEND;TZID=America/Chicago:20220813T073000
DTSTAMP:20260419T203704
CREATED:20220622T172725Z
LAST-MODIFIED:20220622T172725Z
UID:58951-1660375800-1660375800@www.minneapolisparks.org
SUMMARY:A Breath of Hope Lung Run/Walk
DESCRIPTION:
URL:https://www.minneapolisparks.org/event-calendar/a-breath-of-hope-lung-run-walk/
LOCATION:Lake Harriet\, Minneapolis\, MN\, United States
CATEGORIES:Events- All,Events- Non-MPRB
GEO:44.927901;-93.3082473
END:VEVENT
BEGIN:VEVENT
DTSTART;TZID=America/Chicago:20220813T080000
DTEND;TZID=America/Chicago:20220813T080000
DTSTAMP:20260419T203704
CREATED:20220622T172650Z
LAST-MODIFIED:20220622T172650Z
UID:58950-1660377600-1660377600@www.minneapolisparks.org
SUMMARY:811 Walk/Run
DESCRIPTION:
URL:https://www.minneapolisparks.org/event-calendar/811-walk-run/
LOCATION:Bde Maka Ska\, Bde Maka Ska\, Minneapolis\, MN\, 55416\, United States
CATEGORIES:Events- All,Events- Non-MPRB
GEO:44.9421047;-93.3207807
X-APPLE-STRUCTURED-LOCATION;VALUE=URI;X-ADDRESS=Bde Maka Ska Bde Maka Ska Minneapolis MN 55416 United States;X-APPLE-RADIUS=500;X-TITLE=Bde Maka Ska:geo:-93.3207807,44.9421047
END:VEVENT
BEGIN:VEVENT
DTSTART;TZID=America/Chicago:20220813T080000
DTEND;TZID=America/Chicago:20220813T080000
DTSTAMP:20260419T203704
CREATED:20220622T172754Z
LAST-MODIFIED:20220622T172754Z
UID:58952-1660377600-1660377600@www.minneapolisparks.org
SUMMARY:Race Against Racism 5K
DESCRIPTION:
URL:https://www.minneapolisparks.org/event-calendar/race-against-racism-5k-2/
LOCATION:Lake Nokomis\, Minneapolis\, MN\, United States
CATEGORIES:Events- All,Events- Non-MPRB
GEO:44.9114979;-93.2431014
END:VEVENT
BEGIN:VEVENT
DTSTART;TZID=America/Chicago:20220813T120000
DTEND;TZID=America/Chicago:20220813T160000
DTSTAMP:20260419T203704
CREATED:20220331T190516Z
LAST-MODIFIED:20220331T190516Z
UID:56737-1660392000-1660406400@www.minneapolisparks.org
SUMMARY:Festival for Fathers
DESCRIPTION:The annual Festival of Fathers is a community sponsored event that seeks to strengthen the postive role and perception of men\, specifically fathers\, in their families and communities. The event celebrates the essential impact of fathers and father figures in the lives of children and families. Enjoy a free food\, music\, entertainment\, petting zoo\, poney rides\, moon bounce\, prize drawings and a free t-shirt for dads with kids. Upon registration for this program\, participants agree to maintain social distance (6feet) at all times. Failure to do so will result in removal from the program.
URL:https://www.minneapolisparks.org/event-calendar/festival-for-fathers-4/
LOCATION:North Commons Park\, 1801 James Ave N\, Minneapolis\, MN\, 55411\, United States
CATEGORIES:Events- All,Events- MPRB
GEO:44.9972515;-93.3011657
X-APPLE-STRUCTURED-LOCATION;VALUE=URI;X-ADDRESS=North Commons Park 1801 James Ave N Minneapolis MN 55411 United States;X-APPLE-RADIUS=500;X-TITLE=1801 James Ave N:geo:-93.3011657,44.9972515
END:VEVENT
BEGIN:VEVENT
DTSTART;TZID=America/Chicago:20220813T201500
DTEND;TZID=America/Chicago:20220813T221500
DTSTAMP:20260419T203704
CREATED:20220331T181239Z
LAST-MODIFIED:20220407T192531Z
UID:56682-1660421700-1660428900@www.minneapolisparks.org
SUMMARY:Movie in the Park: Chaos Walking
DESCRIPTION:Enjoy an evening in the park while watching an outdoor movie. This year we will be showing Chaos Walking. Be sure to bring your lawn chairs and blanket. Movie begins at dusk. Upon registration for this program\, participants agree to follow MPRB requirements related to face coverings and physical distancing. Face coverings are required indoors at all MPRB facilities\, unless otherwise specified by MPRB as part of athletics protocol.
URL:https://www.minneapolisparks.org/event-calendar/movie-in-the-park-3/
LOCATION:McRae Park\, 906 E 47th St\, Minneapolis\, MN\, 55407\, United States
CATEGORIES:Events- All,Events- MPRB
GEO:44.9184044;-93.2611522
X-APPLE-STRUCTURED-LOCATION;VALUE=URI;X-ADDRESS=McRae Park 906 E 47th St Minneapolis MN 55407 United States;X-APPLE-RADIUS=500;X-TITLE=906 E 47th St:geo:-93.2611522,44.9184044
END:VEVENT
BEGIN:VEVENT
DTSTART;TZID=America/Chicago:20220814T080000
DTEND;TZID=America/Chicago:20220814T080000
DTSTAMP:20260419T203704
CREATED:20220622T173046Z
LAST-MODIFIED:20220622T173046Z
UID:58953-1660464000-1660464000@www.minneapolisparks.org
SUMMARY:Women's Triathlon
DESCRIPTION:Date: Sunday\, August 14\, 2022\nTime: First wave starts at 8:00 am\nLocation: Lake Nokomis \nQuestions? Contact triathlon@ywcampls.org for more information.
URL:https://www.minneapolisparks.org/event-calendar/womens-triathlon-4/
LOCATION:Lake Nokomis\, Minneapolis\, MN\, United States
CATEGORIES:Events- All,Events- Non-MPRB
GEO:44.9114979;-93.2431014
END:VEVENT
BEGIN:VEVENT
DTSTART;TZID=America/Chicago:20220814T150000
DTEND;TZID=America/Chicago:20220814T150000
DTSTAMP:20260419T203704
CREATED:20220622T173208Z
LAST-MODIFIED:20220622T173208Z
UID:58954-1660489200-1660489200@www.minneapolisparks.org
SUMMARY:Hidden Acoustics
DESCRIPTION:
URL:https://www.minneapolisparks.org/event-calendar/hidden-acoustics-3/
LOCATION:Cedar Lake East Beach\, 2000 Upton Ave S\, Minneapolis\, MN\, 55405\, United States
CATEGORIES:Events- All,Events- Non-MPRB
GEO:44.9735559;-93.3147246
X-APPLE-STRUCTURED-LOCATION;VALUE=URI;X-ADDRESS=Cedar Lake East Beach 2000 Upton Ave S Minneapolis MN 55405 United States;X-APPLE-RADIUS=500;X-TITLE=2000 Upton Ave S:geo:-93.3147246,44.9735559
END:VEVENT
BEGIN:VEVENT
DTSTART;TZID=America/Chicago:20220817T180000
DTEND;TZID=America/Chicago:20220817T200000
DTSTAMP:20260419T203704
CREATED:20220331T190605Z
LAST-MODIFIED:20220331T190605Z
UID:56738-1660759200-1660766400@www.minneapolisparks.org
SUMMARY:Hoops and Hot Dogs
DESCRIPTION:Come join us for our annual Hoops and Hot Dogs event\, in partnership with SENA (Standish and Erickson Neighborhood Association). Meal deals which include a hot dog\, your choice of chips\, and a seasonal fruit are available. Freezies will also be available. In addition to food\, there are a variety of basketball events for children and adults of different ages to participate in. Some games include a 3-point contest\, hot shot\, free throw competition\, and other skill drills. Come join us for the end of summer fun! Upon registration for this program\, participants agree to follow MPRB requirements related to face coverings and physical distancing. Face coverings are required indoors at all MPRB facilities\, unless otherwise specified by MPRB as part of athletics protocol.
URL:https://www.minneapolisparks.org/event-calendar/hoops-and-hot-dogs-2/
LOCATION:Sibley Park\, 1900 E 40th St\, Minneapolis\, MN\, 55407\, United States
CATEGORIES:Events- All,Events- MPRB
GEO:44.9310545;-93.2444172
X-APPLE-STRUCTURED-LOCATION;VALUE=URI;X-ADDRESS=Sibley Park 1900 E 40th St Minneapolis MN 55407 United States;X-APPLE-RADIUS=500;X-TITLE=1900 E 40th St:geo:-93.2444172,44.9310545
END:VEVENT
BEGIN:VEVENT
DTSTART;TZID=America/Chicago:20220820T080000
DTEND;TZID=America/Chicago:20220820T080000
DTSTAMP:20260419T203704
CREATED:20220622T173335Z
LAST-MODIFIED:20220622T173335Z
UID:58955-1660982400-1660982400@www.minneapolisparks.org
SUMMARY:Race for the Kids 5M/5K
DESCRIPTION:Join us on August 20th at Gold Medal Park for a beautiful run along the Mississippi River and over the Stone Arch Bridge. \nThe RBC Race For The Kids MN started in 2016 and supports the Ronald McDonald House Charities Upper Midwest. Each year this race along with its partners raises over $50\,000 to provide children with a home away from home when they are going through a crisis.
URL:https://www.minneapolisparks.org/event-calendar/race-for-the-kids-5m-5k/
LOCATION:Stone Arch Bridge / West River Parkway\, 100 Portland Ave\, Minneapolis\, MN\, 55401\, United States
CATEGORIES:Events- All,Events- Non-MPRB
GEO:44.9804766;-93.259591
X-APPLE-STRUCTURED-LOCATION;VALUE=URI;X-ADDRESS=Stone Arch Bridge / West River Parkway 100 Portland Ave Minneapolis MN 55401 United States;X-APPLE-RADIUS=500;X-TITLE=100 Portland Ave:geo:-93.259591,44.9804766
END:VEVENT
END:VCALENDAR