BEGIN:VCALENDAR
VERSION:2.0
PRODID:-//Minneapolis Park &amp; Recreation Board - ECPv6.15.20//NONSGML v1.0//EN
CALSCALE:GREGORIAN
METHOD:PUBLISH
X-WR-CALNAME:Minneapolis Park &amp; Recreation Board
X-ORIGINAL-URL:https://www.minneapolisparks.org
X-WR-CALDESC:Events for Minneapolis Park &amp; Recreation Board
REFRESH-INTERVAL;VALUE=DURATION:PT1H
X-Robots-Tag:noindex
X-PUBLISHED-TTL:PT1H
BEGIN:VTIMEZONE
TZID:America/Chicago
BEGIN:DAYLIGHT
TZOFFSETFROM:-0600
TZOFFSETTO:-0500
TZNAME:CDT
DTSTART:20200308T080000
END:DAYLIGHT
BEGIN:STANDARD
TZOFFSETFROM:-0500
TZOFFSETTO:-0600
TZNAME:CST
DTSTART:20201101T070000
END:STANDARD
BEGIN:DAYLIGHT
TZOFFSETFROM:-0600
TZOFFSETTO:-0500
TZNAME:CDT
DTSTART:20210314T080000
END:DAYLIGHT
BEGIN:STANDARD
TZOFFSETFROM:-0500
TZOFFSETTO:-0600
TZNAME:CST
DTSTART:20211107T070000
END:STANDARD
BEGIN:DAYLIGHT
TZOFFSETFROM:-0600
TZOFFSETTO:-0500
TZNAME:CDT
DTSTART:20220313T080000
END:DAYLIGHT
BEGIN:STANDARD
TZOFFSETFROM:-0500
TZOFFSETTO:-0600
TZNAME:CST
DTSTART:20221106T070000
END:STANDARD
END:VTIMEZONE
BEGIN:VEVENT
DTSTART;TZID=America/Chicago:20210712T193000
DTEND;TZID=America/Chicago:20210712T193000
DTSTAMP:20260421T143359
CREATED:20210610T032158Z
LAST-MODIFIED:20210610T032158Z
UID:49547-1626118200-1626118200@www.minneapolisparks.org
SUMMARY:Women's Drum Center with Taikollaborative
DESCRIPTION:high energy worldbeat drumming
URL:https://www.minneapolisparks.org/event-calendar/womens-drum-center-with-taikollaborative-3/
LOCATION:Lake Harriet Bandshell\, Minneapolis\, MN\, United States
CATEGORIES:Events- All,Music & Movies in the Parks,Music in the Parks
GEO:44.927901;-93.3082473
END:VEVENT
BEGIN:VEVENT
DTSTART;VALUE=DATE:20210713
DTEND;VALUE=DATE:20210714
DTSTAMP:20260421T143359
CREATED:20210610T032758Z
LAST-MODIFIED:20210610T032758Z
UID:49563-1626134400-1626220799@www.minneapolisparks.org
SUMMARY:Aaron Kerr's Dissonant Creatures
DESCRIPTION:classical free form metal jazz
URL:https://www.minneapolisparks.org/event-calendar/aaron-kerrs-dissonant-creatures/
LOCATION:MN
CATEGORIES:Events- All,Music & Movies in the Parks,Music in the Parks
END:VEVENT
BEGIN:VEVENT
DTSTART;VALUE=DATE:20210713
DTEND;VALUE=DATE:20210714
DTSTAMP:20260421T143359
CREATED:20210610T033558Z
LAST-MODIFIED:20210610T033558Z
UID:49579-1626134400-1626220799@www.minneapolisparks.org
SUMMARY:The PaperClips
DESCRIPTION:The Motown Trombone Sound
URL:https://www.minneapolisparks.org/event-calendar/the-paperclips/
LOCATION:MN
CATEGORIES:Events- All,Music & Movies in the Parks,Music in the Parks
END:VEVENT
BEGIN:VEVENT
DTSTART;TZID=America/Chicago:20210713T193000
DTEND;TZID=America/Chicago:20210713T193000
DTSTAMP:20260421T143359
CREATED:20210712T152821Z
LAST-MODIFIED:20210712T152821Z
UID:50239-1626204600-1626204600@www.minneapolisparks.org
SUMMARY:Just Dave and the Rockin' All Stars Band
DESCRIPTION:50s and 60s hits
URL:https://www.minneapolisparks.org/event-calendar/just-dave-and-the-rockin-all-stars-band/
LOCATION:Lake Harriet Bandshell\, Minneapolis\, MN\, United States
CATEGORIES:Events- All,Events- MPRB,Music & Movies in the Parks,Music in the Parks
GEO:44.927901;-93.3082473
END:VEVENT
BEGIN:VEVENT
DTSTART;VALUE=DATE:20210715
DTEND;VALUE=DATE:20210716
DTSTAMP:20260421T143359
CREATED:20210610T033158Z
LAST-MODIFIED:20210610T033158Z
UID:49570-1626307200-1626393599@www.minneapolisparks.org
SUMMARY:Pirates\, Guitars & Beachfront Bars
DESCRIPTION:summer fun hits 60’s-today
URL:https://www.minneapolisparks.org/event-calendar/pirates-guitars-beachfront-bars/
LOCATION:Minnehaha Falls\, Minnehaha Falls\, Minneapolis\, MN\, 55417\, United States
CATEGORIES:Events- All,Music & Movies in the Parks,Music in the Parks
GEO:44.9153307;-93.2110006
X-APPLE-STRUCTURED-LOCATION;VALUE=URI;X-ADDRESS=Minnehaha Falls Minnehaha Falls Minneapolis MN 55417 United States;X-APPLE-RADIUS=500;X-TITLE=Minnehaha Falls:geo:-93.2110006,44.9153307
END:VEVENT
BEGIN:VEVENT
DTSTART;VALUE=DATE:20210715
DTEND;VALUE=DATE:20210716
DTSTAMP:20260421T143359
CREATED:20210610T033558Z
LAST-MODIFIED:20210610T033558Z
UID:49580-1626307200-1626393599@www.minneapolisparks.org
SUMMARY:Single Cell
DESCRIPTION:Indie ECM with an edge
URL:https://www.minneapolisparks.org/event-calendar/single-cell/
LOCATION:MN
CATEGORIES:Events- All,Music & Movies in the Parks,Music in the Parks
END:VEVENT
BEGIN:VEVENT
DTSTART;TZID=America/Chicago:20210715T173000
DTEND;TZID=America/Chicago:20210715T173000
DTSTAMP:20260421T143359
CREATED:20210715T141806Z
LAST-MODIFIED:20210715T141806Z
UID:50321-1626370200-1626370200@www.minneapolisparks.org
SUMMARY:Chris Koza
DESCRIPTION:
URL:https://www.minneapolisparks.org/event-calendar/chris-koza/
LOCATION:The Commons\, 425 Portland Ave South\, Minneapolis\, MN\, 55488\, United States
CATEGORIES:Events- All,Events- MPRB,Music & Movies in the Parks,Music in the Parks
GEO:44.9766971;-93.2628904
X-APPLE-STRUCTURED-LOCATION;VALUE=URI;X-ADDRESS=The Commons 425 Portland Ave South Minneapolis MN 55488 United States;X-APPLE-RADIUS=500;X-TITLE=425 Portland Ave South:geo:-93.2628904,44.9766971
END:VEVENT
BEGIN:VEVENT
DTSTART;TZID=America/Chicago:20210715T193000
DTEND;TZID=America/Chicago:20210715T193000
DTSTAMP:20260421T143359
CREATED:20210610T032158Z
LAST-MODIFIED:20210610T032158Z
UID:49548-1626377400-1626377400@www.minneapolisparks.org
SUMMARY:Latin Billies
DESCRIPTION:cool drink of bilingual water
URL:https://www.minneapolisparks.org/event-calendar/latin-billies-3/
LOCATION:Lake Harriet Bandshell\, Minneapolis\, MN\, United States
CATEGORIES:Events- All,Music & Movies in the Parks,Music in the Parks
GEO:44.927901;-93.3082473
END:VEVENT
BEGIN:VEVENT
DTSTART;VALUE=DATE:20210716
DTEND;VALUE=DATE:20210717
DTSTAMP:20260421T143359
CREATED:20210610T033158Z
LAST-MODIFIED:20210610T033158Z
UID:49571-1626393600-1626479999@www.minneapolisparks.org
SUMMARY:Wailing Loons
DESCRIPTION:americana alt-country folk rock
URL:https://www.minneapolisparks.org/event-calendar/wailing-loons/
LOCATION:Minnehaha Falls\, Minnehaha Falls\, Minneapolis\, MN\, 55417\, United States
CATEGORIES:Events- All,Music & Movies in the Parks,Music in the Parks
GEO:44.9153307;-93.2110006
X-APPLE-STRUCTURED-LOCATION;VALUE=URI;X-ADDRESS=Minnehaha Falls Minnehaha Falls Minneapolis MN 55417 United States;X-APPLE-RADIUS=500;X-TITLE=Minnehaha Falls:geo:-93.2110006,44.9153307
END:VEVENT
BEGIN:VEVENT
DTSTART;TZID=America/Chicago:20210716T193000
DTEND;TZID=America/Chicago:20210716T193000
DTSTAMP:20260421T143359
CREATED:20210610T032357Z
LAST-MODIFIED:20210610T032357Z
UID:49549-1626463800-1626463800@www.minneapolisparks.org
SUMMARY:Minnesota Sinfonia
DESCRIPTION:classical\, pops children’s concert
URL:https://www.minneapolisparks.org/event-calendar/minnesota-sinfonia-8/
LOCATION:Lake Harriet Bandshell\, Minneapolis\, MN\, United States
CATEGORIES:Events- All,Music & Movies in the Parks,Music in the Parks
GEO:44.927901;-93.3082473
END:VEVENT
BEGIN:VEVENT
DTSTART;TZID=America/Chicago:20210717T193000
DTEND;TZID=America/Chicago:20210717T193000
DTSTAMP:20260421T143359
CREATED:20210610T032358Z
LAST-MODIFIED:20210610T032358Z
UID:49550-1626550200-1626550200@www.minneapolisparks.org
SUMMARY:MN Pops Orchestra
DESCRIPTION:Minneapolis Pops Orchestra
URL:https://www.minneapolisparks.org/event-calendar/mn-pops-orchestra-3/
LOCATION:Lake Harriet Bandshell\, Minneapolis\, MN\, United States
CATEGORIES:Events- All,Music & Movies in the Parks,Music in the Parks
GEO:44.927901;-93.3082473
END:VEVENT
BEGIN:VEVENT
DTSTART;TZID=America/Chicago:20210718T140000
DTEND;TZID=America/Chicago:20210718T140000
DTSTAMP:20260421T143359
CREATED:20210610T032358Z
LAST-MODIFIED:20210610T032358Z
UID:49551-1626616800-1626616800@www.minneapolisparks.org
SUMMARY:Elvis Tribute Artist Art Kistler & the EP Boulevard Band
DESCRIPTION:Elvis returns to Lake Harriet!
URL:https://www.minneapolisparks.org/event-calendar/elvis-tribute-artist-art-kistler-the-ep-boulevard-band/
LOCATION:Lake Harriet Bandshell\, Minneapolis\, MN\, United States
CATEGORIES:Events- All,Music & Movies in the Parks,Music in the Parks
GEO:44.927901;-93.3082473
END:VEVENT
BEGIN:VEVENT
DTSTART;TZID=America/Chicago:20210718T173000
DTEND;TZID=America/Chicago:20210718T173000
DTSTAMP:20260421T143359
CREATED:20210610T032358Z
LAST-MODIFIED:20210610T032358Z
UID:49552-1626629400-1626629400@www.minneapolisparks.org
SUMMARY:MN Pops Orchestra
DESCRIPTION:Minneapolis Pops Orchestra
URL:https://www.minneapolisparks.org/event-calendar/mn-pops-orchestra-4/
LOCATION:Lake Harriet Bandshell\, Minneapolis\, MN\, United States
CATEGORIES:Events- All,Music & Movies in the Parks,Music in the Parks
GEO:44.927901;-93.3082473
END:VEVENT
BEGIN:VEVENT
DTSTART;VALUE=DATE:20210719
DTEND;VALUE=DATE:20210720
DTSTAMP:20260421T143359
CREATED:20210610T032957Z
LAST-MODIFIED:20210610T032957Z
UID:49564-1626652800-1626739199@www.minneapolisparks.org
SUMMARY:I 94 Xpress
DESCRIPTION:classic jazz/rock
URL:https://www.minneapolisparks.org/event-calendar/i-94-xpress/
LOCATION:MN
CATEGORIES:Events- All,Music & Movies in the Parks,Music in the Parks
END:VEVENT
BEGIN:VEVENT
DTSTART;TZID=America/Chicago:20210719T193000
DTEND;TZID=America/Chicago:20210719T193000
DTSTAMP:20260421T143359
CREATED:20210610T032358Z
LAST-MODIFIED:20210610T032358Z
UID:49553-1626723000-1626723000@www.minneapolisparks.org
SUMMARY:Ben Cook-Feltz
DESCRIPTION:Paul Simon meets “Weird Al” Yankovic
URL:https://www.minneapolisparks.org/event-calendar/ben-cook-feltz-5/
LOCATION:Lake Harriet Bandshell\, Minneapolis\, MN\, United States
CATEGORIES:Events- All,Music & Movies in the Parks,Music in the Parks
GEO:44.927901;-93.3082473
END:VEVENT
BEGIN:VEVENT
DTSTART;VALUE=DATE:20210720
DTEND;VALUE=DATE:20210721
DTSTAMP:20260421T143359
CREATED:20210610T033558Z
LAST-MODIFIED:20210610T033558Z
UID:49581-1626739200-1626825599@www.minneapolisparks.org
SUMMARY:Speak Free and Family
DESCRIPTION:uplifting\, powerful\, soulful\, life\, love
URL:https://www.minneapolisparks.org/event-calendar/speak-free-and-family-2/
LOCATION:MN
CATEGORIES:Events- All,Music & Movies in the Parks,Music in the Parks
END:VEVENT
BEGIN:VEVENT
DTSTART;VALUE=DATE:20210722
DTEND;VALUE=DATE:20210723
DTSTAMP:20260421T143359
CREATED:20210610T033158Z
LAST-MODIFIED:20210610T033158Z
UID:49572-1626912000-1626998399@www.minneapolisparks.org
SUMMARY:Mother Banjo
DESCRIPTION:folk/americana/gospel
URL:https://www.minneapolisparks.org/event-calendar/mother-banjo-4/
LOCATION:Minnehaha Falls\, Minnehaha Falls\, Minneapolis\, MN\, 55417\, United States
CATEGORIES:Events- All,Music & Movies in the Parks,Music in the Parks
GEO:44.9153307;-93.2110006
X-APPLE-STRUCTURED-LOCATION;VALUE=URI;X-ADDRESS=Minnehaha Falls Minnehaha Falls Minneapolis MN 55417 United States;X-APPLE-RADIUS=500;X-TITLE=Minnehaha Falls:geo:-93.2110006,44.9153307
END:VEVENT
BEGIN:VEVENT
DTSTART;VALUE=DATE:20210722
DTEND;VALUE=DATE:20210723
DTSTAMP:20260421T143359
CREATED:20210610T033558Z
LAST-MODIFIED:20210610T033558Z
UID:49582-1626912000-1626998399@www.minneapolisparks.org
SUMMARY:Oh Sister!
DESCRIPTION:Americana and folk women trio
URL:https://www.minneapolisparks.org/event-calendar/oh-sister/
LOCATION:MN
CATEGORIES:Events- All,Music & Movies in the Parks,Music in the Parks
END:VEVENT
BEGIN:VEVENT
DTSTART;TZID=America/Chicago:20210722T173000
DTEND;TZID=America/Chicago:20210722T173000
DTSTAMP:20260421T143359
CREATED:20210715T141852Z
LAST-MODIFIED:20210715T141852Z
UID:50323-1626975000-1626975000@www.minneapolisparks.org
SUMMARY:Jessica Vines
DESCRIPTION:
URL:https://www.minneapolisparks.org/event-calendar/jessica-vines/
LOCATION:The Commons\, 425 Portland Ave South\, Minneapolis\, MN\, 55488\, United States
CATEGORIES:Events- All,Events- MPRB,Music & Movies in the Parks,Music in the Parks
GEO:44.9766971;-93.2628904
X-APPLE-STRUCTURED-LOCATION;VALUE=URI;X-ADDRESS=The Commons 425 Portland Ave South Minneapolis MN 55488 United States;X-APPLE-RADIUS=500;X-TITLE=425 Portland Ave South:geo:-93.2628904,44.9766971
END:VEVENT
BEGIN:VEVENT
DTSTART;TZID=America/Chicago:20210722T193000
DTEND;TZID=America/Chicago:20210722T193000
DTSTAMP:20260421T143359
CREATED:20210610T032557Z
LAST-MODIFIED:20210610T032557Z
UID:49554-1626982200-1626982200@www.minneapolisparks.org
SUMMARY:No Limits the B-Side
DESCRIPTION:best of yesterday music
URL:https://www.minneapolisparks.org/event-calendar/no-limits-the-b-side/
LOCATION:Lake Harriet Bandshell\, Minneapolis\, MN\, United States
CATEGORIES:Events- All,Music & Movies in the Parks,Music in the Parks
GEO:44.927901;-93.3082473
END:VEVENT
BEGIN:VEVENT
DTSTART;VALUE=DATE:20210723
DTEND;VALUE=DATE:20210724
DTSTAMP:20260421T143359
CREATED:20210610T033158Z
LAST-MODIFIED:20210610T033158Z
UID:49573-1626998400-1627084799@www.minneapolisparks.org
SUMMARY:Eli Gardiner
DESCRIPTION:americana roots singer/songwriter
URL:https://www.minneapolisparks.org/event-calendar/eli-gardiner/
LOCATION:Minnehaha Falls\, Minnehaha Falls\, Minneapolis\, MN\, 55417\, United States
CATEGORIES:Events- All,Music & Movies in the Parks,Music in the Parks
GEO:44.9153307;-93.2110006
X-APPLE-STRUCTURED-LOCATION;VALUE=URI;X-ADDRESS=Minnehaha Falls Minnehaha Falls Minneapolis MN 55417 United States;X-APPLE-RADIUS=500;X-TITLE=Minnehaha Falls:geo:-93.2110006,44.9153307
END:VEVENT
BEGIN:VEVENT
DTSTART;TZID=America/Chicago:20210723T193000
DTEND;TZID=America/Chicago:20210723T193000
DTSTAMP:20260421T143359
CREATED:20210610T032558Z
LAST-MODIFIED:20210610T032558Z
UID:49555-1627068600-1627068600@www.minneapolisparks.org
SUMMARY:Belfast Cowboys
DESCRIPTION:9-piece horn driven rock band
URL:https://www.minneapolisparks.org/event-calendar/belfast-cowboys-2/
LOCATION:Lake Harriet Bandshell\, Minneapolis\, MN\, United States
CATEGORIES:Events- All,Music & Movies in the Parks,Music in the Parks
GEO:44.927901;-93.3082473
END:VEVENT
BEGIN:VEVENT
DTSTART;TZID=America/Chicago:20210724T193000
DTEND;TZID=America/Chicago:20210724T193000
DTSTAMP:20260421T143359
CREATED:20210610T032558Z
LAST-MODIFIED:20210610T032558Z
UID:49556-1627155000-1627155000@www.minneapolisparks.org
SUMMARY:MN Pops Orchestra
DESCRIPTION:Minneapolis Pops Orchestra
URL:https://www.minneapolisparks.org/event-calendar/mn-pops-orchestra-5/
LOCATION:Lake Harriet Bandshell\, Minneapolis\, MN\, United States
CATEGORIES:Events- All,Music & Movies in the Parks,Music in the Parks
GEO:44.927901;-93.3082473
END:VEVENT
BEGIN:VEVENT
DTSTART;TZID=America/Chicago:20210725T140000
DTEND;TZID=America/Chicago:20210725T140000
DTSTAMP:20260421T143359
CREATED:20210610T032558Z
LAST-MODIFIED:20210610T032558Z
UID:49557-1627221600-1627221600@www.minneapolisparks.org
SUMMARY:Tjärnblom
DESCRIPTION:scandinavian tunes with Minnesota twist
URL:https://www.minneapolisparks.org/event-calendar/tjarnblom-2/
LOCATION:Lake Harriet Bandshell\, Minneapolis\, MN\, United States
CATEGORIES:Events- All,Music & Movies in the Parks,Music in the Parks
GEO:44.927901;-93.3082473
END:VEVENT
BEGIN:VEVENT
DTSTART;TZID=America/Chicago:20210725T173000
DTEND;TZID=America/Chicago:20210725T173000
DTSTAMP:20260421T143359
CREATED:20210610T032558Z
LAST-MODIFIED:20210610T032558Z
UID:49558-1627234200-1627234200@www.minneapolisparks.org
SUMMARY:MN Pops Orchestra
DESCRIPTION:Minneapolis Pops Orchestra
URL:https://www.minneapolisparks.org/event-calendar/mn-pops-orchestra-6/
LOCATION:Lake Harriet Bandshell\, Minneapolis\, MN\, United States
CATEGORIES:Events- All,Music & Movies in the Parks,Music in the Parks
GEO:44.927901;-93.3082473
END:VEVENT
BEGIN:VEVENT
DTSTART;TZID=America/Chicago:20210726T193000
DTEND;TZID=America/Chicago:20210726T193000
DTSTAMP:20260421T143359
CREATED:20210610T032757Z
LAST-MODIFIED:20210610T032757Z
UID:49559-1627327800-1627327800@www.minneapolisparks.org
SUMMARY:Matt Hannah
DESCRIPTION:acoustic folk/americana singer songwriter
URL:https://www.minneapolisparks.org/event-calendar/matt-hannah-4/
LOCATION:Lake Harriet Bandshell\, Minneapolis\, MN\, United States
CATEGORIES:Events- All,Music & Movies in the Parks,Music in the Parks
GEO:44.927901;-93.3082473
END:VEVENT
BEGIN:VEVENT
DTSTART;VALUE=DATE:20210727
DTEND;VALUE=DATE:20210728
DTSTAMP:20260421T143359
CREATED:20210610T032958Z
LAST-MODIFIED:20210610T032958Z
UID:49565-1627344000-1627430399@www.minneapolisparks.org
SUMMARY:Six Still Standing
DESCRIPTION:joyful rock- adele to zevon
URL:https://www.minneapolisparks.org/event-calendar/six-still-standing-2/
LOCATION:MN
CATEGORIES:Events- All,Music & Movies in the Parks,Music in the Parks
END:VEVENT
BEGIN:VEVENT
DTSTART;VALUE=DATE:20210727
DTEND;VALUE=DATE:20210728
DTSTAMP:20260421T143359
CREATED:20210610T033558Z
LAST-MODIFIED:20210610T033558Z
UID:49583-1627344000-1627430399@www.minneapolisparks.org
SUMMARY:Fat Chance Jughead Band
DESCRIPTION:classical jugband songs and more
URL:https://www.minneapolisparks.org/event-calendar/fat-chance-jughead-band/
LOCATION:MN
CATEGORIES:Events- All,Music & Movies in the Parks,Music in the Parks
END:VEVENT
BEGIN:VEVENT
DTSTART;VALUE=DATE:20210729
DTEND;VALUE=DATE:20210730
DTSTAMP:20260421T143359
CREATED:20210610T033358Z
LAST-MODIFIED:20210610T033358Z
UID:49574-1627516800-1627603199@www.minneapolisparks.org
SUMMARY:Yo Jimbo Jazz
DESCRIPTION:classic american improvisational jazz
URL:https://www.minneapolisparks.org/event-calendar/yo-jimbo-jazz-3/
LOCATION:Minnehaha Falls\, Minnehaha Falls\, Minneapolis\, MN\, 55417\, United States
CATEGORIES:Events- All,Music & Movies in the Parks,Music in the Parks
GEO:44.9153307;-93.2110006
X-APPLE-STRUCTURED-LOCATION;VALUE=URI;X-ADDRESS=Minnehaha Falls Minnehaha Falls Minneapolis MN 55417 United States;X-APPLE-RADIUS=500;X-TITLE=Minnehaha Falls:geo:-93.2110006,44.9153307
END:VEVENT
BEGIN:VEVENT
DTSTART;VALUE=DATE:20210729
DTEND;VALUE=DATE:20210730
DTSTAMP:20260421T143359
CREATED:20210610T033758Z
LAST-MODIFIED:20210610T033758Z
UID:49584-1627516800-1627603199@www.minneapolisparks.org
SUMMARY:Peter Ruddy
DESCRIPTION:Fingerstyle Guitar
URL:https://www.minneapolisparks.org/event-calendar/peter-ruddy-3/
LOCATION:MN
CATEGORIES:Events- All,Music & Movies in the Parks,Music in the Parks
END:VEVENT
END:VCALENDAR