BEGIN:VCALENDAR
VERSION:2.0
PRODID:-//Minneapolis Park &amp; Recreation Board - ECPv6.15.20//NONSGML v1.0//EN
CALSCALE:GREGORIAN
METHOD:PUBLISH
X-ORIGINAL-URL:https://www.minneapolisparks.org
X-WR-CALDESC:Events for Minneapolis Park &amp; Recreation Board
REFRESH-INTERVAL;VALUE=DURATION:PT1H
X-Robots-Tag:noindex
X-PUBLISHED-TTL:PT1H
BEGIN:VTIMEZONE
TZID:America/Chicago
BEGIN:DAYLIGHT
TZOFFSETFROM:-0600
TZOFFSETTO:-0500
TZNAME:CDT
DTSTART:20200308T080000
END:DAYLIGHT
BEGIN:STANDARD
TZOFFSETFROM:-0500
TZOFFSETTO:-0600
TZNAME:CST
DTSTART:20201101T070000
END:STANDARD
BEGIN:DAYLIGHT
TZOFFSETFROM:-0600
TZOFFSETTO:-0500
TZNAME:CDT
DTSTART:20210314T080000
END:DAYLIGHT
BEGIN:STANDARD
TZOFFSETFROM:-0500
TZOFFSETTO:-0600
TZNAME:CST
DTSTART:20211107T070000
END:STANDARD
BEGIN:DAYLIGHT
TZOFFSETFROM:-0600
TZOFFSETTO:-0500
TZNAME:CDT
DTSTART:20220313T080000
END:DAYLIGHT
BEGIN:STANDARD
TZOFFSETFROM:-0500
TZOFFSETTO:-0600
TZNAME:CST
DTSTART:20221106T070000
END:STANDARD
BEGIN:DAYLIGHT
TZOFFSETFROM:-0600
TZOFFSETTO:-0500
TZNAME:CDT
DTSTART:20230312T080000
END:DAYLIGHT
BEGIN:STANDARD
TZOFFSETFROM:-0500
TZOFFSETTO:-0600
TZNAME:CST
DTSTART:20231105T070000
END:STANDARD
END:VTIMEZONE
BEGIN:VEVENT
DTSTART;TZID=America/Chicago:20211010T100000
DTEND;TZID=America/Chicago:20211010T100000
DTSTAMP:20260422T040551
CREATED:20210913T150217Z
LAST-MODIFIED:20210913T150217Z
UID:52003-1633860000-1633860000@www.minneapolisparks.org
SUMMARY:EGAA 5K
DESCRIPTION:
URL:https://www.minneapolisparks.org/event-calendar/egaa-5k/
LOCATION:Lake Harriet\, Minneapolis\, MN\, United States
CATEGORIES:Events- All,Events- Non-MPRB
GEO:44.927901;-93.3082473
END:VEVENT
BEGIN:VEVENT
DTSTART;TZID=America/Chicago:20211014T180000
DTEND;TZID=America/Chicago:20211014T193000
DTSTAMP:20260422T040551
CREATED:20210928T174439Z
LAST-MODIFIED:20211001T162618Z
UID:52345-1634234400-1634239800@www.minneapolisparks.org
SUMMARY:Virtual Community Open House
DESCRIPTION:Please join project staff to learn more about upcoming improvements planned for E Minnehaha Parkway and E 50th Street. The meeting will include a walk through of the schematic design by project staff followed by time for questions. \nZoom meeting: https://us06web.zoom.us/j/82870151837
URL:https://www.minneapolisparks.org/event-calendar/virtual-community-open-house/
LOCATION:Virtual Program
CATEGORIES:Events- All,Public Meetings
END:VEVENT
BEGIN:VEVENT
DTSTART;TZID=America/Chicago:20211016T133000
DTEND;TZID=America/Chicago:20211016T173000
DTSTAMP:20260422T040551
CREATED:20210913T150416Z
LAST-MODIFIED:20210913T150416Z
UID:52005-1634391000-1634405400@www.minneapolisparks.org
SUMMARY:Autumn Brew Review
DESCRIPTION:
URL:https://www.minneapolisparks.org/event-calendar/autumn-brew-review-4/
LOCATION:Boom Island Park\, 724 Sibley Street NE\, Minneapolis\, MN\, 55413\, United States
GEO:44.9927434;-93.2692589
X-APPLE-STRUCTURED-LOCATION;VALUE=URI;X-ADDRESS=Boom Island Park 724 Sibley Street NE Minneapolis MN 55413 United States;X-APPLE-RADIUS=500;X-TITLE=724 Sibley Street NE:geo:-93.2692589,44.9927434
END:VEVENT
BEGIN:VEVENT
DTSTART;TZID=America/Chicago:20211025T190000
DTEND;TZID=America/Chicago:20211025T190000
DTSTAMP:20260422T040551
CREATED:20211018T152808Z
LAST-MODIFIED:20211018T152922Z
UID:52593-1635188400-1635188400@www.minneapolisparks.org
SUMMARY:Painter Park Improvements Open House
DESCRIPTION:Project staff will present plans for Painter Park improvements and respond to questions at an online open house scheduled for Monday\, October 25th at 7pm. This online open house is part of the Lyndale Neighborhood Association’s regular meeting. \nOnline open house: Painter Park improvements\nMonday\, October 25 at 7 pm: Presentation followed by Q&A\nJoin the Zoom meeting:  https://us02web.zoom.us/j/85129379379 \nCan’t make it?\nReview the concept plans via an upcoming online survey. We’ll send an announcement after the October 25 open house.
URL:https://www.minneapolisparks.org/event-calendar/painter-park-improvements-open-house/
LOCATION:Virtual Program
CATEGORIES:Public Meetings
END:VEVENT
BEGIN:VEVENT
DTSTART;TZID=America/Chicago:20211029T180000
DTEND;TZID=America/Chicago:20211029T200000
DTSTAMP:20260422T040551
CREATED:20211025T161503Z
LAST-MODIFIED:20211025T161503Z
UID:52793-1635530400-1635537600@www.minneapolisparks.org
SUMMARY:Drive In Movie: Hocus Pocus
DESCRIPTION:Friday\, October 29 – Hocus Pocus at Columbia Park  \nCome park under the stars and enjoy a night of movie magic in Northeast Minneapolis. Join us for a drive in movie at Columbia Park. Gates open at 5:30 pm\, movie starts at 6:15 pm.  Space is limited\, tickets are $15 per vehicle and must be purchased in advance by clicking here. \nMovie starts at 6:15 pm. $15 per vehicle. Advance online purchase required. \nActiveNet Activity Number: 128250
URL:https://www.minneapolisparks.org/event-calendar/drive-in-movie-hocus-pocus/
LOCATION:Columbia Park\, 3300 Central Ave NE\, Minneapolis\, MN\, 55418\, United States
CATEGORIES:Movies in the Parks,Music & Movies in the Parks
GEO:45.028132;-93.2484121
X-APPLE-STRUCTURED-LOCATION;VALUE=URI;X-ADDRESS=Columbia Park 3300 Central Ave NE Minneapolis MN 55418 United States;X-APPLE-RADIUS=500;X-TITLE=3300 Central Ave NE:geo:-93.2484121,45.028132
END:VEVENT
BEGIN:VEVENT
DTSTART;TZID=America/Chicago:20211030T080000
DTEND;TZID=America/Chicago:20211030T080000
DTSTAMP:20260422T040551
CREATED:20210913T150609Z
LAST-MODIFIED:20210913T150609Z
UID:52007-1635580800-1635580800@www.minneapolisparks.org
SUMMARY:North Star Regatta
DESCRIPTION:
URL:https://www.minneapolisparks.org/event-calendar/north-star-regatta/
LOCATION:East River Flats\, Minneapolis\, MN\, United States
CATEGORIES:Events- All,Events- Non-MPRB
GEO:44.9719516;-93.2371918
END:VEVENT
BEGIN:VEVENT
DTSTART;TZID=America/Chicago:20211030T080000
DTEND;TZID=America/Chicago:20211030T080000
DTSTAMP:20260422T040551
CREATED:20210913T150916Z
LAST-MODIFIED:20210913T150916Z
UID:52010-1635580800-1635580800@www.minneapolisparks.org
SUMMARY:Minneapolis Halloween Half Marathon
DESCRIPTION:
URL:https://www.minneapolisparks.org/event-calendar/minneapolis-halloween-half-marathon/
LOCATION:Father Hennepin\, Main St\, WRP\, 420 Main St SE\, Minneapolis\, MN\, 55414\, United States
CATEGORIES:Events- All,Events- Non-MPRB
GEO:44.9826582;-93.2513335
X-APPLE-STRUCTURED-LOCATION;VALUE=URI;X-ADDRESS=Father Hennepin Main St WRP 420 Main St SE Minneapolis MN 55414 United States;X-APPLE-RADIUS=500;X-TITLE=420 Main St SE:geo:-93.2513335,44.9826582
END:VEVENT
BEGIN:VEVENT
DTSTART;TZID=America/Chicago:20211030T080000
DTEND;TZID=America/Chicago:20211030T100000
DTSTAMP:20260422T040551
CREATED:20211028T191210Z
LAST-MODIFIED:20211028T191210Z
UID:52846-1635580800-1635588000@www.minneapolisparks.org
SUMMARY:VanGogh Hot Air Balloon Display
DESCRIPTION:
URL:https://www.minneapolisparks.org/event-calendar/vangogh-hot-air-balloon-display/
LOCATION:Boom Island Park\, 724 Sibley Street NE\, Minneapolis\, MN\, 55413\, United States
CATEGORIES:Events- All,Events- Non-MPRB
GEO:44.9927434;-93.2692589
X-APPLE-STRUCTURED-LOCATION;VALUE=URI;X-ADDRESS=Boom Island Park 724 Sibley Street NE Minneapolis MN 55413 United States;X-APPLE-RADIUS=500;X-TITLE=724 Sibley Street NE:geo:-93.2692589,44.9927434
END:VEVENT
BEGIN:VEVENT
DTSTART;TZID=America/Chicago:20211109T180000
DTEND;TZID=America/Chicago:20211109T200000
DTSTAMP:20260422T040551
CREATED:20211018T145038Z
LAST-MODIFIED:20211018T145038Z
UID:52588-1636480800-1636488000@www.minneapolisparks.org
SUMMARY:Community Advisory Committee (CAC) Meeting #6
DESCRIPTION:Cedar-Isles project team members will facilitate a design workshop of initial sketches and diagrams with CAC members. Members of the public will be invited to participate in portions of the workshop. \nZoom: https://us06web.zoom.us/j/85847206222
URL:https://www.minneapolisparks.org/event-calendar/community-advisory-committee-cac-meeting-6/
LOCATION:Virtual Program
CATEGORIES:Public Meetings
END:VEVENT
BEGIN:VEVENT
DTSTART;TZID=America/Chicago:20211118T153000
DTEND;TZID=America/Chicago:20211118T163000
DTSTAMP:20260422T040551
CREATED:20211112T173103Z
LAST-MODIFIED:20211112T173103Z
UID:53114-1637249400-1637253000@www.minneapolisparks.org
SUMMARY:Hall Park Improvements Concept Plan Development Kick Off
DESCRIPTION:The Minneapolis Park and Recreation Board (MPRB) is hosting a design workshop and kick off meeting with the design team to help develop concept plans for the first phase of improvements at Hall Park. Dress warm as we will meet outside. If we must reschedule this meeting due to inclement an alternate day/time will be posted on the website. Day to be determined. Light refreshments will be provided. Hope you can join us!
URL:https://www.minneapolisparks.org/event-calendar/hall-park-improvements-concept-plan-development-kick-off/
LOCATION:Hall Park\, 1524 Aldrich Ave N.\, Minneapolis\, MN\, 55411\, United States
CATEGORIES:Events- All,Events- MPRB,Public Meetings
GEO:44.994997;-93.2889167
X-APPLE-STRUCTURED-LOCATION;VALUE=URI;X-ADDRESS=Hall Park 1524 Aldrich Ave N. Minneapolis MN 55411 United States;X-APPLE-RADIUS=500;X-TITLE=1524 Aldrich Ave N.:geo:-93.2889167,44.994997
END:VEVENT
BEGIN:VEVENT
DTSTART;TZID=America/Chicago:20211125T073000
DTEND;TZID=America/Chicago:20211125T073000
DTSTAMP:20260422T040551
CREATED:20210913T151408Z
LAST-MODIFIED:20210913T151408Z
UID:52015-1637825400-1637825400@www.minneapolisparks.org
SUMMARY:Drumstick Dash
DESCRIPTION:
URL:https://www.minneapolisparks.org/event-calendar/drumstick-dash/
LOCATION:Lake Harriet\, Minneapolis\, MN\, United States
CATEGORIES:Events- All,Events- Non-MPRB
GEO:44.927901;-93.3082473
END:VEVENT
BEGIN:VEVENT
DTSTART;TZID=America/Chicago:20211127T190000
DTEND;TZID=America/Chicago:20211127T190000
DTSTAMP:20260422T040551
CREATED:20210913T152302Z
LAST-MODIFIED:20210913T152302Z
UID:52053-1638039600-1638039600@www.minneapolisparks.org
SUMMARY:Moustache Run
DESCRIPTION:
URL:https://www.minneapolisparks.org/event-calendar/moustache-run-5/
LOCATION:Father Hennepin\, Main St\, WRP\, 420 Main St SE\, Minneapolis\, MN\, 55414\, United States
CATEGORIES:Events- All,Events- Non-MPRB
GEO:44.9826582;-93.2513335
X-APPLE-STRUCTURED-LOCATION;VALUE=URI;X-ADDRESS=Father Hennepin Main St WRP 420 Main St SE Minneapolis MN 55414 United States;X-APPLE-RADIUS=500;X-TITLE=420 Main St SE:geo:-93.2513335,44.9826582
END:VEVENT
BEGIN:VEVENT
DTSTART;TZID=America/Chicago:20211201T183000
DTEND;TZID=America/Chicago:20211201T183000
DTSTAMP:20260422T040551
CREATED:20211118T193018Z
LAST-MODIFIED:20211118T193239Z
UID:53150-1638383400-1638383400@www.minneapolisparks.org
SUMMARY:Keewaydin Park Phase 1 Improvements Public Hearing
DESCRIPTION:A public hearing on the preferred concept plan for Phase 1 Improvements. Individuals can comment via call in or write in. The concept design was developed in response to community input\, and includes includes towers\, a zip line\, unique bouldering monoliths\, slides\, a basket swing\, a spinner\, climbable boulder wall seating\, an art area\, and a junior amphitheater with play stage. \nThis meeting will be virtual. For more information\, visit: https://www.minneapolisparks.org/about_us/leadership_and_structure/board_meetings/
URL:https://www.minneapolisparks.org/event-calendar/keewaydin-park-phase-1-improvements-public-hearing/
LOCATION:Virtual Program
CATEGORIES:Events- All,Public Meetings
END:VEVENT
BEGIN:VEVENT
DTSTART;TZID=America/Chicago:20211204T140000
DTEND;TZID=America/Chicago:20211204T160000
DTSTAMP:20260422T040551
CREATED:20211109T210636Z
LAST-MODIFIED:20211109T211527Z
UID:53070-1638626400-1638633600@www.minneapolisparks.org
SUMMARY:Sibley Park Open House
DESCRIPTION:Stop by anytime between 2pm and 4pm to learn about options for improvements\, which are based on the Sibley Park master plan and include replacing the park’s playground equipment and exploring a possible name change for the park.
URL:https://www.minneapolisparks.org/event-calendar/sibley-park-open-house-2/
LOCATION:Sibley Park\, 1900 E 40th St\, Minneapolis\, MN\, 55407\, United States
CATEGORIES:Events- MPRB,Public Meetings
GEO:44.9310545;-93.2444172
X-APPLE-STRUCTURED-LOCATION;VALUE=URI;X-ADDRESS=Sibley Park 1900 E 40th St Minneapolis MN 55407 United States;X-APPLE-RADIUS=500;X-TITLE=1900 E 40th St:geo:-93.2444172,44.9310545
END:VEVENT
BEGIN:VEVENT
DTSTART;TZID=America/Chicago:20211205T120000
DTEND;TZID=America/Chicago:20211205T150000
DTSTAMP:20260422T040551
CREATED:20211115T172724Z
LAST-MODIFIED:20211115T172821Z
UID:53128-1638705600-1638716400@www.minneapolisparks.org
SUMMARY:Holiday Tour at the Ard Godfrey House
DESCRIPTION:The Godfrey House in Chute Square Park\, is located at University & Central Avenues SE in Minneapolis. Visit the oldest remaining wood frame residence in Minneapolis\, build in 1849. The house is decorated for the holidays in the modest style of the era. \n\nTake a guided tour of the charming yellow Ard Godfrey House with docents dressed in 1850s period costume.\nSee how the Godfrey family might have celebrated the holidays in the community at St. Anthony Falls.\nFree Godfrey House buttons for the kids.\nCookies and apple cider in the kitchen.\nADMISSION FREE; donations suggested.\nRestored by The Woman’s Club of Minneapolis\, the House has been open to the public since 1979.\n\nMasks and proof of vaccination required. \nReservations available at Eventbrite under: Holiday Open House with Tours at Historic Ard Godfrey House
URL:https://www.minneapolisparks.org/event-calendar/holiday-tour-at-the-ard-godfrey-house/
LOCATION:Ard Godfrey House\, 28 University Ave SE\, Minneapolis\, MN\, 55414\, United States
CATEGORIES:Events- All,Events- Non-MPRB
GEO:44.986577;-93.2557019
X-APPLE-STRUCTURED-LOCATION;VALUE=URI;X-ADDRESS=Ard Godfrey House 28 University Ave SE Minneapolis MN 55414 United States;X-APPLE-RADIUS=500;X-TITLE=28 University Ave SE:geo:-93.2557019,44.986577
END:VEVENT
BEGIN:VEVENT
DTSTART;TZID=America/Chicago:20211211T090000
DTEND;TZID=America/Chicago:20211211T090000
DTSTAMP:20260422T040551
CREATED:20210913T152450Z
LAST-MODIFIED:20210913T152450Z
UID:52055-1639213200-1639213200@www.minneapolisparks.org
SUMMARY:Reindeer Run
DESCRIPTION:
URL:https://www.minneapolisparks.org/event-calendar/reindeer-run-5/
LOCATION:Lake Harriet\, Minneapolis\, MN\, United States
CATEGORIES:Events- All,Events- Non-MPRB
GEO:44.927901;-93.3082473
END:VEVENT
BEGIN:VEVENT
DTSTART;TZID=America/Chicago:20211213T090000
DTEND;TZID=America/Chicago:20211213T090000
DTSTAMP:20260422T040551
CREATED:20211213T131015Z
LAST-MODIFIED:20211213T131015Z
UID:53474-1639386000-1639386000@www.minneapolisparks.org
SUMMARY:Committee of the Whole - Committee Meeting
DESCRIPTION:View Agenda
URL:https://www.minneapolisparks.org/event-calendar/committee-of-the-whole-committee-meeting-5/
LOCATION:Mary Merrill Minneapolis Park & Recreation Board Headquarters\, 2117 West River Road N\, Minneapolis\, MN\, 55411\, United States
CATEGORIES:Events- All,Events- MPRB,Public Meetings
GEO:45.0008334;-93.2780339
X-APPLE-STRUCTURED-LOCATION;VALUE=URI;X-ADDRESS=Mary Merrill Minneapolis Park & Recreation Board Headquarters 2117 West River Road N Minneapolis MN 55411 United States;X-APPLE-RADIUS=500;X-TITLE=2117 West River Road N:geo:-93.2780339,45.0008334
END:VEVENT
BEGIN:VEVENT
DTSTART;TZID=America/Chicago:20211213T150000
DTEND;TZID=America/Chicago:20211213T150000
DTSTAMP:20260422T040551
CREATED:20211213T131147Z
LAST-MODIFIED:20211213T131147Z
UID:53477-1639407600-1639407600@www.minneapolisparks.org
SUMMARY:Committee of the Whole - Committee Meeting
DESCRIPTION:View Agendas
URL:https://www.minneapolisparks.org/event-calendar/committee-of-the-whole-committee-meeting-6/
LOCATION:Mary Merrill Minneapolis Park & Recreation Board Headquarters\, 2117 West River Road N\, Minneapolis\, MN\, 55411\, United States
CATEGORIES:Events- All,Events- MPRB,Public Meetings
GEO:45.0008334;-93.2780339
X-APPLE-STRUCTURED-LOCATION;VALUE=URI;X-ADDRESS=Mary Merrill Minneapolis Park & Recreation Board Headquarters 2117 West River Road N Minneapolis MN 55411 United States;X-APPLE-RADIUS=500;X-TITLE=2117 West River Road N:geo:-93.2780339,45.0008334
END:VEVENT
BEGIN:VEVENT
DTSTART;TZID=America/Chicago:20211214T190000
DTEND;TZID=America/Chicago:20211214T190000
DTSTAMP:20260422T040551
CREATED:20211123T165645Z
LAST-MODIFIED:20211123T165645Z
UID:53238-1639508400-1639508400@www.minneapolisparks.org
SUMMARY:Virtual Open House: Columbia Park Playground – Replacement of Removed Equipment
DESCRIPTION:The Minneapolis Park and Recreation Board (MPRB) is holding a virtual open house to discuss and view options for the replacement of playground equipment removed in 2020 due to the Columbia Golf Course and Park Stormwater BMPs project. The equipment to be replaced is focused on kids ages 2-5. \nPlease join us to discuss and view options to replace playground equipment removed at Columbia Park \n  \nZoom: https://us06web.zoom.us/j/82427550927
URL:https://www.minneapolisparks.org/event-calendar/virtual-open-house-columbia-park-playground-replacement-of-removed-equipment/
LOCATION:Virtual Program
CATEGORIES:Events- All,Events- MPRB,Events- Virtual Events,Public Meetings
END:VEVENT
BEGIN:VEVENT
DTSTART;TZID=America/Chicago:20211216T090000
DTEND;TZID=America/Chicago:20211216T090000
DTSTAMP:20260422T040551
CREATED:20211213T131247Z
LAST-MODIFIED:20211213T131247Z
UID:53479-1639645200-1639645200@www.minneapolisparks.org
SUMMARY:Committee of the Whole - Committee Meeting
DESCRIPTION:View Agendas
URL:https://www.minneapolisparks.org/event-calendar/committee-of-the-whole-committee-meeting-7/
LOCATION:Mary Merrill Minneapolis Park & Recreation Board Headquarters\, 2117 West River Road N\, Minneapolis\, MN\, 55411\, United States
CATEGORIES:Events- All,Events- MPRB,Public Meetings
GEO:45.0008334;-93.2780339
X-APPLE-STRUCTURED-LOCATION;VALUE=URI;X-ADDRESS=Mary Merrill Minneapolis Park & Recreation Board Headquarters 2117 West River Road N Minneapolis MN 55411 United States;X-APPLE-RADIUS=500;X-TITLE=2117 West River Road N:geo:-93.2780339,45.0008334
END:VEVENT
BEGIN:VEVENT
DTSTART;TZID=America/Chicago:20211218T100000
DTEND;TZID=America/Chicago:20211218T113000
DTSTAMP:20260422T040551
CREATED:20211203T184342Z
LAST-MODIFIED:20211203T184342Z
UID:53356-1639821600-1639827000@www.minneapolisparks.org
SUMMARY:Cedar-Isles Master Plan Open House for Initial Park Concepts (In Person)
DESCRIPTION:Review\, discuss ideas\, give feedback\, and ask questions about draft park concepts for the Cedar Lake-Lake of the Isles Master Plan project area. The open house will be in person and held outside.
URL:https://www.minneapolisparks.org/event-calendar/cedar-isles-master-plan-open-house-for-initial-park-concepts-in-person/
LOCATION:Cedar Lake South Beach\, 3500 Cedar Lake Parkway\, Minneapolis\, MN\, 55416\, United States
CATEGORIES:Events- All,Events- MPRB,Public Meetings
GEO:44.9537231;-93.3204519
X-APPLE-STRUCTURED-LOCATION;VALUE=URI;X-ADDRESS=Cedar Lake South Beach 3500 Cedar Lake Parkway Minneapolis MN 55416 United States;X-APPLE-RADIUS=500;X-TITLE=3500 Cedar Lake Parkway:geo:-93.3204519,44.9537231
END:VEVENT
BEGIN:VEVENT
DTSTART;TZID=America/Chicago:20211229T170000
DTEND;TZID=America/Chicago:20211229T170000
DTSTAMP:20260422T040551
CREATED:20210406T191250Z
LAST-MODIFIED:20210706T145801Z
UID:48245-1640797200-1640797200@www.minneapolisparks.org
SUMMARY:Board Meeting
DESCRIPTION:View Agenda
URL:https://www.minneapolisparks.org/event-calendar/regular-meeting-3-2021-12-29/
LOCATION:Virtual Program
CATEGORIES:Events- Virtual Events,Public Meetings
END:VEVENT
BEGIN:VEVENT
DTSTART;TZID=America/Chicago:20220103T170000
DTEND;TZID=America/Chicago:20220103T170000
DTSTAMP:20260422T040551
CREATED:20220120T002619Z
LAST-MODIFIED:20220120T003343Z
UID:54390-1641229200-1641229200@www.minneapolisparks.org
SUMMARY:Annual Meeting
DESCRIPTION:View Agenda
URL:https://www.minneapolisparks.org/event-calendar/annual-meeting/
LOCATION:Mary Merrill Minneapolis Park & Recreation Board Headquarters\, 2117 West River Road N\, Minneapolis\, MN\, 55411\, United States
CATEGORIES:Public Meetings
GEO:45.0008334;-93.2780339
X-APPLE-STRUCTURED-LOCATION;VALUE=URI;X-ADDRESS=Mary Merrill Minneapolis Park & Recreation Board Headquarters 2117 West River Road N Minneapolis MN 55411 United States;X-APPLE-RADIUS=500;X-TITLE=2117 West River Road N:geo:-93.2780339,45.0008334
END:VEVENT
BEGIN:VEVENT
DTSTART;TZID=America/Chicago:20220105T170000
DTEND;TZID=America/Chicago:20220105T170000
DTSTAMP:20260422T040551
CREATED:20220120T002437Z
LAST-MODIFIED:20220120T003351Z
UID:54386-1641402000-1641402000@www.minneapolisparks.org
SUMMARY:Board Meeting
DESCRIPTION:View Agenda
URL:https://www.minneapolisparks.org/event-calendar/board-meeting-committee-meeting/
LOCATION:Mary Merrill Minneapolis Park & Recreation Board Headquarters Board Room\, 2117 West River Road N\, Minneapolis\, MN\, 55411\, United States
CATEGORIES:Public Meetings
GEO:45.0008334;-93.2780339
X-APPLE-STRUCTURED-LOCATION;VALUE=URI;X-ADDRESS=Mary Merrill Minneapolis Park & Recreation Board Headquarters Board Room 2117 West River Road N Minneapolis MN 55411 United States;X-APPLE-RADIUS=500;X-TITLE=2117 West River Road N:geo:-93.2780339,45.0008334
END:VEVENT
BEGIN:VEVENT
DTSTART;TZID=America/Chicago:20220106T180000
DTEND;TZID=America/Chicago:20220106T193000
DTSTAMP:20260422T040551
CREATED:20211203T192238Z
LAST-MODIFIED:20211203T192238Z
UID:53363-1641492000-1641497400@www.minneapolisparks.org
SUMMARY:Cedar-Isles Master Plan Open House for Initial Park Concepts (Virtual)
DESCRIPTION:Zoom: https://us06web.zoom.us/j/88566416893\n\n\nReview\, discuss ideas\, give feedback\, and ask questions about draft park concepts for the Cedar Lake-Lake of the Isles Master Plan project area. The open house will be virtual and held on Zoom.
URL:https://www.minneapolisparks.org/event-calendar/cedar-isles-master-plan-open-house-for-initial-park-concepts-virtual/
LOCATION:Virtual Program
CATEGORIES:Events- All,Events- MPRB,Public Meetings
END:VEVENT
BEGIN:VEVENT
DTSTART;TZID=America/Chicago:20220111T163000
DTEND;TZID=America/Chicago:20220111T180000
DTSTAMP:20260422T040551
CREATED:20211216T170640Z
LAST-MODIFIED:20211216T170640Z
UID:53533-1641918600-1641924000@www.minneapolisparks.org
SUMMARY:Graco Park Preferred Concept Virtual Open House
DESCRIPTION:The design team will share the preferred concept for Graco Park and then open it up for discussion and feedback to the public. \nMeeting will be virtual. You can use this link to join: https://us06web.zoom.us/j/83717741549
URL:https://www.minneapolisparks.org/event-calendar/graco-park-preferred-concept-virtual-open-house/
LOCATION:Virtual Program
CATEGORIES:Events- All,Events- MPRB,Public Meetings
END:VEVENT
BEGIN:VEVENT
DTSTART;TZID=America/Chicago:20220111T180000
DTEND;TZID=America/Chicago:20220111T200000
DTSTAMP:20260422T040551
CREATED:20220103T203129Z
LAST-MODIFIED:20220103T203129Z
UID:53826-1641924000-1641931200@www.minneapolisparks.org
SUMMARY:Cedar Lake-Lake of the Isles Community Advisory Committee (CAC) Meeting #7
DESCRIPTION:Community Advisory Committee (CAC) members will be discussing prominent topics and issues identified through community feedback on the draft initial park concepts (see www.minneapolisparks.org/cedar-isles for concepts). CAC meetings are open to the public and anyone is welcome to attend. \nZoom: https://us06web.zoom.us/j/84303708699
URL:https://www.minneapolisparks.org/event-calendar/cedar-lake-lake-of-the-isles-community-advisory-committee-cac-meeting-7/
LOCATION:Virtual Program
CATEGORIES:Events- MPRB,Public Meetings
END:VEVENT
BEGIN:VEVENT
DTSTART;TZID=America/Chicago:20220115T130000
DTEND;TZID=America/Chicago:20220115T150000
DTSTAMP:20260422T040551
CREATED:20211228T181314Z
LAST-MODIFIED:20211228T181753Z
UID:53700-1642251600-1642258800@www.minneapolisparks.org
SUMMARY:Sibley Park Renaming Workshop
DESCRIPTION:Everyone is invited to a January 15 workshop on renaming Sibley Park\, as part of a current improvements project at the park.
URL:https://www.minneapolisparks.org/event-calendar/park-renaming-workshop/
LOCATION:Sibley Recreation Center\, Minneapolis\, MN\, United States
CATEGORIES:Events- All,Public Meetings
GEO:44.9310545;-93.2444172
END:VEVENT
BEGIN:VEVENT
DTSTART;TZID=America/Chicago:20220119T170000
DTEND;TZID=America/Chicago:20220119T170000
DTSTAMP:20260422T040551
CREATED:20220120T002802Z
LAST-MODIFIED:20220120T003332Z
UID:54392-1642611600-1642611600@www.minneapolisparks.org
SUMMARY:Board Meeting
DESCRIPTION:View Agenda
URL:https://www.minneapolisparks.org/event-calendar/board-meeting-83/
LOCATION:Mary Merrill Minneapolis Park & Recreation Board Headquarters\, 2117 West River Road N\, Minneapolis\, MN\, 55411\, United States
CATEGORIES:Public Meetings
GEO:45.0008334;-93.2780339
X-APPLE-STRUCTURED-LOCATION;VALUE=URI;X-ADDRESS=Mary Merrill Minneapolis Park & Recreation Board Headquarters 2117 West River Road N Minneapolis MN 55411 United States;X-APPLE-RADIUS=500;X-TITLE=2117 West River Road N:geo:-93.2780339,45.0008334
END:VEVENT
BEGIN:VEVENT
DTSTART;TZID=America/Chicago:20220121T170000
DTEND;TZID=America/Chicago:20220121T190000
DTSTAMP:20260422T040551
CREATED:20220125T221331Z
LAST-MODIFIED:20220125T221331Z
UID:54687-1642784400-1642791600@www.minneapolisparks.org
SUMMARY:Movie Night
DESCRIPTION:Join us for a movie at the park.
URL:https://www.minneapolisparks.org/event-calendar/movie-night/2022-01-21/
LOCATION:Loring Com. Arts Ctr 103- Multi Purpose at Loring Park\, 1382 Willow St\, Minneapolis\, MN\, 55403\, United States
CATEGORIES:Events- All,Events- MPRB
GEO:44.9689767;-93.2818269
X-APPLE-STRUCTURED-LOCATION;VALUE=URI;X-ADDRESS=Loring Com. Arts Ctr 103- Multi Purpose at Loring Park 1382 Willow St Minneapolis MN 55403 United States;X-APPLE-RADIUS=500;X-TITLE=1382 Willow St:geo:-93.2818269,44.9689767
END:VEVENT
END:VCALENDAR