BEGIN:VCALENDAR
VERSION:2.0
PRODID:-//Minneapolis Park &amp; Recreation Board - ECPv6.15.20//NONSGML v1.0//EN
CALSCALE:GREGORIAN
METHOD:PUBLISH
X-WR-CALNAME:Minneapolis Park &amp; Recreation Board
X-ORIGINAL-URL:https://www.minneapolisparks.org
X-WR-CALDESC:Events for Minneapolis Park &amp; Recreation Board
REFRESH-INTERVAL;VALUE=DURATION:PT1H
X-Robots-Tag:noindex
X-PUBLISHED-TTL:PT1H
BEGIN:VTIMEZONE
TZID:America/Chicago
BEGIN:DAYLIGHT
TZOFFSETFROM:-0600
TZOFFSETTO:-0500
TZNAME:CDT
DTSTART:20190310T080000
END:DAYLIGHT
BEGIN:STANDARD
TZOFFSETFROM:-0500
TZOFFSETTO:-0600
TZNAME:CST
DTSTART:20191103T070000
END:STANDARD
BEGIN:DAYLIGHT
TZOFFSETFROM:-0600
TZOFFSETTO:-0500
TZNAME:CDT
DTSTART:20200308T080000
END:DAYLIGHT
BEGIN:STANDARD
TZOFFSETFROM:-0500
TZOFFSETTO:-0600
TZNAME:CST
DTSTART:20201101T070000
END:STANDARD
BEGIN:DAYLIGHT
TZOFFSETFROM:-0600
TZOFFSETTO:-0500
TZNAME:CDT
DTSTART:20210314T080000
END:DAYLIGHT
BEGIN:STANDARD
TZOFFSETFROM:-0500
TZOFFSETTO:-0600
TZNAME:CST
DTSTART:20211107T070000
END:STANDARD
BEGIN:DAYLIGHT
TZOFFSETFROM:-0600
TZOFFSETTO:-0500
TZNAME:CDT
DTSTART:20220313T080000
END:DAYLIGHT
BEGIN:STANDARD
TZOFFSETFROM:-0500
TZOFFSETTO:-0600
TZNAME:CST
DTSTART:20221106T070000
END:STANDARD
END:VTIMEZONE
BEGIN:VEVENT
DTSTART;TZID=America/Chicago:20201030T173000
DTEND;TZID=America/Chicago:20201030T173000
DTSTAMP:20260421T192933
CREATED:20201106T223740Z
LAST-MODIFIED:20201106T223740Z
UID:46297-1604079000-1604079000@www.minneapolisparks.org
SUMMARY:(Virtual) The Root River Jam
DESCRIPTION:Root River Jam is an Americana Roots band based in SE MN. Their original music includes styles from folk\, country\, rock\, blues\, Celtic\, and jazz.
URL:https://www.minneapolisparks.org/event-calendar/virtual-the-root-river-jam/
LOCATION:Virtual Program
CATEGORIES:Events- Virtual Events,Music in the Parks
END:VEVENT
BEGIN:VEVENT
DTSTART;TZID=America/Chicago:20201113T173000
DTEND;TZID=America/Chicago:20201113T173000
DTSTAMP:20260421T192933
CREATED:20201112T174417Z
LAST-MODIFIED:20201119T201829Z
UID:46379-1605288600-1605288600@www.minneapolisparks.org
SUMMARY:(Virtual) The Bad Companions
DESCRIPTION:The Bad Companions are a long standing (and popular!) Minneapolis based roots-rock quartet. We’re two guitars\, stand-up bass and drums\, with great vocals\, horns on special occasions\, a strong original catalog and a set list as long as your arm drawn from the swingin’ heyday of American rock-a-billy\, r & b\, country  and blues. We’ve been featured on NPR’s ‘Prairie Home Companion’\, have a couple national television appearances under our belt and have graced the radio airwaves of this great state from Duluth to Le Seuer. We’ve entertained folks everywhere from your corner bar to county fairs\, car shows and music festivals around the Midwest with a dynamic live show that’s ear\, dance and family friendly.
URL:https://www.minneapolisparks.org/event-calendar/virtual-the-bad-companions/
LOCATION:Virtual Program
CATEGORIES:Events- Virtual Events,Music in the Parks
END:VEVENT
BEGIN:VEVENT
DTSTART;TZID=America/Chicago:20210531T173000
DTEND;TZID=America/Chicago:20210531T173000
DTSTAMP:20260421T192933
CREATED:20210521T202950Z
LAST-MODIFIED:20210521T202950Z
UID:49128-1622482200-1622482200@www.minneapolisparks.org
SUMMARY:Necessary Diversion
DESCRIPTION:Top 40 80’s to Now\nhttps://www.youtube.com/watch?v=NILt-ma_7bc \n 
URL:https://www.minneapolisparks.org/event-calendar/necessary-diversion-4/
LOCATION:Lake Harriet Bandshell\, Minneapolis\, MN\, United States
CATEGORIES:Music & Movies in the Parks,Music in the Parks
GEO:44.927901;-93.3082473
END:VEVENT
BEGIN:VEVENT
DTSTART;TZID=America/Chicago:20210531T193000
DTEND;TZID=America/Chicago:20210531T193000
DTSTAMP:20260421T192933
CREATED:20210521T203102Z
LAST-MODIFIED:20210521T203102Z
UID:49131-1622489400-1622489400@www.minneapolisparks.org
SUMMARY:Sawyer's Dream
DESCRIPTION:Soulful infectious harmonious powerful vocals\nhttp://sawyersdream.com/
URL:https://www.minneapolisparks.org/event-calendar/sawyers-dream-3/
LOCATION:Lake Harriet Bandshell\, Minneapolis\, MN\, United States
CATEGORIES:Music & Movies in the Parks,Music in the Parks
GEO:44.927901;-93.3082473
END:VEVENT
BEGIN:VEVENT
DTSTART;TZID=America/Chicago:20210603T190000
DTEND;TZID=America/Chicago:20210603T190000
DTSTAMP:20260421T192933
CREATED:20210521T202307Z
LAST-MODIFIED:20210521T203935Z
UID:49122-1622746800-1622746800@www.minneapolisparks.org
SUMMARY:Drunk Girl Crush
DESCRIPTION:Quirky electronica dream pop\nhttps://wwww.reverbnation.com/drunkgirlcrush
URL:https://www.minneapolisparks.org/event-calendar/drunk-girl-crush/
LOCATION:Minnehaha Falls\, Minnehaha Falls\, Minneapolis\, MN\, 55417\, United States
CATEGORIES:Music & Movies in the Parks,Music in the Parks
GEO:44.9153307;-93.2110006
X-APPLE-STRUCTURED-LOCATION;VALUE=URI;X-ADDRESS=Minnehaha Falls Minnehaha Falls Minneapolis MN 55417 United States;X-APPLE-RADIUS=500;X-TITLE=Minnehaha Falls:geo:-93.2110006,44.9153307
END:VEVENT
BEGIN:VEVENT
DTSTART;TZID=America/Chicago:20210603T193000
DTEND;TZID=America/Chicago:20210603T193000
DTSTAMP:20260421T192933
CREATED:20210521T202144Z
LAST-MODIFIED:20210604T075305Z
UID:49120-1622748600-1622748600@www.minneapolisparks.org
SUMMARY:Speak Free and Family
DESCRIPTION:Uplifting\, powerful\, soulful\, life\, love
URL:https://www.minneapolisparks.org/event-calendar/speak-free-and-family/
LOCATION:Lake Harriet Bandshell\, Minneapolis\, MN\, United States
CATEGORIES:Events- All,Music & Movies in the Parks,Music in the Parks
GEO:44.927901;-93.3082473
END:VEVENT
BEGIN:VEVENT
DTSTART;TZID=America/Chicago:20210604T190000
DTEND;TZID=America/Chicago:20210604T190000
DTSTAMP:20260421T192933
CREATED:20210521T204208Z
LAST-MODIFIED:20210521T204208Z
UID:49142-1622833200-1622833200@www.minneapolisparks.org
SUMMARY:Forrest & the Rangers
DESCRIPTION:50’s & 60’s Rockabilly & more
URL:https://www.minneapolisparks.org/event-calendar/forrest-the-rangers/
LOCATION:Minnehaha Falls\, Minnehaha Falls\, Minneapolis\, MN\, 55417\, United States
CATEGORIES:Music & Movies in the Parks,Music in the Parks
GEO:44.9153307;-93.2110006
X-APPLE-STRUCTURED-LOCATION;VALUE=URI;X-ADDRESS=Minnehaha Falls Minnehaha Falls Minneapolis MN 55417 United States;X-APPLE-RADIUS=500;X-TITLE=Minnehaha Falls:geo:-93.2110006,44.9153307
END:VEVENT
BEGIN:VEVENT
DTSTART;TZID=America/Chicago:20210604T193000
DTEND;TZID=America/Chicago:20210604T193000
DTSTAMP:20260421T192933
CREATED:20210521T202622Z
LAST-MODIFIED:20210604T075305Z
UID:49126-1622835000-1622835000@www.minneapolisparks.org
SUMMARY:Postina
DESCRIPTION:female fronted alt pop group
URL:https://www.minneapolisparks.org/event-calendar/postina-4/
LOCATION:Lake Harriet Bandshell\, Minneapolis\, MN\, United States
CATEGORIES:Events- All,Music & Movies in the Parks,Music in the Parks
GEO:44.927901;-93.3082473
END:VEVENT
BEGIN:VEVENT
DTSTART;TZID=America/Chicago:20210605T193000
DTEND;TZID=America/Chicago:20210605T193000
DTSTAMP:20260421T192933
CREATED:20210521T203419Z
LAST-MODIFIED:20210604T075305Z
UID:49136-1622921400-1622921400@www.minneapolisparks.org
SUMMARY:Codesweat Entertainment
DESCRIPTION:stars
URL:https://www.minneapolisparks.org/event-calendar/codesweat-entertainment-3/
LOCATION:Lake Harriet Bandshell\, Minneapolis\, MN\, United States
CATEGORIES:Events- All,Music & Movies in the Parks,Music in the Parks
GEO:44.927901;-93.3082473
END:VEVENT
BEGIN:VEVENT
DTSTART;TZID=America/Chicago:20210606T140000
DTEND;TZID=America/Chicago:20210606T140000
DTSTAMP:20260421T192933
CREATED:20210521T203633Z
LAST-MODIFIED:20210521T203633Z
UID:49138-1622988000-1622988000@www.minneapolisparks.org
SUMMARY:Natania & Ticket to Brasil
DESCRIPTION:Brazilian samba\, bossa nova and latin jazz\nhttps://youtu.be/FD_nJK0lyHE
URL:https://www.minneapolisparks.org/event-calendar/natania-ticket-to-brasil-3/
LOCATION:Lake Harriet Bandshell\, Minneapolis\, MN\, United States
CATEGORIES:Music & Movies in the Parks,Music in the Parks
GEO:44.927901;-93.3082473
END:VEVENT
BEGIN:VEVENT
DTSTART;TZID=America/Chicago:20210606T173000
DTEND;TZID=America/Chicago:20210606T173000
DTSTAMP:20260421T192933
CREATED:20210521T203805Z
LAST-MODIFIED:20210604T075305Z
UID:49140-1623000600-1623000600@www.minneapolisparks.org
SUMMARY:Double Divas
DESCRIPTION:female-fronted fun dance music
URL:https://www.minneapolisparks.org/event-calendar/double-divas/
LOCATION:Lake Harriet Bandshell\, Minneapolis\, MN\, United States
CATEGORIES:Events- All,Music & Movies in the Parks,Music in the Parks
GEO:44.927901;-93.3082473
END:VEVENT
BEGIN:VEVENT
DTSTART;VALUE=DATE:20210607
DTEND;VALUE=DATE:20210608
DTSTAMP:20260421T192933
CREATED:20210604T075908Z
LAST-MODIFIED:20210604T075908Z
UID:49434-1623024000-1623110399@www.minneapolisparks.org
SUMMARY:Lila Ammons Jazz Group
DESCRIPTION:exciting music\, blues to hard-bop
URL:https://www.minneapolisparks.org/event-calendar/lila-ammons-jazz-group-3/
CATEGORIES:Events- All,Music & Movies in the Parks,Music in the Parks
END:VEVENT
BEGIN:VEVENT
DTSTART;TZID=America/Chicago:20210607T193000
DTEND;TZID=America/Chicago:20210607T193000
DTSTAMP:20260421T192933
CREATED:20210604T063134Z
LAST-MODIFIED:20210604T075308Z
UID:49368-1623094200-1623094200@www.minneapolisparks.org
SUMMARY:Hothouse Weeds
DESCRIPTION:female-fronted Indie Rock Trio
URL:https://www.minneapolisparks.org/event-calendar/hothouse-weeds/
LOCATION:Lake Harriet Bandshell\, Minneapolis\, MN\, United States
CATEGORIES:Events- All,Music & Movies in the Parks,Music in the Parks
GEO:44.927901;-93.3082473
END:VEVENT
BEGIN:VEVENT
DTSTART;VALUE=DATE:20210608
DTEND;VALUE=DATE:20210609
DTSTAMP:20260421T192933
CREATED:20210604T075908Z
LAST-MODIFIED:20210604T075908Z
UID:49435-1623110400-1623196799@www.minneapolisparks.org
SUMMARY:Papa Bleu & The Fistbump Congress
DESCRIPTION:rhythmic\, party music sound
URL:https://www.minneapolisparks.org/event-calendar/papa-bleu-the-fistbump-congress-2/
CATEGORIES:Events- All,Music & Movies in the Parks,Music in the Parks
END:VEVENT
BEGIN:VEVENT
DTSTART;VALUE=DATE:20210610
DTEND;VALUE=DATE:20210611
DTSTAMP:20260421T192933
CREATED:20210604T080109Z
LAST-MODIFIED:20210604T080109Z
UID:49440-1623283200-1623369599@www.minneapolisparks.org
SUMMARY:Tim Casey & The Martyrs
DESCRIPTION:Original R&R\, Power Pop
URL:https://www.minneapolisparks.org/event-calendar/tim-casey-the-martyrs-2/
LOCATION:Minnehaha Falls\, Minnehaha Falls\, Minneapolis\, MN\, 55417\, United States
CATEGORIES:Events- All,Music & Movies in the Parks,Music in the Parks
GEO:44.9153307;-93.2110006
X-APPLE-STRUCTURED-LOCATION;VALUE=URI;X-ADDRESS=Minnehaha Falls Minnehaha Falls Minneapolis MN 55417 United States;X-APPLE-RADIUS=500;X-TITLE=Minnehaha Falls:geo:-93.2110006,44.9153307
END:VEVENT
BEGIN:VEVENT
DTSTART;TZID=America/Chicago:20210610T193000
DTEND;TZID=America/Chicago:20210610T193000
DTSTAMP:20260421T192933
CREATED:20210604T073336Z
LAST-MODIFIED:20210604T075308Z
UID:49383-1623353400-1623353400@www.minneapolisparks.org
SUMMARY:Smoldering Roots
DESCRIPTION:high energy dancer cover band
URL:https://www.minneapolisparks.org/event-calendar/smoldering-roots/
LOCATION:Lake Harriet Bandshell\, Minneapolis\, MN\, United States
CATEGORIES:Events- All,Music & Movies in the Parks,Music in the Parks
GEO:44.927901;-93.3082473
END:VEVENT
BEGIN:VEVENT
DTSTART;VALUE=DATE:20210611
DTEND;VALUE=DATE:20210612
DTSTAMP:20260421T192933
CREATED:20210604T080109Z
LAST-MODIFIED:20210604T080109Z
UID:49441-1623369600-1623455999@www.minneapolisparks.org
SUMMARY:Blue Groove Bluegrass
DESCRIPTION:contemporary bluegrass band
URL:https://www.minneapolisparks.org/event-calendar/blue-groove-bluegrass-2/
LOCATION:Minnehaha Falls\, Minnehaha Falls\, Minneapolis\, MN\, 55417\, United States
CATEGORIES:Events- All,Music & Movies in the Parks,Music in the Parks
GEO:44.9153307;-93.2110006
X-APPLE-STRUCTURED-LOCATION;VALUE=URI;X-ADDRESS=Minnehaha Falls Minnehaha Falls Minneapolis MN 55417 United States;X-APPLE-RADIUS=500;X-TITLE=Minnehaha Falls:geo:-93.2110006,44.9153307
END:VEVENT
BEGIN:VEVENT
DTSTART;TZID=America/Chicago:20210611T193000
DTEND;TZID=America/Chicago:20210611T193000
DTSTAMP:20260421T192933
CREATED:20210604T073336Z
LAST-MODIFIED:20210604T075308Z
UID:49384-1623439800-1623439800@www.minneapolisparks.org
SUMMARY:Emerson Avenue Band
DESCRIPTION:High Energy Horn Dance Band
URL:https://www.minneapolisparks.org/event-calendar/emerson-avenue-band-2/
LOCATION:Lake Harriet Bandshell\, Minneapolis\, MN\, United States
CATEGORIES:Events- All,Music & Movies in the Parks,Music in the Parks
GEO:44.927901;-93.3082473
END:VEVENT
BEGIN:VEVENT
DTSTART;TZID=America/Chicago:20210613T140000
DTEND;TZID=America/Chicago:20210613T140000
DTSTAMP:20260421T192933
CREATED:20210604T073337Z
LAST-MODIFIED:20210604T075308Z
UID:49385-1623592800-1623592800@www.minneapolisparks.org
SUMMARY:St. Paul Chamber Orchestra
DESCRIPTION:Music by Beethoven and more
URL:https://www.minneapolisparks.org/event-calendar/st-paul-chamber-orchestra/
LOCATION:Lake Harriet Bandshell\, Minneapolis\, MN\, United States
CATEGORIES:Events- All,Music & Movies in the Parks,Music in the Parks
GEO:44.927901;-93.3082473
END:VEVENT
BEGIN:VEVENT
DTSTART;TZID=America/Chicago:20210613T173000
DTEND;TZID=America/Chicago:20210613T173000
DTSTAMP:20260421T192933
CREATED:20210604T073337Z
LAST-MODIFIED:20210604T075308Z
UID:49386-1623605400-1623605400@www.minneapolisparks.org
SUMMARY:Maria and the Coins
DESCRIPTION:singer-songwriter driven pop
URL:https://www.minneapolisparks.org/event-calendar/maria-and-the-coins-2/
LOCATION:Lake Harriet Bandshell\, Minneapolis\, MN\, United States
CATEGORIES:Events- All,Music & Movies in the Parks,Music in the Parks
GEO:44.927901;-93.3082473
END:VEVENT
BEGIN:VEVENT
DTSTART;TZID=America/Chicago:20210614T193000
DTEND;TZID=America/Chicago:20210614T193000
DTSTAMP:20260421T192933
CREATED:20210604T073536Z
LAST-MODIFIED:20210604T075508Z
UID:49387-1623699000-1623699000@www.minneapolisparks.org
SUMMARY:Paul Barry Blues Band
DESCRIPTION:Chicago & West Coast Jump Blues
URL:https://www.minneapolisparks.org/event-calendar/paul-barry-blues-band/
LOCATION:Lake Harriet Bandshell\, Minneapolis\, MN\, United States
CATEGORIES:Events- All,Music & Movies in the Parks,Music in the Parks
GEO:44.927901;-93.3082473
END:VEVENT
BEGIN:VEVENT
DTSTART;VALUE=DATE:20210617
DTEND;VALUE=DATE:20210618
DTSTAMP:20260421T192933
CREATED:20210604T080308Z
LAST-MODIFIED:20210604T080308Z
UID:49442-1623888000-1623974399@www.minneapolisparks.org
SUMMARY:Sonic Love Child
DESCRIPTION:americana\, vintage pop and originals
URL:https://www.minneapolisparks.org/event-calendar/sonic-love-child-5/
LOCATION:Minnehaha Falls\, Minnehaha Falls\, Minneapolis\, MN\, 55417\, United States
CATEGORIES:Events- All,Music & Movies in the Parks,Music in the Parks
GEO:44.9153307;-93.2110006
X-APPLE-STRUCTURED-LOCATION;VALUE=URI;X-ADDRESS=Minnehaha Falls Minnehaha Falls Minneapolis MN 55417 United States;X-APPLE-RADIUS=500;X-TITLE=Minnehaha Falls:geo:-93.2110006,44.9153307
END:VEVENT
BEGIN:VEVENT
DTSTART;VALUE=DATE:20210617
DTEND;VALUE=DATE:20210618
DTSTAMP:20260421T192933
CREATED:20210604T080310Z
LAST-MODIFIED:20210604T080310Z
UID:49446-1623888000-1623974399@www.minneapolisparks.org
SUMMARY:Spaghetti Monetti & The Sauce
DESCRIPTION:Soul Blues-Jazz-Fusion Funkiness
URL:https://www.minneapolisparks.org/event-calendar/spaghetti-monetti-the-sauce-2/
CATEGORIES:Events- All,Music & Movies in the Parks,Music in the Parks
END:VEVENT
BEGIN:VEVENT
DTSTART;TZID=America/Chicago:20210617T193000
DTEND;TZID=America/Chicago:20210617T193000
DTSTAMP:20260421T192933
CREATED:20210604T073536Z
LAST-MODIFIED:20210604T075508Z
UID:49388-1623958200-1623958200@www.minneapolisparks.org
SUMMARY:Linden Hills Chamber Orchestra
DESCRIPTION:light classical orchestra/quartet
URL:https://www.minneapolisparks.org/event-calendar/linden-hills-chamber-orchestra-4/
LOCATION:Lake Harriet Bandshell\, Minneapolis\, MN\, United States
CATEGORIES:Events- All,Music & Movies in the Parks,Music in the Parks
GEO:44.927901;-93.3082473
END:VEVENT
BEGIN:VEVENT
DTSTART;VALUE=DATE:20210618
DTEND;VALUE=DATE:20210619
DTSTAMP:20260421T192933
CREATED:20210604T080309Z
LAST-MODIFIED:20210604T080309Z
UID:49443-1623974400-1624060799@www.minneapolisparks.org
SUMMARY:Dark Light Oblivion
DESCRIPTION:local original alternative rock band
URL:https://www.minneapolisparks.org/event-calendar/dark-light-oblivion-2/
LOCATION:Minnehaha Falls\, Minnehaha Falls\, Minneapolis\, MN\, 55417\, United States
CATEGORIES:Events- All,Music & Movies in the Parks,Music in the Parks
GEO:44.9153307;-93.2110006
X-APPLE-STRUCTURED-LOCATION;VALUE=URI;X-ADDRESS=Minnehaha Falls Minnehaha Falls Minneapolis MN 55417 United States;X-APPLE-RADIUS=500;X-TITLE=Minnehaha Falls:geo:-93.2110006,44.9153307
END:VEVENT
BEGIN:VEVENT
DTSTART;TZID=America/Chicago:20210618T193000
DTEND;TZID=America/Chicago:20210618T193000
DTSTAMP:20260421T192933
CREATED:20210604T073536Z
LAST-MODIFIED:20210604T075508Z
UID:49389-1624044600-1624044600@www.minneapolisparks.org
SUMMARY:Tre Aaron
DESCRIPTION:country\, rhythm & blues
URL:https://www.minneapolisparks.org/event-calendar/tre-aaron-5/
LOCATION:Lake Harriet Bandshell\, Minneapolis\, MN\, United States
CATEGORIES:Events- All,Music & Movies in the Parks,Music in the Parks
GEO:44.927901;-93.3082473
END:VEVENT
BEGIN:VEVENT
DTSTART;TZID=America/Chicago:20210619T193000
DTEND;TZID=America/Chicago:20210619T193000
DTSTAMP:20260421T192933
CREATED:20210604T073536Z
LAST-MODIFIED:20210604T075508Z
UID:49390-1624131000-1624131000@www.minneapolisparks.org
SUMMARY:Twin Cities Mobile Jazz
DESCRIPTION:
URL:https://www.minneapolisparks.org/event-calendar/twin-cities-mobile-jazz/
LOCATION:Lake Harriet Bandshell\, Minneapolis\, MN\, United States
CATEGORIES:Events- All,Music & Movies in the Parks,Music in the Parks
GEO:44.927901;-93.3082473
END:VEVENT
BEGIN:VEVENT
DTSTART;TZID=America/Chicago:20210620T140000
DTEND;TZID=America/Chicago:20210620T140000
DTSTAMP:20260421T192933
CREATED:20210604T073537Z
LAST-MODIFIED:20210604T075508Z
UID:49391-1624197600-1624197600@www.minneapolisparks.org
SUMMARY:Cantus
DESCRIPTION:engaging\, innovative mens vocal ensemble
URL:https://www.minneapolisparks.org/event-calendar/cantus-4/
LOCATION:Lake Harriet Bandshell\, Minneapolis\, MN\, United States
CATEGORIES:Events- All,Music & Movies in the Parks,Music in the Parks
GEO:44.927901;-93.3082473
END:VEVENT
BEGIN:VEVENT
DTSTART;TZID=America/Chicago:20210620T173000
DTEND;TZID=America/Chicago:20210620T173000
DTSTAMP:20260421T192933
CREATED:20210604T073737Z
LAST-MODIFIED:20210604T075708Z
UID:49392-1624210200-1624210200@www.minneapolisparks.org
SUMMARY:Liam Gerard
DESCRIPTION:americana\, folk\, rock\, pop\, blues
URL:https://www.minneapolisparks.org/event-calendar/liam-gerard-4/
LOCATION:Lake Harriet Bandshell\, Minneapolis\, MN\, United States
CATEGORIES:Events- All,Music & Movies in the Parks,Music in the Parks
GEO:44.927901;-93.3082473
END:VEVENT
BEGIN:VEVENT
DTSTART;VALUE=DATE:20210621
DTEND;VALUE=DATE:20210622
DTSTAMP:20260421T192933
CREATED:20210604T075909Z
LAST-MODIFIED:20210604T075909Z
UID:49436-1624233600-1624319999@www.minneapolisparks.org
SUMMARY:Debbie Briggs Vintage Jazz
DESCRIPTION:vintage jazz and blues
URL:https://www.minneapolisparks.org/event-calendar/debbie-briggs-vintage-jazz-2/
CATEGORIES:Events- All,Music & Movies in the Parks,Music in the Parks
END:VEVENT
END:VCALENDAR