BEGIN:VCALENDAR
VERSION:2.0
PRODID:-//Minneapolis Park &amp; Recreation Board - ECPv6.15.20//NONSGML v1.0//EN
CALSCALE:GREGORIAN
METHOD:PUBLISH
X-ORIGINAL-URL:https://www.minneapolisparks.org
X-WR-CALDESC:Events for Minneapolis Park &amp; Recreation Board
REFRESH-INTERVAL;VALUE=DURATION:PT1H
X-Robots-Tag:noindex
X-PUBLISHED-TTL:PT1H
BEGIN:VTIMEZONE
TZID:America/Chicago
BEGIN:DAYLIGHT
TZOFFSETFROM:-0600
TZOFFSETTO:-0500
TZNAME:CDT
DTSTART:20160313T080000
END:DAYLIGHT
BEGIN:STANDARD
TZOFFSETFROM:-0500
TZOFFSETTO:-0600
TZNAME:CST
DTSTART:20161106T070000
END:STANDARD
BEGIN:DAYLIGHT
TZOFFSETFROM:-0600
TZOFFSETTO:-0500
TZNAME:CDT
DTSTART:20170312T080000
END:DAYLIGHT
BEGIN:STANDARD
TZOFFSETFROM:-0500
TZOFFSETTO:-0600
TZNAME:CST
DTSTART:20171105T070000
END:STANDARD
BEGIN:DAYLIGHT
TZOFFSETFROM:-0600
TZOFFSETTO:-0500
TZNAME:CDT
DTSTART:20180311T080000
END:DAYLIGHT
BEGIN:STANDARD
TZOFFSETFROM:-0500
TZOFFSETTO:-0600
TZNAME:CST
DTSTART:20181104T070000
END:STANDARD
END:VTIMEZONE
BEGIN:VEVENT
DTSTART;TZID=America/Chicago:20170525T180000
DTEND;TZID=America/Chicago:20170525T200000
DTSTAMP:20260420T024721
CREATED:20191216T182348Z
LAST-MODIFIED:20191216T182348Z
UID:37920-1495735200-1495742400@www.minneapolisparks.org
SUMMARY:Nokomis-Hiawatha Master Plan Amendment Community Open House
DESCRIPTION:Flyer [PDF] \nSee Project Page \nGet Directions
URL:https://www.minneapolisparks.org/event-calendar/nokomis-hiawatha-master-plan-amendment-community-open-house/
LOCATION:Lake Nokomis Community Center\, 2401 E Minnehaha Parkway\, Minneapolis\, MN\, 55417\, United States
CATEGORIES:Public Meetings
GEO:44.9157107;-93.2366016
X-APPLE-STRUCTURED-LOCATION;VALUE=URI;X-ADDRESS=Lake Nokomis Community Center 2401 E Minnehaha Parkway Minneapolis MN 55417 United States;X-APPLE-RADIUS=500;X-TITLE=2401 E Minnehaha Parkway:geo:-93.2366016,44.9157107
END:VEVENT
BEGIN:VEVENT
DTSTART;TZID=America/Chicago:20170526T080000
DTEND;TZID=America/Chicago:20170526T080000
DTSTAMP:20260420T024721
CREATED:20191216T182349Z
LAST-MODIFIED:20191216T182349Z
UID:37921-1495785600-1495785600@www.minneapolisparks.org
SUMMARY:Bde Maka Ska Canoe Nations Gathering
DESCRIPTION:Event sponsored by outside group.
URL:https://www.minneapolisparks.org/event-calendar/bde-maka-ska-canoe-nations-gathering/
LOCATION:Bde Maka Ska Park\, 3000 Calhoun Parkway\, Minneapolis\, MN\, 55408\, United States
CATEGORIES:Events- Non-MPRB
GEO:44.9338272;-93.310333
X-APPLE-STRUCTURED-LOCATION;VALUE=URI;X-ADDRESS=Bde Maka Ska Park 3000 Calhoun Parkway Minneapolis MN 55408 United States;X-APPLE-RADIUS=500;X-TITLE=3000 Calhoun Parkway:geo:-93.310333,44.9338272
END:VEVENT
BEGIN:VEVENT
DTSTART;TZID=America/Chicago:20170529T173000
DTEND;TZID=America/Chicago:20170529T173000
DTSTAMP:20260420T024721
CREATED:20191216T182350Z
LAST-MODIFIED:20191216T182350Z
UID:37922-1496079000-1496079000@www.minneapolisparks.org
SUMMARY:Rubber Soul The Tribute and Socaholix
DESCRIPTION:Rubber Soul The Tribute genre: Full Vegas type Beatles show…Socaholix genre: high-energy Caribbean dance \nThe MPRB summer concert season fills the air daily with music at six concert venues running Memorial Day through Labor Day. \nRubber Soul the Tribute websiteSocaholix website \nGet Directions
URL:https://www.minneapolisparks.org/event-calendar/rubber-soul-the-tribute-and-socaholix/
LOCATION:Lake Harriet Bandshell\, Minneapolis\, MN\, United States
CATEGORIES:Music & Movies in the Parks
GEO:44.927901;-93.3082473
END:VEVENT
BEGIN:VEVENT
DTSTART;TZID=America/Chicago:20170529T193000
DTEND;TZID=America/Chicago:20170529T193000
DTSTAMP:20260420T024721
CREATED:20191216T182350Z
LAST-MODIFIED:20191216T182350Z
UID:37923-1496086200-1496086200@www.minneapolisparks.org
SUMMARY:Brian Kraft Memorial 5K Run/Walk
DESCRIPTION:Event hosted by outside group.
URL:https://www.minneapolisparks.org/event-calendar/brian-kraft-memorial-5k-run-walk/
LOCATION:Lake Nokomis Park\, 4955 W Lake Nokomis Parkway\, Minneapolis\, MN\, 55417\, United States
CATEGORIES:Events- Non-MPRB
GEO:44.9114979;-93.2431014
X-APPLE-STRUCTURED-LOCATION;VALUE=URI;X-ADDRESS=Lake Nokomis Park 4955 W Lake Nokomis Parkway Minneapolis MN 55417 United States;X-APPLE-RADIUS=500;X-TITLE=4955 W Lake Nokomis Parkway:geo:-93.2431014,44.9114979
END:VEVENT
BEGIN:VEVENT
DTSTART;TZID=America/Chicago:20170530T190000
DTEND;TZID=America/Chicago:20170530T190000
DTSTAMP:20260420T024721
CREATED:20191216T182350Z
LAST-MODIFIED:20191216T182350Z
UID:37924-1496170800-1496170800@www.minneapolisparks.org
SUMMARY:The Confused Brothers Band
DESCRIPTION:Genre: Funky-Blues Rock with Horns \nThe MPRB summer concert season fills the air daily with music at six concert venues running Memorial Day through Labor Day. \nWebsite \nGet Directions
URL:https://www.minneapolisparks.org/event-calendar/the-confused-brothers-band/
LOCATION:Father Hennepin Bluff Park\, Minneapolis\, MN\, United States
CATEGORIES:Music & Movies in the Parks
GEO:44.9826582;-93.2513335
END:VEVENT
BEGIN:VEVENT
DTSTART;TZID=America/Chicago:20170530T190000
DTEND;TZID=America/Chicago:20170530T190000
DTSTAMP:20260420T024721
CREATED:20191216T182350Z
LAST-MODIFIED:20191216T182350Z
UID:37925-1496170800-1496170800@www.minneapolisparks.org
SUMMARY:Upper Harbor Terminal and Above the Falls Community Advisory Committee Meeting
DESCRIPTION:Upper Harbor Terminal and Above the Falls Community Advisory Committee Meeting at MPRB \nSee Project PageGet Directions
URL:https://www.minneapolisparks.org/event-calendar/upper-harbor-terminal-and-above-the-falls-community-advisory-committee-meeting/
LOCATION:Mary Merrill Minneapolis Park & Recreation Board Headquarters\, 2117 West River Road N\, Minneapolis\, MN\, 55411\, United States
CATEGORIES:Public Meetings
GEO:45.0008334;-93.2780339
X-APPLE-STRUCTURED-LOCATION;VALUE=URI;X-ADDRESS=Mary Merrill Minneapolis Park & Recreation Board Headquarters 2117 West River Road N Minneapolis MN 55411 United States;X-APPLE-RADIUS=500;X-TITLE=2117 West River Road N:geo:-93.2780339,45.0008334
END:VEVENT
BEGIN:VEVENT
DTSTART;TZID=America/Chicago:20170530T193000
DTEND;TZID=America/Chicago:20170530T193000
DTSTAMP:20260420T024721
CREATED:20191216T182351Z
LAST-MODIFIED:20191216T182351Z
UID:37926-1496172600-1496172600@www.minneapolisparks.org
SUMMARY:Tortuga!
DESCRIPTION:Genre: Original World\, Jazz and Rock quartet \nThe MPRB summer concert season fills the air daily with music at six concert venues running Memorial Day through Labor Day. \nWebsite \nGet Directions
URL:https://www.minneapolisparks.org/event-calendar/tortuga/
LOCATION:Lake Harriet Bandshell\, Minneapolis\, MN\, United States
CATEGORIES:Music & Movies in the Parks
GEO:44.927901;-93.3082473
END:VEVENT
BEGIN:VEVENT
DTSTART;TZID=America/Chicago:20170531T180000
DTEND;TZID=America/Chicago:20170531T200000
DTSTAMP:20260420T024721
CREATED:20191216T182351Z
LAST-MODIFIED:20191216T182351Z
UID:37927-1496253600-1496260800@www.minneapolisparks.org
SUMMARY:Music in the Park
DESCRIPTION:Come on down to Painter park for a fun night of music\, food\, and youth activities. The band this year is the Wailing Loons. Dinner will be provides by Lyndale Community Dinner. There will be a moonwalk and other fun activities for youth and families. \nGet Directions
URL:https://www.minneapolisparks.org/event-calendar/music-in-the-park/
LOCATION:Painter Park\, 620 W 34th St\, Minneapolis\, MN\, 55408\, United States
CATEGORIES:Events- MPRB
GEO:44.9416634;-93.2876806
X-APPLE-STRUCTURED-LOCATION;VALUE=URI;X-ADDRESS=Painter Park 620 W 34th St Minneapolis MN 55408 United States;X-APPLE-RADIUS=500;X-TITLE=620 W 34th St:geo:-93.2876806,44.9416634
END:VEVENT
BEGIN:VEVENT
DTSTART;TZID=America/Chicago:20170531T190000
DTEND;TZID=America/Chicago:20170531T190000
DTSTAMP:20260420T024721
CREATED:20191216T182351Z
LAST-MODIFIED:20191216T182351Z
UID:37928-1496257200-1496257200@www.minneapolisparks.org
SUMMARY:South High Community Band and Jazz Band
DESCRIPTION:Genre: concert band and jazz ensemble \nThe MPRB summer concert season fills the air daily with music at six concert venues running Memorial Day through Labor Day. \nWebsite \nGet Directions
URL:https://www.minneapolisparks.org/event-calendar/south-high-community-band-and-jazz-band/
LOCATION:Minnehaha Regional Park\, 4801 South Minnehaha Drive\, Minneapolis\, MN\, 55417\, United States
CATEGORIES:Music & Movies in the Parks
GEO:44.9161006;-93.2109865
X-APPLE-STRUCTURED-LOCATION;VALUE=URI;X-ADDRESS=Minnehaha Regional Park 4801 South Minnehaha Drive Minneapolis MN 55417 United States;X-APPLE-RADIUS=500;X-TITLE=4801 South Minnehaha Drive:geo:-93.2109865,44.9161006
END:VEVENT
BEGIN:VEVENT
DTSTART;TZID=America/Chicago:20170601T190000
DTEND;TZID=America/Chicago:20170601T190000
DTSTAMP:20260420T024721
CREATED:20191216T182352Z
LAST-MODIFIED:20191216T182352Z
UID:37929-1496343600-1496343600@www.minneapolisparks.org
SUMMARY:Joey Flip & Tim Cheesebrow
DESCRIPTION:Genre: Duo acoustic\, classic rock\, oldies \nThe MPRB summer concert season fills the air daily with music at six concert venues running Memorial Day through Labor Day. \nWebsite \nGet Directions
URL:https://www.minneapolisparks.org/event-calendar/joey-flip-tim-cheesebrow/
LOCATION:Minnehaha Regional Park\, 4801 South Minnehaha Drive\, Minneapolis\, MN\, 55417\, United States
CATEGORIES:Music & Movies in the Parks
GEO:44.9161006;-93.2109865
X-APPLE-STRUCTURED-LOCATION;VALUE=URI;X-ADDRESS=Minnehaha Regional Park 4801 South Minnehaha Drive Minneapolis MN 55417 United States;X-APPLE-RADIUS=500;X-TITLE=4801 South Minnehaha Drive:geo:-93.2109865,44.9161006
END:VEVENT
BEGIN:VEVENT
DTSTART;TZID=America/Chicago:20170601T193000
DTEND;TZID=America/Chicago:20170601T193000
DTSTAMP:20260420T024721
CREATED:20191216T182352Z
LAST-MODIFIED:20191216T182352Z
UID:37930-1496345400-1496345400@www.minneapolisparks.org
SUMMARY:Linden Hills Chamber Orchestra
DESCRIPTION:Genre: Classical\, patriotic\, contemporary\, showtune medleys \nThe MPRB summer concert season fills the air daily with music at six concert venues running Memorial Day through Labor Day. \nWebsite \nGet Directions
URL:https://www.minneapolisparks.org/event-calendar/linden-hills-chamber-orchestra/
LOCATION:Lake Harriet Bandshell\, Minneapolis\, MN\, United States
CATEGORIES:Music & Movies in the Parks
GEO:44.927901;-93.3082473
END:VEVENT
BEGIN:VEVENT
DTSTART;TZID=America/Chicago:20170602T173000
DTEND;TZID=America/Chicago:20170602T200000
DTSTAMP:20260420T024721
CREATED:20191216T182353Z
LAST-MODIFIED:20191216T182353Z
UID:37932-1496424600-1496433600@www.minneapolisparks.org
SUMMARY:Waite Park Community Carnival
DESCRIPTION:Come for the annual Waite Park Community Carnival. There are games\, food\, prizes\, and lots more. Held rain or shine\, bring the whole family and have a blast supporting our community! \nGet Directions
URL:https://www.minneapolisparks.org/event-calendar/waite-park-community-carnival/
LOCATION:Waite Park\, 1810 34th Ave NE\, Minneapolis\, MN\, 55418\, United States
CATEGORIES:Events- MPRB
GEO:45.0301093;-93.23428
X-APPLE-STRUCTURED-LOCATION;VALUE=URI;X-ADDRESS=Waite Park 1810 34th Ave NE Minneapolis MN 55418 United States;X-APPLE-RADIUS=500;X-TITLE=1810 34th Ave NE:geo:-93.23428,45.0301093
END:VEVENT
BEGIN:VEVENT
DTSTART;TZID=America/Chicago:20170602T173000
DTEND;TZID=America/Chicago:20170602T203000
DTSTAMP:20260420T024721
CREATED:20191216T182352Z
LAST-MODIFIED:20191216T182352Z
UID:37931-1496424600-1496435400@www.minneapolisparks.org
SUMMARY:Ice Cream Social
DESCRIPTION:This annual community event located at Pratt School features tons of family oriented activities. This is the only day of the year that the “Witch’s Tower” across from Pratt School is open. This event is co-sponsored by Pratt Council\, PPERRIA\, and MPRB. Come on up and have a great time. \nGet Directions
URL:https://www.minneapolisparks.org/event-calendar/ice-cream-social/
LOCATION:Pratt School\, 66 Malcolm Ave SE\, Minneapolis\, MN\, 55414\, United States
CATEGORIES:Events- MPRB
GEO:44.9690028;-93.214034
X-APPLE-STRUCTURED-LOCATION;VALUE=URI;X-ADDRESS=Pratt School 66 Malcolm Ave SE Minneapolis MN 55414 United States;X-APPLE-RADIUS=500;X-TITLE=66 Malcolm Ave SE:geo:-93.214034,44.9690028
END:VEVENT
BEGIN:VEVENT
DTSTART;TZID=America/Chicago:20170602T190000
DTEND;TZID=America/Chicago:20170602T190000
DTSTAMP:20260420T024721
CREATED:20191216T182353Z
LAST-MODIFIED:20191216T182353Z
UID:37933-1496430000-1496430000@www.minneapolisparks.org
SUMMARY:BATO BATO! Breck School's Marimba Ensemble
DESCRIPTION:Genre: Buoyant\, Happy\, Danceable\, Distinctive. Addictive. \nThe MPRB summer concert season fills the air daily with music at six concert venues running Memorial Day through Labor Day. \nWebsite \nGet Directions
URL:https://www.minneapolisparks.org/event-calendar/bato-bato-breck-schools-marimba-ensemble/
LOCATION:Minnehaha Regional Park\, 4801 South Minnehaha Drive\, Minneapolis\, MN\, 55417\, United States
CATEGORIES:Music & Movies in the Parks
GEO:44.9161006;-93.2109865
X-APPLE-STRUCTURED-LOCATION;VALUE=URI;X-ADDRESS=Minnehaha Regional Park 4801 South Minnehaha Drive Minneapolis MN 55417 United States;X-APPLE-RADIUS=500;X-TITLE=4801 South Minnehaha Drive:geo:-93.2109865,44.9161006
END:VEVENT
BEGIN:VEVENT
DTSTART;TZID=America/Chicago:20170602T193000
DTEND;TZID=America/Chicago:20170602T193000
DTSTAMP:20260420T024721
CREATED:20191216T182353Z
LAST-MODIFIED:20191216T182353Z
UID:37934-1496431800-1496431800@www.minneapolisparks.org
SUMMARY:Rob Meany & Terramara
DESCRIPTION:Genre: Original Jazz-Rock Fusion. \nThe MPRB summer concert season fills the air daily with music at six concert venues running Memorial Day through Labor Day. \nWebsite \nGet Directions
URL:https://www.minneapolisparks.org/event-calendar/rob-meany-terramara/
LOCATION:Lake Harriet Bandshell\, Minneapolis\, MN\, United States
CATEGORIES:Music & Movies in the Parks
GEO:44.927901;-93.3082473
END:VEVENT
BEGIN:VEVENT
DTSTART;TZID=America/Chicago:20170603T060000
DTEND;TZID=America/Chicago:20170603T060000
DTSTAMP:20260420T024721
CREATED:20191216T182353Z
LAST-MODIFIED:20191216T182353Z
UID:37935-1496469600-1496469600@www.minneapolisparks.org
SUMMARY:Tour De Cure
DESCRIPTION:Event hosted by outside group.
URL:https://www.minneapolisparks.org/event-calendar/tour-de-cure/
LOCATION:Minnehaha Regional Park\, 4801 South Minnehaha Drive\, Minneapolis\, MN\, 55417\, United States
CATEGORIES:Events- Non-MPRB
GEO:44.9161006;-93.2109865
X-APPLE-STRUCTURED-LOCATION;VALUE=URI;X-ADDRESS=Minnehaha Regional Park 4801 South Minnehaha Drive Minneapolis MN 55417 United States;X-APPLE-RADIUS=500;X-TITLE=4801 South Minnehaha Drive:geo:-93.2109865,44.9161006
END:VEVENT
BEGIN:VEVENT
DTSTART;TZID=America/Chicago:20170603T080000
DTEND;TZID=America/Chicago:20170603T080000
DTSTAMP:20260420T024721
CREATED:20191216T182354Z
LAST-MODIFIED:20191216T182354Z
UID:37936-1496476800-1496476800@www.minneapolisparks.org
SUMMARY:RUN YOUR RACE 5K Scholarship Walk/Run
DESCRIPTION:Event hosted by outside group.
URL:https://www.minneapolisparks.org/event-calendar/run-your-race-5k-scholarship-walk-run/
LOCATION:Bde Maka Ska Park\, 3000 Calhoun Parkway\, Minneapolis\, MN\, 55408\, United States
CATEGORIES:Events- Non-MPRB
GEO:44.9338272;-93.310333
X-APPLE-STRUCTURED-LOCATION;VALUE=URI;X-ADDRESS=Bde Maka Ska Park 3000 Calhoun Parkway Minneapolis MN 55408 United States;X-APPLE-RADIUS=500;X-TITLE=3000 Calhoun Parkway:geo:-93.310333,44.9338272
END:VEVENT
BEGIN:VEVENT
DTSTART;TZID=America/Chicago:20170603T090000
DTEND;TZID=America/Chicago:20170603T090000
DTSTAMP:20260420T024721
CREATED:20191216T182354Z
LAST-MODIFIED:20191216T182354Z
UID:37937-1496480400-1496480400@www.minneapolisparks.org
SUMMARY:Rally Around Northrop
DESCRIPTION:Event hosted by outside group.
URL:https://www.minneapolisparks.org/event-calendar/rally-around-northrop/
LOCATION:Minnehaha Regional Park\, 4801 South Minnehaha Drive\, Minneapolis\, MN\, 55417\, United States
CATEGORIES:Events- Non-MPRB
GEO:44.9161006;-93.2109865
X-APPLE-STRUCTURED-LOCATION;VALUE=URI;X-ADDRESS=Minnehaha Regional Park 4801 South Minnehaha Drive Minneapolis MN 55417 United States;X-APPLE-RADIUS=500;X-TITLE=4801 South Minnehaha Drive:geo:-93.2109865,44.9161006
END:VEVENT
BEGIN:VEVENT
DTSTART;TZID=America/Chicago:20170603T090000
DTEND;TZID=America/Chicago:20170603T090000
DTSTAMP:20260420T024721
CREATED:20191216T182355Z
LAST-MODIFIED:20191216T182355Z
UID:37938-1496480400-1496480400@www.minneapolisparks.org
SUMMARY:Walker Methodist Run & Walk
DESCRIPTION:Event hosted by outside group.
URL:https://www.minneapolisparks.org/event-calendar/walker-methodist-run-walk/
LOCATION:Lake Harriet Park\, 4135 W Lake Harriet Parkway\, Minneapolis\, MN\, 55409\, United States
CATEGORIES:Events- Non-MPRB
GEO:44.927901;-93.3082473
X-APPLE-STRUCTURED-LOCATION;VALUE=URI;X-ADDRESS=Lake Harriet Park 4135 W Lake Harriet Parkway Minneapolis MN 55409 United States;X-APPLE-RADIUS=500;X-TITLE=4135 W Lake Harriet Parkway:geo:-93.3082473,44.927901
END:VEVENT
BEGIN:VEVENT
DTSTART;TZID=America/Chicago:20170603T100000
DTEND;TZID=America/Chicago:20170603T100000
DTSTAMP:20260420T024721
CREATED:20191216T182355Z
LAST-MODIFIED:20191216T182355Z
UID:37939-1496484000-1496484000@www.minneapolisparks.org
SUMMARY:Lymphomathon 5K Run/Walk
DESCRIPTION:Event hosted by outside group.
URL:https://www.minneapolisparks.org/event-calendar/lymphomathon-5k-run-walk/
LOCATION:Lake Nokomis Park\, 4955 W Lake Nokomis Parkway\, Minneapolis\, MN\, 55417\, United States
CATEGORIES:Events- Non-MPRB
GEO:44.9114979;-93.2431014
X-APPLE-STRUCTURED-LOCATION;VALUE=URI;X-ADDRESS=Lake Nokomis Park 4955 W Lake Nokomis Parkway Minneapolis MN 55417 United States;X-APPLE-RADIUS=500;X-TITLE=4955 W Lake Nokomis Parkway:geo:-93.2431014,44.9114979
END:VEVENT
BEGIN:VEVENT
DTSTART;TZID=America/Chicago:20170603T193000
DTEND;TZID=America/Chicago:20170603T193000
DTSTAMP:20260420T024721
CREATED:20191216T182355Z
LAST-MODIFIED:20191216T182355Z
UID:37940-1496518200-1496518200@www.minneapolisparks.org
SUMMARY:Liam Gerard
DESCRIPTION:Genre: Rock\, folk\, blues\, alternative\, pop \nThe MPRB summer concert season fills the air daily with music at six concert venues running Memorial Day through Labor Day. \nWebsite \nGet Directions
URL:https://www.minneapolisparks.org/event-calendar/liam-gerard/
LOCATION:Lake Harriet Bandshell\, Minneapolis\, MN\, United States
CATEGORIES:Music & Movies in the Parks
GEO:44.927901;-93.3082473
END:VEVENT
BEGIN:VEVENT
DTSTART;TZID=America/Chicago:20170604T083000
DTEND;TZID=America/Chicago:20170604T083000
DTSTAMP:20260420T024721
CREATED:20191216T182356Z
LAST-MODIFIED:20191216T182356Z
UID:37941-1496565000-1496565000@www.minneapolisparks.org
SUMMARY:Mile in my Shoes
DESCRIPTION:Event hosted by outside group.
URL:https://www.minneapolisparks.org/event-calendar/mile-in-my-shoes/
LOCATION:Father Hennepin Bluff Park\, Minneapolis\, MN\, United States
CATEGORIES:Events- Non-MPRB
GEO:44.9826582;-93.2513335
END:VEVENT
BEGIN:VEVENT
DTSTART;TZID=America/Chicago:20170604T120000
DTEND;TZID=America/Chicago:20170604T150000
DTSTAMP:20260420T024721
CREATED:20191216T182356Z
LAST-MODIFIED:20191216T182356Z
UID:37942-1496577600-1496588400@www.minneapolisparks.org
SUMMARY:The Dystonia Foundation Kite Fly
DESCRIPTION:Event hosted by outside group.
URL:https://www.minneapolisparks.org/event-calendar/the-dystonia-foundation-kite-fly/
LOCATION:Boom Island Park\, 724 Sibley Street NE\, Minneapolis\, MN\, 55413\, United States
CATEGORIES:Events- Non-MPRB
GEO:44.9927434;-93.2692589
X-APPLE-STRUCTURED-LOCATION;VALUE=URI;X-ADDRESS=Boom Island Park 724 Sibley Street NE Minneapolis MN 55413 United States;X-APPLE-RADIUS=500;X-TITLE=724 Sibley Street NE:geo:-93.2692589,44.9927434
END:VEVENT
BEGIN:VEVENT
DTSTART;TZID=America/Chicago:20170604T140000
DTEND;TZID=America/Chicago:20170604T140000
DTSTAMP:20260420T024721
CREATED:20191216T182356Z
LAST-MODIFIED:20191216T182356Z
UID:37943-1496584800-1496584800@www.minneapolisparks.org
SUMMARY:Lau Hawaiian Collective
DESCRIPTION:Genre: Sweet\, Poignant\, Rollicking Island Music \nThe MPRB summer concert season fills the air daily with music at six concert venues running Memorial Day through Labor Day. \nWebsite \nGet Directions
URL:https://www.minneapolisparks.org/event-calendar/lau-hawaiian-collective/
LOCATION:Lake Harriet Bandshell\, Minneapolis\, MN\, United States
CATEGORIES:Music & Movies in the Parks
GEO:44.927901;-93.3082473
END:VEVENT
BEGIN:VEVENT
DTSTART;TZID=America/Chicago:20170604T173000
DTEND;TZID=America/Chicago:20170604T173000
DTSTAMP:20260420T024721
CREATED:20191216T182356Z
LAST-MODIFIED:20191216T182356Z
UID:37944-1496597400-1496597400@www.minneapolisparks.org
SUMMARY:Minneapolis Police Band
DESCRIPTION:Genre: Plays broadway\, marches\, popular music. \nThe MPRB summer concert season fills the air daily with music at six concert venues running Memorial Day through Labor Day. \nWebsite \nGet Directions
URL:https://www.minneapolisparks.org/event-calendar/minneapolis-police-band/
LOCATION:Lake Harriet Bandshell\, Minneapolis\, MN\, United States
CATEGORIES:Music & Movies in the Parks
GEO:44.927901;-93.3082473
END:VEVENT
BEGIN:VEVENT
DTSTART;TZID=America/Chicago:20170605T190000
DTEND;TZID=America/Chicago:20170605T190000
DTSTAMP:20260420T024721
CREATED:20191216T182357Z
LAST-MODIFIED:20191216T182357Z
UID:37945-1496689200-1496689200@www.minneapolisparks.org
SUMMARY:Lisa Carney Anderson Quintet
DESCRIPTION:Genre: Great American Songbook Jazz \nThe MPRB summer concert season fills the air daily with music at six concert venues running Memorial Day through Labor Day. \nWebsite \nGet Directions
URL:https://www.minneapolisparks.org/event-calendar/lisa-carney-anderson-quintet/
LOCATION:Nicollet Island Park\, 40 Power St\, Minneapolis\, MN\, 55401\, United States
CATEGORIES:Music & Movies in the Parks
GEO:44.9847316;-93.2600873
X-APPLE-STRUCTURED-LOCATION;VALUE=URI;X-ADDRESS=Nicollet Island Park 40 Power St Minneapolis MN 55401 United States;X-APPLE-RADIUS=500;X-TITLE=40 Power St:geo:-93.2600873,44.9847316
END:VEVENT
BEGIN:VEVENT
DTSTART;TZID=America/Chicago:20170605T193000
DTEND;TZID=America/Chicago:20170605T193000
DTSTAMP:20260420T024721
CREATED:20191216T182358Z
LAST-MODIFIED:20191216T182358Z
UID:37946-1496691000-1496691000@www.minneapolisparks.org
SUMMARY:Marimba Bullies
DESCRIPTION:Genre: Friendly\, rhythmic\, danceable\, Zimbabwean\, instrumental \nThe MPRB summer concert season fills the air daily with music at six concert venues running Memorial Day through Labor Day. \nWebsite \nGet Directions
URL:https://www.minneapolisparks.org/event-calendar/marimba-bullies/
LOCATION:Lake Harriet Bandshell\, Minneapolis\, MN\, United States
CATEGORIES:Music & Movies in the Parks
GEO:44.927901;-93.3082473
END:VEVENT
BEGIN:VEVENT
DTSTART;TZID=America/Chicago:20170605T210000
DTEND;TZID=America/Chicago:20170605T210000
DTSTAMP:20260420T024721
CREATED:20191216T182358Z
LAST-MODIFIED:20191216T182358Z
UID:37947-1496696400-1496696400@www.minneapolisparks.org
SUMMARY:Sully
DESCRIPTION:Rating: PG-13 \nMovies start 15 minutes after sunset. Bring a lawn chair or blanket and come early to grab a good spot. \nThe Movies in the Parks series runs from early through late August.  The mobile program takes place Monday through Saturday evenings and travels to more than 30 parks throughout the summer\, which includes a partnership with the Twin Cities Black Film Festival.  \nIMDb \n\n\nGet Directions
URL:https://www.minneapolisparks.org/event-calendar/sully/
LOCATION:Bossen Field Park\, 5701 S 28th Ave\, Minneapolis\, MN\, 55417\, United States
CATEGORIES:Music & Movies in the Parks
GEO:44.9000248;-93.2320042
X-APPLE-STRUCTURED-LOCATION;VALUE=URI;X-ADDRESS=Bossen Field Park 5701 S 28th Ave Minneapolis MN 55417 United States;X-APPLE-RADIUS=500;X-TITLE=5701 S 28th Ave:geo:-93.2320042,44.9000248
END:VEVENT
BEGIN:VEVENT
DTSTART;TZID=America/Chicago:20170606T180000
DTEND;TZID=America/Chicago:20170606T200000
DTSTAMP:20260420T024721
CREATED:20191216T182358Z
LAST-MODIFIED:20191216T182358Z
UID:37948-1496772000-1496779200@www.minneapolisparks.org
SUMMARY:Kickoff Celebration for Summer Concert Series
DESCRIPTION:Join us for the kickoff celebration for the summer concert series at Bryant Square Park! Music\, ice cream\, popcorn and face painting will all be part of the festivities. Bring a lawn chair\, blanket\, picnic\, your friends and join us for this summer event. \nGet Directions
URL:https://www.minneapolisparks.org/event-calendar/kickoff-celebration-for-summer-concert-series/
LOCATION:Bryant Square Park\, 3101 Bryant Ave S\, Minneapolis\, MN\, 55408\, United States
CATEGORIES:Events- MPRB
GEO:44.9461045;-93.2903539
X-APPLE-STRUCTURED-LOCATION;VALUE=URI;X-ADDRESS=Bryant Square Park 3101 Bryant Ave S Minneapolis MN 55408 United States;X-APPLE-RADIUS=500;X-TITLE=3101 Bryant Ave S:geo:-93.2903539,44.9461045
END:VEVENT
BEGIN:VEVENT
DTSTART;TZID=America/Chicago:20170606T183000
DTEND;TZID=America/Chicago:20170606T183000
DTSTAMP:20260420T024721
CREATED:20191216T182358Z
LAST-MODIFIED:20191216T182358Z
UID:37949-1496773800-1496773800@www.minneapolisparks.org
SUMMARY:Victoria and the Acts of Persuasion
DESCRIPTION:Genre: Stylish Jazz/Folk Ensemble \nThe MPRB summer concert season fills the air daily with music at six concert venues running Memorial Day through Labor Day. \nWebsite \nGet Directions
URL:https://www.minneapolisparks.org/event-calendar/victoria-and-the-acts-of-persuasion/
LOCATION:Bryant Square Park\, 3101 Bryant Ave S\, Minneapolis\, MN\, 55408\, United States
CATEGORIES:Music & Movies in the Parks
GEO:44.9461045;-93.2903539
X-APPLE-STRUCTURED-LOCATION;VALUE=URI;X-ADDRESS=Bryant Square Park 3101 Bryant Ave S Minneapolis MN 55408 United States;X-APPLE-RADIUS=500;X-TITLE=3101 Bryant Ave S:geo:-93.2903539,44.9461045
END:VEVENT
END:VCALENDAR