BEGIN:VCALENDAR
VERSION:2.0
PRODID:-//Minneapolis Park &amp; Recreation Board - ECPv6.15.20//NONSGML v1.0//EN
CALSCALE:GREGORIAN
METHOD:PUBLISH
X-WR-CALNAME:Minneapolis Park &amp; Recreation Board
X-ORIGINAL-URL:https://www.minneapolisparks.org
X-WR-CALDESC:Events for Minneapolis Park &amp; Recreation Board
REFRESH-INTERVAL;VALUE=DURATION:PT1H
X-Robots-Tag:noindex
X-PUBLISHED-TTL:PT1H
BEGIN:VTIMEZONE
TZID:America/Chicago
BEGIN:DAYLIGHT
TZOFFSETFROM:-0600
TZOFFSETTO:-0500
TZNAME:CDT
DTSTART:20210314T080000
END:DAYLIGHT
BEGIN:STANDARD
TZOFFSETFROM:-0500
TZOFFSETTO:-0600
TZNAME:CST
DTSTART:20211107T070000
END:STANDARD
BEGIN:DAYLIGHT
TZOFFSETFROM:-0600
TZOFFSETTO:-0500
TZNAME:CDT
DTSTART:20220313T080000
END:DAYLIGHT
BEGIN:STANDARD
TZOFFSETFROM:-0500
TZOFFSETTO:-0600
TZNAME:CST
DTSTART:20221106T070000
END:STANDARD
BEGIN:DAYLIGHT
TZOFFSETFROM:-0600
TZOFFSETTO:-0500
TZNAME:CDT
DTSTART:20230312T080000
END:DAYLIGHT
BEGIN:STANDARD
TZOFFSETFROM:-0500
TZOFFSETTO:-0600
TZNAME:CST
DTSTART:20231105T070000
END:STANDARD
END:VTIMEZONE
BEGIN:VEVENT
DTSTART;TZID=America/Chicago:20220122T130000
DTEND;TZID=America/Chicago:20220122T143000
DTSTAMP:20260420T025021
CREATED:20211203T192101Z
LAST-MODIFIED:20211203T192101Z
UID:53360-1642856400-1642861800@www.minneapolisparks.org
SUMMARY:Cedar-Isles Master Plan Open House for Initial Park Concepts (In Person)
DESCRIPTION:Review\, discuss ideas\, give feedback\, and ask questions about draft park concepts for the Cedar Lake-Lake of the Isles Master Plan project area. The open house will be in person and held outside.
URL:https://www.minneapolisparks.org/event-calendar/cedar-isles-master-plan-open-house-for-initial-park-concepts-in-person-2/
LOCATION:Lake of the Isles Ice Rink\, 2500 Lake of the Isles Pkwy E\, Minneapolis\, MN\, 55405\, United States
CATEGORIES:Events- All,Events- MPRB,Public Meetings
GEO:44.9551658;-93.3071257
X-APPLE-STRUCTURED-LOCATION;VALUE=URI;X-ADDRESS=Lake of the Isles Ice Rink 2500 Lake of the Isles Pkwy E Minneapolis MN 55405 United States;X-APPLE-RADIUS=500;X-TITLE=2500 Lake of the Isles Pkwy E:geo:-93.3071257,44.9551658
END:VEVENT
BEGIN:VEVENT
DTSTART;TZID=America/Chicago:20220128T080000
DTEND;TZID=America/Chicago:20220128T080000
DTSTAMP:20260420T025021
CREATED:20220126T195652Z
LAST-MODIFIED:20220126T195652Z
UID:54770-1643356800-1643356800@www.minneapolisparks.org
SUMMARY:Pond Hockey
DESCRIPTION:
URL:https://www.minneapolisparks.org/event-calendar/pond-hockey-18/2022-01-28/
LOCATION:Lake Nokomis\, Minneapolis\, MN\, United States
CATEGORIES:Events- All,Events- Non-MPRB
GEO:44.9114979;-93.2431014
END:VEVENT
BEGIN:VEVENT
DTSTART;TZID=America/Chicago:20220128T180000
DTEND;TZID=America/Chicago:20220128T193000
DTSTAMP:20260420T025021
CREATED:20220125T220741Z
LAST-MODIFIED:20220125T220836Z
UID:54680-1643392800-1643398200@www.minneapolisparks.org
SUMMARY:Fire & Ice Family Skating Party
DESCRIPTION:Join us at Armatage Park for our annual Fire & Ice Family Skating party! Grab your mittens and hat for this outdoor neighborhood celebration. Enjoy a night with your family and friends skating or keep warm with hot chocolate and bonfire. No registration required\, just come on down!
URL:https://www.minneapolisparks.org/event-calendar/fire-ice-family-skating-party-10/
LOCATION:Armatage Park\, 2500 W 57th St\, Minneapolis\, MN\, 55410\, United States
CATEGORIES:Events- All,Events- MPRB
GEO:44.9007399;-93.3112736
X-APPLE-STRUCTURED-LOCATION;VALUE=URI;X-ADDRESS=Armatage Park 2500 W 57th St Minneapolis MN 55410 United States;X-APPLE-RADIUS=500;X-TITLE=2500 W 57th St:geo:-93.3112736,44.9007399
END:VEVENT
BEGIN:VEVENT
DTSTART;TZID=America/Chicago:20220204T180000
DTEND;TZID=America/Chicago:20220204T200000
DTSTAMP:20260420T025021
CREATED:20220125T221055Z
LAST-MODIFIED:20220125T221055Z
UID:54685-1643997600-1644004800@www.minneapolisparks.org
SUMMARY:Fire and Ice Festival
DESCRIPTION:Grab your mittens and hats for this outdoor celebration. Enjoy a MN Night ice skating with family and friends. There will be complimentary hot chocolate\, a fire to warm yourself by and roasted marshmallows and a few more fun activities.
URL:https://www.minneapolisparks.org/event-calendar/fire-and-ice-festival-6/
LOCATION:Matthews Park\, 2318 29th Ave S\, Minneapolis\, MN\, 55406\, United States
CATEGORIES:Events- All,Events- MPRB
GEO:44.958293;-93.231444
X-APPLE-STRUCTURED-LOCATION;VALUE=URI;X-ADDRESS=Matthews Park 2318 29th Ave S Minneapolis MN 55406 United States;X-APPLE-RADIUS=500;X-TITLE=2318 29th Ave S:geo:-93.231444,44.958293
END:VEVENT
BEGIN:VEVENT
DTSTART;TZID=America/Chicago:20220205T080000
DTEND;TZID=America/Chicago:20220205T080000
DTSTAMP:20260420T025021
CREATED:20220126T195825Z
LAST-MODIFIED:20220126T195825Z
UID:54774-1644048000-1644048000@www.minneapolisparks.org
SUMMARY:Ski Loppet Festival
DESCRIPTION:
URL:https://www.minneapolisparks.org/event-calendar/ski-loppet-festival/2022-02-05/
LOCATION:Theodore Wirth Park\, Theodore Wirth Parkway\, Golden Valley\, MN\, 55422\, United States
CATEGORIES:Events- All,Events- Non-MPRB
GEO:44.9609095;-93.3246285
X-APPLE-STRUCTURED-LOCATION;VALUE=URI;X-ADDRESS=Theodore Wirth Park Theodore Wirth Parkway Golden Valley MN 55422 United States;X-APPLE-RADIUS=500;X-TITLE=Theodore Wirth Parkway:geo:-93.3246285,44.9609095
END:VEVENT
BEGIN:VEVENT
DTSTART;TZID=America/Chicago:20220205T150000
DTEND;TZID=America/Chicago:20220205T150000
DTSTAMP:20260420T025021
CREATED:20220126T195929Z
LAST-MODIFIED:20220126T195929Z
UID:54777-1644073200-1644073200@www.minneapolisparks.org
SUMMARY:Luminary
DESCRIPTION:
URL:https://www.minneapolisparks.org/event-calendar/luminary/
LOCATION:Lake of the Isles\, Minneapolis\, MN\, United States
CATEGORIES:Events- All,Events- Non-MPRB
GEO:44.9583577;-93.3032469
END:VEVENT
BEGIN:VEVENT
DTSTART;TZID=America/Chicago:20220205T170000
DTEND;TZID=America/Chicago:20220205T200000
DTSTAMP:20260420T025021
CREATED:20220125T221857Z
LAST-MODIFIED:20220125T221857Z
UID:54698-1644080400-1644091200@www.minneapolisparks.org
SUMMARY:Tangletown Winterfest
DESCRIPTION:Join your community outside for this exciting event. There will be sledding\, snow painting\, and a fire twirling show at 6:30pm. Bonfires will keep us warm as we enjoy each other’s company. Upon registration for this program\, participants agree to follow MPRB requirements related to face coverings and physical distancing. Face coverings are required indoors at all MPRB facilities\, unless otherwise specified by MPRB as part of athletics protocol.
URL:https://www.minneapolisparks.org/event-calendar/tangletown-winterfest/
LOCATION:Fuller Park\, 4800 Grand Ave S\, Minneapolis\, MN\, 55419\, United States
CATEGORIES:Events- All,Events- MPRB
GEO:44.9157593;-93.2848109
X-APPLE-STRUCTURED-LOCATION;VALUE=URI;X-ADDRESS=Fuller Park 4800 Grand Ave S Minneapolis MN 55419 United States;X-APPLE-RADIUS=500;X-TITLE=4800 Grand Ave S:geo:-93.2848109,44.9157593
END:VEVENT
BEGIN:VEVENT
DTSTART;TZID=America/Chicago:20220205T180000
DTEND;TZID=America/Chicago:20220205T200000
DTSTAMP:20260420T025021
CREATED:20220125T220952Z
LAST-MODIFIED:20220125T220952Z
UID:54683-1644084000-1644091200@www.minneapolisparks.org
SUMMARY:Fire and Ice
DESCRIPTION:Winter solstice is celebrated at our Fire and Ice Festival as a time for reflection\, renewal\, peace\, and a time for the glistening snow to purify our air and leave a clean slate. Activities will include a recreational fire\, horse drawn hayrides\, music\, crafts\, and concessions.
URL:https://www.minneapolisparks.org/event-calendar/fire-and-ice-5/
LOCATION:Luxton Park\, 112 Williams Ave SE\, Minneapolis\, MN\, 55414\, United States
CATEGORIES:Events- All,Events- MPRB
GEO:44.9682716;-93.2193098
X-APPLE-STRUCTURED-LOCATION;VALUE=URI;X-ADDRESS=Luxton Park 112 Williams Ave SE Minneapolis MN 55414 United States;X-APPLE-RADIUS=500;X-TITLE=112 Williams Ave SE:geo:-93.2193098,44.9682716
END:VEVENT
BEGIN:VEVENT
DTSTART;TZID=America/Chicago:20220214T100000
DTEND;TZID=America/Chicago:20220214T113000
DTSTAMP:20260420T025021
CREATED:20220125T222028Z
LAST-MODIFIED:20220125T222028Z
UID:54700-1644832800-1644838200@www.minneapolisparks.org
SUMMARY:Toddler Valentine's Day Party
DESCRIPTION:A special Valentine’s day party for young children and their parents. Event is FREE to attend and is for children under 6-years-old. Games\, music and more will be offered for a fun celebration! Pre-registration is required.
URL:https://www.minneapolisparks.org/event-calendar/toddler-valentines-day-party/
LOCATION:Webber Park\, 4300 Webber Parkway\, Minneapolis\, MN\, 55412\, United States
CATEGORIES:Events- All,Events- MPRB
GEO:45.034522;-93.291918
X-APPLE-STRUCTURED-LOCATION;VALUE=URI;X-ADDRESS=Webber Park 4300 Webber Parkway Minneapolis MN 55412 United States;X-APPLE-RADIUS=500;X-TITLE=4300 Webber Parkway:geo:-93.291918,45.034522
END:VEVENT
BEGIN:VEVENT
DTSTART;TZID=America/Chicago:20220217T170000
DTEND;TZID=America/Chicago:20220217T190000
DTSTAMP:20260420T025021
CREATED:20220125T221526Z
LAST-MODIFIED:20220125T221526Z
UID:54694-1645117200-1645124400@www.minneapolisparks.org
SUMMARY:Open House - Audubon Park
DESCRIPTION:Audubon Park will host an Open House\, Thursday February 17th from 5pm-7pm. Bring the whole family for to see the new renovations\, meet the staff\, vote on a new park mascot\, sledding\, bonfire\, hot coco\, and more!
URL:https://www.minneapolisparks.org/event-calendar/open-house-audubon-park/
LOCATION:Audubon Park\, 1320 29th Ave NE\, Minneapolis\, MN\, 55418\, United States
CATEGORIES:Events- All,Events- MPRB
GEO:45.0200505;-93.2397463
X-APPLE-STRUCTURED-LOCATION;VALUE=URI;X-ADDRESS=Audubon Park 1320 29th Ave NE Minneapolis MN 55418 United States;X-APPLE-RADIUS=500;X-TITLE=1320 29th Ave NE:geo:-93.2397463,45.0200505
END:VEVENT
BEGIN:VEVENT
DTSTART;TZID=America/Chicago:20220218T160000
DTEND;TZID=America/Chicago:20220218T190000
DTSTAMP:20260420T025021
CREATED:20220125T221741Z
LAST-MODIFIED:20220125T221741Z
UID:54696-1645200000-1645210800@www.minneapolisparks.org
SUMMARY:Senior Bingo!
DESCRIPTION:B-I-N-G-O! Come to Webber Park for an afternoon of fellowship and fun at our senior bingo. Come\, play\, and win fun prizes!Upon registration for this program\, participants agree to follow MPRB requirements related to face coverings and physical distancing. Face coverings are required indoors at all MPRB facilities\, unless otherwise specified by MPRB as part of athletics protocol. Some youth programs\, including childcare and preschool require participants to maintain physical distance.
URL:https://www.minneapolisparks.org/event-calendar/senior-bingo-2/
LOCATION:Webber Park\, 4300 Webber Parkway\, Minneapolis\, MN\, 55412\, United States
CATEGORIES:Events- All,Events- MPRB
GEO:45.034522;-93.291918
X-APPLE-STRUCTURED-LOCATION;VALUE=URI;X-ADDRESS=Webber Park 4300 Webber Parkway Minneapolis MN 55412 United States;X-APPLE-RADIUS=500;X-TITLE=4300 Webber Parkway:geo:-93.291918,45.034522
END:VEVENT
BEGIN:VEVENT
DTSTART;TZID=America/Chicago:20220226T103000
DTEND;TZID=America/Chicago:20220226T130000
DTSTAMP:20260420T025021
CREATED:20220224T214605Z
LAST-MODIFIED:20220224T214605Z
UID:55761-1645871400-1645880400@www.minneapolisparks.org
SUMMARY:Celebrate Black History Month
DESCRIPTION:Join us as we celebrate Black History Month. \nActivities include arts and crafts\, cookie making\, treats to go and much more.
URL:https://www.minneapolisparks.org/event-calendar/celebrate-black-history-month/
LOCATION:Harrison Park\, 503 N Irving Ave\, Minneapolis\, MN\, 55405\, United States
CATEGORIES:Events- All,Events- MPRB
GEO:44.9827416;-93.2996079
X-APPLE-STRUCTURED-LOCATION;VALUE=URI;X-ADDRESS=Harrison Park 503 N Irving Ave Minneapolis MN 55405 United States;X-APPLE-RADIUS=500;X-TITLE=503 N Irving Ave:geo:-93.2996079,44.9827416
END:VEVENT
BEGIN:VEVENT
DTSTART;TZID=America/Chicago:20220305T080000
DTEND;TZID=America/Chicago:20220305T080000
DTSTAMP:20260420T025021
CREATED:20220126T201428Z
LAST-MODIFIED:20220126T201428Z
UID:54779-1646467200-1646467200@www.minneapolisparks.org
SUMMARY:Minneapolis Polar Plunge & 5K
DESCRIPTION:
URL:https://www.minneapolisparks.org/event-calendar/minneapolis-polar-plunge-5k/
LOCATION:Bde Maka Ska\, Bde Maka Ska\, Minneapolis\, MN\, 55416\, United States
CATEGORIES:Events- All,Events- Non-MPRB
GEO:44.9421047;-93.3207807
X-APPLE-STRUCTURED-LOCATION;VALUE=URI;X-ADDRESS=Bde Maka Ska Bde Maka Ska Minneapolis MN 55416 United States;X-APPLE-RADIUS=500;X-TITLE=Bde Maka Ska:geo:-93.3207807,44.9421047
END:VEVENT
BEGIN:VEVENT
DTSTART;TZID=America/Chicago:20220306T150000
DTEND;TZID=America/Chicago:20220306T150000
DTSTAMP:20260420T025021
CREATED:20220126T201519Z
LAST-MODIFIED:20220126T201528Z
UID:54781-1646578800-1646578800@www.minneapolisparks.org
SUMMARY:US Ski Jr. Nationals Opening Ceremony
DESCRIPTION:
URL:https://www.minneapolisparks.org/event-calendar/us-ski-jr-nationals-opening-ceremony/
LOCATION:Father Hennepin Park\, 420 Main St SE\, Minneapolis\, MN\, 55414\, United States
CATEGORIES:Events- All,Events- Non-MPRB
GEO:44.9826582;-93.2513335
X-APPLE-STRUCTURED-LOCATION;VALUE=URI;X-ADDRESS=Father Hennepin Park 420 Main St SE Minneapolis MN 55414 United States;X-APPLE-RADIUS=500;X-TITLE=420 Main St SE:geo:-93.2513335,44.9826582
END:VEVENT
BEGIN:VEVENT
DTSTART;TZID=America/Chicago:20220319T083000
DTEND;TZID=America/Chicago:20220319T083000
DTSTAMP:20260420T025021
CREATED:20220126T201605Z
LAST-MODIFIED:20220126T201605Z
UID:54783-1647678600-1647678600@www.minneapolisparks.org
SUMMARY:Hot Dash
DESCRIPTION:
URL:https://www.minneapolisparks.org/event-calendar/hot-dash-3/
LOCATION:Boom Island Park\, 724 Sibley Street NE\, Minneapolis\, MN\, 55413\, United States
CATEGORIES:Events- All,Events- Non-MPRB
GEO:44.9927434;-93.2692589
X-APPLE-STRUCTURED-LOCATION;VALUE=URI;X-ADDRESS=Boom Island Park 724 Sibley Street NE Minneapolis MN 55413 United States;X-APPLE-RADIUS=500;X-TITLE=724 Sibley Street NE:geo:-93.2692589,44.9927434
END:VEVENT
BEGIN:VEVENT
DTSTART;TZID=America/Chicago:20220404T060000
DTEND;TZID=America/Chicago:20220404T220000
DTSTAMP:20260420T025021
CREATED:20220125T223302Z
LAST-MODIFIED:20220125T223302Z
UID:54711-1649052000-1649109600@www.minneapolisparks.org
SUMMARY:Bunny Trail
DESCRIPTION:Hop (or walk) the trail to spot all the eggs. At each laminated picture of an egg will be a stamp. Stamp your passport and once your passport is full you can stop by the Lyndale Farmstead Rec Center for your treat bag. You must pre register so we can get you your passport. The trail will be out for you to hunt anytime April 4th – April 13th. Treat bags will be ready for pick up anytime April 11th – April 15th from 3pm-9pm.
URL:https://www.minneapolisparks.org/event-calendar/bunny-trail/2022-04-04/
LOCATION:Lyndale Farmstead Park\, 3900 Bryant Ave S\, Minneapolis\, MN\, 55409\, United States
CATEGORIES:Events- All,Events- MPRB
GEO:44.9321181;-93.2914154
X-APPLE-STRUCTURED-LOCATION;VALUE=URI;X-ADDRESS=Lyndale Farmstead Park 3900 Bryant Ave S Minneapolis MN 55409 United States;X-APPLE-RADIUS=500;X-TITLE=3900 Bryant Ave S:geo:-93.2914154,44.9321181
END:VEVENT
BEGIN:VEVENT
DTSTART;TZID=America/Chicago:20220409T120000
DTEND;TZID=America/Chicago:20220409T150000
DTSTAMP:20260420T025021
CREATED:20220125T222643Z
LAST-MODIFIED:20220323T190028Z
UID:54702-1649505600-1649516400@www.minneapolisparks.org
SUMMARY:4th Annual Spring Egg Hunt
DESCRIPTION:Spring into some fun and come and join Farview Park and Hawthorne Neighborhood in our 3rd Annual Spring Egg Hunt. There will be fun springtime activities\, games\, giveaways\, food\, and an exciting egg hunt. This event is for all ages but activities are designed for ages 1 – 12. All families are welcome and pre-registration is not necessary. See you there!
URL:https://www.minneapolisparks.org/event-calendar/4th-annual-spring-egg-hunt-2/
LOCATION:Farview Park\, 621 N 29th Ave\, Minneapolis\, MN\, 55411\, United States
CATEGORIES:Events- All,Events- MPRB
GEO:45.0076966;-93.286445
X-APPLE-STRUCTURED-LOCATION;VALUE=URI;X-ADDRESS=Farview Park 621 N 29th Ave Minneapolis MN 55411 United States;X-APPLE-RADIUS=500;X-TITLE=621 N 29th Ave:geo:-93.286445,45.0076966
END:VEVENT
BEGIN:VEVENT
DTSTART;TZID=America/Chicago:20220414T170000
DTEND;TZID=America/Chicago:20220414T190000
DTSTAMP:20260420T025021
CREATED:20220125T222922Z
LAST-MODIFIED:20220125T222922Z
UID:54706-1649955600-1649962800@www.minneapolisparks.org
SUMMARY:Bunny Bags
DESCRIPTION: Looking for family friendly activities to do during Spring Break? Pick-up a Spring Break Bunny Bag to enjoy at home! Cookie decorating\, a craft project\, planting seeds and supplies for an egg hunt will all be part of the fun. Perfect for 4 people. Sign up for your pick up time!
URL:https://www.minneapolisparks.org/event-calendar/bunny-bags/
LOCATION:Folwell Park\, 1615 N Dowling Ave\, Minneapolis\, MN\, 55412\, United States
CATEGORIES:Events- All,Events- MPRB
GEO:45.0235514;-93.3002305
X-APPLE-STRUCTURED-LOCATION;VALUE=URI;X-ADDRESS=Folwell Park 1615 N Dowling Ave Minneapolis MN 55412 United States;X-APPLE-RADIUS=500;X-TITLE=1615 N Dowling Ave:geo:-93.3002305,45.0235514
END:VEVENT
BEGIN:VEVENT
DTSTART;TZID=America/Chicago:20220415T170000
DTEND;TZID=America/Chicago:20220415T190000
DTSTAMP:20260420T025021
CREATED:20220125T223429Z
LAST-MODIFIED:20220125T223429Z
UID:54724-1650042000-1650049200@www.minneapolisparks.org
SUMMARY:Egg Hunt- Webber Park
DESCRIPTION:Bring your family and join us for a fun evening outside with your friends. Bring a basket to collect eggs\, design your own eggs\, do some fun arts and crafts\, play games and earn prizes .
URL:https://www.minneapolisparks.org/event-calendar/egg-hunt-webber-park/
LOCATION:Webber Park\, 4300 Webber Parkway\, Minneapolis\, MN\, 55412\, United States
CATEGORIES:Events- All,Events- MPRB
GEO:45.034522;-93.291918
X-APPLE-STRUCTURED-LOCATION;VALUE=URI;X-ADDRESS=Webber Park 4300 Webber Parkway Minneapolis MN 55412 United States;X-APPLE-RADIUS=500;X-TITLE=4300 Webber Parkway:geo:-93.291918,45.034522
END:VEVENT
BEGIN:VEVENT
DTSTART;TZID=America/Chicago:20220416T103000
DTEND;TZID=America/Chicago:20220416T120000
DTSTAMP:20260420T025021
CREATED:20220125T222814Z
LAST-MODIFIED:20220125T222814Z
UID:54704-1650105000-1650110400@www.minneapolisparks.org
SUMMARY:Annual Spring Egg Hunt - Van Cleve Park
DESCRIPTION:Hop on over for the annual Spring Egg hunt at Van Cleve Park! There will be a fantastic egg hunt in our beautiful park for various age levels. Age-structured hunts will be held at 11 and 11:45. Enjoy snacks\, crafts and baskets\, tissue paper flowers and spin art!
URL:https://www.minneapolisparks.org/event-calendar/annual-spring-egg-hunt-van-cleve-park/
LOCATION:Van Cleve Park\, 901 15th Ave SE\, Minneapolis\, MN\, 55414\, United States
CATEGORIES:Events- All,Events- MPRB
GEO:44.9858651;-93.2311356
X-APPLE-STRUCTURED-LOCATION;VALUE=URI;X-ADDRESS=Van Cleve Park 901 15th Ave SE Minneapolis MN 55414 United States;X-APPLE-RADIUS=500;X-TITLE=901 15th Ave SE:geo:-93.2311356,44.9858651
END:VEVENT
BEGIN:VEVENT
DTSTART;TZID=America/Chicago:20220416T120000
DTEND;TZID=America/Chicago:20220416T140000
DTSTAMP:20260420T025021
CREATED:20220125T223026Z
LAST-MODIFIED:20220125T223026Z
UID:54709-1650110400-1650117600@www.minneapolisparks.org
SUMMARY:Bunny Party and Egg Hunt
DESCRIPTION:Bunny Party and Egg Hunt. Celebrate the beginning of spring at Windom Park. Come on down for some treats and fun entertainment. We will have games\, Bounce House\, children’s egg hunt and more! Ages 7-12. Audubon Park will host the Bunny Party for kids ages 6 and under from 9am-11am. Windom will host ages 7-12 from 12pm-2pm.
URL:https://www.minneapolisparks.org/event-calendar/bunny-party-and-egg-hunt-5/
LOCATION:Windom NE\, 2251 Hayes St NE\, Minneapolis\, MN\, 55418\, United States
CATEGORIES:Events- All,Events- MPRB
GEO:45.0095382;-93.2421783
X-APPLE-STRUCTURED-LOCATION;VALUE=URI;X-ADDRESS=Windom NE 2251 Hayes St NE Minneapolis MN 55418 United States;X-APPLE-RADIUS=500;X-TITLE=2251 Hayes St NE:geo:-93.2421783,45.0095382
END:VEVENT
BEGIN:VEVENT
DTSTART;TZID=America/Chicago:20220416T130000
DTEND;TZID=America/Chicago:20220416T150000
DTSTAMP:20260420T025021
CREATED:20220125T223606Z
LAST-MODIFIED:20220408T160339Z
UID:54726-1650114000-1650121200@www.minneapolisparks.org
SUMMARY:Spring Egg Hunt
DESCRIPTION:Spring into spring Egg Hunt. There will be fun springtime activities\, games\, giveaways\, exciting egg hunt. This event is for all ages but activities are designed for ages 1 – 12. All families are welcome and pre-registration is not necessary. See you there!
URL:https://www.minneapolisparks.org/event-calendar/spring-egg-hunt/
LOCATION:Harrison Park\, 503 N Irving Ave\, Minneapolis\, MN\, 55405\, United States
CATEGORIES:Events- All,Events- MPRB
GEO:44.9827416;-93.2996079
X-APPLE-STRUCTURED-LOCATION;VALUE=URI;X-ADDRESS=Harrison Park 503 N Irving Ave Minneapolis MN 55405 United States;X-APPLE-RADIUS=500;X-TITLE=503 N Irving Ave:geo:-93.2996079,44.9827416
END:VEVENT
BEGIN:VEVENT
DTSTART;TZID=America/Chicago:20220423T093000
DTEND;TZID=America/Chicago:20220423T120000
DTSTAMP:20260420T025021
CREATED:20220125T175755Z
LAST-MODIFIED:20220125T175755Z
UID:54649-1650706200-1650715200@www.minneapolisparks.org
SUMMARY:2022 Earth Day Cleanup
DESCRIPTION:https://www.minneapolisparks.org/activities__events/events/earth_day_cleanup/
URL:https://www.minneapolisparks.org/event-calendar/2022-earth-day-cleanup/
LOCATION:Locations throughout Minneapolis\, Minneapolis\, MN\, 55401\, United States
CATEGORIES:Events- All,Events- MPRB
GEO:44.9706756;-93.331518
END:VEVENT
BEGIN:VEVENT
DTSTART;TZID=America/Chicago:20220428T180000
DTEND;TZID=America/Chicago:20220428T200000
DTSTAMP:20260420T025021
CREATED:20220425T191849Z
LAST-MODIFIED:20220427T185435Z
UID:57488-1651168800-1651176000@www.minneapolisparks.org
SUMMARY:Community Advisory Committee (CAC) Meeting #10\, Cedar Lake-Lake of the Isles Master Plan
DESCRIPTION:The Community Advisory Committee (CAC) will review and discuss the draft vision and guiding principles language\, plus additional topics mentioned within community feedback\, including parking. Attendees are encouraged to social distance and wear a mask at the event. \nNote: There will be social time from 5:30-6:00pm
URL:https://www.minneapolisparks.org/event-calendar/community-advisory-committee-cac-meeting-10-cedar-lake-lake-of-the-isles-master-plan/
LOCATION:Mary Merrill Minneapolis Park & Recreation Board Headquarters Board Room\, 2117 West River Road N\, Minneapolis\, MN\, 55411\, United States
CATEGORIES:Events- All,Public Meetings
GEO:45.0008334;-93.2780339
X-APPLE-STRUCTURED-LOCATION;VALUE=URI;X-ADDRESS=Mary Merrill Minneapolis Park & Recreation Board Headquarters Board Room 2117 West River Road N Minneapolis MN 55411 United States;X-APPLE-RADIUS=500;X-TITLE=2117 West River Road N:geo:-93.2780339,45.0008334
END:VEVENT
BEGIN:VEVENT
DTSTART;TZID=America/Chicago:20220430T130000
DTEND;TZID=America/Chicago:20220430T143000
DTSTAMP:20260420T025021
CREATED:20220425T191943Z
LAST-MODIFIED:20220425T191943Z
UID:57490-1651323600-1651329000@www.minneapolisparks.org
SUMMARY:Cedar-Isles Master Plan Informational Open House
DESCRIPTION:The Minneapolis Park and Recreation Board staff and the Cedar-Isles-Dean Neighborhood Association invite you to attend a presentation and discussion about the Cedar Lake-Lake of the Isles Master Plan process and initial park concepts. The discussion will include how the process aims to address lake water quality\, an issue of intense interest to residents. Attendees are encouraged to social distance and wear a mask at the event. Short presentation begins at 1:30pm
URL:https://www.minneapolisparks.org/event-calendar/cedar-isles-master-plan-informational-open-house/
LOCATION:Kenwood Community Center\, 2101 W Franklin Ave\, Minneapolis\, MN\, 55405\, United States
CATEGORIES:Events- All,Public Meetings
GEO:44.9623941;-93.3072189
X-APPLE-STRUCTURED-LOCATION;VALUE=URI;X-ADDRESS=Kenwood Community Center 2101 W Franklin Ave Minneapolis MN 55405 United States;X-APPLE-RADIUS=500;X-TITLE=2101 W Franklin Ave:geo:-93.3072189,44.9623941
END:VEVENT
BEGIN:VEVENT
DTSTART;TZID=America/Chicago:20220501T093000
DTEND;TZID=America/Chicago:20220501T093000
DTSTAMP:20260420T025021
CREATED:20220325T165228Z
LAST-MODIFIED:20220325T165228Z
UID:56468-1651397400-1651397400@www.minneapolisparks.org
SUMMARY:Walk MS: Twin Cities
DESCRIPTION:
URL:https://www.minneapolisparks.org/event-calendar/walk-ms-twin-cities/
LOCATION:Minnehaha Park\, Minneapolis\, MN\, United States
CATEGORIES:Events- All,Events- Non-MPRB
GEO:44.9161006;-93.2109865
END:VEVENT
BEGIN:VEVENT
DTSTART;TZID=America/Chicago:20220504T183000
DTEND;TZID=America/Chicago:20220504T183000
DTSTAMP:20260420T025021
CREATED:20220425T192953Z
LAST-MODIFIED:20220425T193419Z
UID:57500-1651689000-1651689000@www.minneapolisparks.org
SUMMARY:Public Hearing for Columbia Park Playground Improvements
DESCRIPTION:The Minneapolis Park and Recreation Board (MPRB) is holding a public hearing for concept approval of playground improvements at Columbia Park. Playground equipment was removed in 2020 due to the Columbia Golf Course and Park Stormwater BMPs project. The equipment being replaced is focused on kids ages 2-5. \nThe hearing is the culmination of 6 months of planning and community engagement. Please join us! \nNote: For reasonable modification because of a disability or language interpretation please call Cindy Anderson at (612) 230-6472 (or the Minnesota Relay System at 711) or email planning@minneapolisparks.org in advance of the meeting so arrangements can be made prior to the meeting.
URL:https://www.minneapolisparks.org/event-calendar/public-hearing-for-columbia-park-playground-improvements/
LOCATION:Mary Merrill Minneapolis Park & Recreation Board Headquarters Board Room\, 2117 West River Road N\, Minneapolis\, MN\, 55411\, United States
CATEGORIES:Events- All,Public Meetings
GEO:45.0008334;-93.2780339
X-APPLE-STRUCTURED-LOCATION;VALUE=URI;X-ADDRESS=Mary Merrill Minneapolis Park & Recreation Board Headquarters Board Room 2117 West River Road N Minneapolis MN 55411 United States;X-APPLE-RADIUS=500;X-TITLE=2117 West River Road N:geo:-93.2780339,45.0008334
END:VEVENT
BEGIN:VEVENT
DTSTART;TZID=America/Chicago:20220507T090000
DTEND;TZID=America/Chicago:20220507T090000
DTSTAMP:20260420T025021
CREATED:20220325T165413Z
LAST-MODIFIED:20220325T165413Z
UID:56470-1651914000-1651914000@www.minneapolisparks.org
SUMMARY:Great Strides Walk
DESCRIPTION:
URL:https://www.minneapolisparks.org/event-calendar/great-strides-walk/
LOCATION:Bde Maka Ska\, Bde Maka Ska\, Minneapolis\, MN\, 55416\, United States
CATEGORIES:Events- All,Events- Non-MPRB
GEO:44.9421047;-93.3207807
X-APPLE-STRUCTURED-LOCATION;VALUE=URI;X-ADDRESS=Bde Maka Ska Bde Maka Ska Minneapolis MN 55416 United States;X-APPLE-RADIUS=500;X-TITLE=Bde Maka Ska:geo:-93.3207807,44.9421047
END:VEVENT
BEGIN:VEVENT
DTSTART;TZID=America/Chicago:20220507T090000
DTEND;TZID=America/Chicago:20220507T090000
DTSTAMP:20260420T025021
CREATED:20220325T165808Z
LAST-MODIFIED:20220325T165808Z
UID:56475-1651914000-1651914000@www.minneapolisparks.org
SUMMARY:Abria Run 5K/10K
DESCRIPTION:
URL:https://www.minneapolisparks.org/event-calendar/abria-run-5k-10k/
LOCATION:Lake Harriet\, Minneapolis\, MN\, United States
CATEGORIES:Events- All,Events- Non-MPRB
GEO:44.927901;-93.3082473
END:VEVENT
BEGIN:VEVENT
DTSTART;TZID=America/Chicago:20220507T120000
DTEND;TZID=America/Chicago:20220507T120000
DTSTAMP:20260420T025021
CREATED:20220325T165710Z
LAST-MODIFIED:20220325T165710Z
UID:56472-1651924800-1651924800@www.minneapolisparks.org
SUMMARY:Duck Race & Creek Cleanup
DESCRIPTION:
URL:https://www.minneapolisparks.org/event-calendar/duck-race-creek-cleanup/
LOCATION:Minnehaha Creek Park\, 51st Street West & West Minnehaha Parkway\, Minneapolis\, MN\, 55419\, United States
CATEGORIES:Events- All,Events- Non-MPRB
GEO:44.9106579;-93.298474
X-APPLE-STRUCTURED-LOCATION;VALUE=URI;X-ADDRESS=Minnehaha Creek Park 51st Street West & West Minnehaha Parkway Minneapolis MN 55419 United States;X-APPLE-RADIUS=500;X-TITLE=51st Street West & West Minnehaha Parkway:geo:-93.298474,44.9106579
END:VEVENT
END:VCALENDAR