BEGIN:VCALENDAR
VERSION:2.0
PRODID:-//Minneapolis Park &amp; Recreation Board - ECPv6.15.20//NONSGML v1.0//EN
CALSCALE:GREGORIAN
METHOD:PUBLISH
X-WR-CALNAME:Minneapolis Park &amp; Recreation Board
X-ORIGINAL-URL:https://www.minneapolisparks.org
X-WR-CALDESC:Events for Minneapolis Park &amp; Recreation Board
REFRESH-INTERVAL;VALUE=DURATION:PT1H
X-Robots-Tag:noindex
X-PUBLISHED-TTL:PT1H
BEGIN:VTIMEZONE
TZID:America/Chicago
BEGIN:DAYLIGHT
TZOFFSETFROM:-0600
TZOFFSETTO:-0500
TZNAME:CDT
DTSTART:20180311T080000
END:DAYLIGHT
BEGIN:STANDARD
TZOFFSETFROM:-0500
TZOFFSETTO:-0600
TZNAME:CST
DTSTART:20181104T070000
END:STANDARD
BEGIN:DAYLIGHT
TZOFFSETFROM:-0600
TZOFFSETTO:-0500
TZNAME:CDT
DTSTART:20190310T080000
END:DAYLIGHT
BEGIN:STANDARD
TZOFFSETFROM:-0500
TZOFFSETTO:-0600
TZNAME:CST
DTSTART:20191103T070000
END:STANDARD
BEGIN:DAYLIGHT
TZOFFSETFROM:-0600
TZOFFSETTO:-0500
TZNAME:CDT
DTSTART:20200308T080000
END:DAYLIGHT
BEGIN:STANDARD
TZOFFSETFROM:-0500
TZOFFSETTO:-0600
TZNAME:CST
DTSTART:20201101T070000
END:STANDARD
END:VTIMEZONE
BEGIN:VEVENT
DTSTART;TZID=America/Chicago:20190727T193000
DTEND;TZID=America/Chicago:20190727T193000
DTSTAMP:20260422T003109
CREATED:20191216T183553Z
LAST-MODIFIED:20191216T183553Z
UID:40141-1564255800-1564255800@www.minneapolisparks.org
SUMMARY:Minneapolis Pops Orchestra
DESCRIPTION:live\, dynamic orchestra
URL:https://www.minneapolisparks.org/event-calendar/minneapolis-pops-orchestra-33/
LOCATION:Lake Harriet Bandshell\, Minneapolis\, MN\, United States
CATEGORIES:Music in the Parks
GEO:44.927901;-93.3082473
END:VEVENT
BEGIN:VEVENT
DTSTART;TZID=America/Chicago:20190728T140000
DTEND;TZID=America/Chicago:20190728T140000
DTSTAMP:20260422T003109
CREATED:20191216T183553Z
LAST-MODIFIED:20191216T183553Z
UID:40145-1564322400-1564322400@www.minneapolisparks.org
SUMMARY:Sparrows Rising
DESCRIPTION:indigo girl style uplifiting folk rock
URL:https://www.minneapolisparks.org/event-calendar/sparrows-rising-2/
LOCATION:Lake Harriet Bandshell\, Minneapolis\, MN\, United States
CATEGORIES:Music in the Parks
GEO:44.927901;-93.3082473
END:VEVENT
BEGIN:VEVENT
DTSTART;TZID=America/Chicago:20190728T173000
DTEND;TZID=America/Chicago:20190728T173000
DTSTAMP:20260422T003109
CREATED:20191216T183554Z
LAST-MODIFIED:20191216T183554Z
UID:40146-1564335000-1564335000@www.minneapolisparks.org
SUMMARY:Minneapolis Pops Orchestra
DESCRIPTION:live\, dynamic orchestra
URL:https://www.minneapolisparks.org/event-calendar/minneapolis-pops-orchestra-34/
LOCATION:Lake Harriet Bandshell\, Minneapolis\, MN\, United States
CATEGORIES:Music in the Parks
GEO:44.927901;-93.3082473
END:VEVENT
BEGIN:VEVENT
DTSTART;TZID=America/Chicago:20190729T190000
DTEND;TZID=America/Chicago:20190729T190000
DTSTAMP:20260422T003109
CREATED:20191216T183555Z
LAST-MODIFIED:20191216T183555Z
UID:40149-1564426800-1564426800@www.minneapolisparks.org
SUMMARY:TBA: Special Guest
DESCRIPTION:
URL:https://www.minneapolisparks.org/event-calendar/tba-special-guest/
LOCATION:Mississippi Riverfront\, East and West banks of the Mississippi River between & 35W bridges\, Ave N\, Minneapolis\, MN\, 55401\, United States
CATEGORIES:Music in the Parks
GEO:44.979517;-93.2587812
X-APPLE-STRUCTURED-LOCATION;VALUE=URI;X-ADDRESS=Mississippi Riverfront East and West banks of the Mississippi River between & 35W bridges Ave N Minneapolis MN 55401 United States;X-APPLE-RADIUS=500;X-TITLE=East and West banks of the Mississippi River between & 35W bridges\, Ave N:geo:-93.2587812,44.979517
END:VEVENT
BEGIN:VEVENT
DTSTART;TZID=America/Chicago:20190729T193000
DTEND;TZID=America/Chicago:20190729T193000
DTSTAMP:20260422T003109
CREATED:20191216T183555Z
LAST-MODIFIED:20191216T183555Z
UID:40150-1564428600-1564428600@www.minneapolisparks.org
SUMMARY:Sherwin Linton
DESCRIPTION:classic country
URL:https://www.minneapolisparks.org/event-calendar/sherwin-linton-3/
LOCATION:Lake Harriet Bandshell\, Minneapolis\, MN\, United States
CATEGORIES:Music in the Parks
GEO:44.927901;-93.3082473
END:VEVENT
BEGIN:VEVENT
DTSTART;TZID=America/Chicago:20190730T183000
DTEND;TZID=America/Chicago:20190730T183000
DTSTAMP:20260422T003109
CREATED:20191216T183556Z
LAST-MODIFIED:20191216T183556Z
UID:40153-1564511400-1564511400@www.minneapolisparks.org
SUMMARY:lin
DESCRIPTION:Genre: acoustic indie artist \nMore InformationGet Directions
URL:https://www.minneapolisparks.org/event-calendar/lin/
LOCATION:Bryant Square Park\, 3101 Bryant Ave S\, Minneapolis\, MN\, 55408\, United States
CATEGORIES:Music in the Parks
GEO:44.9461045;-93.2903539
X-APPLE-STRUCTURED-LOCATION;VALUE=URI;X-ADDRESS=Bryant Square Park 3101 Bryant Ave S Minneapolis MN 55408 United States;X-APPLE-RADIUS=500;X-TITLE=3101 Bryant Ave S:geo:-93.2903539,44.9461045
END:VEVENT
BEGIN:VEVENT
DTSTART;TZID=America/Chicago:20190730T190000
DTEND;TZID=America/Chicago:20190730T190000
DTSTAMP:20260422T003109
CREATED:20191216T183556Z
LAST-MODIFIED:20191216T183556Z
UID:40154-1564513200-1564513200@www.minneapolisparks.org
SUMMARY:Bluedog
DESCRIPTION:native american original blues
URL:https://www.minneapolisparks.org/event-calendar/bluedog-3/
LOCATION:Father Hennepin Bluff Park\, Minneapolis\, MN\, United States
CATEGORIES:Music in the Parks
GEO:44.9826582;-93.2513335
END:VEVENT
BEGIN:VEVENT
DTSTART;TZID=America/Chicago:20190730T193000
DTEND;TZID=America/Chicago:20190730T193000
DTSTAMP:20260422T003109
CREATED:20191216T183556Z
LAST-MODIFIED:20191216T183556Z
UID:40155-1564515000-1564515000@www.minneapolisparks.org
SUMMARY:Civic Orchestra of Minneapolis
DESCRIPTION:orchestral favorites by the lake
URL:https://www.minneapolisparks.org/event-calendar/civic-orchestra-of-minneapolis-3/
LOCATION:Lake Harriet Bandshell\, Minneapolis\, MN\, United States
CATEGORIES:Music in the Parks
GEO:44.927901;-93.3082473
END:VEVENT
BEGIN:VEVENT
DTSTART;TZID=America/Chicago:20190731T190000
DTEND;TZID=America/Chicago:20190731T190000
DTSTAMP:20260422T003109
CREATED:20191216T183557Z
LAST-MODIFIED:20191216T183557Z
UID:40159-1564599600-1564599600@www.minneapolisparks.org
SUMMARY:Eleck Brooks and the Hardway
DESCRIPTION:future blues\, love and dancing
URL:https://www.minneapolisparks.org/event-calendar/eleck-brooks-and-the-hardway/
LOCATION:Minnehaha Regional Park\, 4801 South Minnehaha Drive\, Minneapolis\, MN\, 55417\, United States
CATEGORIES:Music in the Parks
GEO:44.9161006;-93.2109865
X-APPLE-STRUCTURED-LOCATION;VALUE=URI;X-ADDRESS=Minnehaha Regional Park 4801 South Minnehaha Drive Minneapolis MN 55417 United States;X-APPLE-RADIUS=500;X-TITLE=4801 South Minnehaha Drive:geo:-93.2109865,44.9161006
END:VEVENT
BEGIN:VEVENT
DTSTART;TZID=America/Chicago:20190801T183000
DTEND;TZID=America/Chicago:20190801T183000
DTSTAMP:20260422T003109
CREATED:20191216T183558Z
LAST-MODIFIED:20191216T183558Z
UID:40161-1564684200-1564684200@www.minneapolisparks.org
SUMMARY:Canssandra Cole
DESCRIPTION:indie\, pop\, soulful\, energetic\, fluid
URL:https://www.minneapolisparks.org/event-calendar/canssandra-cole/
LOCATION:Bryant Square Park\, 3101 Bryant Ave S\, Minneapolis\, MN\, 55408\, United States
CATEGORIES:Music in the Parks
GEO:44.9461045;-93.2903539
X-APPLE-STRUCTURED-LOCATION;VALUE=URI;X-ADDRESS=Bryant Square Park 3101 Bryant Ave S Minneapolis MN 55408 United States;X-APPLE-RADIUS=500;X-TITLE=3101 Bryant Ave S:geo:-93.2903539,44.9461045
END:VEVENT
BEGIN:VEVENT
DTSTART;TZID=America/Chicago:20190801T190000
DTEND;TZID=America/Chicago:20190801T190000
DTSTAMP:20260422T003109
CREATED:20191216T183559Z
LAST-MODIFIED:20191216T183559Z
UID:40162-1564686000-1564686000@www.minneapolisparks.org
SUMMARY:Mother Banjo
DESCRIPTION:soulful folk and americana
URL:https://www.minneapolisparks.org/event-calendar/mother-banjo-3/
LOCATION:Minnehaha Regional Park\, 4801 South Minnehaha Drive\, Minneapolis\, MN\, 55417\, United States
CATEGORIES:Music in the Parks
GEO:44.9161006;-93.2109865
X-APPLE-STRUCTURED-LOCATION;VALUE=URI;X-ADDRESS=Minnehaha Regional Park 4801 South Minnehaha Drive Minneapolis MN 55417 United States;X-APPLE-RADIUS=500;X-TITLE=4801 South Minnehaha Drive:geo:-93.2109865,44.9161006
END:VEVENT
BEGIN:VEVENT
DTSTART;TZID=America/Chicago:20190801T193000
DTEND;TZID=America/Chicago:20190801T193000
DTSTAMP:20260422T003109
CREATED:20191216T183559Z
LAST-MODIFIED:20191216T183559Z
UID:40163-1564687800-1564687800@www.minneapolisparks.org
SUMMARY:The Undergroove
DESCRIPTION:original funk\, soul and groove band
URL:https://www.minneapolisparks.org/event-calendar/the-undergroove-3/
LOCATION:Lake Harriet Bandshell\, Minneapolis\, MN\, United States
CATEGORIES:Music in the Parks
GEO:44.927901;-93.3082473
END:VEVENT
BEGIN:VEVENT
DTSTART;TZID=America/Chicago:20190802T190000
DTEND;TZID=America/Chicago:20190802T190000
DTSTAMP:20260422T003109
CREATED:20191216T183559Z
LAST-MODIFIED:20191216T183559Z
UID:40165-1564772400-1564772400@www.minneapolisparks.org
SUMMARY:Main Street Bayou
DESCRIPTION:new orleans piano blues funk
URL:https://www.minneapolisparks.org/event-calendar/main-street-bayou/
LOCATION:Minnehaha Regional Park\, 4801 South Minnehaha Drive\, Minneapolis\, MN\, 55417\, United States
CATEGORIES:Music in the Parks
GEO:44.9161006;-93.2109865
X-APPLE-STRUCTURED-LOCATION;VALUE=URI;X-ADDRESS=Minnehaha Regional Park 4801 South Minnehaha Drive Minneapolis MN 55417 United States;X-APPLE-RADIUS=500;X-TITLE=4801 South Minnehaha Drive:geo:-93.2109865,44.9161006
END:VEVENT
BEGIN:VEVENT
DTSTART;TZID=America/Chicago:20190802T193000
DTEND;TZID=America/Chicago:20190802T193000
DTSTAMP:20260422T003109
CREATED:20191216T183600Z
LAST-MODIFIED:20191216T183600Z
UID:40166-1564774200-1564774200@www.minneapolisparks.org
SUMMARY:STAR TRIBUNE
DESCRIPTION:
URL:https://www.minneapolisparks.org/event-calendar/star-tribune/
LOCATION:Lake Harriet Bandshell\, Minneapolis\, MN\, United States
CATEGORIES:Music in the Parks
GEO:44.927901;-93.3082473
END:VEVENT
BEGIN:VEVENT
DTSTART;TZID=America/Chicago:20190803T193000
DTEND;TZID=America/Chicago:20190803T193000
DTSTAMP:20260422T003109
CREATED:20191216T183602Z
LAST-MODIFIED:20191216T183602Z
UID:40174-1564860600-1564860600@www.minneapolisparks.org
SUMMARY:Pan-Handlers Steel Drum Band
DESCRIPTION:instrumental covers on steel drum
URL:https://www.minneapolisparks.org/event-calendar/pan-handlers-steel-drum-band-3/
LOCATION:Lake Harriet Bandshell\, Minneapolis\, MN\, United States
CATEGORIES:Music in the Parks
GEO:44.927901;-93.3082473
END:VEVENT
BEGIN:VEVENT
DTSTART;TZID=America/Chicago:20190804T140000
DTEND;TZID=America/Chicago:20190804T140000
DTSTAMP:20260422T003109
CREATED:20191216T183604Z
LAST-MODIFIED:20191216T183604Z
UID:40178-1564927200-1564927200@www.minneapolisparks.org
SUMMARY:Siama's Congo Music
DESCRIPTION:feel-good sounds from Africa
URL:https://www.minneapolisparks.org/event-calendar/siamas-congo-music-2/
LOCATION:Lake Harriet Bandshell\, Minneapolis\, MN\, United States
CATEGORIES:Music in the Parks
GEO:44.927901;-93.3082473
END:VEVENT
BEGIN:VEVENT
DTSTART;TZID=America/Chicago:20190804T173000
DTEND;TZID=America/Chicago:20190804T173000
DTSTAMP:20260422T003109
CREATED:20191216T183604Z
LAST-MODIFIED:20191216T183604Z
UID:40179-1564939800-1564939800@www.minneapolisparks.org
SUMMARY:Capri Big Band
DESCRIPTION:big band swing band
URL:https://www.minneapolisparks.org/event-calendar/capri-big-band-2/
LOCATION:Lake Harriet Bandshell\, Minneapolis\, MN\, United States
CATEGORIES:Music in the Parks
GEO:44.927901;-93.3082473
END:VEVENT
BEGIN:VEVENT
DTSTART;TZID=America/Chicago:20190805T190000
DTEND;TZID=America/Chicago:20190805T190000
DTSTAMP:20260422T003109
CREATED:20191216T183606Z
LAST-MODIFIED:20191216T183606Z
UID:40182-1565031600-1565031600@www.minneapolisparks.org
SUMMARY:Matt Jennings
DESCRIPTION:solo guitar instrumental international fusion
URL:https://www.minneapolisparks.org/event-calendar/matt-jennings/
LOCATION:Nicollet Island\, Nicollet Island\, Minneapolis\, MN\, 55401\, United States
CATEGORIES:Music in the Parks
GEO:44.9874602;-93.2648511
X-APPLE-STRUCTURED-LOCATION;VALUE=URI;X-ADDRESS=Nicollet Island Nicollet Island Minneapolis MN 55401 United States;X-APPLE-RADIUS=500;X-TITLE=Nicollet Island:geo:-93.2648511,44.9874602
END:VEVENT
BEGIN:VEVENT
DTSTART;TZID=America/Chicago:20190805T193000
DTEND;TZID=America/Chicago:20190805T193000
DTSTAMP:20260422T003109
CREATED:20191216T183606Z
LAST-MODIFIED:20191216T183606Z
UID:40183-1565033400-1565033400@www.minneapolisparks.org
SUMMARY:Sound of Simon
DESCRIPTION:tribute to simon & garfunkel
URL:https://www.minneapolisparks.org/event-calendar/sound-of-simon-2/
LOCATION:Lake Harriet Bandshell\, Minneapolis\, MN\, United States
CATEGORIES:Music in the Parks
GEO:44.927901;-93.3082473
END:VEVENT
BEGIN:VEVENT
DTSTART;TZID=America/Chicago:20190806T183000
DTEND;TZID=America/Chicago:20190806T183000
DTSTAMP:20260422T003109
CREATED:20191216T183608Z
LAST-MODIFIED:20191216T183608Z
UID:40188-1565116200-1565116200@www.minneapolisparks.org
SUMMARY:City of Lakes Community Band
DESCRIPTION:Genre: concert favorites \nMore InformationGet Directions
URL:https://www.minneapolisparks.org/event-calendar/city-of-lakes-community-band/
LOCATION:Bryant Square Park\, 3101 Bryant Ave S\, Minneapolis\, MN\, 55408\, United States
CATEGORIES:Music in the Parks
GEO:44.9461045;-93.2903539
X-APPLE-STRUCTURED-LOCATION;VALUE=URI;X-ADDRESS=Bryant Square Park 3101 Bryant Ave S Minneapolis MN 55408 United States;X-APPLE-RADIUS=500;X-TITLE=3101 Bryant Ave S:geo:-93.2903539,44.9461045
END:VEVENT
BEGIN:VEVENT
DTSTART;TZID=America/Chicago:20190806T190000
DTEND;TZID=America/Chicago:20190806T190000
DTSTAMP:20260422T003109
CREATED:20191216T183608Z
LAST-MODIFIED:20191216T183608Z
UID:40189-1565118000-1565118000@www.minneapolisparks.org
SUMMARY:Wax Lead
DESCRIPTION:post-punk soundscapes and ballads
URL:https://www.minneapolisparks.org/event-calendar/wax-lead/
LOCATION:Father Hennepin Bluff Park\, Minneapolis\, MN\, United States
CATEGORIES:Music in the Parks
GEO:44.9826582;-93.2513335
END:VEVENT
BEGIN:VEVENT
DTSTART;TZID=America/Chicago:20190806T193000
DTEND;TZID=America/Chicago:20190806T193000
DTSTAMP:20260422T003109
CREATED:20191216T183608Z
LAST-MODIFIED:20191216T183608Z
UID:40190-1565119800-1565119800@www.minneapolisparks.org
SUMMARY:Kenwood Symphony Orchestra
DESCRIPTION:community orchestra playing classical music
URL:https://www.minneapolisparks.org/event-calendar/kenwood-symphony-orchestra-4/
LOCATION:Lake Harriet Bandshell\, Minneapolis\, MN\, United States
CATEGORIES:Music in the Parks
GEO:44.927901;-93.3082473
END:VEVENT
BEGIN:VEVENT
DTSTART;TZID=America/Chicago:20190807T190000
DTEND;TZID=America/Chicago:20190807T190000
DTSTAMP:20260422T003109
CREATED:20191216T183611Z
LAST-MODIFIED:20191216T183611Z
UID:40196-1565204400-1565204400@www.minneapolisparks.org
SUMMARY:Twin Cities Mobile Jazz Project
DESCRIPTION:improvisational jazz\, family friendly
URL:https://www.minneapolisparks.org/event-calendar/twin-cities-mobile-jazz-project-6/
LOCATION:Minnehaha Regional Park\, 4801 South Minnehaha Drive\, Minneapolis\, MN\, 55417\, United States
CATEGORIES:Music in the Parks
GEO:44.9161006;-93.2109865
X-APPLE-STRUCTURED-LOCATION;VALUE=URI;X-ADDRESS=Minnehaha Regional Park 4801 South Minnehaha Drive Minneapolis MN 55417 United States;X-APPLE-RADIUS=500;X-TITLE=4801 South Minnehaha Drive:geo:-93.2109865,44.9161006
END:VEVENT
BEGIN:VEVENT
DTSTART;TZID=America/Chicago:20190808T183000
DTEND;TZID=America/Chicago:20190808T183000
DTSTAMP:20260422T003109
CREATED:20191216T183613Z
LAST-MODIFIED:20191216T183613Z
UID:40204-1565289000-1565289000@www.minneapolisparks.org
SUMMARY:Percolators Band
DESCRIPTION:fun 60’s rock harmony vocals
URL:https://www.minneapolisparks.org/event-calendar/percolators-band-2/
LOCATION:Bryant Square Park\, 3101 Bryant Ave S\, Minneapolis\, MN\, 55408\, United States
CATEGORIES:Music in the Parks
GEO:44.9461045;-93.2903539
X-APPLE-STRUCTURED-LOCATION;VALUE=URI;X-ADDRESS=Bryant Square Park 3101 Bryant Ave S Minneapolis MN 55408 United States;X-APPLE-RADIUS=500;X-TITLE=3101 Bryant Ave S:geo:-93.2903539,44.9461045
END:VEVENT
BEGIN:VEVENT
DTSTART;TZID=America/Chicago:20190808T190000
DTEND;TZID=America/Chicago:20190808T190000
DTSTAMP:20260422T003109
CREATED:20191216T183613Z
LAST-MODIFIED:20191216T183613Z
UID:40205-1565290800-1565290800@www.minneapolisparks.org
SUMMARY:Handsome Midnight
DESCRIPTION:alternative rock with class
URL:https://www.minneapolisparks.org/event-calendar/handsome-midnight-3/
LOCATION:Minnehaha Regional Park\, 4801 South Minnehaha Drive\, Minneapolis\, MN\, 55417\, United States
CATEGORIES:Music in the Parks
GEO:44.9161006;-93.2109865
X-APPLE-STRUCTURED-LOCATION;VALUE=URI;X-ADDRESS=Minnehaha Regional Park 4801 South Minnehaha Drive Minneapolis MN 55417 United States;X-APPLE-RADIUS=500;X-TITLE=4801 South Minnehaha Drive:geo:-93.2109865,44.9161006
END:VEVENT
BEGIN:VEVENT
DTSTART;TZID=America/Chicago:20190808T193000
DTEND;TZID=America/Chicago:20190808T193000
DTSTAMP:20260422T003109
CREATED:20191216T183614Z
LAST-MODIFIED:20191216T183614Z
UID:40206-1565292600-1565292600@www.minneapolisparks.org
SUMMARY:La Danse Fatale
DESCRIPTION:fantastic story telling through dance
URL:https://www.minneapolisparks.org/event-calendar/la-danse-fatale-2/
LOCATION:Lake Harriet Bandshell\, Minneapolis\, MN\, United States
CATEGORIES:Music in the Parks
GEO:44.927901;-93.3082473
END:VEVENT
BEGIN:VEVENT
DTSTART;TZID=America/Chicago:20190809T100000
DTEND;TZID=America/Chicago:20190809T100000
DTSTAMP:20260422T003109
CREATED:20191216T183614Z
LAST-MODIFIED:20191216T183614Z
UID:40209-1565344800-1565344800@www.minneapolisparks.org
SUMMARY:The Teapot Tempest
DESCRIPTION:original americana and tasty covers
URL:https://www.minneapolisparks.org/event-calendar/the-teapot-tempest/
LOCATION:Lake Harriet Bandshell\, Minneapolis\, MN\, United States
CATEGORIES:Music in the Parks
GEO:44.927901;-93.3082473
END:VEVENT
BEGIN:VEVENT
DTSTART;TZID=America/Chicago:20190809T190000
DTEND;TZID=America/Chicago:20190809T190000
DTSTAMP:20260422T003109
CREATED:20191216T183615Z
LAST-MODIFIED:20191216T183615Z
UID:40211-1565377200-1565377200@www.minneapolisparks.org
SUMMARY:Shrewd Mammals
DESCRIPTION:funky\, groovin’ band with saxophone
URL:https://www.minneapolisparks.org/event-calendar/shrewd-mammals-3/
LOCATION:Minnehaha Regional Park\, 4801 South Minnehaha Drive\, Minneapolis\, MN\, 55417\, United States
CATEGORIES:Music in the Parks
GEO:44.9161006;-93.2109865
X-APPLE-STRUCTURED-LOCATION;VALUE=URI;X-ADDRESS=Minnehaha Regional Park 4801 South Minnehaha Drive Minneapolis MN 55417 United States;X-APPLE-RADIUS=500;X-TITLE=4801 South Minnehaha Drive:geo:-93.2109865,44.9161006
END:VEVENT
BEGIN:VEVENT
DTSTART;TZID=America/Chicago:20190809T193000
DTEND;TZID=America/Chicago:20190809T193000
DTSTAMP:20260422T003109
CREATED:20191216T183616Z
LAST-MODIFIED:20191216T183616Z
UID:40212-1565379000-1565379000@www.minneapolisparks.org
SUMMARY:STAR TRIBUNE
DESCRIPTION:
URL:https://www.minneapolisparks.org/event-calendar/star-tribune-2/
LOCATION:Lake Harriet Bandshell\, Minneapolis\, MN\, United States
CATEGORIES:Music in the Parks
GEO:44.927901;-93.3082473
END:VEVENT
BEGIN:VEVENT
DTSTART;TZID=America/Chicago:20190810T193000
DTEND;TZID=America/Chicago:20190810T193000
DTSTAMP:20260422T003109
CREATED:20191216T183619Z
LAST-MODIFIED:20191216T183619Z
UID:40218-1565465400-1565465400@www.minneapolisparks.org
SUMMARY:Michael Monroe
DESCRIPTION:acoustic folk reggae/vocals guitar flutes
URL:https://www.minneapolisparks.org/event-calendar/michael-monroe-3/
LOCATION:Lake Harriet Bandshell\, Minneapolis\, MN\, United States
CATEGORIES:Music in the Parks
GEO:44.927901;-93.3082473
END:VEVENT
END:VCALENDAR