BEGIN:VCALENDAR
VERSION:2.0
PRODID:-//Minneapolis Park &amp; Recreation Board - ECPv6.15.20//NONSGML v1.0//EN
CALSCALE:GREGORIAN
METHOD:PUBLISH
X-WR-CALNAME:Minneapolis Park &amp; Recreation Board
X-ORIGINAL-URL:https://www.minneapolisparks.org
X-WR-CALDESC:Events for Minneapolis Park &amp; Recreation Board
REFRESH-INTERVAL;VALUE=DURATION:PT1H
X-Robots-Tag:noindex
X-PUBLISHED-TTL:PT1H
BEGIN:VTIMEZONE
TZID:America/Chicago
BEGIN:DAYLIGHT
TZOFFSETFROM:-0600
TZOFFSETTO:-0500
TZNAME:CDT
DTSTART:20230312T080000
END:DAYLIGHT
BEGIN:STANDARD
TZOFFSETFROM:-0500
TZOFFSETTO:-0600
TZNAME:CST
DTSTART:20231105T070000
END:STANDARD
BEGIN:DAYLIGHT
TZOFFSETFROM:-0600
TZOFFSETTO:-0500
TZNAME:CDT
DTSTART:20240310T080000
END:DAYLIGHT
BEGIN:STANDARD
TZOFFSETFROM:-0500
TZOFFSETTO:-0600
TZNAME:CST
DTSTART:20241103T070000
END:STANDARD
BEGIN:DAYLIGHT
TZOFFSETFROM:-0600
TZOFFSETTO:-0500
TZNAME:CDT
DTSTART:20250309T080000
END:DAYLIGHT
BEGIN:STANDARD
TZOFFSETFROM:-0500
TZOFFSETTO:-0600
TZNAME:CST
DTSTART:20251102T070000
END:STANDARD
END:VTIMEZONE
BEGIN:VEVENT
DTSTART;TZID=America/Chicago:20240504T110000
DTEND;TZID=America/Chicago:20240504T140000
DTSTAMP:20260420T150650
CREATED:20240429T195510Z
LAST-MODIFIED:20240429T195510Z
UID:73461-1714820400-1714831200@www.minneapolisparks.org
SUMMARY:Wheels & Bike Rodeo!
DESCRIPTION:
URL:https://www.minneapolisparks.org/event-calendar/wheels-bike-rodeo/
LOCATION:Painter Park\, 620 W 34th St\, Minneapolis\, MN\, 55408\, United States
CATEGORIES:Events- All,Events- MPRB
GEO:44.9416634;-93.2876806
X-APPLE-STRUCTURED-LOCATION;VALUE=URI;X-ADDRESS=Painter Park 620 W 34th St Minneapolis MN 55408 United States;X-APPLE-RADIUS=500;X-TITLE=620 W 34th St:geo:-93.2876806,44.9416634
END:VEVENT
BEGIN:VEVENT
DTSTART;TZID=America/Chicago:20240504T110000
DTEND;TZID=America/Chicago:20240504T110000
DTSTAMP:20260420T150650
CREATED:20240409T152229Z
LAST-MODIFIED:20240409T152229Z
UID:72974-1714820400-1714820400@www.minneapolisparks.org
SUMMARY:Minnehaha Duck Race
DESCRIPTION:
URL:https://www.minneapolisparks.org/event-calendar/minnehaha-duck-race-2/
LOCATION:Minnehaha Creek\, Bloomington Ave & E Minnehaha Pkwy\, Minneapolis\, 55417
CATEGORIES:Events- All,Events- Non-MPRB
END:VEVENT
BEGIN:VEVENT
DTSTART;TZID=America/Chicago:20240504T090000
DTEND;TZID=America/Chicago:20240504T090000
DTSTAMP:20260420T150650
CREATED:20240409T151926Z
LAST-MODIFIED:20240409T151926Z
UID:72963-1714813200-1714813200@www.minneapolisparks.org
SUMMARY:Minneapolis Great Strides
DESCRIPTION:
URL:https://www.minneapolisparks.org/event-calendar/minneapolis-great-strides-2/
LOCATION:Bde Maka Ska\, Bde Maka Ska\, Minneapolis\, MN\, 55416\, United States
CATEGORIES:Events- All,Events- Non-MPRB
GEO:44.9421047;-93.3207807
X-APPLE-STRUCTURED-LOCATION;VALUE=URI;X-ADDRESS=Bde Maka Ska Bde Maka Ska Minneapolis MN 55416 United States;X-APPLE-RADIUS=500;X-TITLE=Bde Maka Ska:geo:-93.3207807,44.9421047
END:VEVENT
BEGIN:VEVENT
DTSTART;TZID=America/Chicago:20240501T180000
DTEND;TZID=America/Chicago:20240501T200000
DTSTAMP:20260420T150650
CREATED:20240422T204742Z
LAST-MODIFIED:20240422T204812Z
UID:73314-1714586400-1714593600@www.minneapolisparks.org
SUMMARY:Central Gym Skatepark Community Open House #1
DESCRIPTION:Project Page
URL:https://www.minneapolisparks.org/event-calendar/central-gym-skatepark-community-open-house-1/
LOCATION:Central Gym\, Minneapolis\, MN\, United States
CATEGORIES:Public Meetings
GEO:44.9405123;-93.2702447
END:VEVENT
BEGIN:VEVENT
DTSTART;TZID=America/Chicago:20240501T170000
DTEND;TZID=America/Chicago:20240501T170000
DTSTAMP:20260420T150650
CREATED:20240426T190354Z
LAST-MODIFIED:20240426T190354Z
UID:73408-1714582800-1714582800@www.minneapolisparks.org
SUMMARY:Committee of the Whole Meeting
DESCRIPTION:View the Agenda
URL:https://www.minneapolisparks.org/event-calendar/committee-of-the-whole-meeting-17/
LOCATION:Northeast Recreation Center\, Minneapolis\, MN\, United States
CATEGORIES:Public Meetings
GEO:45.0039194;-93.2379239
END:VEVENT
BEGIN:VEVENT
DTSTART;TZID=America/Chicago:20240427T190000
DTEND;TZID=America/Chicago:20240427T220000
DTSTAMP:20260420T150650
CREATED:20240311T153231Z
LAST-MODIFIED:20240311T153231Z
UID:72169-1714244400-1714255200@www.minneapolisparks.org
SUMMARY:An Acoustic Affair: Twin Cities Catalyst Music Showcase
DESCRIPTION:Experience an enchanting evening of music in the Lenzmeier room at Water Works\, curated by Twin Cities Catalyst Music and starring FINICK and Rosie. \nDoors open at 7:00 pm\, with the music commencing at 7:30 pm and the show concluding at 10:15 pm. Indulge in delectable small bites and refreshing zero-proof beverages provided by Owamni. \nTickets sales opening soon.
URL:https://www.minneapolisparks.org/event-calendar/an-acoustic-affair-twin-cities-catalyst-music-showcase/
LOCATION:Water Works at Mill Ruins Park\, 425 West River Parkway\, Minneapolis\, MN\, 55401\, United States
CATEGORIES:Events- All,Events- MPRB
GEO:44.9811921;-93.2620982
X-APPLE-STRUCTURED-LOCATION;VALUE=URI;X-ADDRESS=Water Works at Mill Ruins Park 425 West River Parkway Minneapolis MN 55401 United States;X-APPLE-RADIUS=500;X-TITLE=425 West River Parkway:geo:-93.2620982,44.9811921
END:VEVENT
BEGIN:VEVENT
DTSTART;TZID=America/Chicago:20240427T090000
DTEND;TZID=America/Chicago:20240427T090000
DTSTAMP:20260420T150650
CREATED:20240129T154253Z
LAST-MODIFIED:20240220T155836Z
UID:71259-1714208400-1714208400@www.minneapolisparks.org
SUMMARY:Minds Matter 5K
DESCRIPTION:
URL:https://www.minneapolisparks.org/event-calendar/minds-matter-5k/
LOCATION:Bde Maka Ska\, Bde Maka Ska\, Minneapolis\, MN\, 55416\, United States
CATEGORIES:Events- All
GEO:44.9421047;-93.3207807
X-APPLE-STRUCTURED-LOCATION;VALUE=URI;X-ADDRESS=Bde Maka Ska Bde Maka Ska Minneapolis MN 55416 United States;X-APPLE-RADIUS=500;X-TITLE=Bde Maka Ska:geo:-93.3207807,44.9421047
END:VEVENT
BEGIN:VEVENT
DTSTART;TZID=America/Chicago:20240427T080000
DTEND;TZID=America/Chicago:20240427T080000
DTSTAMP:20260420T150650
CREATED:20240129T154440Z
LAST-MODIFIED:20240220T155830Z
UID:71261-1714204800-1714204800@www.minneapolisparks.org
SUMMARY:Get in Gear
DESCRIPTION:
URL:https://www.minneapolisparks.org/event-calendar/get-in-gear-2/
LOCATION:Minnehaha Regional Park\, 4801 South Minnehaha Drive\, Minneapolis\, MN\, 55417\, United States
CATEGORIES:Events- All
GEO:44.9161006;-93.2109865
X-APPLE-STRUCTURED-LOCATION;VALUE=URI;X-ADDRESS=Minnehaha Regional Park 4801 South Minnehaha Drive Minneapolis MN 55417 United States;X-APPLE-RADIUS=500;X-TITLE=4801 South Minnehaha Drive:geo:-93.2109865,44.9161006
END:VEVENT
BEGIN:VEVENT
DTSTART;TZID=America/Chicago:20240425T160000
DTEND;TZID=America/Chicago:20240425T160000
DTSTAMP:20260420T150650
CREATED:20240129T154130Z
LAST-MODIFIED:20240423T202114Z
UID:71257-1714060800-1714060800@www.minneapolisparks.org
SUMMARY:Arbor Day
DESCRIPTION:
URL:https://www.minneapolisparks.org/event-calendar/arbor-day-5/
LOCATION:McRae Park\, 906 E 47th St\, Minneapolis\, MN\, 55407\, United States
CATEGORIES:Events- All
GEO:44.9184044;-93.2611522
X-APPLE-STRUCTURED-LOCATION;VALUE=URI;X-ADDRESS=McRae Park 906 E 47th St Minneapolis MN 55407 United States;X-APPLE-RADIUS=500;X-TITLE=906 E 47th St:geo:-93.2611522,44.9184044
END:VEVENT
BEGIN:VEVENT
DTSTART;TZID=America/Chicago:20240425T083000
DTEND;TZID=America/Chicago:20240425T100000
DTSTAMP:20260420T150650
CREATED:20240409T193104Z
LAST-MODIFIED:20240409T193104Z
UID:73044-1714033800-1714039200@www.minneapolisparks.org
SUMMARY:Birding with a Naturalist: Earth Week Intro to Birding
DESCRIPTION:
URL:https://www.minneapolisparks.org/event-calendar/birding-with-a-naturalist-earth-week-intro-to-birding-2/
LOCATION:Powderhorn Park\, 3400 15th Ave S\, Minneapolis\, MN\, 554107\, United States
CATEGORIES:Events- All,Events- MPRB
GEO:44.9413282;-93.2547875
X-APPLE-STRUCTURED-LOCATION;VALUE=URI;X-ADDRESS=Powderhorn Park 3400 15th Ave S Minneapolis MN 554107 United States;X-APPLE-RADIUS=500;X-TITLE=3400 15th Ave S:geo:-93.2547875,44.9413282
END:VEVENT
BEGIN:VEVENT
DTSTART;TZID=America/Chicago:20240425T083000
DTEND;TZID=America/Chicago:20240425T100000
DTSTAMP:20260420T150650
CREATED:20240326T145439Z
LAST-MODIFIED:20240326T145439Z
UID:72611-1714033800-1714039200@www.minneapolisparks.org
SUMMARY:Birding with a Naturalist: Earth Week Intro to Birding
DESCRIPTION:
URL:https://www.minneapolisparks.org/event-calendar/birding-with-a-naturalist-earth-week-intro-to-birding/
LOCATION:Powderhorn Park\, 3400 15th Ave S\, Minneapolis\, MN\, 554107\, United States
CATEGORIES:Events- MPRB,Events- Non-MPRB
GEO:44.9413282;-93.2547875
X-APPLE-STRUCTURED-LOCATION;VALUE=URI;X-ADDRESS=Powderhorn Park 3400 15th Ave S Minneapolis MN 554107 United States;X-APPLE-RADIUS=500;X-TITLE=3400 15th Ave S:geo:-93.2547875,44.9413282
END:VEVENT
BEGIN:VEVENT
DTSTART;TZID=America/Chicago:20240424T170000
DTEND;TZID=America/Chicago:20240424T210000
DTSTAMP:20260420T150650
CREATED:20240110T202243Z
LAST-MODIFIED:20240110T202243Z
UID:70861-1713978000-1713992400@www.minneapolisparks.org
SUMMARY:Board Meeting
DESCRIPTION:Meeting Details
URL:https://www.minneapolisparks.org/event-calendar/board-meeting-103/
LOCATION:Mary Merrill Minneapolis Park & Recreation Board Headquarters\, Board Room\, 2117 West River Road N\, Minneapolis\, MN\, 55411\, United States
CATEGORIES:Public Meetings
GEO:45.0008334;-93.2780339
X-APPLE-STRUCTURED-LOCATION;VALUE=URI;X-ADDRESS=Mary Merrill Minneapolis Park & Recreation Board Headquarters Board Room 2117 West River Road N Minneapolis MN 55411 United States;X-APPLE-RADIUS=500;X-TITLE=2117 West River Road N:geo:-93.2780339,45.0008334
END:VEVENT
BEGIN:VEVENT
DTSTART;TZID=America/Chicago:20240424T083000
DTEND;TZID=America/Chicago:20240424T100000
DTSTAMP:20260420T150650
CREATED:20240326T145627Z
LAST-MODIFIED:20240326T145627Z
UID:72613-1713947400-1713952800@www.minneapolisparks.org
SUMMARY:Earth Week Forest Bathing at Wirth Park
DESCRIPTION:
URL:https://www.minneapolisparks.org/event-calendar/earth-week-forest-bathing-at-wirth-park/
LOCATION:Theodore Wirth Pavilion\, 3275 Glenwood Ave\, Minneapolis\, MN\, 55405\, United States
CATEGORIES:Events- All,Events- MPRB
GEO:44.9789601;-93.3237886
X-APPLE-STRUCTURED-LOCATION;VALUE=URI;X-ADDRESS=Theodore Wirth Pavilion 3275 Glenwood Ave Minneapolis MN 55405 United States;X-APPLE-RADIUS=500;X-TITLE=3275 Glenwood Ave:geo:-93.3237886,44.9789601
END:VEVENT
BEGIN:VEVENT
DTSTART;TZID=America/Chicago:20240421T120000
DTEND;TZID=America/Chicago:20240421T120000
DTSTAMP:20260420T150650
CREATED:20240129T153758Z
LAST-MODIFIED:20240220T155750Z
UID:71255-1713700800-1713700800@www.minneapolisparks.org
SUMMARY:Holi Fest
DESCRIPTION:
URL:https://www.minneapolisparks.org/event-calendar/holi-fest/
LOCATION:East River Flats\, Minneapolis\, MN\, United States
CATEGORIES:Events- All
GEO:44.9719516;-93.2371918
END:VEVENT
BEGIN:VEVENT
DTSTART;TZID=America/Chicago:20240420T103000
DTEND;TZID=America/Chicago:20240420T120000
DTSTAMP:20260420T150650
CREATED:20240326T145322Z
LAST-MODIFIED:20240326T145322Z
UID:72609-1713609000-1713614400@www.minneapolisparks.org
SUMMARY:Family Fundays: Earth Day Celebration
DESCRIPTION:
URL:https://www.minneapolisparks.org/event-calendar/family-fundays-earth-day-celebration/
LOCATION:Carl W. Kroening Nature Center\, 4900 Mississippi Court\, Minneapolis\, MN\, 55430\, United States
CATEGORIES:Events- All,Events- MPRB
GEO:45.0480936;-93.2831006
X-APPLE-STRUCTURED-LOCATION;VALUE=URI;X-ADDRESS=Carl W. Kroening Nature Center 4900 Mississippi Court Minneapolis MN 55430 United States;X-APPLE-RADIUS=500;X-TITLE=4900 Mississippi Court:geo:-93.2831006,45.0480936
END:VEVENT
BEGIN:VEVENT
DTSTART;TZID=America/Chicago:20240420T090000
DTEND;TZID=America/Chicago:20240420T090000
DTSTAMP:20260420T150650
CREATED:20240129T153704Z
LAST-MODIFIED:20240220T155747Z
UID:71253-1713603600-1713603600@www.minneapolisparks.org
SUMMARY:Earth Day Bee Run
DESCRIPTION:
URL:https://www.minneapolisparks.org/event-calendar/earth-day-bee-run/
LOCATION:Boom Island\, 724 Sibley St NE\, Minneapolis\, MN\, 55413\, United States
CATEGORIES:Events- All
GEO:44.9920367;-93.3036741
X-APPLE-STRUCTURED-LOCATION;VALUE=URI;X-ADDRESS=Boom Island 724 Sibley St NE Minneapolis MN 55413 United States;X-APPLE-RADIUS=500;X-TITLE=724 Sibley St NE:geo:-93.3036741,44.9920367
END:VEVENT
BEGIN:VEVENT
DTSTART;TZID=America/Chicago:20240419T160000
DTEND;TZID=America/Chicago:20240419T160000
DTSTAMP:20260420T150650
CREATED:20240129T153502Z
LAST-MODIFIED:20240220T155715Z
UID:71249-1713542400-1713542400@www.minneapolisparks.org
SUMMARY:Eidrageous
DESCRIPTION:
URL:https://www.minneapolisparks.org/event-calendar/eidrageous/
LOCATION:East River Flats\, Minneapolis\, MN\, United States
CATEGORIES:Events- All
GEO:44.9719516;-93.2371918
END:VEVENT
BEGIN:VEVENT
DTSTART;TZID=America/Chicago:20240418T130000
DTEND;TZID=America/Chicago:20240418T150000
DTSTAMP:20260420T150650
CREATED:20240409T182315Z
LAST-MODIFIED:20240409T182315Z
UID:73023-1713445200-1713452400@www.minneapolisparks.org
SUMMARY:School Release Day: Winter Break Fun!
DESCRIPTION:Registration Link
URL:https://www.minneapolisparks.org/event-calendar/school-release-day-winter-break-fun/
LOCATION:Windom South Park\, Minneapolis\, MN\, United States
CATEGORIES:Events- All,Events- MPRB
GEO:44.896914;-93.280074
END:VEVENT
BEGIN:VEVENT
DTSTART;TZID=America/Chicago:20240415T150000
DTEND;TZID=America/Chicago:20240415T150000
DTSTAMP:20260420T150650
CREATED:20240409T182513Z
LAST-MODIFIED:20240409T182513Z
UID:73027-1713193200-1713193200@www.minneapolisparks.org
SUMMARY:Book Buggie - FREE BOOKS/Summer
DESCRIPTION:
URL:https://www.minneapolisparks.org/event-calendar/book-buggie-free-books-summer/
LOCATION:Brackett Recreation Center\, 2728 S 39th Ave\, Minneapolis\, MN\, 55406\, United States
CATEGORIES:Events- All,Events- MPRB
GEO:44.9527432;-93.2170093
X-APPLE-STRUCTURED-LOCATION;VALUE=URI;X-ADDRESS=Brackett Recreation Center 2728 S 39th Ave Minneapolis MN 55406 United States;X-APPLE-RADIUS=500;X-TITLE=2728 S 39th Ave:geo:-93.2170093,44.9527432
END:VEVENT
BEGIN:VEVENT
DTSTART;TZID=America/Chicago:20240413T130000
DTEND;TZID=America/Chicago:20240413T150000
DTSTAMP:20260420T150650
CREATED:20240227T201838Z
LAST-MODIFIED:20240227T202000Z
UID:71882-1713013200-1713020400@www.minneapolisparks.org
SUMMARY:Spring Egg Hunt
DESCRIPTION:
URL:https://www.minneapolisparks.org/event-calendar/spring-egg-hunt-3/
LOCATION:Harrison Park\, 503 N Irving Ave\, Minneapolis\, MN\, 55405\, United States
CATEGORIES:Events- All,Events- MPRB
GEO:44.9827416;-93.2996079
X-APPLE-STRUCTURED-LOCATION;VALUE=URI;X-ADDRESS=Harrison Park 503 N Irving Ave Minneapolis MN 55405 United States;X-APPLE-RADIUS=500;X-TITLE=503 N Irving Ave:geo:-93.2996079,44.9827416
END:VEVENT
BEGIN:VEVENT
DTSTART;TZID=America/Chicago:20240413T070000
DTEND;TZID=America/Chicago:20240413T070000
DTSTAMP:20260420T150650
CREATED:20240129T153400Z
LAST-MODIFIED:20240220T155441Z
UID:71247-1712991600-1712991600@www.minneapolisparks.org
SUMMARY:Hot Chocolate 5K/15K
DESCRIPTION:
URL:https://www.minneapolisparks.org/event-calendar/hot-chocolate-5k-15k/
LOCATION:Boom Island\, 724 Sibley St NE\, Minneapolis\, MN\, 55413\, United States
CATEGORIES:Events- All
GEO:44.9920367;-93.3036741
X-APPLE-STRUCTURED-LOCATION;VALUE=URI;X-ADDRESS=Boom Island 724 Sibley St NE Minneapolis MN 55413 United States;X-APPLE-RADIUS=500;X-TITLE=724 Sibley St NE:geo:-93.3036741,44.9920367
END:VEVENT
BEGIN:VEVENT
DTSTART;TZID=America/Chicago:20240412T100000
DTEND;TZID=America/Chicago:20240412T130000
DTSTAMP:20260420T150650
CREATED:20240409T183020Z
LAST-MODIFIED:20240409T183020Z
UID:73035-1712916000-1712926800@www.minneapolisparks.org
SUMMARY:Tiny Tot Spring Party
DESCRIPTION:
URL:https://www.minneapolisparks.org/event-calendar/tiny-tot-spring-party-5/
LOCATION:Logan Park\, 690 13th Ave NE\, Minneapolis\, MN\, 55413\, United States
CATEGORIES:Events- All,Events- MPRB
GEO:45.0006735;-93.2568797
X-APPLE-STRUCTURED-LOCATION;VALUE=URI;X-ADDRESS=Logan Park 690 13th Ave NE Minneapolis MN 55413 United States;X-APPLE-RADIUS=500;X-TITLE=690 13th Ave NE:geo:-93.2568797,45.0006735
END:VEVENT
BEGIN:VEVENT
DTSTART;TZID=America/Chicago:20240410T140000
DTEND;TZID=America/Chicago:20240410T160000
DTSTAMP:20260420T150650
CREATED:20240326T194543Z
LAST-MODIFIED:20240326T194543Z
UID:72659-1712757600-1712764800@www.minneapolisparks.org
SUMMARY:School Release: Outdoor Big Base
DESCRIPTION:
URL:https://www.minneapolisparks.org/event-calendar/school-release-outdoor-big-base/
LOCATION:Whittier Recreation Center\, 425 W 26th St\, Minneapolis\, MN\, 55404\, United States
CATEGORIES:Events- All,Events- MPRB
GEO:44.9551265;-93.2845291
X-APPLE-STRUCTURED-LOCATION;VALUE=URI;X-ADDRESS=Whittier Recreation Center 425 W 26th St Minneapolis MN 55404 United States;X-APPLE-RADIUS=500;X-TITLE=425 W 26th St:geo:-93.2845291,44.9551265
END:VEVENT
BEGIN:VEVENT
DTSTART;TZID=America/Chicago:20240410T130000
DTEND;TZID=America/Chicago:20240410T150000
DTSTAMP:20260420T150650
CREATED:20240409T183804Z
LAST-MODIFIED:20240409T183804Z
UID:73039-1712754000-1712761200@www.minneapolisparks.org
SUMMARY:School Release Day: Buggin' Out with the Bug Guy
DESCRIPTION:Registration Link
URL:https://www.minneapolisparks.org/event-calendar/school-release-day-buggin-out-with-the-bug-guy/
LOCATION:Pearl Park\, 414 E Diamond Lake Road\, Minneapolis\, MN\, 55419\, United States
CATEGORIES:Events- All,Events- MPRB
GEO:44.904403;-93.268818
X-APPLE-STRUCTURED-LOCATION;VALUE=URI;X-ADDRESS=Pearl Park 414 E Diamond Lake Road Minneapolis MN 55419 United States;X-APPLE-RADIUS=500;X-TITLE=414 E Diamond Lake Road:geo:-93.268818,44.904403
END:VEVENT
BEGIN:VEVENT
DTSTART;TZID=America/Chicago:20240410T130000
DTEND;TZID=America/Chicago:20240410T150000
DTSTAMP:20260420T150650
CREATED:20240409T183322Z
LAST-MODIFIED:20240409T183322Z
UID:73037-1712754000-1712761200@www.minneapolisparks.org
SUMMARY:Release Day Teen Open Gym
DESCRIPTION:Registration Link
URL:https://www.minneapolisparks.org/event-calendar/release-day-teen-open-gym/
LOCATION:Windom Northeast Recreation Center\, 2251 NE Hayes St\, Minneapolis\, MN\, 55418\, United States
CATEGORIES:Events- All,Events- MPRB
GEO:45.0112229;-93.2342613
X-APPLE-STRUCTURED-LOCATION;VALUE=URI;X-ADDRESS=Windom Northeast Recreation Center 2251 NE Hayes St Minneapolis MN 55418 United States;X-APPLE-RADIUS=500;X-TITLE=2251 NE Hayes St:geo:-93.2342613,45.0112229
END:VEVENT
BEGIN:VEVENT
DTSTART;TZID=America/Chicago:20240407T080000
DTEND;TZID=America/Chicago:20240407T080000
DTSTAMP:20260420T150650
CREATED:20240129T153258Z
LAST-MODIFIED:20240220T155310Z
UID:71245-1712476800-1712476800@www.minneapolisparks.org
SUMMARY:Goldy's Run
DESCRIPTION:
URL:https://www.minneapolisparks.org/event-calendar/goldys-run-2/
LOCATION:West River Parkway\, Minneapolis\, MN\, United States
CATEGORIES:Events- All
GEO:44.9627903;-93.2263653
END:VEVENT
BEGIN:VEVENT
DTSTART;TZID=America/Chicago:20240406T093000
DTEND;TZID=America/Chicago:20240406T113000
DTSTAMP:20260420T150650
CREATED:20240227T201155Z
LAST-MODIFIED:20240227T201155Z
UID:71880-1712395800-1712403000@www.minneapolisparks.org
SUMMARY:Bunny Brunch Bundle and Egg Hunt
DESCRIPTION:
URL:https://www.minneapolisparks.org/event-calendar/bunny-brunch-bundle-and-egg-hunt/
LOCATION:Sibley Park\, 1900 E 40th St\, Minneapolis\, MN\, 55407\, United States
CATEGORIES:Events- All,Events- MPRB
GEO:44.9310545;-93.2444172
X-APPLE-STRUCTURED-LOCATION;VALUE=URI;X-ADDRESS=Sibley Park 1900 E 40th St Minneapolis MN 55407 United States;X-APPLE-RADIUS=500;X-TITLE=1900 E 40th St:geo:-93.2444172,44.9310545
END:VEVENT
BEGIN:VEVENT
DTSTART;TZID=America/Chicago:20240405T183000
DTEND;TZID=America/Chicago:20240405T200000
DTSTAMP:20260420T150650
CREATED:20240227T200443Z
LAST-MODIFIED:20240227T200443Z
UID:71877-1712341800-1712347200@www.minneapolisparks.org
SUMMARY:Community Connect: All about Eggs!
DESCRIPTION:
URL:https://www.minneapolisparks.org/event-calendar/community-connect-all-about-eggs/
LOCATION:East Phillips Park\, 2399 S 17th Ave\, Minneapolis\, MN\, 55404\, United States
CATEGORIES:Events- All,Events- MPRB
GEO:44.9592105;-93.2497216
X-APPLE-STRUCTURED-LOCATION;VALUE=URI;X-ADDRESS=East Phillips Park 2399 S 17th Ave Minneapolis MN 55404 United States;X-APPLE-RADIUS=500;X-TITLE=2399 S 17th Ave:geo:-93.2497216,44.9592105
END:VEVENT
BEGIN:VEVENT
DTSTART;TZID=America/Chicago:20240405T130000
DTEND;TZID=America/Chicago:20240405T150000
DTSTAMP:20260420T150650
CREATED:20240402T151951Z
LAST-MODIFIED:20240402T151951Z
UID:72789-1712322000-1712329200@www.minneapolisparks.org
SUMMARY:Spring Break: Marvel Movie Matinee
DESCRIPTION:Registration Link
URL:https://www.minneapolisparks.org/event-calendar/spring-break-marvel-movie-matinee-2/
LOCATION:Central Gym\, Minneapolis\, MN\, United States
CATEGORIES:Events- All,Events- MPRB
GEO:44.9405123;-93.2702447
END:VEVENT
BEGIN:VEVENT
DTSTART;TZID=America/Chicago:20240405T130000
DTEND;TZID=America/Chicago:20240405T143000
DTSTAMP:20260420T150650
CREATED:20240326T194918Z
LAST-MODIFIED:20240326T194918Z
UID:72661-1712322000-1712327400@www.minneapolisparks.org
SUMMARY:School Release: Outdoor Fun
DESCRIPTION:
URL:https://www.minneapolisparks.org/event-calendar/school-release-outdoor-fun/
LOCATION:Whittier Park\, 425 W 26th St\, Minneapolis\, MN\, 55404\, United States
CATEGORIES:Events- All,Events- MPRB
GEO:44.9551265;-93.2845291
X-APPLE-STRUCTURED-LOCATION;VALUE=URI;X-ADDRESS=Whittier Park 425 W 26th St Minneapolis MN 55404 United States;X-APPLE-RADIUS=500;X-TITLE=425 W 26th St:geo:-93.2845291,44.9551265
END:VEVENT
END:VCALENDAR