BEGIN:VCALENDAR
VERSION:2.0
PRODID:-//Minneapolis Park &amp; Recreation Board - ECPv6.15.20//NONSGML v1.0//EN
CALSCALE:GREGORIAN
METHOD:PUBLISH
X-WR-CALNAME:Minneapolis Park &amp; Recreation Board
X-ORIGINAL-URL:https://www.minneapolisparks.org
X-WR-CALDESC:Events for Minneapolis Park &amp; Recreation Board
REFRESH-INTERVAL;VALUE=DURATION:PT1H
X-Robots-Tag:noindex
X-PUBLISHED-TTL:PT1H
BEGIN:VTIMEZONE
TZID:America/Chicago
BEGIN:DAYLIGHT
TZOFFSETFROM:-0600
TZOFFSETTO:-0500
TZNAME:CDT
DTSTART:20230312T080000
END:DAYLIGHT
BEGIN:STANDARD
TZOFFSETFROM:-0500
TZOFFSETTO:-0600
TZNAME:CST
DTSTART:20231105T070000
END:STANDARD
BEGIN:DAYLIGHT
TZOFFSETFROM:-0600
TZOFFSETTO:-0500
TZNAME:CDT
DTSTART:20240310T080000
END:DAYLIGHT
BEGIN:STANDARD
TZOFFSETFROM:-0500
TZOFFSETTO:-0600
TZNAME:CST
DTSTART:20241103T070000
END:STANDARD
BEGIN:DAYLIGHT
TZOFFSETFROM:-0600
TZOFFSETTO:-0500
TZNAME:CDT
DTSTART:20250309T080000
END:DAYLIGHT
BEGIN:STANDARD
TZOFFSETFROM:-0500
TZOFFSETTO:-0600
TZNAME:CST
DTSTART:20251102T070000
END:STANDARD
END:VTIMEZONE
BEGIN:VEVENT
DTSTART;TZID=America/Chicago:20241024T181500
DTEND;TZID=America/Chicago:20241024T200000
DTSTAMP:20260422T002949
CREATED:20240918T210417Z
LAST-MODIFIED:20240919T183909Z
UID:77250-1729793700-1729800000@www.minneapolisparks.org
SUMMARY:Halloween Cookie Decorating
DESCRIPTION:Bring the family in for a real treat this Halloween season! We will provide you with 12 sugar cookies and a tray of decorating supplies. Your imagination will do the rest with no mess at home rather yummy treats to enjoy. Drop-in\, make some cookies and draw on some seasonal coloring sheets! \n\nOnly one registration needed per family.
URL:https://www.minneapolisparks.org/event-calendar/halloween-cookie-decorating-2/
LOCATION:Audubon Recreation Center\, 1320 29th Ave NE\, Minneapolis\, MN\, 55418\, United States
CATEGORIES:Events- All,Events- MPRB
GEO:45.0200505;-93.2397463
X-APPLE-STRUCTURED-LOCATION;VALUE=URI;X-ADDRESS=Audubon Recreation Center 1320 29th Ave NE Minneapolis MN 55418 United States;X-APPLE-RADIUS=500;X-TITLE=1320 29th Ave NE:geo:-93.2397463,45.0200505
END:VEVENT
BEGIN:VEVENT
DTSTART;TZID=America/Chicago:20241024T180000
DTEND;TZID=America/Chicago:20241024T200000
DTSTAMP:20260422T002949
CREATED:20240918T201034Z
LAST-MODIFIED:20240919T190325Z
UID:77204-1729792800-1729800000@www.minneapolisparks.org
SUMMARY:Pumpkins & Giggles: A Mess-Free Family Carving Extravaganza!
DESCRIPTION:Get ready for a pumpkin-carving adventure like no other! Say goodbye to sticky kitchen floors and hello to creativity unleashed with our Pumpkins & Giggles program. Join us for a hilariously messy-free family carving extravaganza that promises laughter\, fun\, and zero hassle cleanup! Enroll now.
URL:https://www.minneapolisparks.org/event-calendar/pumpkins-giggles-a-mess-free-family-carving-extravaganza/
LOCATION:Sibley Recreation Center\, Minneapolis\, MN\, United States
CATEGORIES:Events- All,Events- MPRB
GEO:44.9310545;-93.2444172
END:VEVENT
BEGIN:VEVENT
DTSTART;TZID=America/Chicago:20241024T090000
DTEND;TZID=America/Chicago:20241024T110000
DTSTAMP:20260422T002949
CREATED:20241007T194554Z
LAST-MODIFIED:20241007T194554Z
UID:77712-1729760400-1729767600@www.minneapolisparks.org
SUMMARY:Open House #1 for Contractors
DESCRIPTION:These open houses welcome any contractors interested in participating in construction of the North Commons improvements project. Attendees can meet with a range of people involved in the project to learn more about its various aspects: \n\nDesign team\, Locus Architecture – learn about the general scope of the project.\nConstruction manager\, RJM Construction/Tri-Construction – discuss project construction.\nCity of Minneapolis Procurement staff – regarding bidding procedures\, the Target Market Program (TMP) and more.\nCity of Minneapolis Civil Rights staff – regarding goals of the Small and Underutilized Business Program (SUBP) and the Minnesota Unified Certification Program (MNUCP)
URL:https://www.minneapolisparks.org/event-calendar/open-house-1-for-contractors/
LOCATION:Tri Construction\, W Broadway\, Minneapolis\, Minnesota\, 55411\, United States
CATEGORIES:Public Meetings
GEO:44.9989273;-93.2923889
X-APPLE-STRUCTURED-LOCATION;VALUE=URI;X-ADDRESS=Tri Construction W Broadway Minneapolis Minnesota 55411 United States;X-APPLE-RADIUS=500;X-TITLE=W Broadway:geo:-93.2923889,44.9989273
END:VEVENT
BEGIN:VEVENT
DTSTART;TZID=America/Chicago:20241024T050000
DTEND;TZID=America/Chicago:20241024T190000
DTSTAMP:20260422T002949
CREATED:20240918T205902Z
LAST-MODIFIED:20240919T190638Z
UID:77246-1729746000-1729796400@www.minneapolisparks.org
SUMMARY:Youthline Pumpkin Painting
DESCRIPTION:Gear up to Halloween by painting a pumpkin to bring home! Each participant will get one pumpkin to paint however they dry. It is recommended to leave the pumpkins to dry overnight before bringing home. Please reach out to Hailey at hclements@minneapolisparks.org with questions. Enroll now.
URL:https://www.minneapolisparks.org/event-calendar/youthlink-pumpkin-painting/
LOCATION:Rev. Dr. Martin Luther King Recreation Center\, 4055 Nicollet Ave S\, Minneapolis\, MN\, 55409\, United States
CATEGORIES:Events- All,Events- MPRB
GEO:44.9292348;-93.2773221
X-APPLE-STRUCTURED-LOCATION;VALUE=URI;X-ADDRESS=Rev. Dr. Martin Luther King Recreation Center 4055 Nicollet Ave S Minneapolis MN 55409 United States;X-APPLE-RADIUS=500;X-TITLE=4055 Nicollet Ave S:geo:-93.2773221,44.9292348
END:VEVENT
BEGIN:VEVENT
DTSTART;TZID=America/Chicago:20241023T173000
DTEND;TZID=America/Chicago:20241023T193000
DTSTAMP:20260422T002949
CREATED:20240918T190202Z
LAST-MODIFIED:20240918T190202Z
UID:77168-1729704600-1729711800@www.minneapolisparks.org
SUMMARY:Community Bonding Event - Soup Boo-ffet
DESCRIPTION:Come and meet your neighbors and neighborhood youth. Bring a soup to share or try others if you dare. We will have Fall/Halloween themed activities and a craft to take home.
URL:https://www.minneapolisparks.org/event-calendar/community-bonding-event-soup-boo-ffet/
LOCATION:Pershing Park Recreation Center\, 3523 W 48th St\, Minneapolis\, MN\, 55410\, United States
CATEGORIES:Events- All,Events- MPRB
GEO:44.9158567;-93.3243725
X-APPLE-STRUCTURED-LOCATION;VALUE=URI;X-ADDRESS=Pershing Park Recreation Center 3523 W 48th St Minneapolis MN 55410 United States;X-APPLE-RADIUS=500;X-TITLE=3523 W 48th St:geo:-93.3243725,44.9158567
END:VEVENT
BEGIN:VEVENT
DTSTART;TZID=America/Chicago:20241023T170000
DTEND;TZID=America/Chicago:20241023T210000
DTSTAMP:20260422T002949
CREATED:20240112T182650Z
LAST-MODIFIED:20240112T182650Z
UID:70903-1729702800-1729717200@www.minneapolisparks.org
SUMMARY:Board Meeting
DESCRIPTION:Meeting Details
URL:https://www.minneapolisparks.org/event-calendar/board-meeting-116/
LOCATION:Mary Merrill Minneapolis Park & Recreation Board Headquarters Board Room\, 2117 West River Road N\, Minneapolis\, MN\, 55411\, United States
CATEGORIES:Public Meetings
GEO:45.0008334;-93.2780339
X-APPLE-STRUCTURED-LOCATION;VALUE=URI;X-ADDRESS=Mary Merrill Minneapolis Park & Recreation Board Headquarters Board Room 2117 West River Road N Minneapolis MN 55411 United States;X-APPLE-RADIUS=500;X-TITLE=2117 West River Road N:geo:-93.2780339,45.0008334
END:VEVENT
BEGIN:VEVENT
DTSTART;TZID=America/Chicago:20241019T090000
DTEND;TZID=America/Chicago:20241019T090000
DTSTAMP:20260422T002949
CREATED:20240716T211605Z
LAST-MODIFIED:20240719T163615Z
UID:75666-1729328400-1729328400@www.minneapolisparks.org
SUMMARY:Firefighters for Healing 5K
DESCRIPTION:
URL:https://www.minneapolisparks.org/event-calendar/firefighters-for-healing-5k/
LOCATION:Boom Island Park\, 724 Sibley Street NE\, Minneapolis\, MN\, 55413\, United States
CATEGORIES:Events- All,Events- Non-MPRB
GEO:44.9927434;-93.2692589
X-APPLE-STRUCTURED-LOCATION;VALUE=URI;X-ADDRESS=Boom Island Park 724 Sibley Street NE Minneapolis MN 55413 United States;X-APPLE-RADIUS=500;X-TITLE=724 Sibley Street NE:geo:-93.2692589,44.9927434
END:VEVENT
BEGIN:VEVENT
DTSTART;TZID=America/Chicago:20241019T080000
DTEND;TZID=America/Chicago:20241019T080000
DTSTAMP:20260422T002949
CREATED:20240716T211736Z
LAST-MODIFIED:20240719T182405Z
UID:75668-1729324800-1729324800@www.minneapolisparks.org
SUMMARY:Victory Races
DESCRIPTION:
URL:https://www.minneapolisparks.org/event-calendar/victory-races-3/
LOCATION:Webber Park/Victory Memorial Dr\, 4300 Webber Parkway\, Minneapolis\, MN\, 55412\, United States
CATEGORIES:Events- All,Events- Non-MPRB
GEO:45.034522;-93.291918
X-APPLE-STRUCTURED-LOCATION;VALUE=URI;X-ADDRESS=Webber Park/Victory Memorial Dr 4300 Webber Parkway Minneapolis MN 55412 United States;X-APPLE-RADIUS=500;X-TITLE=4300 Webber Parkway:geo:-93.291918,45.034522
END:VEVENT
BEGIN:VEVENT
DTSTART;TZID=America/Chicago:20241018T160000
DTEND;TZID=America/Chicago:20241018T173000
DTSTAMP:20260422T002949
CREATED:20240919T182125Z
LAST-MODIFIED:20240919T194757Z
UID:77348-1729267200-1729272600@www.minneapolisparks.org
SUMMARY:MEA Break: Paint It Posse
DESCRIPTION:Are you a Taylor Swift fan who loves creating art? Then join us for this ARTrageous MEA camp that will create art inspired by some of her favorite songs while learning what stylized art is all about! Enroll now. \nThis class is a collaboration with ARTrageous Adventures a local children’s art studio and gallery.
URL:https://www.minneapolisparks.org/event-calendar/mea-break-paint-it-posse/2024-10-18/
LOCATION:Painter Park\, 620 W 34th St\, Minneapolis\, MN\, 55408\, United States
CATEGORIES:Events- All,Events- MPRB
GEO:44.9416634;-93.2876806
X-APPLE-STRUCTURED-LOCATION;VALUE=URI;X-ADDRESS=Painter Park 620 W 34th St Minneapolis MN 55408 United States;X-APPLE-RADIUS=500;X-TITLE=620 W 34th St:geo:-93.2876806,44.9416634
END:VEVENT
BEGIN:VEVENT
DTSTART;TZID=America/Chicago:20241018T150000
DTEND;TZID=America/Chicago:20241018T170000
DTSTAMP:20260422T002949
CREATED:20240919T180858Z
LAST-MODIFIED:20240919T190930Z
UID:77332-1729263600-1729270800@www.minneapolisparks.org
SUMMARY:MEA Break Board Games
DESCRIPTION:School out\, stop by at the center for couple of fun card games with kids in the neighborhood and friends. Board game such as connect Four\, chess and checker. Enroll now (free).
URL:https://www.minneapolisparks.org/event-calendar/mea-break-board-games/2024-10-18/
LOCATION:Windom Northeast Recreation Center\, 2251 NE Hayes St\, Minneapolis\, MN\, 55418\, United States
CATEGORIES:Events- All,Events- MPRB
GEO:45.0112229;-93.2342613
X-APPLE-STRUCTURED-LOCATION;VALUE=URI;X-ADDRESS=Windom Northeast Recreation Center 2251 NE Hayes St Minneapolis MN 55418 United States;X-APPLE-RADIUS=500;X-TITLE=2251 NE Hayes St:geo:-93.2342613,45.0112229
END:VEVENT
BEGIN:VEVENT
DTSTART;TZID=America/Chicago:20241018T150000
DTEND;TZID=America/Chicago:20241018T170000
DTSTAMP:20260422T002949
CREATED:20240918T201758Z
LAST-MODIFIED:20240919T191110Z
UID:77212-1729263600-1729270800@www.minneapolisparks.org
SUMMARY:Pumpkin Carving & Seed Baking
DESCRIPTION:We will provide all the materials to carve some spooky pumpkins and roast some delicious pumpkin seeds. Apple cider and snacks will be provided. Enroll now (free).
URL:https://www.minneapolisparks.org/event-calendar/pumpkin-carving-seed-baking/
LOCATION:Van Cleve Recreation Center\, 901 15th Ave SE\, Minneapolis\, MN\, 55414\, United States
CATEGORIES:Events- All,Events- MPRB
GEO:44.9858651;-93.2311356
X-APPLE-STRUCTURED-LOCATION;VALUE=URI;X-ADDRESS=Van Cleve Recreation Center 901 15th Ave SE Minneapolis MN 55414 United States;X-APPLE-RADIUS=500;X-TITLE=901 15th Ave SE:geo:-93.2311356,44.9858651
END:VEVENT
BEGIN:VEVENT
DTSTART;TZID=America/Chicago:20241018T130000
DTEND;TZID=America/Chicago:20241018T160000
DTSTAMP:20260422T002949
CREATED:20240919T183457Z
LAST-MODIFIED:20240919T191248Z
UID:77367-1729256400-1729267200@www.minneapolisparks.org
SUMMARY:School Release Day: It's All Fun and Games
DESCRIPTION:We’ll play lots of games inside and outside (weather permitting) to get the school release day wiggles out. Snacks will be provided. Join us for some elementary-age fun!
URL:https://www.minneapolisparks.org/event-calendar/school-release-day-its-all-fun-and-games-3/2024-10-18/
LOCATION:Peavey Field Park\, 730 E 22nd St\, Minneapolis\, MN\, 55404\, United States
CATEGORIES:Events- All,Events- MPRB
GEO:44.960663;-93.2630881
X-APPLE-STRUCTURED-LOCATION;VALUE=URI;X-ADDRESS=Peavey Field Park 730 E 22nd St Minneapolis MN 55404 United States;X-APPLE-RADIUS=500;X-TITLE=730 E 22nd St:geo:-93.2630881,44.960663
END:VEVENT
BEGIN:VEVENT
DTSTART;TZID=America/Chicago:20241018T130000
DTEND;TZID=America/Chicago:20241018T160000
DTSTAMP:20260422T002949
CREATED:20240919T175819Z
LAST-MODIFIED:20240919T191350Z
UID:77319-1729256400-1729267200@www.minneapolisparks.org
SUMMARY:MEA Break Art Camp: Sun Catchers
DESCRIPTION:Bring your child to Hiawatha School Park for this three hour camp over MEA. On Friday\, October 18th 2024 we will be making Sun Catchers! \nHave your child eat lunch before coming and a snack will be provided. \nEnroll Now
URL:https://www.minneapolisparks.org/event-calendar/mea-break-art-camp-sun-catchers/
LOCATION:Hiawatha School Recreation Center\, 4305 E 42nd St\, Minneapolis\, MN\, 55406\, United States
CATEGORIES:Events- All,Events- MPRB
GEO:44.9264488;-93.2112783
X-APPLE-STRUCTURED-LOCATION;VALUE=URI;X-ADDRESS=Hiawatha School Recreation Center 4305 E 42nd St Minneapolis MN 55406 United States;X-APPLE-RADIUS=500;X-TITLE=4305 E 42nd St:geo:-93.2112783,44.9264488
END:VEVENT
BEGIN:VEVENT
DTSTART;TZID=America/Chicago:20241018T130000
DTEND;TZID=America/Chicago:20241018T150000
DTSTAMP:20260422T002949
CREATED:20240919T181830Z
LAST-MODIFIED:20240919T191517Z
UID:77343-1729256400-1729263600@www.minneapolisparks.org
SUMMARY:Craft 'n Play - MEA
DESCRIPTION:Join us in the afternoon to craft and play. We’ll have a variety of projects to choose from. We’ll also have time in the gym\, a snack and everyone’s favorite – bingo! Enroll now (free).
URL:https://www.minneapolisparks.org/event-calendar/craft-n-play-mea/
LOCATION:Powderhorn Recreation Center\, Minneapolis\, MN\, United States
CATEGORIES:Events- All,Events- MPRB
GEO:44.9413282;-93.2547875
END:VEVENT
BEGIN:VEVENT
DTSTART;TZID=America/Chicago:20241018T123000
DTEND;TZID=America/Chicago:20241018T163000
DTSTAMP:20260422T002949
CREATED:20240919T180736Z
LAST-MODIFIED:20240919T191652Z
UID:77329-1729254600-1729269000@www.minneapolisparks.org
SUMMARY:MEA Break Stay and Play
DESCRIPTION:Come on down to Central Gym for a fun filled day. We will be providing snacks\, games\, and tons of fun! Enroll now (free).
URL:https://www.minneapolisparks.org/event-calendar/mea-break-stay-and-play/2024-10-18/
LOCATION:Central Gym Recreation Center\, 4th Avenue South\, Minneapolis\, Minnesota\, 55408\, United States
CATEGORIES:Events- All,Events- MPRB
GEO:44.9400253;-93.2710938
X-APPLE-STRUCTURED-LOCATION;VALUE=URI;X-ADDRESS=Central Gym Recreation Center 4th Avenue South Minneapolis Minnesota 55408 United States;X-APPLE-RADIUS=500;X-TITLE=4th Avenue South:geo:-93.2710938,44.9400253
END:VEVENT
BEGIN:VEVENT
DTSTART;TZID=America/Chicago:20241018T120000
DTEND;TZID=America/Chicago:20241018T160000
DTSTAMP:20260422T002949
CREATED:20240919T175153Z
LAST-MODIFIED:20240919T191745Z
UID:77315-1729252800-1729267200@www.minneapolisparks.org
SUMMARY:School Release Day MEA Board Game
DESCRIPTION:School’s out\, stop by at the center for couple of fun card games with kids in the neighborhood and friends. Board game such as connect Four\, chess and checker. Enroll now (free).
URL:https://www.minneapolisparks.org/event-calendar/school-release-day-mea-board-game/2024-10-18/
LOCATION:Fuller Recreation Center\, 4802 Grand Ave S\, Minneapolis\, MN\, 55419\, United States
CATEGORIES:Events- All,Events- MPRB
GEO:44.915755;-93.28479
X-APPLE-STRUCTURED-LOCATION;VALUE=URI;X-ADDRESS=Fuller Recreation Center 4802 Grand Ave S Minneapolis MN 55419 United States;X-APPLE-RADIUS=500;X-TITLE=4802 Grand Ave S:geo:-93.28479,44.915755
END:VEVENT
BEGIN:VEVENT
DTSTART;TZID=America/Chicago:20241018T120000
DTEND;TZID=America/Chicago:20241018T160000
DTSTAMP:20260422T002949
CREATED:20240918T211708Z
LAST-MODIFIED:20240919T192034Z
UID:77263-1729252800-1729267200@www.minneapolisparks.org
SUMMARY:MEA Break 3 on 3 Basketball Tournament
DESCRIPTION:MEA Break 3 on 3 Basketball Tournament. Sign your team up and see if you can win it all! Prizes\, Refreshments and Trophies awarded and the end of the Tournament. Enroll now (free).
URL:https://www.minneapolisparks.org/event-calendar/mea-break-3-on-3-basketball-tournament/2024-10-18/
LOCATION:Folwell Recreation Center\, 1615 N Dowling Ave\, Minneapolis\, MN\, 55412\, United States
CATEGORIES:Events- All,Events- MPRB
GEO:45.0235514;-93.3002305
X-APPLE-STRUCTURED-LOCATION;VALUE=URI;X-ADDRESS=Folwell Recreation Center 1615 N Dowling Ave Minneapolis MN 55412 United States;X-APPLE-RADIUS=500;X-TITLE=1615 N Dowling Ave:geo:-93.3002305,45.0235514
END:VEVENT
BEGIN:VEVENT
DTSTART;TZID=America/Chicago:20241017T170000
DTEND;TZID=America/Chicago:20241017T210000
DTSTAMP:20260422T002949
CREATED:20240918T202322Z
LAST-MODIFIED:20240918T202322Z
UID:77216-1729184400-1729198800@www.minneapolisparks.org
SUMMARY:Youthline Trunk or Treat at Lake Nokomis
DESCRIPTION:Start the Spooky Season with a Drive-in Movie at Nokomis South Beach Parking lot. You will be met by Addams Family Costume Characters\, as you enter the trunk or treat drive through. Treats and Halloween decorations meet all that enter. Park in your drive-in spot and then enjoy games and activities\, Wednesday dance\, bonfire and smores along with Pizza slices for sale. Enjoy all these activities before the movie starts around dusk.
URL:https://www.minneapolisparks.org/event-calendar/youthline-trunk-or-treat-at-lake-nokomis/
LOCATION:Elliot Park\, 1000 E 14th St\, Minneapolis\, MN\, 55404\, United States
CATEGORIES:Events- All,Events- MPRB
GEO:44.9693872;-93.2597211
X-APPLE-STRUCTURED-LOCATION;VALUE=URI;X-ADDRESS=Elliot Park 1000 E 14th St Minneapolis MN 55404 United States;X-APPLE-RADIUS=500;X-TITLE=1000 E 14th St:geo:-93.2597211,44.9693872
END:VEVENT
BEGIN:VEVENT
DTSTART;TZID=America/Chicago:20241017T163000
DTEND;TZID=America/Chicago:20241017T173000
DTSTAMP:20260422T002949
CREATED:20241004T200121Z
LAST-MODIFIED:20241004T204132Z
UID:77678-1729182600-1729186200@www.minneapolisparks.org
SUMMARY:Birdwatching Around Theodore Wirth Parkway
DESCRIPTION:Join the Urban Bird Collective and Minneapolis Parks for a walk around the Theodore Wirth Parkway area to enjoy the fall colors and look for birds before they travel further south for the winter.  This will also be an opportunity to learn about the Mississippi Flyway and the habitat enhancement/connectivity pilot project that’s focused on starting to build out the 26th Avenue habitat corridor.  All experience levels welcome. \nLearn more and sign up here.
URL:https://www.minneapolisparks.org/event-calendar/birdwatching-around-theodore-wirth-parkway/
LOCATION:Theodore Wirth Parkway\, Theodore Wirth Parkway\, Minneapolis\, MN\, United States
CATEGORIES:Events- All,Events- MPRB,Public Meetings
GEO:44.991447;-93.3232573
X-APPLE-STRUCTURED-LOCATION;VALUE=URI;X-ADDRESS=Theodore Wirth Parkway Theodore Wirth Parkway Minneapolis MN United States;X-APPLE-RADIUS=500;X-TITLE=Theodore Wirth Parkway:geo:-93.3232573,44.991447
END:VEVENT
BEGIN:VEVENT
DTSTART;TZID=America/Chicago:20241017T160000
DTEND;TZID=America/Chicago:20241017T200000
DTSTAMP:20260422T002949
CREATED:20240918T211427Z
LAST-MODIFIED:20240919T192513Z
UID:77258-1729180800-1729195200@www.minneapolisparks.org
SUMMARY:MEA Break Ping Pong Tournament
DESCRIPTION:Ping Pong smash! Come to Logan for a MEA Break Ping Pong tournament. Bring your game\, there will be some good players. Prizes for 1st and 2nd place. Enroll now (free)
URL:https://www.minneapolisparks.org/event-calendar/mea-break-ping-pong-tournament/
LOCATION:Logan Recreation Center\, 680 13th Ave NE\, Minneapolis\, MN\, 55413\, United States
CATEGORIES:Events- All,Events- MPRB
GEO:45.0007134;-93.2531297
X-APPLE-STRUCTURED-LOCATION;VALUE=URI;X-ADDRESS=Logan Recreation Center 680 13th Ave NE Minneapolis MN 55413 United States;X-APPLE-RADIUS=500;X-TITLE=680 13th Ave NE:geo:-93.2531297,45.0007134
END:VEVENT
BEGIN:VEVENT
DTSTART;TZID=America/Chicago:20241017T160000
DTEND;TZID=America/Chicago:20241017T173000
DTSTAMP:20260422T002949
CREATED:20240919T182125Z
LAST-MODIFIED:20240919T194757Z
UID:77347-1729180800-1729186200@www.minneapolisparks.org
SUMMARY:MEA Break: Paint It Posse
DESCRIPTION:Are you a Taylor Swift fan who loves creating art? Then join us for this ARTrageous MEA camp that will create art inspired by some of her favorite songs while learning what stylized art is all about! Enroll now. \nThis class is a collaboration with ARTrageous Adventures a local children’s art studio and gallery.
URL:https://www.minneapolisparks.org/event-calendar/mea-break-paint-it-posse/2024-10-17/
LOCATION:Painter Park\, 620 W 34th St\, Minneapolis\, MN\, 55408\, United States
CATEGORIES:Events- All,Events- MPRB
GEO:44.9416634;-93.2876806
X-APPLE-STRUCTURED-LOCATION;VALUE=URI;X-ADDRESS=Painter Park 620 W 34th St Minneapolis MN 55408 United States;X-APPLE-RADIUS=500;X-TITLE=620 W 34th St:geo:-93.2876806,44.9416634
END:VEVENT
BEGIN:VEVENT
DTSTART;TZID=America/Chicago:20241017T150000
DTEND;TZID=America/Chicago:20241017T180000
DTSTAMP:20260422T002949
CREATED:20240918T202634Z
LAST-MODIFIED:20240919T194916Z
UID:77218-1729177200-1729188000@www.minneapolisparks.org
SUMMARY:MEA Field Trip: Afton Pumpkin Patch (Youthline)
DESCRIPTION:We are going on a MEA field trip to the pumpkin patch in Afton! We will pet animals\, ride the hay wagon and pick some pumpkins! \nTo register for this program please email Courtney at cgillman@minneapolisparks.org.
URL:https://www.minneapolisparks.org/event-calendar/mea-field-trip-afton-pumpkin-patch-youthline/
LOCATION:East Phillips Park\, 2399 S 17th Ave\, Minneapolis\, MN\, 55404\, United States
CATEGORIES:Events- All,Events- MPRB
GEO:44.9592105;-93.2497216
X-APPLE-STRUCTURED-LOCATION;VALUE=URI;X-ADDRESS=East Phillips Park 2399 S 17th Ave Minneapolis MN 55404 United States;X-APPLE-RADIUS=500;X-TITLE=2399 S 17th Ave:geo:-93.2497216,44.9592105
END:VEVENT
BEGIN:VEVENT
DTSTART;TZID=America/Chicago:20241017T150000
DTEND;TZID=America/Chicago:20241017T170000
DTSTAMP:20260422T002949
CREATED:20240919T180858Z
LAST-MODIFIED:20240919T190929Z
UID:77331-1729177200-1729184400@www.minneapolisparks.org
SUMMARY:MEA Break Board Games
DESCRIPTION:School out\, stop by at the center for couple of fun card games with kids in the neighborhood and friends. Board game such as connect Four\, chess and checker. Enroll now (free).
URL:https://www.minneapolisparks.org/event-calendar/mea-break-board-games/2024-10-17/
LOCATION:Windom Northeast Recreation Center\, 2251 NE Hayes St\, Minneapolis\, MN\, 55418\, United States
CATEGORIES:Events- All,Events- MPRB
GEO:45.0112229;-93.2342613
X-APPLE-STRUCTURED-LOCATION;VALUE=URI;X-ADDRESS=Windom Northeast Recreation Center 2251 NE Hayes St Minneapolis MN 55418 United States;X-APPLE-RADIUS=500;X-TITLE=2251 NE Hayes St:geo:-93.2342613,45.0112229
END:VEVENT
BEGIN:VEVENT
DTSTART;TZID=America/Chicago:20241017T130000
DTEND;TZID=America/Chicago:20241017T170000
DTSTAMP:20260422T002949
CREATED:20240918T211156Z
LAST-MODIFIED:20240919T195107Z
UID:77256-1729170000-1729184400@www.minneapolisparks.org
SUMMARY:School Release Day: Mystery at the Park
DESCRIPTION:Schools OUT\, so lets solve a mystery. We’ll spend the day learning about spy stuff: codes\, invisible ink and finding clues. Then it’s off to solve a mystery at the park! Enroll now.
URL:https://www.minneapolisparks.org/event-calendar/school-release-day-mystery-at-the-park/
LOCATION:Lake Hiawatha Recreation Center\, Minneapolis\, MN\, United States
CATEGORIES:Events- All,Events- MPRB
GEO:44.9231192;-93.2337349
END:VEVENT
BEGIN:VEVENT
DTSTART;TZID=America/Chicago:20241017T130000
DTEND;TZID=America/Chicago:20241017T160000
DTSTAMP:20260422T002949
CREATED:20240919T183457Z
LAST-MODIFIED:20240919T191247Z
UID:77366-1729170000-1729180800@www.minneapolisparks.org
SUMMARY:School Release Day: It's All Fun and Games
DESCRIPTION:We’ll play lots of games inside and outside (weather permitting) to get the school release day wiggles out. Snacks will be provided. Join us for some elementary-age fun!
URL:https://www.minneapolisparks.org/event-calendar/school-release-day-its-all-fun-and-games-3/2024-10-17/
LOCATION:Peavey Field Park\, 730 E 22nd St\, Minneapolis\, MN\, 55404\, United States
CATEGORIES:Events- All,Events- MPRB
GEO:44.960663;-93.2630881
X-APPLE-STRUCTURED-LOCATION;VALUE=URI;X-ADDRESS=Peavey Field Park 730 E 22nd St Minneapolis MN 55404 United States;X-APPLE-RADIUS=500;X-TITLE=730 E 22nd St:geo:-93.2630881,44.960663
END:VEVENT
BEGIN:VEVENT
DTSTART;TZID=America/Chicago:20241017T130000
DTEND;TZID=America/Chicago:20241017T160000
DTSTAMP:20260422T002949
CREATED:20240918T211708Z
LAST-MODIFIED:20240919T192033Z
UID:77260-1729170000-1729180800@www.minneapolisparks.org
SUMMARY:MEA Break 3 on 3 Basketball Tournament
DESCRIPTION:MEA Break 3 on 3 Basketball Tournament. Sign your team up and see if you can win it all! Prizes\, Refreshments and Trophies awarded and the end of the Tournament. Enroll now (free).
URL:https://www.minneapolisparks.org/event-calendar/mea-break-3-on-3-basketball-tournament/2024-10-17/
LOCATION:Folwell Recreation Center\, 1615 N Dowling Ave\, Minneapolis\, MN\, 55412\, United States
CATEGORIES:Events- All,Events- MPRB
GEO:45.0235514;-93.3002305
X-APPLE-STRUCTURED-LOCATION;VALUE=URI;X-ADDRESS=Folwell Recreation Center 1615 N Dowling Ave Minneapolis MN 55412 United States;X-APPLE-RADIUS=500;X-TITLE=1615 N Dowling Ave:geo:-93.3002305,45.0235514
END:VEVENT
BEGIN:VEVENT
DTSTART;TZID=America/Chicago:20241017T130000
DTEND;TZID=America/Chicago:20241017T150000
DTSTAMP:20260422T002949
CREATED:20240919T182930Z
LAST-MODIFIED:20240919T195607Z
UID:77359-1729170000-1729177200@www.minneapolisparks.org
SUMMARY:MEA:  Jewelry Making
DESCRIPTION:In this 2 day class students will make of variety of different kinds of jewelry. Including beads and jewelry boxes made from air dry clay and origami paper to shrinky dink earring\, pendants and keychains. Other fun ideas include wire wrapped rings\, friendship bracelets\, paper rings and even button making. Check out the fun with Sophia! Enroll now.
URL:https://www.minneapolisparks.org/event-calendar/mea-jewelry-making/2024-10-17/
LOCATION:Northeast Recreation Center\, Minneapolis\, MN\, United States
CATEGORIES:Events- All,Events- MPRB
GEO:45.0039194;-93.2379239
END:VEVENT
BEGIN:VEVENT
DTSTART;TZID=America/Chicago:20241017T130000
DTEND;TZID=America/Chicago:20241017T150000
DTSTAMP:20260422T002949
CREATED:20240919T181311Z
LAST-MODIFIED:20240919T200633Z
UID:77337-1729170000-1729177200@www.minneapolisparks.org
SUMMARY:School Release: Capture the Flag
DESCRIPTION:Join us for school release – Capture the Flag. It’s free to play\, but you must be registered to participate. This activity will take place outdoors\, in case of inclement weather the activity will be cancelled. Enroll now (free).
URL:https://www.minneapolisparks.org/event-calendar/school-release-capture-the-flag-2/
LOCATION:Whittier Recreation Center\, 425 W 26th St\, Minneapolis\, MN\, 55404\, United States
CATEGORIES:Events- All,Events- MPRB
GEO:44.9551265;-93.2845291
X-APPLE-STRUCTURED-LOCATION;VALUE=URI;X-ADDRESS=Whittier Recreation Center 425 W 26th St Minneapolis MN 55404 United States;X-APPLE-RADIUS=500;X-TITLE=425 W 26th St:geo:-93.2845291,44.9551265
END:VEVENT
BEGIN:VEVENT
DTSTART;TZID=America/Chicago:20241017T123000
DTEND;TZID=America/Chicago:20241017T163000
DTSTAMP:20260422T002949
CREATED:20240919T180736Z
LAST-MODIFIED:20240919T191651Z
UID:77328-1729168200-1729182600@www.minneapolisparks.org
SUMMARY:MEA Break Stay and Play
DESCRIPTION:Come on down to Central Gym for a fun filled day. We will be providing snacks\, games\, and tons of fun! Enroll now (free).
URL:https://www.minneapolisparks.org/event-calendar/mea-break-stay-and-play/2024-10-17/
LOCATION:Central Gym Recreation Center\, 4th Avenue South\, Minneapolis\, Minnesota\, 55408\, United States
CATEGORIES:Events- All,Events- MPRB
GEO:44.9400253;-93.2710938
X-APPLE-STRUCTURED-LOCATION;VALUE=URI;X-ADDRESS=Central Gym Recreation Center 4th Avenue South Minneapolis Minnesota 55408 United States;X-APPLE-RADIUS=500;X-TITLE=4th Avenue South:geo:-93.2710938,44.9400253
END:VEVENT
BEGIN:VEVENT
DTSTART;TZID=America/Chicago:20241017T120000
DTEND;TZID=America/Chicago:20241017T160000
DTSTAMP:20260422T002949
CREATED:20240919T175153Z
LAST-MODIFIED:20240919T191744Z
UID:77314-1729166400-1729180800@www.minneapolisparks.org
SUMMARY:School Release Day MEA Board Game
DESCRIPTION:School’s out\, stop by at the center for couple of fun card games with kids in the neighborhood and friends. Board game such as connect Four\, chess and checker. Enroll now (free).
URL:https://www.minneapolisparks.org/event-calendar/school-release-day-mea-board-game/2024-10-17/
LOCATION:Fuller Recreation Center\, 4802 Grand Ave S\, Minneapolis\, MN\, 55419\, United States
CATEGORIES:Events- All,Events- MPRB
GEO:44.915755;-93.28479
X-APPLE-STRUCTURED-LOCATION;VALUE=URI;X-ADDRESS=Fuller Recreation Center 4802 Grand Ave S Minneapolis MN 55419 United States;X-APPLE-RADIUS=500;X-TITLE=4802 Grand Ave S:geo:-93.28479,44.915755
END:VEVENT
END:VCALENDAR