BEGIN:VCALENDAR
VERSION:2.0
PRODID:-//Minneapolis Park &amp; Recreation Board - ECPv6.15.20//NONSGML v1.0//EN
CALSCALE:GREGORIAN
METHOD:PUBLISH
X-ORIGINAL-URL:https://www.minneapolisparks.org
X-WR-CALDESC:Events for Minneapolis Park &amp; Recreation Board
REFRESH-INTERVAL;VALUE=DURATION:PT1H
X-Robots-Tag:noindex
X-PUBLISHED-TTL:PT1H
BEGIN:VTIMEZONE
TZID:America/Chicago
BEGIN:DAYLIGHT
TZOFFSETFROM:-0600
TZOFFSETTO:-0500
TZNAME:CDT
DTSTART:20150308T080000
END:DAYLIGHT
BEGIN:STANDARD
TZOFFSETFROM:-0500
TZOFFSETTO:-0600
TZNAME:CST
DTSTART:20151101T070000
END:STANDARD
BEGIN:DAYLIGHT
TZOFFSETFROM:-0600
TZOFFSETTO:-0500
TZNAME:CDT
DTSTART:20160313T080000
END:DAYLIGHT
BEGIN:STANDARD
TZOFFSETFROM:-0500
TZOFFSETTO:-0600
TZNAME:CST
DTSTART:20161106T070000
END:STANDARD
BEGIN:DAYLIGHT
TZOFFSETFROM:-0600
TZOFFSETTO:-0500
TZNAME:CDT
DTSTART:20170312T080000
END:DAYLIGHT
BEGIN:STANDARD
TZOFFSETFROM:-0500
TZOFFSETTO:-0600
TZNAME:CST
DTSTART:20171105T070000
END:STANDARD
END:VTIMEZONE
BEGIN:VEVENT
DTSTART;TZID=America/Chicago:20161115T190000
DTEND;TZID=America/Chicago:20161115T200000
DTSTAMP:20260421T003649
CREATED:20191216T182240Z
LAST-MODIFIED:20191216T182240Z
UID:37709-1479236400-1479240000@www.minneapolisparks.org
SUMMARY:Community review of Lake Nokomis playground plans
DESCRIPTION:The Minneapolis Park and Recreation Board (MPRB) is providing improvements to the Lake Nokomis Community Center Playground\, specifically in the area geared toward 2-5 year old play and including the adjacent sidewalks. A series of public information gathering sessions were held in September which resulted in a plan that will be presented for community review. \n\nSee Project Page \nGet Directions
URL:https://www.minneapolisparks.org/event-calendar/community-review-of-lake-nokomis-playground-plans/
LOCATION:Lake Nokomis Community Center\, 2401 E Minnehaha Parkway\, Minneapolis\, MN\, 55417\, United States
CATEGORIES:Public Meetings
GEO:44.9157107;-93.2366016
X-APPLE-STRUCTURED-LOCATION;VALUE=URI;X-ADDRESS=Lake Nokomis Community Center 2401 E Minnehaha Parkway Minneapolis MN 55417 United States;X-APPLE-RADIUS=500;X-TITLE=2401 E Minnehaha Parkway:geo:-93.2366016,44.9157107
END:VEVENT
BEGIN:VEVENT
DTSTART;TZID=America/Chicago:20161116T123000
DTEND;TZID=America/Chicago:20161116T150000
DTSTAMP:20260421T003649
CREATED:20191216T182240Z
LAST-MODIFIED:20191216T182240Z
UID:37710-1479299400-1479308400@www.minneapolisparks.org
SUMMARY:Big Band Music and Luncheon
DESCRIPTION:Enjoy the music of “The Commodores Jazz Band” and a delicious home-made meal. The luncheon includes turkey\, stuffing\, mashed potatoes\, gravy\, coleslaw\, dessert and refreshments. \nGet Directions
URL:https://www.minneapolisparks.org/event-calendar/big-band-music-and-luncheon/
LOCATION:Lake Nokomis Community Center\, 2401 E Minnehaha Parkway\, Minneapolis\, MN\, 55417\, United States
CATEGORIES:Events- MPRB
GEO:44.9157107;-93.2366016
X-APPLE-STRUCTURED-LOCATION;VALUE=URI;X-ADDRESS=Lake Nokomis Community Center 2401 E Minnehaha Parkway Minneapolis MN 55417 United States;X-APPLE-RADIUS=500;X-TITLE=2401 E Minnehaha Parkway:geo:-93.2366016,44.9157107
END:VEVENT
BEGIN:VEVENT
DTSTART;TZID=America/Chicago:20161116T183000
DTEND;TZID=America/Chicago:20161116T183000
DTSTAMP:20260421T003649
CREATED:20191216T182241Z
LAST-MODIFIED:20191216T182241Z
UID:37711-1479321000-1479321000@www.minneapolisparks.org
SUMMARY:Calhoun Refectory Facility and Grounds Study public hearing
DESCRIPTION:Concepts for future improvements to the site\, building and surrounding grounds will be presented. Community members are invited to speak at the public hearing. Arrive by 6:25 to sign up\, the hearing will begin promptly at 6:30 PM. \n\nSee Project Page \nGet Directions
URL:https://www.minneapolisparks.org/event-calendar/calhoun-refectory-facility-and-grounds-study-public-hearing/
LOCATION:Mary Merrill Minneapolis Park & Recreation Board Headquarters\, 2117 West River Road N\, Minneapolis\, MN\, 55411\, United States
CATEGORIES:Public Meetings
GEO:45.0008334;-93.2780339
X-APPLE-STRUCTURED-LOCATION;VALUE=URI;X-ADDRESS=Mary Merrill Minneapolis Park & Recreation Board Headquarters 2117 West River Road N Minneapolis MN 55411 United States;X-APPLE-RADIUS=500;X-TITLE=2117 West River Road N:geo:-93.2780339,45.0008334
END:VEVENT
BEGIN:VEVENT
DTSTART;TZID=America/Chicago:20161124T073000
DTEND;TZID=America/Chicago:20161124T073000
DTSTAMP:20260421T003649
CREATED:20191216T182241Z
LAST-MODIFIED:20191216T182241Z
UID:37712-1479972600-1479972600@www.minneapolisparks.org
SUMMARY:Drumstick Dash 10K
DESCRIPTION:Event hosted by outside group. \nGet Directions
URL:https://www.minneapolisparks.org/event-calendar/drumstick-dash-10k/
LOCATION:Lake Harriet Park\, 4135 W Lake Harriet Parkway\, Minneapolis\, MN\, 55409\, United States
CATEGORIES:Events- Non-MPRB
GEO:44.927901;-93.3082473
X-APPLE-STRUCTURED-LOCATION;VALUE=URI;X-ADDRESS=Lake Harriet Park 4135 W Lake Harriet Parkway Minneapolis MN 55409 United States;X-APPLE-RADIUS=500;X-TITLE=4135 W Lake Harriet Parkway:geo:-93.3082473,44.927901
END:VEVENT
BEGIN:VEVENT
DTSTART;TZID=America/Chicago:20161124T080000
DTEND;TZID=America/Chicago:20161124T080000
DTSTAMP:20260421T003649
CREATED:20191216T182241Z
LAST-MODIFIED:20191216T182241Z
UID:37713-1479974400-1479974400@www.minneapolisparks.org
SUMMARY:Turkey Day 5K
DESCRIPTION:Event hosted by outside group. \nCourse Map
URL:https://www.minneapolisparks.org/event-calendar/turkey-day-5k/
LOCATION:West River Parkway\, Minneapolis\, MN\, United States
CATEGORIES:Events- Non-MPRB
GEO:44.9627903;-93.2263653
END:VEVENT
BEGIN:VEVENT
DTSTART;TZID=America/Chicago:20161124T080000
DTEND;TZID=America/Chicago:20161124T080000
DTSTAMP:20260421T003649
CREATED:20191216T182241Z
LAST-MODIFIED:20191216T182241Z
UID:37714-1479974400-1479974400@www.minneapolisparks.org
SUMMARY:Beast 2 Feast 5K
DESCRIPTION:Event hosted by outside group. \nGet Directions
URL:https://www.minneapolisparks.org/event-calendar/beast-2-feast-5k/
LOCATION:Bde Maka Ska Park\, 3000 Calhoun Parkway\, Minneapolis\, MN\, 55408\, United States
CATEGORIES:Events- Non-MPRB
GEO:44.9338272;-93.310333
X-APPLE-STRUCTURED-LOCATION;VALUE=URI;X-ADDRESS=Bde Maka Ska Park 3000 Calhoun Parkway Minneapolis MN 55408 United States;X-APPLE-RADIUS=500;X-TITLE=3000 Calhoun Parkway:geo:-93.310333,44.9338272
END:VEVENT
BEGIN:VEVENT
DTSTART;VALUE=DATE:20161125
DTEND;VALUE=DATE:20161126
DTSTAMP:20260421T003649
CREATED:20191216T182241Z
LAST-MODIFIED:20191216T182241Z
UID:37715-1480032000-1480118399@www.minneapolisparks.org
SUMMARY:Holidazzle
DESCRIPTION:Event hosted by outside group. \nLearn More \nGet Directions
URL:https://www.minneapolisparks.org/event-calendar/holidazzle/
LOCATION:Loring Park\, Loring Park\, Minneapolis\, MN\, 55403\, United States
CATEGORIES:Events- Non-MPRB
GEO:44.9649915;-93.2854596
X-APPLE-STRUCTURED-LOCATION;VALUE=URI;X-ADDRESS=Loring Park Loring Park Minneapolis MN 55403 United States;X-APPLE-RADIUS=500;X-TITLE=Loring Park:geo:-93.2854596,44.9649915
END:VEVENT
BEGIN:VEVENT
DTSTART;VALUE=DATE:20161126
DTEND;VALUE=DATE:20161127
DTSTAMP:20260421T003649
CREATED:20191216T182242Z
LAST-MODIFIED:20191216T182242Z
UID:37716-1480118400-1480204799@www.minneapolisparks.org
SUMMARY:Holidazzle
DESCRIPTION:Event hosted by outside group. \nLearn More \nGet Directions
URL:https://www.minneapolisparks.org/event-calendar/holidazzle-2/
LOCATION:Loring Park\, Loring Park\, Minneapolis\, MN\, 55403\, United States
CATEGORIES:Events- Non-MPRB
GEO:44.9649915;-93.2854596
X-APPLE-STRUCTURED-LOCATION;VALUE=URI;X-ADDRESS=Loring Park Loring Park Minneapolis MN 55403 United States;X-APPLE-RADIUS=500;X-TITLE=Loring Park:geo:-93.2854596,44.9649915
END:VEVENT
BEGIN:VEVENT
DTSTART;TZID=America/Chicago:20161126T090000
DTEND;TZID=America/Chicago:20161126T090000
DTSTAMP:20260421T003649
CREATED:20191216T182242Z
LAST-MODIFIED:20191216T182242Z
UID:37717-1480150800-1480150800@www.minneapolisparks.org
SUMMARY:Moustache Run
DESCRIPTION:Event hosted by outside group. \nCourse Maps
URL:https://www.minneapolisparks.org/event-calendar/moustache-run/
LOCATION:Historic Main Street Park\, 420 Main St SE\, Minneapolis\, MN\, 55414\, United States
CATEGORIES:Events- Non-MPRB
GEO:44.9826582;-93.2513335
X-APPLE-STRUCTURED-LOCATION;VALUE=URI;X-ADDRESS=Historic Main Street Park 420 Main St SE Minneapolis MN 55414 United States;X-APPLE-RADIUS=500;X-TITLE=420 Main St SE:geo:-93.2513335,44.9826582
END:VEVENT
BEGIN:VEVENT
DTSTART;VALUE=DATE:20161127
DTEND;VALUE=DATE:20161128
DTSTAMP:20260421T003649
CREATED:20191216T182242Z
LAST-MODIFIED:20191216T182242Z
UID:37718-1480204800-1480291199@www.minneapolisparks.org
SUMMARY:Holidazzle
DESCRIPTION:Event hosted by outside group. \nLearn More \nGet Directions
URL:https://www.minneapolisparks.org/event-calendar/holidazzle-3/
LOCATION:Loring Park\, Loring Park\, Minneapolis\, MN\, 55403\, United States
CATEGORIES:Events- Non-MPRB
GEO:44.9649915;-93.2854596
X-APPLE-STRUCTURED-LOCATION;VALUE=URI;X-ADDRESS=Loring Park Loring Park Minneapolis MN 55403 United States;X-APPLE-RADIUS=500;X-TITLE=Loring Park:geo:-93.2854596,44.9649915
END:VEVENT
BEGIN:VEVENT
DTSTART;TZID=America/Chicago:20161129T183000
DTEND;TZID=America/Chicago:20161129T183000
DTSTAMP:20260421T003649
CREATED:20191216T182242Z
LAST-MODIFIED:20191216T182242Z
UID:37719-1480444200-1480444200@www.minneapolisparks.org
SUMMARY:Hiawatha Golf Course Improvements Public Meeting
DESCRIPTION:Discuss Phase Two of groundwater and stormwater pumping investigation \n\nSee Project PageGet Directions
URL:https://www.minneapolisparks.org/event-calendar/hiawatha-golf-course-improvements-public-meeting/
LOCATION:Powderhorn Recreation Center\, Minneapolis\, MN\, United States
CATEGORIES:Public Meetings
GEO:44.9413282;-93.2547875
END:VEVENT
BEGIN:VEVENT
DTSTART;VALUE=DATE:20161201
DTEND;VALUE=DATE:20161202
DTSTAMP:20260421T003649
CREATED:20191216T182242Z
LAST-MODIFIED:20191216T182242Z
UID:37720-1480550400-1480636799@www.minneapolisparks.org
SUMMARY:Holidazzle
DESCRIPTION:Event hosted by outside group. \nLearn More \nGet Directions
URL:https://www.minneapolisparks.org/event-calendar/holidazzle-4/
LOCATION:Loring Park\, Loring Park\, Minneapolis\, MN\, 55403\, United States
CATEGORIES:Events- Non-MPRB
GEO:44.9649915;-93.2854596
X-APPLE-STRUCTURED-LOCATION;VALUE=URI;X-ADDRESS=Loring Park Loring Park Minneapolis MN 55403 United States;X-APPLE-RADIUS=500;X-TITLE=Loring Park:geo:-93.2854596,44.9649915
END:VEVENT
BEGIN:VEVENT
DTSTART;VALUE=DATE:20161202
DTEND;VALUE=DATE:20161203
DTSTAMP:20260421T003649
CREATED:20191216T182243Z
LAST-MODIFIED:20191216T182243Z
UID:37721-1480636800-1480723199@www.minneapolisparks.org
SUMMARY:Holidazzle
DESCRIPTION:Event hosted by outside group. \nLearn More \nGet Directions
URL:https://www.minneapolisparks.org/event-calendar/holidazzle-5/
LOCATION:Loring Park\, Loring Park\, Minneapolis\, MN\, 55403\, United States
CATEGORIES:Events- Non-MPRB
GEO:44.9649915;-93.2854596
X-APPLE-STRUCTURED-LOCATION;VALUE=URI;X-ADDRESS=Loring Park Loring Park Minneapolis MN 55403 United States;X-APPLE-RADIUS=500;X-TITLE=Loring Park:geo:-93.2854596,44.9649915
END:VEVENT
BEGIN:VEVENT
DTSTART;VALUE=DATE:20161203
DTEND;VALUE=DATE:20161204
DTSTAMP:20260421T003649
CREATED:20191216T182243Z
LAST-MODIFIED:20191216T182243Z
UID:37722-1480723200-1480809599@www.minneapolisparks.org
SUMMARY:Holidazzle
DESCRIPTION:Event hosted by outside group. \nLearn More \nGet Directions
URL:https://www.minneapolisparks.org/event-calendar/holidazzle-6/
LOCATION:Loring Park\, Loring Park\, Minneapolis\, MN\, 55403\, United States
CATEGORIES:Events- Non-MPRB
GEO:44.9649915;-93.2854596
X-APPLE-STRUCTURED-LOCATION;VALUE=URI;X-ADDRESS=Loring Park Loring Park Minneapolis MN 55403 United States;X-APPLE-RADIUS=500;X-TITLE=Loring Park:geo:-93.2854596,44.9649915
END:VEVENT
BEGIN:VEVENT
DTSTART;TZID=America/Chicago:20161203T110000
DTEND;TZID=America/Chicago:20161203T123000
DTSTAMP:20260421T003649
CREATED:20191216T182243Z
LAST-MODIFIED:20191216T182243Z
UID:37723-1480762800-1480768200@www.minneapolisparks.org
SUMMARY:Gingerbread House Making
DESCRIPTION:Decorate your own house\, which we pre-make for you\, with our home made frosting and a variety of candy. Bring your creativity\, your sweet tooth and holiday cheer for this annual family tradition.  \nGet Directions
URL:https://www.minneapolisparks.org/event-calendar/gingerbread-house-making/
LOCATION:Linden Hills Park\, Minneapolis\, MN\, United States
CATEGORIES:Events- MPRB
GEO:44.9254075;-93.3193371
END:VEVENT
BEGIN:VEVENT
DTSTART;VALUE=DATE:20161204
DTEND;VALUE=DATE:20161205
DTSTAMP:20260421T003649
CREATED:20191216T182244Z
LAST-MODIFIED:20191216T182244Z
UID:37724-1480809600-1480895999@www.minneapolisparks.org
SUMMARY:Holidazzle
DESCRIPTION:Event hosted by outside group. \nLearn More \nGet Directions
URL:https://www.minneapolisparks.org/event-calendar/holidazzle-7/
LOCATION:Loring Park\, Loring Park\, Minneapolis\, MN\, 55403\, United States
CATEGORIES:Events- Non-MPRB
GEO:44.9649915;-93.2854596
X-APPLE-STRUCTURED-LOCATION;VALUE=URI;X-ADDRESS=Loring Park Loring Park Minneapolis MN 55403 United States;X-APPLE-RADIUS=500;X-TITLE=Loring Park:geo:-93.2854596,44.9649915
END:VEVENT
BEGIN:VEVENT
DTSTART;TZID=America/Chicago:20161204T123000
DTEND;TZID=America/Chicago:20161204T153000
DTSTAMP:20260421T003649
CREATED:20191216T182244Z
LAST-MODIFIED:20191216T182244Z
UID:37725-1480854600-1480865400@www.minneapolisparks.org
SUMMARY:1850s Holiday Party
DESCRIPTION:Visit the oldest remaining wood frame residence in Minneapolis\, built in 1849. The house is decorated for the holidays in the modest style of the era. \n\nLight refreshments and musical entertainment\nTour the House with Woman’s Club guides dressed in period costume\nSee how the Godfrey family might have celebrated the holidays in the new community at St. Anthony Falls\nFree Godfrey House buttons for the kids\nADMISSION FREE; donations suggested. No reservations necessary.\n\nStreet parking available. Off-street parking in River Place Ramp\, with entrance on 2nd St. SE\, off East Hennepin Avenue\, or at St. Anthony Falls Public Ramp\, on 2nd St. SE off Central Avenue. \nFOR MORE INFORMATION or to arrange group tours\, call 612-781-8791. \nDon’t miss out on this annual holiday party\, sponsored by The Woman’s Club of Minneapolis. \nGet Directions
URL:https://www.minneapolisparks.org/event-calendar/1850s-holiday-party/
LOCATION:Ard Godfrey House\, 28 University Ave SE\, Minneapolis\, MN\, 55414\, United States
CATEGORIES:Events- MPRB
GEO:44.986577;-93.2557019
X-APPLE-STRUCTURED-LOCATION;VALUE=URI;X-ADDRESS=Ard Godfrey House 28 University Ave SE Minneapolis MN 55414 United States;X-APPLE-RADIUS=500;X-TITLE=28 University Ave SE:geo:-93.2557019,44.986577
END:VEVENT
BEGIN:VEVENT
DTSTART;TZID=America/Chicago:20161207T171500
DTEND;TZID=America/Chicago:20161207T171500
DTSTAMP:20260421T003649
CREATED:20191216T182244Z
LAST-MODIFIED:20191216T182244Z
UID:37726-1481130900-1481130900@www.minneapolisparks.org
SUMMARY:Board Meeting
DESCRIPTION:Regular Meeting. View Agenda \nGet Directions
URL:https://www.minneapolisparks.org/event-calendar/board-meeting-5/
LOCATION:City Hall Room 241\, 250 South 4th Street\, Minneapolis\, MN\, 55415\, United States
CATEGORIES:Public Meetings
GEO:44.9785053;-93.2657373
X-APPLE-STRUCTURED-LOCATION;VALUE=URI;X-ADDRESS=City Hall Room 241 250 South 4th Street Minneapolis MN 55415 United States;X-APPLE-RADIUS=500;X-TITLE=250 South 4th Street:geo:-93.2657373,44.9785053
END:VEVENT
BEGIN:VEVENT
DTSTART;VALUE=DATE:20161208
DTEND;VALUE=DATE:20161209
DTSTAMP:20260421T003649
CREATED:20191216T182245Z
LAST-MODIFIED:20191216T182245Z
UID:37727-1481155200-1481241599@www.minneapolisparks.org
SUMMARY:Holidazzle
DESCRIPTION:Event hosted by outside group. \nLearn More \nGet Directions
URL:https://www.minneapolisparks.org/event-calendar/holidazzle-8/
LOCATION:Loring Park\, Loring Park\, Minneapolis\, MN\, 55403\, United States
CATEGORIES:Events- Non-MPRB
GEO:44.9649915;-93.2854596
X-APPLE-STRUCTURED-LOCATION;VALUE=URI;X-ADDRESS=Loring Park Loring Park Minneapolis MN 55403 United States;X-APPLE-RADIUS=500;X-TITLE=Loring Park:geo:-93.2854596,44.9649915
END:VEVENT
BEGIN:VEVENT
DTSTART;TZID=America/Chicago:20161208T183000
DTEND;TZID=America/Chicago:20161208T200000
DTSTAMP:20260421T003649
CREATED:20191216T182245Z
LAST-MODIFIED:20191216T182245Z
UID:37728-1481221800-1481227200@www.minneapolisparks.org
SUMMARY:Rev. Dr. Martin Luther King\, Jr. Legacy Council
DESCRIPTION:The Rev. Dr. Martin Luther King\, Jr. Legacy Council meets the second Thursday of the month. Meetings are open to all. For further information on the Legacy Council’s work\, visit the project page on the MPRB website. \nGet Directions
URL:https://www.minneapolisparks.org/event-calendar/rev-dr-martin-luther-king-jr-legacy-council-5/
LOCATION:Rev. Dr. Martin Luther King Recreation Center\, 4055 Nicollet Ave S\, Minneapolis\, MN\, 55409\, United States
CATEGORIES:Public Meetings
GEO:44.9292348;-93.2773221
X-APPLE-STRUCTURED-LOCATION;VALUE=URI;X-ADDRESS=Rev. Dr. Martin Luther King Recreation Center 4055 Nicollet Ave S Minneapolis MN 55409 United States;X-APPLE-RADIUS=500;X-TITLE=4055 Nicollet Ave S:geo:-93.2773221,44.9292348
END:VEVENT
BEGIN:VEVENT
DTSTART;VALUE=DATE:20161209
DTEND;VALUE=DATE:20161210
DTSTAMP:20260421T003649
CREATED:20191216T182245Z
LAST-MODIFIED:20191216T182245Z
UID:37729-1481241600-1481327999@www.minneapolisparks.org
SUMMARY:Holidazzle
DESCRIPTION:Event hosted by outside group. \nLearn More \nGet Directions
URL:https://www.minneapolisparks.org/event-calendar/holidazzle-9/
LOCATION:Loring Park\, Loring Park\, Minneapolis\, MN\, 55403\, United States
CATEGORIES:Events- Non-MPRB
GEO:44.9649915;-93.2854596
X-APPLE-STRUCTURED-LOCATION;VALUE=URI;X-ADDRESS=Loring Park Loring Park Minneapolis MN 55403 United States;X-APPLE-RADIUS=500;X-TITLE=Loring Park:geo:-93.2854596,44.9649915
END:VEVENT
BEGIN:VEVENT
DTSTART;TZID=America/Chicago:20161209T130000
DTEND;TZID=America/Chicago:20161209T140000
DTSTAMP:20260421T003649
CREATED:20191216T182245Z
LAST-MODIFIED:20191216T182245Z
UID:37730-1481288400-1481292000@www.minneapolisparks.org
SUMMARY:Senior Snowflake Tea
DESCRIPTION:Seniors 55+ are invited to Lyndale Farmstead for the Holiday Tea. Enjoy tea and refreshments in a relaxed atmosphere with time for conversations with others in the theme decorated room\, and enjoy live music. Co-sponsored by the Volunteers of America Southwest Senior Citizen Center and Lyndale Farmstead Park. \nGet Directions
URL:https://www.minneapolisparks.org/event-calendar/senior-snowflake-tea/
LOCATION:Lyndale Farmstead Recreation Center\, 3900 Bryant Ave S\, Minneapolis\, MN\, 55409\, United States
CATEGORIES:Events- MPRB
GEO:44.9321181;-93.2914154
X-APPLE-STRUCTURED-LOCATION;VALUE=URI;X-ADDRESS=Lyndale Farmstead Recreation Center 3900 Bryant Ave S Minneapolis MN 55409 United States;X-APPLE-RADIUS=500;X-TITLE=3900 Bryant Ave S:geo:-93.2914154,44.9321181
END:VEVENT
BEGIN:VEVENT
DTSTART;TZID=America/Chicago:20161209T173000
DTEND;TZID=America/Chicago:20161209T193000
DTSTAMP:20260421T003649
CREATED:20191216T182246Z
LAST-MODIFIED:20191216T182246Z
UID:37731-1481304600-1481311800@www.minneapolisparks.org
SUMMARY:Gingerbread Joy
DESCRIPTION:Enjoy the family tradition of making gingerbread cookies from scratch using our homemade recipe. Yummy treats for toppings and gift boxes will be provided for each child to make and take their edible creations home. Children must be supervised by an adult. \n\nRegister Online \nGet Directions
URL:https://www.minneapolisparks.org/event-calendar/gingerbread-joy/
LOCATION:Lake Nokomis Community Center\, 2401 E Minnehaha Parkway\, Minneapolis\, MN\, 55417\, United States
CATEGORIES:Events- MPRB
GEO:44.9157107;-93.2366016
X-APPLE-STRUCTURED-LOCATION;VALUE=URI;X-ADDRESS=Lake Nokomis Community Center 2401 E Minnehaha Parkway Minneapolis MN 55417 United States;X-APPLE-RADIUS=500;X-TITLE=2401 E Minnehaha Parkway:geo:-93.2366016,44.9157107
END:VEVENT
BEGIN:VEVENT
DTSTART;VALUE=DATE:20161210
DTEND;VALUE=DATE:20161211
DTSTAMP:20260421T003649
CREATED:20191216T182246Z
LAST-MODIFIED:20191216T182246Z
UID:37732-1481328000-1481414399@www.minneapolisparks.org
SUMMARY:Holidazzle
DESCRIPTION:Event hosted by outside group. \nLearn More \nGet Directions
URL:https://www.minneapolisparks.org/event-calendar/holidazzle-10/
LOCATION:Loring Park\, Loring Park\, Minneapolis\, MN\, 55403\, United States
CATEGORIES:Events- Non-MPRB
GEO:44.9649915;-93.2854596
X-APPLE-STRUCTURED-LOCATION;VALUE=URI;X-ADDRESS=Loring Park Loring Park Minneapolis MN 55403 United States;X-APPLE-RADIUS=500;X-TITLE=Loring Park:geo:-93.2854596,44.9649915
END:VEVENT
BEGIN:VEVENT
DTSTART;TZID=America/Chicago:20161210T090000
DTEND;TZID=America/Chicago:20161210T090000
DTSTAMP:20260421T003649
CREATED:20191216T182246Z
LAST-MODIFIED:20191216T182246Z
UID:37733-1481360400-1481360400@www.minneapolisparks.org
SUMMARY:Reindeer Run
DESCRIPTION:Event hosted by outside group. \nGet Directions
URL:https://www.minneapolisparks.org/event-calendar/reindeer-run/
LOCATION:Lake Harriet Park\, 4135 W Lake Harriet Parkway\, Minneapolis\, MN\, 55409\, United States
CATEGORIES:Events- Non-MPRB
GEO:44.927901;-93.3082473
X-APPLE-STRUCTURED-LOCATION;VALUE=URI;X-ADDRESS=Lake Harriet Park 4135 W Lake Harriet Parkway Minneapolis MN 55409 United States;X-APPLE-RADIUS=500;X-TITLE=4135 W Lake Harriet Parkway:geo:-93.3082473,44.927901
END:VEVENT
BEGIN:VEVENT
DTSTART;TZID=America/Chicago:20161210T113000
DTEND;TZID=America/Chicago:20161210T130000
DTSTAMP:20260421T003649
CREATED:20191216T182246Z
LAST-MODIFIED:20191216T182246Z
UID:37734-1481369400-1481374800@www.minneapolisparks.org
SUMMARY:Gingerbread House Making
DESCRIPTION:Decorate your own gingerbread house which we pre-make for you with our home made frosting and a variety of candy. Bring your creativity\, sweet tooth and holiday cheer for this annual family tradition. Pre-registration is required! \n\nRegister Online \nGet Directions
URL:https://www.minneapolisparks.org/event-calendar/gingerbread-house-making-2/
LOCATION:Keewaydin Park\, 3030 E 53rd St\, Minneapolis\, MN\, 55417\, United States
CATEGORIES:Events- MPRB
GEO:44.9074817;-93.22849
X-APPLE-STRUCTURED-LOCATION;VALUE=URI;X-ADDRESS=Keewaydin Park 3030 E 53rd St Minneapolis MN 55417 United States;X-APPLE-RADIUS=500;X-TITLE=3030 E 53rd St:geo:-93.22849,44.9074817
END:VEVENT
BEGIN:VEVENT
DTSTART;VALUE=DATE:20161211
DTEND;VALUE=DATE:20161212
DTSTAMP:20260421T003649
CREATED:20191216T182246Z
LAST-MODIFIED:20191216T182246Z
UID:37735-1481414400-1481500799@www.minneapolisparks.org
SUMMARY:Holidazzle
DESCRIPTION:Event hosted by outside group. \nLearn More \nGet Directions
URL:https://www.minneapolisparks.org/event-calendar/holidazzle-11/
LOCATION:Loring Park\, Loring Park\, Minneapolis\, MN\, 55403\, United States
CATEGORIES:Events- Non-MPRB
GEO:44.9649915;-93.2854596
X-APPLE-STRUCTURED-LOCATION;VALUE=URI;X-ADDRESS=Loring Park Loring Park Minneapolis MN 55403 United States;X-APPLE-RADIUS=500;X-TITLE=Loring Park:geo:-93.2854596,44.9649915
END:VEVENT
BEGIN:VEVENT
DTSTART;TZID=America/Chicago:20161214T180000
DTEND;TZID=America/Chicago:20161214T180000
DTSTAMP:20260421T003649
CREATED:20191216T182247Z
LAST-MODIFIED:20191216T182247Z
UID:37736-1481738400-1481738400@www.minneapolisparks.org
SUMMARY:Proposed trail alignment and event information meeting
DESCRIPTION:Contingent on certain trail improvements\, the World Masters Association awarded the Loppet Foundation and the MPRB a bid to hold the 2018 Masters World Cup at Theodore Wirth Regional Park. The Master’s World Cup is an international ski race that will attract visitors from around the world to the Twin Cities and Minneapolis will be the sixth US City to host the Masters World Cup Event. The contingent improvements at Wirth include the extension of trails to Twin Lake and Sweeney Lake in an area known as the “Back 40” of Theodore Wirth Regional Park. \nJoin us to hear more about the event and review the proposed trail alignment. \nSee Project Page \nGet Directions
URL:https://www.minneapolisparks.org/event-calendar/proposed-trail-alignment-and-event-information-meeting/
LOCATION:Wirth Chalet\, 1301 Theodore Wirth Parkway\, Minneapolis\, MN\, 55422\, United States
CATEGORIES:Public Meetings
GEO:44.9923964;-93.3233133
X-APPLE-STRUCTURED-LOCATION;VALUE=URI;X-ADDRESS=Wirth Chalet 1301 Theodore Wirth Parkway Minneapolis MN 55422 United States;X-APPLE-RADIUS=500;X-TITLE=1301 Theodore Wirth Parkway:geo:-93.3233133,44.9923964
END:VEVENT
BEGIN:VEVENT
DTSTART;TZID=America/Chicago:20161214T180000
DTEND;TZID=America/Chicago:20161214T200000
DTSTAMP:20260421T003649
CREATED:20191216T182247Z
LAST-MODIFIED:20191216T182247Z
UID:37737-1481738400-1481745600@www.minneapolisparks.org
SUMMARY:Holiday Floral Design Class: Table Wreath Making
DESCRIPTION:Participants will create a table wreath for use as a centerpiece using an assortment of fresh wintergreen\, pine cones and wintry accents. This class is sure to bring cheer to your holiday season! Bring your favorite branch cutter or pruning shears if you have one. There will be tools provided to share. Registration is $30 for residents\, $45 for non-residents. \nRegister Online \nGet Directions
URL:https://www.minneapolisparks.org/event-calendar/holiday-floral-design-class-table-wreath-making/
LOCATION:Pearl Recreation Center\, Minneapolis\, MN\, United States
CATEGORIES:Events- MPRB
GEO:44.904403;-93.268818
END:VEVENT
BEGIN:VEVENT
DTSTART;VALUE=DATE:20161215
DTEND;VALUE=DATE:20161216
DTSTAMP:20260421T003649
CREATED:20191216T182247Z
LAST-MODIFIED:20191216T182247Z
UID:37738-1481760000-1481846399@www.minneapolisparks.org
SUMMARY:Holidazzle
DESCRIPTION:Event hosted by outside group. \nLearn More \nGet Directions
URL:https://www.minneapolisparks.org/event-calendar/holidazzle-12/
LOCATION:Loring Park\, Loring Park\, Minneapolis\, MN\, 55403\, United States
CATEGORIES:Events- Non-MPRB
GEO:44.9649915;-93.2854596
X-APPLE-STRUCTURED-LOCATION;VALUE=URI;X-ADDRESS=Loring Park Loring Park Minneapolis MN 55403 United States;X-APPLE-RADIUS=500;X-TITLE=Loring Park:geo:-93.2854596,44.9649915
END:VEVENT
END:VCALENDAR