BEGIN:VCALENDAR
VERSION:2.0
PRODID:-//Minneapolis Park &amp; Recreation Board - ECPv6.15.20//NONSGML v1.0//EN
CALSCALE:GREGORIAN
METHOD:PUBLISH
X-ORIGINAL-URL:https://www.minneapolisparks.org
X-WR-CALDESC:Events for Minneapolis Park &amp; Recreation Board
REFRESH-INTERVAL;VALUE=DURATION:PT1H
X-Robots-Tag:noindex
X-PUBLISHED-TTL:PT1H
BEGIN:VTIMEZONE
TZID:America/Chicago
BEGIN:DAYLIGHT
TZOFFSETFROM:-0600
TZOFFSETTO:-0500
TZNAME:CDT
DTSTART:20210314T080000
END:DAYLIGHT
BEGIN:STANDARD
TZOFFSETFROM:-0500
TZOFFSETTO:-0600
TZNAME:CST
DTSTART:20211107T070000
END:STANDARD
BEGIN:DAYLIGHT
TZOFFSETFROM:-0600
TZOFFSETTO:-0500
TZNAME:CDT
DTSTART:20220313T080000
END:DAYLIGHT
BEGIN:STANDARD
TZOFFSETFROM:-0500
TZOFFSETTO:-0600
TZNAME:CST
DTSTART:20221106T070000
END:STANDARD
BEGIN:DAYLIGHT
TZOFFSETFROM:-0600
TZOFFSETTO:-0500
TZNAME:CDT
DTSTART:20230312T080000
END:DAYLIGHT
BEGIN:STANDARD
TZOFFSETFROM:-0500
TZOFFSETTO:-0600
TZNAME:CST
DTSTART:20231105T070000
END:STANDARD
END:VTIMEZONE
BEGIN:VEVENT
DTSTART;TZID=America/Chicago:20220729T210000
DTEND;TZID=America/Chicago:20220729T210000
DTSTAMP:20260421T011608
CREATED:20220331T181617Z
LAST-MODIFIED:20220602T210728Z
UID:56685-1659128400-1659128400@www.minneapolisparks.org
SUMMARY:Sing 2
DESCRIPTION:Enjoy an evening in the park while watching an outdoor movie. This year we will be showing Sing 2. Be sure to bring your lawn chairs and blanket. Movie begins at dusk.
URL:https://www.minneapolisparks.org/event-calendar/movie-in-the-park-6/
LOCATION:Lake Hiawatha Park\, 2701 E 44th St\, Minneapolis\, MN\, 55406\, United States
CATEGORIES:Events- All,Events- MPRB,Movies in the Parks,Music & Movies in the Parks
GEO:44.9231192;-93.2337349
X-APPLE-STRUCTURED-LOCATION;VALUE=URI;X-ADDRESS=Lake Hiawatha Park 2701 E 44th St Minneapolis MN 55406 United States;X-APPLE-RADIUS=500;X-TITLE=2701 E 44th St:geo:-93.2337349,44.9231192
END:VEVENT
BEGIN:VEVENT
DTSTART;TZID=America/Chicago:20220730T080000
DTEND;TZID=America/Chicago:20220730T080000
DTSTAMP:20260421T011608
CREATED:20220621T173206Z
LAST-MODIFIED:20220621T173206Z
UID:58898-1659168000-1659168000@www.minneapolisparks.org
SUMMARY:10\,000 Lakes Wake Surf Open
DESCRIPTION:
URL:https://www.minneapolisparks.org/event-calendar/10000-lakes-wake-surf-open-5/
LOCATION:West River Road\, Minneapolis\, MN\, United States
CATEGORIES:Events- All,Events- Non-MPRB
GEO:44.9990888;-93.277474
END:VEVENT
BEGIN:VEVENT
DTSTART;TZID=America/Chicago:20220730T090000
DTEND;TZID=America/Chicago:20220730T090000
DTSTAMP:20260421T011608
CREATED:20220621T173304Z
LAST-MODIFIED:20220621T173304Z
UID:58900-1659171600-1659171600@www.minneapolisparks.org
SUMMARY:Autism 5K
DESCRIPTION:
URL:https://www.minneapolisparks.org/event-calendar/autism-5k-5/
LOCATION:Bde Maka Ska\, Bde Maka Ska\, Minneapolis\, MN\, 55416\, United States
CATEGORIES:Events- All,Events- Non-MPRB
GEO:44.9421047;-93.3207807
X-APPLE-STRUCTURED-LOCATION;VALUE=URI;X-ADDRESS=Bde Maka Ska Bde Maka Ska Minneapolis MN 55416 United States;X-APPLE-RADIUS=500;X-TITLE=Bde Maka Ska:geo:-93.3207807,44.9421047
END:VEVENT
BEGIN:VEVENT
DTSTART;TZID=America/Chicago:20220730T100000
DTEND;TZID=America/Chicago:20220731T170000
DTSTAMP:20260421T011608
CREATED:20220621T173404Z
LAST-MODIFIED:20220621T173404Z
UID:58902-1659175200-1659286800@www.minneapolisparks.org
SUMMARY:Loring Park Art Festival
DESCRIPTION:
URL:https://www.minneapolisparks.org/event-calendar/loring-park-art-festival-8/
LOCATION:Loring Park\, Loring Park\, Minneapolis\, MN\, 55403\, United States
CATEGORIES:Events- All,Events- Non-MPRB
GEO:44.9649915;-93.2854596
X-APPLE-STRUCTURED-LOCATION;VALUE=URI;X-ADDRESS=Loring Park Loring Park Minneapolis MN 55403 United States;X-APPLE-RADIUS=500;X-TITLE=Loring Park:geo:-93.2854596,44.9649915
END:VEVENT
BEGIN:VEVENT
DTSTART;TZID=America/Chicago:20220730T193000
DTEND;TZID=America/Chicago:20220730T210000
DTSTAMP:20260421T011608
CREATED:20220421T211052Z
LAST-MODIFIED:20220603T194633Z
UID:57350-1659209400-1659214800@www.minneapolisparks.org
SUMMARY:Minneapolis Pops Orchestra
DESCRIPTION:
URL:https://www.minneapolisparks.org/event-calendar/mn-pops-orchestra-11/
LOCATION:Lake Harriet Bandshell\, Minneapolis\, MN\, United States
CATEGORIES:Music & Movies in the Parks,Music in the Parks
GEO:44.927901;-93.3082473
END:VEVENT
BEGIN:VEVENT
DTSTART;TZID=America/Chicago:20220730T205500
DTEND;TZID=America/Chicago:20220730T205500
DTSTAMP:20260421T011608
CREATED:20220523T172222Z
LAST-MODIFIED:20220602T210820Z
UID:58018-1659214500-1659214500@www.minneapolisparks.org
SUMMARY:Bend It Like Beckham
DESCRIPTION:Rated PG-13
URL:https://www.minneapolisparks.org/event-calendar/bend-it-like-beckham/
LOCATION:Painter Park\, 620 W 34th St\, Minneapolis\, MN\, 55408\, United States
CATEGORIES:Movies in the Parks,Music & Movies in the Parks
GEO:44.9416634;-93.2876806
X-APPLE-STRUCTURED-LOCATION;VALUE=URI;X-ADDRESS=Painter Park 620 W 34th St Minneapolis MN 55408 United States;X-APPLE-RADIUS=500;X-TITLE=620 W 34th St:geo:-93.2876806,44.9416634
END:VEVENT
BEGIN:VEVENT
DTSTART;TZID=America/Chicago:20220731T140000
DTEND;TZID=America/Chicago:20220731T153000
DTSTAMP:20260421T011608
CREATED:20220422T185115Z
LAST-MODIFIED:20220422T185115Z
UID:57442-1659276000-1659281400@www.minneapolisparks.org
SUMMARY:Kerns and the Hemispheres
DESCRIPTION:High-energy music to party
URL:https://www.minneapolisparks.org/event-calendar/kerns-and-the-hemispheres/
LOCATION:Lake Harriet Bandshell\, Minneapolis\, MN\, United States
CATEGORIES:Music & Movies in the Parks,Music in the Parks
GEO:44.927901;-93.3082473
END:VEVENT
BEGIN:VEVENT
DTSTART;TZID=America/Chicago:20220731T150000
DTEND;TZID=America/Chicago:20220731T150000
DTSTAMP:20260421T011608
CREATED:20220621T173509Z
LAST-MODIFIED:20220621T173509Z
UID:58904-1659279600-1659279600@www.minneapolisparks.org
SUMMARY:Hidden Acoustics
DESCRIPTION:
URL:https://www.minneapolisparks.org/event-calendar/hidden-acoustics-2/
LOCATION:Cedar Lake East Beach\, 2000 Upton Ave S\, Minneapolis\, MN\, 55405\, United States
CATEGORIES:Events- All,Events- Non-MPRB
GEO:44.9735559;-93.3147246
X-APPLE-STRUCTURED-LOCATION;VALUE=URI;X-ADDRESS=Cedar Lake East Beach 2000 Upton Ave S Minneapolis MN 55405 United States;X-APPLE-RADIUS=500;X-TITLE=2000 Upton Ave S:geo:-93.3147246,44.9735559
END:VEVENT
BEGIN:VEVENT
DTSTART;TZID=America/Chicago:20220731T173000
DTEND;TZID=America/Chicago:20220731T190000
DTSTAMP:20260421T011608
CREATED:20220506T184518Z
LAST-MODIFIED:20220603T194637Z
UID:57704-1659288600-1659294000@www.minneapolisparks.org
SUMMARY:Minneapolis Pops Orchestra
DESCRIPTION:
URL:https://www.minneapolisparks.org/event-calendar/mn-pops-orchestra-16/
LOCATION:Lake Harriet Bandshell\, Minneapolis\, MN\, United States
CATEGORIES:Music & Movies in the Parks,Music in the Parks
GEO:44.927901;-93.3082473
END:VEVENT
BEGIN:VEVENT
DTSTART;TZID=America/Chicago:20220731T193000
DTEND;TZID=America/Chicago:20220731T210000
DTSTAMP:20260421T011608
CREATED:20220422T183717Z
LAST-MODIFIED:20220506T184428Z
UID:57435-1659295800-1659301200@www.minneapolisparks.org
SUMMARY:Gypsy Mania Hot Club Quartet
DESCRIPTION:Gypsy Hot Club Jazz
URL:https://www.minneapolisparks.org/event-calendar/gypsy-mania-hot-club-quartet-3/
LOCATION:Lake Harriet Bandshell\, Minneapolis\, MN\, United States
CATEGORIES:Music & Movies in the Parks,Music in the Parks
GEO:44.927901;-93.3082473
END:VEVENT
BEGIN:VEVENT
DTSTART;TZID=America/Chicago:20220801T190000
DTEND;TZID=America/Chicago:20220801T203000
DTSTAMP:20260421T011608
CREATED:20220421T183011Z
LAST-MODIFIED:20220421T183011Z
UID:57238-1659380400-1659385800@www.minneapolisparks.org
SUMMARY:Other Country Ensemble
DESCRIPTION:International Music
URL:https://www.minneapolisparks.org/event-calendar/other-country-ensemble-2/
LOCATION:Nicollet Island Park\, 40 Power St\, Minneapolis\, MN\, 55401\, United States
CATEGORIES:Music & Movies in the Parks,Music in the Parks
GEO:44.9847316;-93.2600873
X-APPLE-STRUCTURED-LOCATION;VALUE=URI;X-ADDRESS=Nicollet Island Park 40 Power St Minneapolis MN 55401 United States;X-APPLE-RADIUS=500;X-TITLE=40 Power St:geo:-93.2600873,44.9847316
END:VEVENT
BEGIN:VEVENT
DTSTART;TZID=America/Chicago:20220801T190000
DTEND;TZID=America/Chicago:20220801T203000
DTSTAMP:20260421T011608
CREATED:20220519T213209Z
LAST-MODIFIED:20220519T213209Z
UID:57899-1659380400-1659385800@www.minneapolisparks.org
SUMMARY:Opera Under the Stars
DESCRIPTION:
URL:https://www.minneapolisparks.org/event-calendar/opera-under-the-stars/
LOCATION:Water Works at Mill Ruins Park\, 425 West River Parkway\, Minneapolis\, MN\, 55401\, United States
CATEGORIES:Music & Movies in the Parks,Music in the Parks
GEO:44.9811921;-93.2620982
X-APPLE-STRUCTURED-LOCATION;VALUE=URI;X-ADDRESS=Water Works at Mill Ruins Park 425 West River Parkway Minneapolis MN 55401 United States;X-APPLE-RADIUS=500;X-TITLE=425 West River Parkway:geo:-93.2620982,44.9811921
END:VEVENT
BEGIN:VEVENT
DTSTART;TZID=America/Chicago:20220801T193000
DTEND;TZID=America/Chicago:20220801T210000
DTSTAMP:20260421T011608
CREATED:20220421T211632Z
LAST-MODIFIED:20220421T211632Z
UID:57355-1659382200-1659387600@www.minneapolisparks.org
SUMMARY:Ben Cook-Feltz
DESCRIPTION:Paul Simon meets “Weird-Al” Yankovic
URL:https://www.minneapolisparks.org/event-calendar/ben-cook-feltz-6/
LOCATION:Lake Harriet Bandshell\, Minneapolis\, MN\, United States
CATEGORIES:Music & Movies in the Parks,Music in the Parks
GEO:44.927901;-93.3082473
END:VEVENT
BEGIN:VEVENT
DTSTART;TZID=America/Chicago:20220801T205500
DTEND;TZID=America/Chicago:20220801T205500
DTSTAMP:20260421T011608
CREATED:20220331T182149Z
LAST-MODIFIED:20220801T153638Z
UID:56689-1659387300-1659387300@www.minneapolisparks.org
SUMMARY:Space Jam: A New Legend
DESCRIPTION:If you love movies just as much as you love the outdoors\, the MPRB Movies in the Park series is your ticket to cinematic entertainment this summer! Movies run throughout the park system from early June through the end of August. Join us at Bohanon Park for our feature presentation\, The movie will start 15 minutes after sunset. Bring a lawn chair or blanket and come early to grab a good spot.
URL:https://www.minneapolisparks.org/event-calendar/movie-in-the-park-space-jam-a-new-legend/
LOCATION:Bohanon Park\, 4917 Bryant Ave N\, Minneapolis\, MN\, 55430\, United States
CATEGORIES:Movies in the Parks,Music & Movies in the Parks
GEO:45.045681;-93.2927583
X-APPLE-STRUCTURED-LOCATION;VALUE=URI;X-ADDRESS=Bohanon Park 4917 Bryant Ave N Minneapolis MN 55430 United States;X-APPLE-RADIUS=500;X-TITLE=4917 Bryant Ave N:geo:-93.2927583,45.045681
END:VEVENT
BEGIN:VEVENT
DTSTART;TZID=America/Chicago:20220802T120000
DTEND;TZID=America/Chicago:20220802T124500
DTSTAMP:20260421T011608
CREATED:20220519T213125Z
LAST-MODIFIED:20220519T213125Z
UID:57897-1659441600-1659444300@www.minneapolisparks.org
SUMMARY:MacPhail Summer Sing Choir Concert
DESCRIPTION:
URL:https://www.minneapolisparks.org/event-calendar/macphail-summer-sing-choir-concert/
LOCATION:Minneapolis\, MN\, 55401\, United States
CATEGORIES:Music & Movies in the Parks,Music in the Parks
GEO:44.9836543;-93.2693572
END:VEVENT
BEGIN:VEVENT
DTSTART;TZID=America/Chicago:20220802T170000
DTEND;TZID=America/Chicago:20220802T170000
DTSTAMP:20260421T011608
CREATED:20220802T200133Z
LAST-MODIFIED:20220802T215439Z
UID:59990-1659459600-1659459600@www.minneapolisparks.org
SUMMARY:Committee of the Whole
DESCRIPTION:View agenda 
URL:https://www.minneapolisparks.org/event-calendar/committee-of-the-whole-10/
LOCATION:Mary Merrill Minneapolis Park & Recreation Board Headquarters\, 2117 West River Road N\, Minneapolis\, MN\, 55411\, United States
CATEGORIES:Public Meetings
GEO:45.0008334;-93.2780339
X-APPLE-STRUCTURED-LOCATION;VALUE=URI;X-ADDRESS=Mary Merrill Minneapolis Park & Recreation Board Headquarters 2117 West River Road N Minneapolis MN 55411 United States;X-APPLE-RADIUS=500;X-TITLE=2117 West River Road N:geo:-93.2780339,45.0008334
END:VEVENT
BEGIN:VEVENT
DTSTART;TZID=America/Chicago:20220802T170000
DTEND;TZID=America/Chicago:20220802T193000
DTSTAMP:20260421T011608
CREATED:20220331T184022Z
LAST-MODIFIED:20220331T184022Z
UID:56725-1659459600-1659468600@www.minneapolisparks.org
SUMMARY:National Night Out 2022
DESCRIPTION:Elliot Rec Center\, in collaboration with other neighborhood partners\, will be providing a fun and safe event for National Night Out 2022. We will have food\, music\, and games for the youth! Join your neighbors for this annual event!
URL:https://www.minneapolisparks.org/event-calendar/national-night-out-2022/
LOCATION:Elliot Park\, 1000 E 14th St\, Minneapolis\, MN\, 55404\, United States
CATEGORIES:Events- All,Events- MPRB
GEO:44.9693872;-93.2597211
X-APPLE-STRUCTURED-LOCATION;VALUE=URI;X-ADDRESS=Elliot Park 1000 E 14th St Minneapolis MN 55404 United States;X-APPLE-RADIUS=500;X-TITLE=1000 E 14th St:geo:-93.2597211,44.9693872
END:VEVENT
BEGIN:VEVENT
DTSTART;TZID=America/Chicago:20220802T180000
DTEND;TZID=America/Chicago:20220802T180000
DTSTAMP:20260421T011608
CREATED:20220621T180845Z
LAST-MODIFIED:20220621T180845Z
UID:58908-1659463200-1659463200@www.minneapolisparks.org
SUMMARY:Minnesota Wild Street Hockey Series
DESCRIPTION:
URL:https://www.minneapolisparks.org/event-calendar/minnesota-wild-street-hockey-series/
LOCATION:Parade Park\, 400 Kenwood Parkway\, Minneapolis\, MN\, 55403\, United States
CATEGORIES:Events- All,Events- Non-MPRB
GEO:44.971026;-93.293093
X-APPLE-STRUCTURED-LOCATION;VALUE=URI;X-ADDRESS=Parade Park 400 Kenwood Parkway Minneapolis MN 55403 United States;X-APPLE-RADIUS=500;X-TITLE=400 Kenwood Parkway:geo:-93.293093,44.971026
END:VEVENT
BEGIN:VEVENT
DTSTART;TZID=America/Chicago:20220802T183000
DTEND;TZID=America/Chicago:20220802T200000
DTSTAMP:20260421T011608
CREATED:20220421T181427Z
LAST-MODIFIED:20220525T192736Z
UID:57209-1659465000-1659470400@www.minneapolisparks.org
SUMMARY:Reggae for St. Jude Children's Hospital
DESCRIPTION:
URL:https://www.minneapolisparks.org/event-calendar/reggae-st-judes/
LOCATION:Bryant Square Park\, 3101 Bryant Ave S\, Minneapolis\, MN\, 55408\, United States
CATEGORIES:Music & Movies in the Parks,Music in the Parks
GEO:44.9461045;-93.2903539
X-APPLE-STRUCTURED-LOCATION;VALUE=URI;X-ADDRESS=Bryant Square Park 3101 Bryant Ave S Minneapolis MN 55408 United States;X-APPLE-RADIUS=500;X-TITLE=3101 Bryant Ave S:geo:-93.2903539,44.9461045
END:VEVENT
BEGIN:VEVENT
DTSTART;TZID=America/Chicago:20220802T205500
DTEND;TZID=America/Chicago:20220802T205500
DTSTAMP:20260421T011608
CREATED:20220523T211149Z
LAST-MODIFIED:20220602T210833Z
UID:58108-1659473700-1659473700@www.minneapolisparks.org
SUMMARY:Spider-Man: No Way Home
DESCRIPTION:Rated PG-13
URL:https://www.minneapolisparks.org/event-calendar/spider-man-no-way-home-2/
LOCATION:Beltrami Park\, 1111 Summer St NE\, Minneapolis\, MN\, 55413\, United States
CATEGORIES:Movies in the Parks,Music & Movies in the Parks
GEO:44.9971364;-93.2433279
X-APPLE-STRUCTURED-LOCATION;VALUE=URI;X-ADDRESS=Beltrami Park 1111 Summer St NE Minneapolis MN 55413 United States;X-APPLE-RADIUS=500;X-TITLE=1111 Summer St NE:geo:-93.2433279,44.9971364
END:VEVENT
BEGIN:VEVENT
DTSTART;TZID=America/Chicago:20220803T160000
DTEND;TZID=America/Chicago:20220803T180000
DTSTAMP:20260421T011608
CREATED:20220609T164557Z
LAST-MODIFIED:20220609T164557Z
UID:58616-1659542400-1659549600@www.minneapolisparks.org
SUMMARY:Bike Mechanics 101
DESCRIPTION:Problem with your bike? Mechanics 101 is a drop-in program where riders can stop by and ask questions\, use tools and get bike maintenance tips.
URL:https://www.minneapolisparks.org/event-calendar/bike-mechanics-101-4/
LOCATION:Lake Nokomis Community Center\, 2401 E Minnehaha Parkway\, Minneapolis\, MN\, 55417\, United States
CATEGORIES:Events- All,Events- MPRB
GEO:44.9157107;-93.2366016
X-APPLE-STRUCTURED-LOCATION;VALUE=URI;X-ADDRESS=Lake Nokomis Community Center 2401 E Minnehaha Parkway Minneapolis MN 55417 United States;X-APPLE-RADIUS=500;X-TITLE=2401 E Minnehaha Parkway:geo:-93.2366016,44.9157107
END:VEVENT
BEGIN:VEVENT
DTSTART;TZID=America/Chicago:20220803T205000
DTEND;TZID=America/Chicago:20220803T205000
DTSTAMP:20260421T011608
CREATED:20220523T211239Z
LAST-MODIFIED:20220602T210929Z
UID:58110-1659559800-1659559800@www.minneapolisparks.org
SUMMARY:In the Heights
DESCRIPTION:Rated PG-13
URL:https://www.minneapolisparks.org/event-calendar/in-the-heights/
LOCATION:The Commons\, 425 Portland Ave South\, Minneapolis\, MN\, 55488\, United States
CATEGORIES:Movies in the Parks,Music & Movies in the Parks
GEO:44.9766971;-93.2628904
X-APPLE-STRUCTURED-LOCATION;VALUE=URI;X-ADDRESS=The Commons 425 Portland Ave South Minneapolis MN 55488 United States;X-APPLE-RADIUS=500;X-TITLE=425 Portland Ave South:geo:-93.2628904,44.9766971
END:VEVENT
BEGIN:VEVENT
DTSTART;TZID=America/Chicago:20220804T170000
DTEND;TZID=America/Chicago:20220804T183000
DTSTAMP:20260421T011608
CREATED:20220421T180058Z
LAST-MODIFIED:20220519T212042Z
UID:57175-1659632400-1659637800@www.minneapolisparks.org
SUMMARY:Emily Haavik & The 35's
DESCRIPTION:Harmony-driven\, string-filled alt-country
URL:https://www.minneapolisparks.org/event-calendar/emily-haavik-the-35s-3/
LOCATION:The Commons\, 425 Portland Ave South\, Minneapolis\, MN\, 55488\, United States
CATEGORIES:Music & Movies in the Parks,Music in the Parks
GEO:44.9766971;-93.2628904
X-APPLE-STRUCTURED-LOCATION;VALUE=URI;X-ADDRESS=The Commons 425 Portland Ave South Minneapolis MN 55488 United States;X-APPLE-RADIUS=500;X-TITLE=425 Portland Ave South:geo:-93.2628904,44.9766971
END:VEVENT
BEGIN:VEVENT
DTSTART;TZID=America/Chicago:20220804T183000
DTEND;TZID=America/Chicago:20220804T200000
DTSTAMP:20260421T011608
CREATED:20220421T181417Z
LAST-MODIFIED:20220421T181417Z
UID:57197-1659637800-1659643200@www.minneapolisparks.org
SUMMARY:Percolators Band
DESCRIPTION:Engaging 60’s rock\, harmony\, FUN
URL:https://www.minneapolisparks.org/event-calendar/percolators-band-5/
LOCATION:Bryant Square Park\, 3101 Bryant Ave S\, Minneapolis\, MN\, 55408\, United States
CATEGORIES:Music & Movies in the Parks,Music in the Parks
GEO:44.9461045;-93.2903539
X-APPLE-STRUCTURED-LOCATION;VALUE=URI;X-ADDRESS=Bryant Square Park 3101 Bryant Ave S Minneapolis MN 55408 United States;X-APPLE-RADIUS=500;X-TITLE=3101 Bryant Ave S:geo:-93.2903539,44.9461045
END:VEVENT
BEGIN:VEVENT
DTSTART;TZID=America/Chicago:20220804T190000
DTEND;TZID=America/Chicago:20220804T203000
DTSTAMP:20260421T011608
CREATED:20220421T185532Z
LAST-MODIFIED:20220421T185532Z
UID:57276-1659639600-1659645000@www.minneapolisparks.org
SUMMARY:Lojo Russo
DESCRIPTION:Raw vibrant enticing musical energy
URL:https://www.minneapolisparks.org/event-calendar/lojo-russo/
LOCATION:Minnehaha Park\, Minneapolis\, MN\, United States
CATEGORIES:Music & Movies in the Parks,Music in the Parks
GEO:44.9161006;-93.2109865
END:VEVENT
BEGIN:VEVENT
DTSTART;TZID=America/Chicago:20220804T193000
DTEND;TZID=America/Chicago:20220804T210000
DTSTAMP:20260421T011608
CREATED:20220421T211651Z
LAST-MODIFIED:20220421T211651Z
UID:57356-1659641400-1659646800@www.minneapolisparks.org
SUMMARY:Ameet
DESCRIPTION:Indo-Western Pop Sounds of delight
URL:https://www.minneapolisparks.org/event-calendar/ameet-2/
LOCATION:Lake Harriet Bandshell\, Minneapolis\, MN\, United States
CATEGORIES:Music & Movies in the Parks,Music in the Parks
GEO:44.927901;-93.3082473
END:VEVENT
BEGIN:VEVENT
DTSTART;TZID=America/Chicago:20220804T205000
DTEND;TZID=America/Chicago:20220804T205000
DTSTAMP:20260421T011608
CREATED:20220523T211317Z
LAST-MODIFIED:20220602T210952Z
UID:58112-1659646200-1659646200@www.minneapolisparks.org
SUMMARY:Wallace & Gromit: The Curse of the Were-Rabbit
DESCRIPTION:Rated G
URL:https://www.minneapolisparks.org/event-calendar/wallace-gromit-the-curse-of-the-were-rabbit/
LOCATION:Loring Park\, Loring Park\, Minneapolis\, MN\, 55403\, United States
CATEGORIES:Movies in the Parks,Music & Movies in the Parks
GEO:44.9649915;-93.2854596
X-APPLE-STRUCTURED-LOCATION;VALUE=URI;X-ADDRESS=Loring Park Loring Park Minneapolis MN 55403 United States;X-APPLE-RADIUS=500;X-TITLE=Loring Park:geo:-93.2854596,44.9649915
END:VEVENT
BEGIN:VEVENT
DTSTART;TZID=America/Chicago:20220805T100000
DTEND;TZID=America/Chicago:20220807T170000
DTSTAMP:20260421T011608
CREATED:20220621T181157Z
LAST-MODIFIED:20220801T153340Z
UID:58907-1659693600-1659891600@www.minneapolisparks.org
SUMMARY:Uptown Art Fair
DESCRIPTION:
URL:https://www.minneapolisparks.org/event-calendar/uptown-art-fair-8/
LOCATION:The Mall\, 1420 The Mall\, Minneapolis\, MN\, 55408\, United States
CATEGORIES:Events- Non-MPRB
GEO:44.9500596;-93.3010022
X-APPLE-STRUCTURED-LOCATION;VALUE=URI;X-ADDRESS=The Mall 1420 The Mall Minneapolis MN 55408 United States;X-APPLE-RADIUS=500;X-TITLE=1420 The Mall:geo:-93.3010022,44.9500596
END:VEVENT
BEGIN:VEVENT
DTSTART;TZID=America/Chicago:20220805T100000
DTEND;TZID=America/Chicago:20220807T170000
DTSTAMP:20260421T011608
CREATED:20220621T181253Z
LAST-MODIFIED:20220801T153418Z
UID:58911-1659693600-1659891600@www.minneapolisparks.org
SUMMARY:Powderhorn Art Fair
DESCRIPTION:
URL:https://www.minneapolisparks.org/event-calendar/powderhorn-art-fair-7/
LOCATION:Powderhorn Park\, 3400 15th Ave S\, Minneapolis\, MN\, 554107\, United States
CATEGORIES:Events- Non-MPRB
GEO:44.9413282;-93.2547875
X-APPLE-STRUCTURED-LOCATION;VALUE=URI;X-ADDRESS=Powderhorn Park 3400 15th Ave S Minneapolis MN 554107 United States;X-APPLE-RADIUS=500;X-TITLE=3400 15th Ave S:geo:-93.2547875,44.9413282
END:VEVENT
BEGIN:VEVENT
DTSTART;TZID=America/Chicago:20220805T170000
DTEND;TZID=America/Chicago:20220805T190000
DTSTAMP:20260421T011608
CREATED:20220720T163129Z
LAST-MODIFIED:20220720T163129Z
UID:59785-1659718800-1659726000@www.minneapolisparks.org
SUMMARY:Help Plan Your Park: Open House for Powderhorn Park Improvements!
DESCRIPTION:This is a drop in “open house” to share feedback and help us plan for improvements at Powderhorn Park. The Minneapolis Park and Recreation Board will gather feedback throughout the summer\, and we need to hear from you what projects should be priorities! An online survey is also available here if you cannot attend any of the open houses. For more information\, please review the Park Master Plan & check out the project page background and timeline. We will be outside unless there is rain. Please see the project web page for updates due to inclement weather. If you attended any of the other open houses earlier in June and July\, the information at this open house will be the same. All are welcome!
URL:https://www.minneapolisparks.org/event-calendar/help-plan-your-park-open-house-for-powderhorn-park-improvements-2/
LOCATION:Northwest corner of Powderhorn Park E 32nd St. & 10th Ave. S\, E 32nd St. & 10th Ave. S\, Minneapolis\, 55407
CATEGORIES:Public Meetings
END:VEVENT
END:VCALENDAR