BEGIN:VCALENDAR
VERSION:2.0
PRODID:-//Minneapolis Park &amp; Recreation Board - ECPv6.15.20//NONSGML v1.0//EN
CALSCALE:GREGORIAN
METHOD:PUBLISH
X-ORIGINAL-URL:https://www.minneapolisparks.org
X-WR-CALDESC:Events for Minneapolis Park &amp; Recreation Board
REFRESH-INTERVAL;VALUE=DURATION:PT1H
X-Robots-Tag:noindex
X-PUBLISHED-TTL:PT1H
BEGIN:VTIMEZONE
TZID:America/Chicago
BEGIN:DAYLIGHT
TZOFFSETFROM:-0600
TZOFFSETTO:-0500
TZNAME:CDT
DTSTART:20250309T080000
END:DAYLIGHT
BEGIN:STANDARD
TZOFFSETFROM:-0500
TZOFFSETTO:-0600
TZNAME:CST
DTSTART:20251102T070000
END:STANDARD
BEGIN:DAYLIGHT
TZOFFSETFROM:-0600
TZOFFSETTO:-0500
TZNAME:CDT
DTSTART:20260308T080000
END:DAYLIGHT
BEGIN:STANDARD
TZOFFSETFROM:-0500
TZOFFSETTO:-0600
TZNAME:CST
DTSTART:20261101T070000
END:STANDARD
BEGIN:DAYLIGHT
TZOFFSETFROM:-0600
TZOFFSETTO:-0500
TZNAME:CDT
DTSTART:20270314T080000
END:DAYLIGHT
BEGIN:STANDARD
TZOFFSETFROM:-0500
TZOFFSETTO:-0600
TZNAME:CST
DTSTART:20271107T070000
END:STANDARD
END:VTIMEZONE
BEGIN:VEVENT
DTSTART;TZID=America/Chicago:20260326T170000
DTEND;TZID=America/Chicago:20260326T170000
DTSTAMP:20260421T001118
CREATED:20260312T182907Z
LAST-MODIFIED:20260312T182907Z
UID:89030-1774544400-1774544400@www.minneapolisparks.org
SUMMARY:Water Works Phase 2 Kickoff Open House
DESCRIPTION:The Minneapolis Parks and Recreation Board is hosting the first public Open House to kick off the Water Works Phase 2 design process. Explorations will consider an evolution of the parkland recognizing Owámniyomni Okhódayapi’s work on lands surrounding the Upper St. Anthony lock.
URL:https://www.minneapolisparks.org/event-calendar/water-works-phase-2-kickoff-open-house/
LOCATION:Water Works at Mill Ruins Park\, 425 West River Parkway\, Minneapolis\, MN\, 55401\, United States
CATEGORIES:Public Meetings
GEO:44.9811921;-93.2620982
X-APPLE-STRUCTURED-LOCATION;VALUE=URI;X-ADDRESS=Water Works at Mill Ruins Park 425 West River Parkway Minneapolis MN 55401 United States;X-APPLE-RADIUS=500;X-TITLE=425 West River Parkway:geo:-93.2620982,44.9811921
END:VEVENT
BEGIN:VEVENT
DTSTART;TZID=America/Chicago:20260326T180000
DTEND;TZID=America/Chicago:20260326T193000
DTSTAMP:20260421T001118
CREATED:20260226T152333Z
LAST-MODIFIED:20260226T152333Z
UID:88605-1774548000-1774553400@www.minneapolisparks.org
SUMMARY:North Mississippi Regional Park Open House
DESCRIPTION:MPRB will host an open house to review draft design concepts. The concepts focus on ecology\, access and programming in the park. Attendees will view the design\, meet project staff\, ask questions and share feedback. Anyone can attend.
URL:https://www.minneapolisparks.org/event-calendar/north-mississippi-regional-park-open-house/
LOCATION:Webber Recreation Center\, Minneapolis\, MN\, United States
CATEGORIES:Public Meetings
GEO:45.034522;-93.291918
END:VEVENT
BEGIN:VEVENT
DTSTART;TZID=America/Chicago:20260415T170000
DTEND;TZID=America/Chicago:20260415T170000
DTSTAMP:20260421T001118
CREATED:20260115T164202Z
LAST-MODIFIED:20260115T164202Z
UID:87550-1776272400-1776272400@www.minneapolisparks.org
SUMMARY:Board Meeting
DESCRIPTION:Board Meeting Agendas and Minutes
URL:https://www.minneapolisparks.org/event-calendar/board-meeting-142/2026-04-15/
LOCATION:Mary Merrill Minneapolis Park & Recreation Board Headquarters\, 2117 West River Road N\, Minneapolis\, MN\, 55411\, United States
CATEGORIES:Public Meetings
GEO:45.0008334;-93.2780339
X-APPLE-STRUCTURED-LOCATION;VALUE=URI;X-ADDRESS=Mary Merrill Minneapolis Park & Recreation Board Headquarters 2117 West River Road N Minneapolis MN 55411 United States;X-APPLE-RADIUS=500;X-TITLE=2117 West River Road N:geo:-93.2780339,45.0008334
END:VEVENT
BEGIN:VEVENT
DTSTART;TZID=America/Chicago:20260415T183000
DTEND;TZID=America/Chicago:20260415T183000
DTSTAMP:20260421T001118
CREATED:20260401T141816Z
LAST-MODIFIED:20260401T141816Z
UID:89403-1776277800-1776277800@www.minneapolisparks.org
SUMMARY:Public Hearing: East River Flats Improvements
DESCRIPTION:A Public Hearing will be held April 15 at 6:30 pm in the Board Room of the Mary Merrill Minneapolis Park and Recreation Board Headquarters\, 2117 West River Road\, prior to the Board meeting.  \nThe purpose of the Public Hearing is to hear public comments on the East River Flats Park Improvements Project\, as approved in the 2019 Mississippi Gorge Regional Park Plan. \nSpeak in person: Go to Mary Merrill MPRB Headquarters on the day of the hearing and add your name to the sign-up sheet at the front desk. Individuals who would like to provide comments to the Board of Commissioners about the amendment may sign up to speak at the meeting before 6:30 pm. \nYou may also call 612-230-6400 before 3 pm on the day of the hearing to sign up to speak. \nEmail written comments: Email your comments to opentime@minneapolisparks.org by 3 pm on the day of the hearing. Comments will be included in the public record of the meeting.
URL:https://www.minneapolisparks.org/event-calendar/public-hearing-east-river-flats-improvements/
LOCATION:Mary Merrill Minneapolis Park & Recreation Board Headquarters Board Room\, 2117 West River Road N\, Minneapolis\, MN\, 55411\, United States
CATEGORIES:Public Meetings
GEO:45.0008334;-93.2780339
X-APPLE-STRUCTURED-LOCATION;VALUE=URI;X-ADDRESS=Mary Merrill Minneapolis Park & Recreation Board Headquarters Board Room 2117 West River Road N Minneapolis MN 55411 United States;X-APPLE-RADIUS=500;X-TITLE=2117 West River Road N:geo:-93.2780339,45.0008334
END:VEVENT
BEGIN:VEVENT
DTSTART;TZID=America/Chicago:20260422T170000
DTEND;TZID=America/Chicago:20260422T170000
DTSTAMP:20260421T001118
CREATED:20260115T164516Z
LAST-MODIFIED:20260303T171142Z
UID:87570-1776877200-1776877200@www.minneapolisparks.org
SUMMARY:Committee of the Whole
DESCRIPTION:Board Meeting Agendas and Minutes
URL:https://www.minneapolisparks.org/event-calendar/committee-of-the-whole-13/2026-04-22/
LOCATION:MN
CATEGORIES:Public Meetings
END:VEVENT
BEGIN:VEVENT
DTSTART;TZID=America/Chicago:20260423T180000
DTEND;TZID=America/Chicago:20260423T200000
DTSTAMP:20260421T001118
CREATED:20260413T144456Z
LAST-MODIFIED:20260413T144739Z
UID:89576-1776967200-1776974400@www.minneapolisparks.org
SUMMARY:North Mississippi Regional Park Plan Meeting
DESCRIPTION:The Minneapolis Park and Recreation Board (MPRB) is creating a plan to improve and care for North Mississippi Regional Park over the next 20+ years. \nA Community Advisory Committee (CAC) — made up of local residents and park users — meets regularly to help shape the plan. These meetings are open to everyone. \nFree food and childcare will be provided.
URL:https://www.minneapolisparks.org/event-calendar/north-mississippi-regional-park-plan-meeting/
LOCATION:Carl W. Kroening Nature Center\, 4900 Mississippi Court\, Minneapolis\, MN\, 55430\, United States
CATEGORIES:Public Meetings
GEO:45.0480936;-93.2831006
X-APPLE-STRUCTURED-LOCATION;VALUE=URI;X-ADDRESS=Carl W. Kroening Nature Center 4900 Mississippi Court Minneapolis MN 55430 United States;X-APPLE-RADIUS=500;X-TITLE=4900 Mississippi Court:geo:-93.2831006,45.0480936
END:VEVENT
BEGIN:VEVENT
DTSTART;TZID=America/Chicago:20260429T170000
DTEND;TZID=America/Chicago:20260429T170000
DTSTAMP:20260421T001118
CREATED:20260115T164202Z
LAST-MODIFIED:20260115T164202Z
UID:87551-1777482000-1777482000@www.minneapolisparks.org
SUMMARY:Board Meeting
DESCRIPTION:Board Meeting Agendas and Minutes
URL:https://www.minneapolisparks.org/event-calendar/board-meeting-142/2026-04-29/
LOCATION:Mary Merrill Minneapolis Park & Recreation Board Headquarters\, 2117 West River Road N\, Minneapolis\, MN\, 55411\, United States
CATEGORIES:Public Meetings
GEO:45.0008334;-93.2780339
X-APPLE-STRUCTURED-LOCATION;VALUE=URI;X-ADDRESS=Mary Merrill Minneapolis Park & Recreation Board Headquarters 2117 West River Road N Minneapolis MN 55411 United States;X-APPLE-RADIUS=500;X-TITLE=2117 West River Road N:geo:-93.2780339,45.0008334
END:VEVENT
BEGIN:VEVENT
DTSTART;TZID=America/Chicago:20260506T170000
DTEND;TZID=America/Chicago:20260506T170000
DTSTAMP:20260421T001118
CREATED:20260115T164202Z
LAST-MODIFIED:20260115T164202Z
UID:87552-1778086800-1778086800@www.minneapolisparks.org
SUMMARY:Board Meeting
DESCRIPTION:Board Meeting Agendas and Minutes
URL:https://www.minneapolisparks.org/event-calendar/board-meeting-142/2026-05-06/
LOCATION:Mary Merrill Minneapolis Park & Recreation Board Headquarters\, 2117 West River Road N\, Minneapolis\, MN\, 55411\, United States
CATEGORIES:Public Meetings
GEO:45.0008334;-93.2780339
X-APPLE-STRUCTURED-LOCATION;VALUE=URI;X-ADDRESS=Mary Merrill Minneapolis Park & Recreation Board Headquarters 2117 West River Road N Minneapolis MN 55411 United States;X-APPLE-RADIUS=500;X-TITLE=2117 West River Road N:geo:-93.2780339,45.0008334
END:VEVENT
BEGIN:VEVENT
DTSTART;TZID=America/Chicago:20260513T170000
DTEND;TZID=America/Chicago:20260513T170000
DTSTAMP:20260421T001118
CREATED:20260115T164516Z
LAST-MODIFIED:20260303T171143Z
UID:87571-1778691600-1778691600@www.minneapolisparks.org
SUMMARY:Committee of the Whole
DESCRIPTION:Board Meeting Agendas and Minutes
URL:https://www.minneapolisparks.org/event-calendar/committee-of-the-whole-13/2026-05-13/
LOCATION:MN
CATEGORIES:Public Meetings
END:VEVENT
BEGIN:VEVENT
DTSTART;TZID=America/Chicago:20260520T170000
DTEND;TZID=America/Chicago:20260520T170000
DTSTAMP:20260421T001118
CREATED:20260115T164202Z
LAST-MODIFIED:20260115T164202Z
UID:87553-1779296400-1779296400@www.minneapolisparks.org
SUMMARY:Board Meeting
DESCRIPTION:Board Meeting Agendas and Minutes
URL:https://www.minneapolisparks.org/event-calendar/board-meeting-142/2026-05-20/
LOCATION:Mary Merrill Minneapolis Park & Recreation Board Headquarters\, 2117 West River Road N\, Minneapolis\, MN\, 55411\, United States
CATEGORIES:Public Meetings
GEO:45.0008334;-93.2780339
X-APPLE-STRUCTURED-LOCATION;VALUE=URI;X-ADDRESS=Mary Merrill Minneapolis Park & Recreation Board Headquarters 2117 West River Road N Minneapolis MN 55411 United States;X-APPLE-RADIUS=500;X-TITLE=2117 West River Road N:geo:-93.2780339,45.0008334
END:VEVENT
BEGIN:VEVENT
DTSTART;TZID=America/Chicago:20260603T170000
DTEND;TZID=America/Chicago:20260603T170000
DTSTAMP:20260421T001118
CREATED:20260115T164202Z
LAST-MODIFIED:20260115T164202Z
UID:87554-1780506000-1780506000@www.minneapolisparks.org
SUMMARY:Board Meeting
DESCRIPTION:Board Meeting Agendas and Minutes
URL:https://www.minneapolisparks.org/event-calendar/board-meeting-142/2026-06-03/
LOCATION:Mary Merrill Minneapolis Park & Recreation Board Headquarters\, 2117 West River Road N\, Minneapolis\, MN\, 55411\, United States
CATEGORIES:Public Meetings
GEO:45.0008334;-93.2780339
X-APPLE-STRUCTURED-LOCATION;VALUE=URI;X-ADDRESS=Mary Merrill Minneapolis Park & Recreation Board Headquarters 2117 West River Road N Minneapolis MN 55411 United States;X-APPLE-RADIUS=500;X-TITLE=2117 West River Road N:geo:-93.2780339,45.0008334
END:VEVENT
BEGIN:VEVENT
DTSTART;TZID=America/Chicago:20260617T170000
DTEND;TZID=America/Chicago:20260617T170000
DTSTAMP:20260421T001118
CREATED:20260115T164202Z
LAST-MODIFIED:20260115T164202Z
UID:87555-1781715600-1781715600@www.minneapolisparks.org
SUMMARY:Board Meeting
DESCRIPTION:Board Meeting Agendas and Minutes
URL:https://www.minneapolisparks.org/event-calendar/board-meeting-142/2026-06-17/
LOCATION:Mary Merrill Minneapolis Park & Recreation Board Headquarters\, 2117 West River Road N\, Minneapolis\, MN\, 55411\, United States
CATEGORIES:Public Meetings
GEO:45.0008334;-93.2780339
X-APPLE-STRUCTURED-LOCATION;VALUE=URI;X-ADDRESS=Mary Merrill Minneapolis Park & Recreation Board Headquarters 2117 West River Road N Minneapolis MN 55411 United States;X-APPLE-RADIUS=500;X-TITLE=2117 West River Road N:geo:-93.2780339,45.0008334
END:VEVENT
BEGIN:VEVENT
DTSTART;TZID=America/Chicago:20260701T170000
DTEND;TZID=America/Chicago:20260701T170000
DTSTAMP:20260421T001118
CREATED:20260115T164202Z
LAST-MODIFIED:20260115T164202Z
UID:87556-1782925200-1782925200@www.minneapolisparks.org
SUMMARY:Board Meeting
DESCRIPTION:Board Meeting Agendas and Minutes
URL:https://www.minneapolisparks.org/event-calendar/board-meeting-142/2026-07-01/
LOCATION:Mary Merrill Minneapolis Park & Recreation Board Headquarters\, 2117 West River Road N\, Minneapolis\, MN\, 55411\, United States
CATEGORIES:Public Meetings
GEO:45.0008334;-93.2780339
X-APPLE-STRUCTURED-LOCATION;VALUE=URI;X-ADDRESS=Mary Merrill Minneapolis Park & Recreation Board Headquarters 2117 West River Road N Minneapolis MN 55411 United States;X-APPLE-RADIUS=500;X-TITLE=2117 West River Road N:geo:-93.2780339,45.0008334
END:VEVENT
BEGIN:VEVENT
DTSTART;TZID=America/Chicago:20260715T170000
DTEND;TZID=America/Chicago:20260715T170000
DTSTAMP:20260421T001118
CREATED:20260115T164202Z
LAST-MODIFIED:20260115T164202Z
UID:87557-1784134800-1784134800@www.minneapolisparks.org
SUMMARY:Board Meeting
DESCRIPTION:Board Meeting Agendas and Minutes
URL:https://www.minneapolisparks.org/event-calendar/board-meeting-142/2026-07-15/
LOCATION:Mary Merrill Minneapolis Park & Recreation Board Headquarters\, 2117 West River Road N\, Minneapolis\, MN\, 55411\, United States
CATEGORIES:Public Meetings
GEO:45.0008334;-93.2780339
X-APPLE-STRUCTURED-LOCATION;VALUE=URI;X-ADDRESS=Mary Merrill Minneapolis Park & Recreation Board Headquarters 2117 West River Road N Minneapolis MN 55411 United States;X-APPLE-RADIUS=500;X-TITLE=2117 West River Road N:geo:-93.2780339,45.0008334
END:VEVENT
BEGIN:VEVENT
DTSTART;TZID=America/Chicago:20260805T170000
DTEND;TZID=America/Chicago:20260805T170000
DTSTAMP:20260421T001118
CREATED:20260115T164202Z
LAST-MODIFIED:20260115T164202Z
UID:87558-1785949200-1785949200@www.minneapolisparks.org
SUMMARY:Board Meeting
DESCRIPTION:Board Meeting Agendas and Minutes
URL:https://www.minneapolisparks.org/event-calendar/board-meeting-142/2026-08-05/
LOCATION:Mary Merrill Minneapolis Park & Recreation Board Headquarters\, 2117 West River Road N\, Minneapolis\, MN\, 55411\, United States
CATEGORIES:Public Meetings
GEO:45.0008334;-93.2780339
X-APPLE-STRUCTURED-LOCATION;VALUE=URI;X-ADDRESS=Mary Merrill Minneapolis Park & Recreation Board Headquarters 2117 West River Road N Minneapolis MN 55411 United States;X-APPLE-RADIUS=500;X-TITLE=2117 West River Road N:geo:-93.2780339,45.0008334
END:VEVENT
BEGIN:VEVENT
DTSTART;TZID=America/Chicago:20260819T170000
DTEND;TZID=America/Chicago:20260819T170000
DTSTAMP:20260421T001118
CREATED:20260115T164202Z
LAST-MODIFIED:20260115T164202Z
UID:87560-1787158800-1787158800@www.minneapolisparks.org
SUMMARY:Board Meeting
DESCRIPTION:Board Meeting Agendas and Minutes
URL:https://www.minneapolisparks.org/event-calendar/board-meeting-142/2026-08-19/
LOCATION:Mary Merrill Minneapolis Park & Recreation Board Headquarters\, 2117 West River Road N\, Minneapolis\, MN\, 55411\, United States
CATEGORIES:Public Meetings
GEO:45.0008334;-93.2780339
X-APPLE-STRUCTURED-LOCATION;VALUE=URI;X-ADDRESS=Mary Merrill Minneapolis Park & Recreation Board Headquarters 2117 West River Road N Minneapolis MN 55411 United States;X-APPLE-RADIUS=500;X-TITLE=2117 West River Road N:geo:-93.2780339,45.0008334
END:VEVENT
BEGIN:VEVENT
DTSTART;TZID=America/Chicago:20260902T170000
DTEND;TZID=America/Chicago:20260902T170000
DTSTAMP:20260421T001118
CREATED:20260115T164202Z
LAST-MODIFIED:20260115T164202Z
UID:87561-1788368400-1788368400@www.minneapolisparks.org
SUMMARY:Board Meeting
DESCRIPTION:Board Meeting Agendas and Minutes
URL:https://www.minneapolisparks.org/event-calendar/board-meeting-142/2026-09-02/
LOCATION:Mary Merrill Minneapolis Park & Recreation Board Headquarters\, 2117 West River Road N\, Minneapolis\, MN\, 55411\, United States
CATEGORIES:Public Meetings
GEO:45.0008334;-93.2780339
X-APPLE-STRUCTURED-LOCATION;VALUE=URI;X-ADDRESS=Mary Merrill Minneapolis Park & Recreation Board Headquarters 2117 West River Road N Minneapolis MN 55411 United States;X-APPLE-RADIUS=500;X-TITLE=2117 West River Road N:geo:-93.2780339,45.0008334
END:VEVENT
BEGIN:VEVENT
DTSTART;TZID=America/Chicago:20260916T170000
DTEND;TZID=America/Chicago:20260916T170000
DTSTAMP:20260421T001118
CREATED:20260115T164202Z
LAST-MODIFIED:20260115T164202Z
UID:87562-1789578000-1789578000@www.minneapolisparks.org
SUMMARY:Board Meeting
DESCRIPTION:Board Meeting Agendas and Minutes
URL:https://www.minneapolisparks.org/event-calendar/board-meeting-142/2026-09-16/
LOCATION:Mary Merrill Minneapolis Park & Recreation Board Headquarters\, 2117 West River Road N\, Minneapolis\, MN\, 55411\, United States
CATEGORIES:Public Meetings
GEO:45.0008334;-93.2780339
X-APPLE-STRUCTURED-LOCATION;VALUE=URI;X-ADDRESS=Mary Merrill Minneapolis Park & Recreation Board Headquarters 2117 West River Road N Minneapolis MN 55411 United States;X-APPLE-RADIUS=500;X-TITLE=2117 West River Road N:geo:-93.2780339,45.0008334
END:VEVENT
BEGIN:VEVENT
DTSTART;TZID=America/Chicago:20261007T170000
DTEND;TZID=America/Chicago:20261007T170000
DTSTAMP:20260421T001118
CREATED:20260115T164202Z
LAST-MODIFIED:20260115T164202Z
UID:87563-1791392400-1791392400@www.minneapolisparks.org
SUMMARY:Board Meeting
DESCRIPTION:Board Meeting Agendas and Minutes
URL:https://www.minneapolisparks.org/event-calendar/board-meeting-142/2026-10-07/
LOCATION:Mary Merrill Minneapolis Park & Recreation Board Headquarters\, 2117 West River Road N\, Minneapolis\, MN\, 55411\, United States
CATEGORIES:Public Meetings
GEO:45.0008334;-93.2780339
X-APPLE-STRUCTURED-LOCATION;VALUE=URI;X-ADDRESS=Mary Merrill Minneapolis Park & Recreation Board Headquarters 2117 West River Road N Minneapolis MN 55411 United States;X-APPLE-RADIUS=500;X-TITLE=2117 West River Road N:geo:-93.2780339,45.0008334
END:VEVENT
BEGIN:VEVENT
DTSTART;TZID=America/Chicago:20261021T170000
DTEND;TZID=America/Chicago:20261021T170000
DTSTAMP:20260421T001118
CREATED:20260115T164202Z
LAST-MODIFIED:20260115T164202Z
UID:87564-1792602000-1792602000@www.minneapolisparks.org
SUMMARY:Board Meeting
DESCRIPTION:Board Meeting Agendas and Minutes
URL:https://www.minneapolisparks.org/event-calendar/board-meeting-142/2026-10-21/
LOCATION:Mary Merrill Minneapolis Park & Recreation Board Headquarters\, 2117 West River Road N\, Minneapolis\, MN\, 55411\, United States
CATEGORIES:Public Meetings
GEO:45.0008334;-93.2780339
X-APPLE-STRUCTURED-LOCATION;VALUE=URI;X-ADDRESS=Mary Merrill Minneapolis Park & Recreation Board Headquarters 2117 West River Road N Minneapolis MN 55411 United States;X-APPLE-RADIUS=500;X-TITLE=2117 West River Road N:geo:-93.2780339,45.0008334
END:VEVENT
BEGIN:VEVENT
DTSTART;TZID=America/Chicago:20261104T170000
DTEND;TZID=America/Chicago:20261104T170000
DTSTAMP:20260421T001118
CREATED:20260115T164202Z
LAST-MODIFIED:20260115T164202Z
UID:87565-1793811600-1793811600@www.minneapolisparks.org
SUMMARY:Board Meeting
DESCRIPTION:Board Meeting Agendas and Minutes
URL:https://www.minneapolisparks.org/event-calendar/board-meeting-142/2026-11-04/
LOCATION:Mary Merrill Minneapolis Park & Recreation Board Headquarters\, 2117 West River Road N\, Minneapolis\, MN\, 55411\, United States
CATEGORIES:Public Meetings
GEO:45.0008334;-93.2780339
X-APPLE-STRUCTURED-LOCATION;VALUE=URI;X-ADDRESS=Mary Merrill Minneapolis Park & Recreation Board Headquarters 2117 West River Road N Minneapolis MN 55411 United States;X-APPLE-RADIUS=500;X-TITLE=2117 West River Road N:geo:-93.2780339,45.0008334
END:VEVENT
BEGIN:VEVENT
DTSTART;TZID=America/Chicago:20261118T170000
DTEND;TZID=America/Chicago:20261118T170000
DTSTAMP:20260421T001118
CREATED:20260115T164202Z
LAST-MODIFIED:20260115T164202Z
UID:87566-1795021200-1795021200@www.minneapolisparks.org
SUMMARY:Board Meeting
DESCRIPTION:Board Meeting Agendas and Minutes
URL:https://www.minneapolisparks.org/event-calendar/board-meeting-142/2026-11-18/
LOCATION:Mary Merrill Minneapolis Park & Recreation Board Headquarters\, 2117 West River Road N\, Minneapolis\, MN\, 55411\, United States
CATEGORIES:Public Meetings
GEO:45.0008334;-93.2780339
X-APPLE-STRUCTURED-LOCATION;VALUE=URI;X-ADDRESS=Mary Merrill Minneapolis Park & Recreation Board Headquarters 2117 West River Road N Minneapolis MN 55411 United States;X-APPLE-RADIUS=500;X-TITLE=2117 West River Road N:geo:-93.2780339,45.0008334
END:VEVENT
BEGIN:VEVENT
DTSTART;TZID=America/Chicago:20261120T180000
DTEND;TZID=America/Chicago:20261120T200000
DTSTAMP:20260421T001118
CREATED:20251117T160904Z
LAST-MODIFIED:20251117T160904Z
UID:86589-1795197600-1795204800@www.minneapolisparks.org
SUMMARY:North Mississippi Regional Park Plan Community Advisory Committee Meeting
DESCRIPTION:North Mississippi Regional Park Plan Community Advisory Committee to meet on November 20 at Kroening Nature Center \nThe Minneapolis Park and Recreation Board (MPRB) is working on a plan to guide improvements and stewardship at North Mississippi Regional Park for the next 20+ years. \nThe North Mississippi Regional Park Plan is being developed through a collaboration between the project team\, advisory committees\, community groups and park users. This includes a Community Advisory Committee (CAC)\, made up of people who are participating in regularly scheduled meetings to collectively make recommendations about the plan’s content. \nCommunity Advisory Committee Meeting 8 \nThursday\, Nov. 20\, 6-8 pm\nKroening Nature Center\n4900 Mississippi Drive\, Minneapolis\, MN 55430 \nGood to Know \nAll Community Advisory Committee meetings are open to the public and food will be provided at each CAC meeting. Childcare services will also be available for all meetings. If you have any questions or comments\, please don’t hesitate to contact me at sali@minneapolisparks.org.
URL:https://www.minneapolisparks.org/event-calendar/north-mississippi-regional-park-plan-community-advisory-committee-meeting-2/
LOCATION:Carl W. Kroening Nature Center\, 4900 Mississippi Court\, Minneapolis\, MN\, 55430\, United States
CATEGORIES:Public Meetings
GEO:45.0480936;-93.2831006
X-APPLE-STRUCTURED-LOCATION;VALUE=URI;X-ADDRESS=Carl W. Kroening Nature Center 4900 Mississippi Court Minneapolis MN 55430 United States;X-APPLE-RADIUS=500;X-TITLE=4900 Mississippi Court:geo:-93.2831006,45.0480936
END:VEVENT
BEGIN:VEVENT
DTSTART;TZID=America/Chicago:20261202T170000
DTEND;TZID=America/Chicago:20261202T170000
DTSTAMP:20260421T001118
CREATED:20260115T164202Z
LAST-MODIFIED:20260115T164202Z
UID:87567-1796230800-1796230800@www.minneapolisparks.org
SUMMARY:Board Meeting
DESCRIPTION:Board Meeting Agendas and Minutes
URL:https://www.minneapolisparks.org/event-calendar/board-meeting-142/2026-12-02/
LOCATION:Mary Merrill Minneapolis Park & Recreation Board Headquarters\, 2117 West River Road N\, Minneapolis\, MN\, 55411\, United States
CATEGORIES:Public Meetings
GEO:45.0008334;-93.2780339
X-APPLE-STRUCTURED-LOCATION;VALUE=URI;X-ADDRESS=Mary Merrill Minneapolis Park & Recreation Board Headquarters 2117 West River Road N Minneapolis MN 55411 United States;X-APPLE-RADIUS=500;X-TITLE=2117 West River Road N:geo:-93.2780339,45.0008334
END:VEVENT
END:VCALENDAR